Workbook
Name matriz: [1]BDI!$Q$17:$V$21
Name matriz2: [1]BDI!$Q$23:$V$27
Name TESTE: [2]BDI!XEV:XEV*[2]BDI!XEW:XEW
Name TESTE: #REF!*#REF!
Name TESTE: #REF!*#REF!
Name TESTE: BDI!XEV:XEV*BDI!XEW:XEW

Sheet PLANILHA ORÇ.
A1: ESTADO DE SANTA CATARINA
A2: PREFEITURA MUNICIPAL DE SÃO JOÃO DO SUL
A3: SECRETARIA DE OBRAS
A4: PAVIMENTAÇÃO DA RODOVIA MUNICIPAL SJS 158 - TRECHO 02 - SENTIDO VILA GABRIEL - NORTE/SUL
A5: DATA BASE: MARÇO/2024
A6: REFERENCIAL DE PREÇO: SICRO 01/2024 - SINAPI 03/2024
A7: ENCARGOS SOCIAIS: ONERADO. LEIS SOCIAIS: IGUAIS AO SINAPI REFERENCIAL SC - MARÇO/2024
A8: RODOVIA SJS 158 - TRECHO 02
A9: PLANILHA ORÇAMENTÁRIA
A10: ITEM | B10: FONTE | C10: CÓDIGO | D10: DISCRIMINAÇÃO DOS SERVIÇOS | E10: UNID. | F10: QUANT. | G10: VALORES (R$) | J10: PREÇO TOTAL | K10: OBSERVAÇÕES | P10: valor máximo = | Q10: 350000
G11: UNIT S/ BDI | H11: BDI | I11: UNIT C/ BDI
A12: 1. | D12: =A4 -> PAVIMENTAÇÃO DA RODOVIA MUNICIPAL SJS 158 - TRECHO 02 - SENTIDO VILA GABRIEL - NORTE/SUL | J12: =SUM(J13,J15,J20,J30,J36,J38) -> 357482.71
A13: 1.1 | D13: SERVIÇOS INICIAIS | J13: =SUM(J14:J14) -> 1744.47
A14: 1.1.1 | B14: SINAPI | C14: 103689 | D14: FORNECIMENTO E INSTALAÇÃO DE PLACA DE OBRA COM CHAPA GALVANIZADA E ESTRUTURA DE MADEIRA. | E14: M2 | F14: =ROUND(3*1.5,2) -> 4.5 | G14: 314.37 | H14: =BDI!$F$27 -> 0.23312052 | I14: =ROUND(G14*(1+H14),2) -> 387.66 | J14: =ROUND((I14*F14),2) -> 1744.47 | K14: = 3,00 x 1,50
A15: 1.2 | D15: TERRAPLENAGEM | J15: =SUM(J16:J19) -> 13016.51
A16: 1.2.1 | B16: SICRO | C16: 5502166 | D16: ESCAVAÇÃO, CARGA E TRANSPORTE DE MATERIAL DE 1ª CATEGORIA - DMT DE 1.000 A 1.200 M - CAMINHO DE SERVIÇO PAVIMENTADO - COM ESCAVADEIRA E CAMINHÃO BASCULANTE DE 14M3 | E16: M3 | F16: ='MEMORIAL CÁLCULO'!B10 -> 543.73 | G16: 6.31 | H16: =BDI!$F$27 -> 0.23312052 | I16: =ROUND(G16*(1+H16),2) -> 7.78 | J16: =ROUND((I16*F16),2) -> 4230.22 | K16: PLANILHA DE VOLUME - PROJETO GEOMÉTRICO
A17: 1.2.2 | B17: SICRO | C17: 5502978 | D17: COMPACTACAO MECANICA A 100% DO PROCTOR NORMAL - PAVIMENTACAO URBANA | E17: M3 | F17: ='MEMORIAL CÁLCULO'!C13 -> 19.28 | G17: 4.96 | H17: =BDI!$F$27 -> 0.23312052 | I17: =ROUND(G17*(1+H17),2) -> 6.12 | J17: =ROUND((I17*F17),2) -> 117.99 | K17: PLANILHA DE VOLUME - PROJETO GEOMÉTRICO
A18: 1.2.3 | B18: SICRO | C18: 4413942 | D18: ESPALHAMENTO DE MATERIAL EM BOTA-FORA | E18: M3 | F18: ='MEMORIAL CÁLCULO'!B21 -> 574.44 | G18: 1.86 | H18: 0.2331 | I18: =ROUND(G18*(1+H18),2) -> 2.29 | J18: =ROUND(I18*F18,2) -> 1315.47 | K18: PLANILHA DE VOLUME - PROJETO GEOMÉTRICO
A19: 1.2.4 | B19: SINAPI | C19: 95876 | D19: TRANSPORTE COM CAMINHÃO BASCULANTE DE 14 M³, EM VIA URBANA PAVIMENTADA, DMT CONSIDERADO 10 KM | E19: M3 | F19: ='MEMORIAL CÁLCULO'!C26 -> 2872.2 | G19: 2.08 | H19: 0.2331 | I19: =ROUND(G19*(1+H19),2) -> 2.56 | J19: =ROUND(I19*F19,2) -> 7352.83 | K19: PLANILHA DE VOLUME - PROJETO GEOMÉTRICO
A20: 1.3 | D20: DRENAGEM PLUVIAL | J20: =SUM(J21:J29) -> 6204.93
A21: 1.3.1 | B21: SINAPI | C21: 90091 | D21: ESCAVAÇÃO MECANIZADA DE VALA COM PROF. ATÉ 1,5 M, COM ESCAVADEIRA HIDRÁULICA (0,8M3), LARG. DE 1,5M A 2,5 M, EM SOLO DE 1A CATEGORIA, LOCAIS COM BAIXO NÍVEL DE INTERFERÊNCIA. | E21: M3 | F21: ='MEMORIAL CÁLCULO'!B43 -> 14.3 | G21: 6.5 | H21: =BDI!$F$27 -> 0.23312052 | I21: =ROUND(G21*(1+H21),2) -> 8.02 | J21: =ROUND(I21*F21,2) -> 114.69 | K21: MEMORIAL DE CALCULO
A22: 1.3.2 | B22: SICRO | C22: 2003850 | D22: LASTRO DE BRITA (E=5CM) PARA DRENAGEM | E22: M3 | F22: ='MEMORIAL CÁLCULO'!B51 -> 0.55 | G22: 147.7 | H22: =BDI!$F$27 -> 0.23312052 | I22: =ROUND(G22*(1+H22),2) -> 182.13 | J22: =ROUND(I22*F22,2) -> 100.17 | K22: MEMORIAL DE CALCULO
A23: 1.3.3 | B23: SINAPI-I | C23: 37451 | D23: TUBO DE CONCRETO SIMPLES PARA AGUAS PLUVIAIS, CLASSE PS1, COM ENCAIXE MACHO E FEMEA, DIAMETRO NOMINAL DE 400 MM | E23: M | F23: ='MEMORIAL CÁLCULO'!C40 -> 10 | G23: 48.81 | H23: =BDI!$F$27 -> 0.23312052 | I23: =ROUND(G23*(1+H23),2) -> 60.19 | J23: =ROUND(I23*F23,2) -> 601.9 | K23: MEMORIAL DE CALCULO
A24: 1.3.4 | B24: SINAPI | C24: 92809 | D24: ASSENTAMENTO DE TUBO DE CONCRETO PARA REDES COLETORAS DE ÁGUAS PLUVIAIS, DIÂMETRO DE 400 MM, JUNTA RÍGIDA, INSTALADO EM LOCAL COM BAIXO NÍVEL DE INTERFERÊNCIAS (NÃO INCLUI FORNECIMENTO). AF_12/2015 | E24: M | F24: =F23 -> 10 | G24: 34.24 | H24: =BDI!$F$27 -> 0.23312052 | I24: =ROUND(G24*(1+H24),2) -> 42.22 | J24: =ROUND(I24*F24,2) -> 422.2 | K24: MEMORIAL DE CALCULO
A25: 1.3.5 | B25: SINAPI | C25: 93368 | D25: REATERRO MECANIZADO DE VALA COM ESCAVADEIRA HIDRÁULICA, LARGURA ATÉ 1,5 M, PROFUNDIDADE DE 1,5 A 3,0 M, COM SOLO DE 1ª CATEGORIA EM LOCAIS COM BAIXO NÍVEL DE INTERFERÊNCIA. | E25: M3 | F25: ='MEMORIAL CÁLCULO'!B61 -> 11.79 | G25: 21.33 | H25: =BDI!$F$27 -> 0.23312052 | I25: =ROUND(G25*(1+H25),2) -> 26.3 | J25: =ROUND(I25*F25,2) -> 310.08 | K25: MEMORIAL DE CALCULO
A26: 1.3.6 | B26: =COMPOSIÇÕES!A5 -> COMPOSIÇÃO 01 | D26: =COMPOSIÇÕES!C5 -> CAIXA COLETORA COM GRELHA DE CONCRETO | E26: UNID. | F26: ='MEMORIAL CÁLCULO'!D33 -> 1 | G26: =COMPOSIÇÕES!K13 -> 1620.09 | H26: =BDI!$F$27 -> 0.23312052 | I26: =ROUND(G26*(1+H26),2) -> 1997.77 | J26: =ROUND(I26*F26,2) -> 1997.77 | K26: PROJETO DE DRENAGEM
A27: 1.3.7 | B27: SINAPI | C27: 102279 | D27: ESCAVAÇÃO MECANIZADA DE VALA COM PROF. ATÉ 1,5 M (MÉDIA MONTANTE E JUSANTE/UMA COMPOSIÇÃO POR TRECHO), ESCAVADEIRA (0,8 M3),LARG. MENOR QUE 1,5 M, EM SOLO DE 1A CATEGORIA, LOCAIS COM BAIXO NÍVEL DE INTERFERÊNCIA - ESCAVAÇÃO PARA VALA LATERAL | E27: M3 | F27: ='MEMORIAL CÁLCULO'!B67 -> 5 | G27: 7.42 | H27: =BDI!$F$27 -> 0.23312052 | I27: =ROUND(G27*(1+H27),2) -> 9.15 | J27: =ROUND(I27*F27,2) -> 45.75 | K27: MEMORIAL DE CALCULO
A28: 1.3.8 | B28: SICRO | C28: 2003343 | D28: SARJETA TRAPEZOIDAL DE CONCRETO - SZC 90-30 - ESCAVAÇÃO MECÂNICA - AREIA E BRITA COMERCIAIS | E28: M | F28: ='MEMORIAL CÁLCULO'!D32 -> 6 | G28: 86.82 | H28: =BDI!$F$27 -> 0.23312052 | I28: =ROUND(G28*(1+H28),2) -> 107.06 | J28: =ROUND(I28*F28,2) -> 642.36 | K28: MEMORIAL DE CALCULO
A29: 1.3.9 | B29: SICRO | C29: 2003579 | D29: DRENO LONGITUDINAL PROFUNDO PARA CORTE EM SOLO - DPS 08 - TUBO PEAD E BRITA COMERCIAL | E29: M | F29: ='MEMORIAL CÁLCULO'!D31 -> 9 | G29: 177.51 | H29: =BDI!$F$27 -> 0.23312052 | I29: =ROUND(G29*(1+H29),2) -> 218.89 | J29: =ROUND(I29*F29,2) -> 1970.01 | K29: MEMORIAL DE CALCULO
A30: 1.4 | D30: PAVIMENTAÇÃO | J30: =SUM(J31:J35) -> 335287.07
A31: 1.4.1 | B31: SICRO | C31: 4011209 | D31: REGULARIZACAO DO SUBLEITO | E31: M2 | F31: ='MEMORIAL CÁLCULO'!B75 -> 3037.8 | G31: 1.15 | H31: =BDI!$F$27 -> 0.23312052 | I31: =ROUND(G31*(1+H31),2) -> 1.42 | J31: =ROUND((I31*F31),2) -> 4313.68 | K31: MEMORIAL DE CALCULO
A32: 1.4.2 | B32: =COMPOSIÇÕES!A23 -> COMPOSIÇÃO 02 | D32: =COMPOSIÇÕES!C23 -> EXECUÇÃO E COMPACTAÇÃO DE BASE EM SEIXO CLASSIFICADO | E32: M3 | F32: ='MEMORIAL CÁLCULO'!B82 -> 512.4 | G32: =COMPOSIÇÕES!N42 -> 73.26 | H32: =BDI!$F$27 -> 0.23312052 | I32: =ROUND(G32*(1+H32),2) -> 90.34 | J32: =ROUND(I32*F32,2) -> 46290.22 | K32: MEMORIAL DE CALCULO
A33: 1.4.3 | B33: SICRO | C33: 5914389 | D33: TRANSPORTE COM CAMINHÃO BASCULANTE DE 10 M³ - RODOVIA EM REVESTIMENTO PRIMÁRIO - DMT 13,50 KM- P. ESPECIFICO 1,70 t/m³ | E33: TXKM | F33: ='MEMORIAL CÁLCULO'!B88 -> 11759.58 | G33: 0.77 | H33: =BDI!$F$27 -> 0.23312052 | I33: =ROUND(G33*(1+H33),2) -> 0.95 | J33: =ROUND(I33*F33,2) -> 11171.6 | K33: MEMORIAL DE CALCULO
A34: 1.4.4 | B34: SINAPI | C34: 92394 | D34: EXECUÇÃO DE PAVIMENTO EM PISO INTERTRAVADO, COM BLOCO SEXTAVADO DE 25 X 25 CM, ESPESSURA 8 CM - INCLUINDO BASE COM ESPESSURA DE 5CM DE AREIA PARA ASSENTAMENTO | E34: M2 | F34: ='MEMORIAL CÁLCULO'!B94 -> 2562 | G34: 73.62 | H34: =BDI!$F$27 -> 0.23312052 | I34: =ROUND(G34*(1+H34),2) -> 90.78 | J34: =ROUND((I34*F34),2) -> 232578.36 | K34: MEMORIAL DE CALCULO
A35: 1.4.5 | B35: SINAPI | C35: 94273 | D35: EXECUÇÃO DE MEIO-FIO EM TRECHO RETO, CONFECCIONADA EM CONCRETO PRÉ-FABRICADO, DIMENSÕES 100X15X13X30 CM (COMPRIMENTO X BASE INFERIOR X BASE SUPERIOR X ALTURA), PARA VIAS URBANAS (USO VIÁRIO) - TRAVAMENTO DA PISTA | E35: M | F35: ='MEMORIAL CÁLCULO'!B102 -> 739 | G35: 44.92 | H35: =BDI!$F$27 -> 0.23312052 | I35: =ROUND(G35*(1+H35),2) -> 55.39 | J35: =ROUND((I35*F35),2) -> 40933.21 | K35: MEMORIAL DE CALCULO
A36: 1.5 | D36: CONSTRUÇÃO DO PASSEIO | J36: =J37 -> 392.99
A37: 1.5.1 | B37: SICRO | C37: 4805754 | D37: COMPACTAÇÃO MANUAL COM SOQUETE VIBRATÓRIO | E37: M3 | F37: ='MEMORIAL CÁLCULO'!B110 -> 45.75 | G37: 6.97 | H37: =BDI!$F$27 -> 0.23312052 | I37: =ROUND(G37*(1+H37),2) -> 8.59 | J37: =ROUND((I37*F37),2) -> 392.99 | K37: MEMORIAL DE CALCULO
A38: 1.6 | D38: SINALIZAÇÃO VIÁRIA | J38: =SUM(J39:J40) -> 836.74
A39: 1.6.1 | B39: SICRO | C39: 5213440 | D39: PLACA DE REGULAMENTAÇÃO EM AÇO D = 0,60 M - PELÍCULA RETRORREFLETIVA TIPO I + SI - FORNECIMENTO E IMPLANTAÇÃO | E39: UNID. | F39: 1 | G39: 245.48 | H39: =BDI!$F$27 -> 0.23312052 | I39: =ROUND((1+H39)*G39,2) -> 302.71 | J39: =ROUND(I39*F39,2) -> 302.71 | K39: PROJETO PAVIMENTAÇÃO E SINALIZAÇÃO
A40: 1.6.2 | B40: SICRO | C40: 5213863 | D40: SUPORTE METÁLICO GALVANIZADO PARA PLACA DE ADVERTÊNCIA OU REGULAMENTAÇÃO - LADO OU DIÂMETRO DE 0,60 M - FORNECIMENTO E IMPLANTAÇÃO | E40: UNID. | F40: =F39 -> 1 | G40: 433.07 | H40: =BDI!$F$27 -> 0.23312052 | I40: =ROUND((1+H40)*G40,2) -> 534.03 | J40: =ROUND(I40*F40,2) -> 534.03 | K40: PROJETO PAVIMENTAÇÃO E SINALIZAÇÃO
...

Sheet MEMORIAL CÁLCULO
A1: MEMORIAL DE CÁLCULO DOS QUANTITATIVOS FÍSICOS | I1: ='PLANILHA ORÇ.'!J12 -> 357482.71 | L1: =I1*0.01 -> 3574.8271 | M1: =L1-I1 -> -353907.88
A3: OBRA: PAVIMENTAÇÃO EM BLOCO INTERTRAVADO SEXTAVADO DE CONCRETO | I3: EXTENSÃO= | J3: T01 | K3: 136
A4: ='PLANILHA ORÇ.'!D12 -> PAVIMENTAÇÃO DA RODOVIA MUNICIPAL SJS 158 - TRECHO 02 - SENTIDO VILA GABRIEL - NORTE/SUL | J4: T02 | K4: 230
K5: =SUM(K3:K4) -> 366
A6: 1.2 - TERRAPLANAGEM
A8: 1.2.1 VOLUME TOTAL DE CORTE
A9: Volume (Tabela de Volumes)= | B9: 543.73 | C9: m³ | D9: (Planilha de Volume - Projeto Geométrico) | I9: resto do trecho 01 | K9: corte = | L9: =584.79-352.62 -> 232.17
A10: Volume Total de Corte= | B10: =B9 -> 543.73 | C10: m³ | K10: aterro= | L10: =47.59-26.08 -> 21.51
I11: trecho 02 | K11: corte = | L11: 184.72
A12: 1.2.2 VOLUME TOTAL DE ATERRO | I12: (até estaca 11+10,00) | K12: aterro= | L12: 109.44
A13: Volume de Aterro= | C13: 19.28 | D13: m³ (Planilha de Volume - Projeto Geométrico)
A15: 1.2.3 ESPALHAMENTO DE MATERIAL EM BOTA-FORA
A16: Volume de Corte= | C16: =B10 -> 543.73 | D16: m³
A17: Volume de Aterro= | C17: =C13 -> 19.28 | D17: m³
A18: Volume para travamento do Meio-Fio= | C18: =B110 -> 45.75 | D18: m³, Volume para preenchimento do MF (item 1.5.1)
A19: Empolamento do material= | C19: 1.2 | D19: (Considera-se 20% de empolamento no aterro)
A20: Cálculo= (Volume de Corte - Volume de Aterro ) x 1,20)
A21: Volume= | B21: =ROUND((C16-(C17+C18))*C19,2) -> 574.44 | C21: m³
A23: 1.2.4 TRANSPORTE MATERIAL EXCEDENTE ATÉ O BOTA-FORA
A24: Volume de solo excedente = | C24: =B21 -> 574.44 | D24: m3
A25: D.M.T até o local de bota fora= | C25: 5 | D25: km
A26: Transporte de solo excedente= | C26: =ROUND(C24*C25,2) -> 2872.2 | D26: m3xkm
A28: 1.3 DRENAGEM
B30: Estaca inicial | C30: Estaca Final | D30: Qtdade | E30: Unidade
A31: Dreno Profundo - LD | B31: 201 | C31: 210 | D31: 9 | E31: m
A32: Sarjeta Trapezoidal - LD | B32: 204 | C32: 210 | D32: 6 | E32: m
A33: CCSGC - LD | B33: 210 | D33: 1 | E33: uni
A34: BSTC 40 CM - travessia | B34: 211 | D34: 10 | E34: m
A35: Vala Lateral (1,0 x 1,0) - LE | B35: 211 | D35: 5 | E35: m
A37: 1.3.1 ESCAVAÇÃO MECÂNICA PARA DRENAGEM
A38: DN 400MM
A39: Abertura de vala = | C39: 1.1 | D39: m
A40: Comprimento da tubulação = | C40: =D34 -> 10 | D40: m
A41: Altura da vala = | C41: 1.3 | D41: m
A42: Cálculo = Abertura de vala * Comp. Tubulação * Altura da vala
A43: Volume = | B43: =ROUND((C39*C41*C40),2) -> 14.3 | C43: m³
A45: 1.3.2 LASTRO DE BRITA (5cm)
A46: DN 400MM
A47: Abertura de vala= | C47: =C39 -> 1.1 | D47: m
A48: =A40 -> Comprimento da tubulação = | C48: =C40 -> 10 | D48: m
...

Sheet Cronograma
C2: CRONOGRAMA FÍSICO-FINANCEIRO
A4: Contratante
A5: =BDI!$D$2 -> PREFEITURA MUNICIPAL DE SÃO JOÃO DO SUL
A7: Objeto
A8: ='MEMORIAL CÁLCULO'!A3 -> OBRA: PAVIMENTAÇÃO EM BLOCO INTERTRAVADO SEXTAVADO DE CONCRETO
A10: Localização do Empreendimento
A11: ='PLANILHA ORÇ.'!A8 -> RODOVIA SJS 158 - TRECHO 02
A13: Item | B13: Discriminação dos serviços | G13: Peso (%) | H13: % | I13: Valor Total (R$) | J13: Mês 01 | L13: Mês 02 | N13: Mês 03 | P13: Mês 04 | R13: Mês 05 | T13: Mês 06 | V13: Mês 07 | X13: Mês 08 | Z13: Mês 09 | AB13: Mês 10 | AD13: Mês 11 | AF13: Mês 12 | AH13: Mês 13 | AJ13: Mês 14 | AL13: Mês 15 | AN13: Mês 16 | AP13: Mês 17 | AR13: Mês 18 | AT13: Mês 19 | AV13: Mês 20 | AX13: Mês 21 | AZ13: Mês 22 | BB13: Mês 23 | BD13: Mês 24 | BF13: Mês 25 | BH13: Mês 26 | BJ13: Mês 27 | BL13: Mês 28 | BN13: Mês 29 | BP13: Mês 30 | BR13: Mês 31 | BT13: Mês 32 | BV13: Mês 33 | BX13: Mês 34 | BZ13: Mês 35 | CB13: Mês 36
J14: Concedente R$ | K14: % | L14: Concedente R$ | M14: % | N14: Concedente R$ | O14: % | P14: Concedente R$ | Q14: % | R14: Concedente R$ | S14: % | T14: Concedente R$ | U14: % | V14: Concedente R$ | W14: % | X14: Concedente R$ | Y14: % | Z14: Concedente R$ | AA14: % | AB14: Concedente R$ | AC14: % | AD14: Concedente R$ | AE14: % | AF14: Concedente R$ | AG14: % | AH14: Concedente R$ | AI14: % | AJ14: Concedente R$ | AK14: % | AL14: Concedente R$ | AM14: % | AN14: Concedente R$ | AO14: % | AP14: Concedente R$ | AQ14: % | AR14: Concedente R$ | AS14: % | AT14: Concedente R$ | AU14: % | AV14: Concedente R$ | AW14: % | AX14: Concedente R$ | AY14: % | AZ14: Concedente R$ | BA14: % | BB14: Concedente R$ | BC14: % | BD14: Concedente R$ | BE14: % | BF14: Concedente R$ | BG14: % | BH14: Concedente R$ | BI14: % | BJ14: Concedente R$ | BK14: % | BL14: Concedente R$ | BM14: % | BN14: Concedente R$ | BO14: % | BP14: Concedente R$ | BQ14: % | BR14: Concedente R$ | BS14: % | BT14: Concedente R$ | BU14: % | BV14: Concedente R$ | BW14: % | BX14: Concedente R$ | BY14: % | BZ14: Concedente R$ | CA14: % | CB14: Concedente R$ | CC14: %
A15: 1 | B15: ='PLANILHA ORÇ.'!D12 -> PAVIMENTAÇÃO DA RODOVIA MUNICIPAL SJS 158 - TRECHO 02 - SENTIDO VILA GABRIEL - NORTE/SUL | T15: =$I15*U15/100 -> 0 | V15: =$I15*W15/100 -> 0 | X15: =$I15*Y15/100 -> 0 | Z15: =$I15*AA15/100 -> 0 | AB15: =$I15*AC15/100 -> 0 | AD15: =$I15*AE15/100 -> 0 | AF15: =$I15*AG15/100 -> 0 | AH15: =$I15*AI15/100 -> 0 | AJ15: =$I15*AK15/100 -> 0 | AL15: =$I15*AM15/100 -> 0 | AN15: =$I15*AO15/100 -> 0 | AP15: =$I15*AQ15/100 -> 0 | AR15: =$I15*AS15/100 -> 0 | AT15: =$I15*AU15/100 -> 0 | AV15: =$I15*AW15/100 -> 0 | AX15: =$I15*AY15/100 -> 0 | AZ15: =$I15*BA15/100 -> 0 | BB15: =$I15*BC15/100 -> 0 | BD15: =$I15*BE15/100 -> 0 | BF15: =$I15*BG15/100 -> 0 | BH15: =$I15*BI15/100 -> 0 | BJ15: =$I15*BK15/100 -> 0 | BL15: =$I15*BM15/100 -> 0 | BN15: =$I15*BO15/100 -> 0 | BP15: =$I15*BQ15/100 -> 0 | BR15: =$I15*BS15/100 -> 0 | BT15: =$I15*BU15/100 -> 0 | BV15: =$I15*BW15/100 -> 0 | BX15: =$I15*BY15/100 -> 0 | BZ15: =$I15*CA15/100 -> 0 | CB15: =$I15*CC15/100 -> 0
A16: 1.1 | B16: ='PLANILHA ORÇ.'!D13 -> SERVIÇOS INICIAIS | G16: =IF($I16=0,"",$I16/$I$32*100) -> 0.48798724 | H16: =K16+M16+O16+Q16+S16+U16+W16+Y16+AA16+AC16+AE16+AG16 -> 100 | I16: ='PLANILHA ORÇ.'!J13 -> 1744.47 | J16: =$I16*K16/100 -> 1744.47 | K16: 100 | L16: =$I16*M16/100 -> 0 | N16: =$I16*O16/100 -> 0 | P16: =$I16*Q16/100 -> 0
A17: ='PLANILHA ORÇ.'!A15 -> 1.2 | B17: ='PLANILHA ORÇ.'!D15 -> TERRAPLENAGEM | G17: =IF($I17=0,"",$I17/$I$32*100) -> 3.6411579 | H17: =K17+M17+O17+Q17+S17+U17+W17+Y17+AA17+AC17+AE17+AG17 -> 100 | I17: ='PLANILHA ORÇ.'!J15 -> 13016.51 | J17: =$I17*K17/100 -> 2603.302 | K17: 20 | L17: =$I17*M17/100 -> 5206.604 | M17: 40 | N17: =$I17*O17/100 -> 5206.604 | O17: 40 | P17: =$I17*Q17/100 -> 0 | R17: =$I17*S17/100 -> 0 | T17: =$I17*U17/100 -> 0 | V17: =$I17*W17/100 -> 0 | X17: =$I17*Y17/100 -> 0 | Z17: =$I17*AA17/100 -> 0 | AB17: =$I17*AC17/100 -> 0 | AD17: =$I17*AE17/100 -> 0 | AF17: =$I17*AG17/100 -> 0 | AH17: =$I17*AI17/100 -> 0 | AJ17: =$I17*AK17/100 -> 0 | AL17: =$I17*AM17/100 -> 0 | AN17: =$I17*AO17/100 -> 0 | AP17: =$I17*AQ17/100 -> 0 | AR17: =$I17*AS17/100 -> 0 | AT17: =$I17*AU17/100 -> 0 | AV17: =$I17*AW17/100 -> 0 | AX17: =$I17*AY17/100 -> 0 | AZ17: =$I17*BA17/100 -> 0 | BB17: =$I17*BC17/100 -> 0 | BD17: =$I17*BE17/100 -> 0 | BF17: =$I17*BG17/100 -> 0 | BH17: =$I17*BI17/100 -> 0 | BJ17: =$I17*BK17/100 -> 0 | BL17: =$I17*BM17/100 -> 0 | BN17: =$I17*BO17/100 -> 0 | BP17: =$I17*BQ17/100 -> 0 | BR17: =$I17*BS17/100 -> 0 | BT17: =$I17*BU17/100 -> 0 | BV17: =$I17*BW17/100 -> 0 | BX17: =$I17*BY17/100 -> 0 | BZ17: =$I17*CA17/100 -> 0 | CB17: =$I17*CC17/100 -> 0
A18: ='PLANILHA ORÇ.'!A20 -> 1.3 | B18: ='PLANILHA ORÇ.'!D20 -> DRENAGEM PLUVIAL | G18: =IF($I18=0,"",$I18/$I$32*100) -> 1.7357287 | H18: =K18+M18+O18+Q18+S18+U18+W18+Y18+AA18+AC18+AE18+AG18 -> 100 | I18: ='PLANILHA ORÇ.'!J20 -> 6204.93 | J18: =$I18*K18/100 -> 3102.465 | K18: 50 | L18: =$I18*M18/100 -> 3102.465 | M18: 50 | N18: =$I18*O18/100 -> 0 | P18: =$I18*Q18/100 -> 0 | R18: =$I18*S18/100 -> 0 | T18: =$I18*U18/100 -> 0 | V18: =$I18*W18/100 -> 0 | X18: =$I18*Y18/100 -> 0 | Z18: =$I18*AA18/100 -> 0 | AB18: =$I18*AC18/100 -> 0 | AD18: =$I18*AE18/100 -> 0 | AE18: 0 | AF18: =$I18*AG18/100 -> 0 | AG18: 0 | AH18: =$I18*AI18/100 -> 0 | AJ18: =$I18*AK18/100 -> 0 | AL18: =$I18*AM18/100 -> 0 | AN18: =$I18*AO18/100 -> 0 | AP18: =$I18*AQ18/100 -> 0 | AR18: =$I18*AS18/100 -> 0 | AT18: =$I18*AU18/100 -> 0 | AV18: =$I18*AW18/100 -> 0 | AX18: =$I18*AY18/100 -> 0 | AZ18: =$I18*BA18/100 -> 0 | BB18: =$I18*BC18/100 -> 0 | BD18: =$I18*BE18/100 -> 0 | BF18: =$I18*BG18/100 -> 0 | BH18: =$I18*BI18/100 -> 0 | BJ18: =$I18*BK18/100 -> 0 | BL18: =$I18*BM18/100 -> 0 | BN18: =$I18*BO18/100 -> 0 | BP18: =$I18*BQ18/100 -> 0 | BR18: =$I18*BS18/100 -> 0 | BT18: =$I18*BU18/100 -> 0 | BV18: =$I18*BW18/100 -> 0 | BX18: =$I18*BY18/100 -> 0 | BZ18: =$I18*CA18/100 -> 0 | CB18: =$I18*CC18/100 -> 0
A19: ='PLANILHA ORÇ.'!A30 -> 1.4 | B19: ='PLANILHA ORÇ.'!D30 -> PAVIMENTAÇÃO | G19: =IF($I19=0,"",$I19/$I$32*100) -> 93.791129 | H19: =K19+M19+O19+Q19+S19+U19+W19+Y19+AA19+AC19+AE19+AG19 -> 100 | I19: ='PLANILHA ORÇ.'!J30 -> 335287.07 | J19: =$I19*K19/100 -> 33528.707 | K19: 10 | L19: =$I19*M19/100 -> 67057.414 | M19: 20 | N19: =$I19*O19/100 -> 100586.12 | O19: 30 | P19: =$I19*Q19/100 -> 67057.414 | Q19: 20 | R19: =$I19*S19/100 -> 67057.414 | S19: 20 | T19: =$I19*U19/100 -> 0 | U19: 0 | V19: =$I19*W19/100 -> 0 | W19: 0 | X19: =$I19*Y19/100 -> 0 | Y19: 0 | Z19: =$I19*AA19/100 -> 0 | AA19: 0 | AB19: =$I19*AC19/100 -> 0 | AC19: 0 | AD19: =$I19*AE19/100 -> 0 | AE19: 0 | AF19: =$I19*AG19/100 -> 0 | AG19: 0 | AH19: =$I19*AI19/100 -> 0 | AJ19: =$I19*AK19/100 -> 0 | AL19: =$I19*AM19/100 -> 0 | AN19: =$I19*AO19/100 -> 0 | AP19: =$I19*AQ19/100 -> 0 | AR19: =$I19*AS19/100 -> 0 | AT19: =$I19*AU19/100 -> 0 | AV19: =$I19*AW19/100 -> 0 | AX19: =$I19*AY19/100 -> 0 | AZ19: =$I19*BA19/100 -> 0 | BB19: =$I19*BC19/100 -> 0 | BD19: =$I19*BE19/100 -> 0 | BF19: =$I19*BG19/100 -> 0 | BH19: =$I19*BI19/100 -> 0 | BJ19: =$I19*BK19/100 -> 0 | BL19: =$I19*BM19/100 -> 0 | BN19: =$I19*BO19/100 -> 0 | BP19: =$I19*BQ19/100 -> 0 | BR19: =$I19*BS19/100 -> 0 | BT19: =$I19*BU19/100 -> 0 | BV19: =$I19*BW19/100 -> 0 | BX19: =$I19*BY19/100 -> 0 | BZ19: =$I19*CA19/100 -> 0 | CB19: =$I19*CC19/100 -> 0
A20: 1.5 | B20: ='PLANILHA ORÇ.'!D36 -> CONSTRUÇÃO DO PASSEIO | G20: =IF($I20=0,"",$I20/$I$32*100) -> 0.10993259 | H20: =K20+M20+O20+Q20+S20+U20+W20+Y20+AA20+AC20+AE20+AG20 -> 100 | I20: ='PLANILHA ORÇ.'!J36 -> 392.99 | J20: =$I20*K20/100 -> 0 | K20: 0 | L20: =$I20*M20/100 -> 196.495 | M20: 50 | N20: =$I20*O20/100 -> 196.495 | O20: 50 | P20: =$I20*Q20/100 -> 0 | Q20: 0 | R20: =$I20*S20/100 -> 0 | T20: =$I20*U20/100 -> 0 | U20: 0 | V20: =$I20*W20/100 -> 0 | W20: 0 | X20: =$I20*Y20/100 -> 0 | Y20: 0 | Z20: =$I20*AA20/100 -> 0 | AA20: 0 | AB20: =$I20*AC20/100 -> 0 | AC20: 0 | AD20: =$I20*AE20/100 -> 0 | AE20: 0 | AF20: =$I20*AG20/100 -> 0 | AG20: 0 | AH20: =$I20*AI20/100 -> 0 | AJ20: =$I20*AK20/100 -> 0 | AL20: =$I20*AM20/100 -> 0 | AN20: =$I20*AO20/100 -> 0 | AP20: =$I20*AQ20/100 -> 0 | AR20: =$I20*AS20/100 -> 0 | AT20: =$I20*AU20/100 -> 0 | AV20: =$I20*AW20/100 -> 0 | AX20: =$I20*AY20/100 -> 0 | AZ20: =$I20*BA20/100 -> 0 | BB20: =$I20*BC20/100 -> 0 | BD20: =$I20*BE20/100 -> 0 | BF20: =$I20*BG20/100 -> 0 | BH20: =$I20*BI20/100 -> 0 | BJ20: =$I20*BK20/100 -> 0 | BL20: =$I20*BM20/100 -> 0 | BN20: =$I20*BO20/100 -> 0 | BP20: =$I20*BQ20/100 -> 0 | BR20: =$I20*BS20/100 -> 0 | BT20: =$I20*BU20/100 -> 0 | BV20: =$I20*BW20/100 -> 0 | BX20: =$I20*BY20/100 -> 0 | BZ20: =$I20*CA20/100 -> 0 | CB20: =$I20*CC20/100 -> 0
A21: 1.6 | B21: ='PLANILHA ORÇ.'!D38 -> SINALIZAÇÃO VIÁRIA | G21: =IF($I21=0,"",$I21/$I$32*100) -> 0.23406447 | H21: =K21+M21+O21+Q21+S21+U21+W21+Y21+AA21+AC21+AE21+AG21 -> 100 | I21: ='PLANILHA ORÇ.'!J38 -> 836.74 | J21: =$I21*K21/100 -> 0 | K21: 0 | L21: =$I21*M21/100 -> 0 | N21: =$I21*O21/100 -> 0 | P21: =$I21*Q21/100 -> 0 | R21: =$I21*S21/100 -> 836.74 | S21: 100 | T21: =$I21*U21/100 -> 0 | V21: =$I21*W21/100 -> 0 | X21: =$I21*Y21/100 -> 0 | Z21: =$I21*AA21/100 -> 0 | AB21: =$I21*AC21/100 -> 0 | AD21: =$I21*AE21/100 -> 0 | AE21: 0 | AF21: =$I21*AG21/100 -> 0 | AG21: 0 | AH21: =$I21*AI21/100 -> 0 | AJ21: =$I21*AK21/100 -> 0 | AL21: =$I21*AM21/100 -> 0 | AN21: =$I21*AO21/100 -> 0 | AP21: =$I21*AQ21/100 -> 0 | AR21: =$I21*AS21/100 -> 0 | AT21: =$I21*AU21/100 -> 0 | AV21: =$I21*AW21/100 -> 0 | AX21: =$I21*AY21/100 -> 0 | AZ21: =$I21*BA21/100 -> 0 | BB21: =$I21*BC21/100 -> 0 | BD21: =$I21*BE21/100 -> 0 | BF21: =$I21*BG21/100 -> 0 | BH21: =$I21*BI21/100 -> 0 | BJ21: =$I21*BK21/100 -> 0 | BL21: =$I21*BM21/100 -> 0 | BN21: =$I21*BO21/100 -> 0 | BP21: =$I21*BQ21/100 -> 0 | BR21: =$I21*BS21/100 -> 0 | BT21: =$I21*BU21/100 -> 0 | BV21: =$I21*BW21/100 -> 0 | BX21: =$I21*BY21/100 -> 0 | BZ21: =$I21*CA21/100 -> 0 | CB21: =$I21*CC21/100 -> 0
A22: 20 | G22: =IF($I22=0,"",$I22/$I$32*100) | J22: =$I22*K22/100 -> 0 | L22: =$I22*M22/100 -> 0 | N22: =$I22*O22/100 -> 0 | P22: =$I22*Q22/100 -> 0 | R22: =$I22*S22/100 -> 0 | T22: =$I22*U22/100 -> 0 | V22: =$I22*W22/100 -> 0 | X22: =$I22*Y22/100 -> 0 | Z22: =$I22*AA22/100 -> 0 | AB22: =$I22*AC22/100 -> 0 | AD22: =$I22*AE22/100 -> 0 | AF22: =$I22*AG22/100 -> 0 | AH22: =$I22*AI22/100 -> 0 | AJ22: =$I22*AK22/100 -> 0 | AL22: =$I22*AM22/100 -> 0 | AN22: =$I22*AO22/100 -> 0 | AP22: =$I22*AQ22/100 -> 0 | AR22: =$I22*AS22/100 -> 0 | AT22: =$I22*AU22/100 -> 0 | AV22: =$I22*AW22/100 -> 0 | AX22: =$I22*AY22/100 -> 0 | AZ22: =$I22*BA22/100 -> 0 | BB22: =$I22*BC22/100 -> 0 | BD22: =$I22*BE22/100 -> 0 | BF22: =$I22*BG22/100 -> 0 | BH22: =$I22*BI22/100 -> 0 | BJ22: =$I22*BK22/100 -> 0 | BL22: =$I22*BM22/100 -> 0 | BN22: =$I22*BO22/100 -> 0 | BP22: =$I22*BQ22/100 -> 0 | BR22: =$I22*BS22/100 -> 0 | BT22: =$I22*BU22/100 -> 0 | BV22: =$I22*BW22/100 -> 0 | BX22: =$I22*BY22/100 -> 0 | BZ22: =$I22*CA22/100 -> 0 | CB22: =$I22*CC22/100 -> 0
A23: 21 | G23: =IF($I23=0,"",$I23/$I$32*100) | J23: =$I23*K23/100 -> 0 | L23: =$I23*M23/100 -> 0 | N23: =$I23*O23/100 -> 0 | P23: =$I23*Q23/100 -> 0 | R23: =$I23*S23/100 -> 0 | T23: =$I23*U23/100 -> 0 | V23: =$I23*W23/100 -> 0 | X23: =$I23*Y23/100 -> 0 | Z23: =$I23*AA23/100 -> 0 | AB23: =$I23*AC23/100 -> 0 | AD23: =$I23*AE23/100 -> 0 | AF23: =$I23*AG23/100 -> 0 | AH23: =$I23*AI23/100 -> 0 | AJ23: =$I23*AK23/100 -> 0 | AL23: =$I23*AM23/100 -> 0 | AN23: =$I23*AO23/100 -> 0 | AP23: =$I23*AQ23/100 -> 0 | AR23: =$I23*AS23/100 -> 0 | AT23: =$I23*AU23/100 -> 0 | AV23: =$I23*AW23/100 -> 0 | AX23: =$I23*AY23/100 -> 0 | AZ23: =$I23*BA23/100 -> 0 | BB23: =$I23*BC23/100 -> 0 | BD23: =$I23*BE23/100 -> 0 | BF23: =$I23*BG23/100 -> 0 | BH23: =$I23*BI23/100 -> 0 | BJ23: =$I23*BK23/100 -> 0 | BL23: =$I23*BM23/100 -> 0 | BN23: =$I23*BO23/100 -> 0 | BP23: =$I23*BQ23/100 -> 0 | BR23: =$I23*BS23/100 -> 0 | BT23: =$I23*BU23/100 -> 0 | BV23: =$I23*BW23/100 -> 0 | BX23: =$I23*BY23/100 -> 0 | BZ23: =$I23*CA23/100 -> 0 | CB23: =$I23*CC23/100 -> 0
A24: 22 | G24: =IF($I24=0,"",$I24/$I$32*100) | J24: =$I24*K24/100 -> 0 | L24: =$I24*M24/100 -> 0 | N24: =$I24*O24/100 -> 0 | P24: =$I24*Q24/100 -> 0 | R24: =$I24*S24/100 -> 0 | T24: =$I24*U24/100 -> 0 | V24: =$I24*W24/100 -> 0 | X24: =$I24*Y24/100 -> 0 | Z24: =$I24*AA24/100 -> 0 | AB24: =$I24*AC24/100 -> 0 | AD24: =$I24*AE24/100 -> 0 | AF24: =$I24*AG24/100 -> 0 | AH24: =$I24*AI24/100 -> 0 | AJ24: =$I24*AK24/100 -> 0 | AL24: =$I24*AM24/100 -> 0 | AN24: =$I24*AO24/100 -> 0 | AP24: =$I24*AQ24/100 -> 0 | AR24: =$I24*AS24/100 -> 0 | AT24: =$I24*AU24/100 -> 0 | AV24: =$I24*AW24/100 -> 0 | AX24: =$I24*AY24/100 -> 0 | AZ24: =$I24*BA24/100 -> 0 | BB24: =$I24*BC24/100 -> 0 | BD24: =$I24*BE24/100 -> 0 | BF24: =$I24*BG24/100 -> 0 | BH24: =$I24*BI24/100 -> 0 | BJ24: =$I24*BK24/100 -> 0 | BL24: =$I24*BM24/100 -> 0 | BN24: =$I24*BO24/100 -> 0 | BP24: =$I24*BQ24/100 -> 0 | BR24: =$I24*BS24/100 -> 0 | BT24: =$I24*BU24/100 -> 0 | BV24: =$I24*BW24/100 -> 0 | BX24: =$I24*BY24/100 -> 0 | BZ24: =$I24*CA24/100 -> 0 | CB24: =$I24*CC24/100 -> 0
A25: 23 | G25: =IF($I25=0,"",$I25/$I$32*100) | J25: =$I25*K25/100 -> 0 | L25: =$I25*M25/100 -> 0 | N25: =$I25*O25/100 -> 0 | P25: =$I25*Q25/100 -> 0 | R25: =$I25*S25/100 -> 0 | T25: =$I25*U25/100 -> 0 | V25: =$I25*W25/100 -> 0 | X25: =$I25*Y25/100 -> 0 | Z25: =$I25*AA25/100 -> 0 | AB25: =$I25*AC25/100 -> 0 | AD25: =$I25*AE25/100 -> 0 | AF25: =$I25*AG25/100 -> 0 | AH25: =$I25*AI25/100 -> 0 | AJ25: =$I25*AK25/100 -> 0 | AL25: =$I25*AM25/100 -> 0 | AN25: =$I25*AO25/100 -> 0 | AP25: =$I25*AQ25/100 -> 0 | AR25: =$I25*AS25/100 -> 0 | AT25: =$I25*AU25/100 -> 0 | AV25: =$I25*AW25/100 -> 0 | AX25: =$I25*AY25/100 -> 0 | AZ25: =$I25*BA25/100 -> 0 | BB25: =$I25*BC25/100 -> 0 | BD25: =$I25*BE25/100 -> 0 | BF25: =$I25*BG25/100 -> 0 | BH25: =$I25*BI25/100 -> 0 | BJ25: =$I25*BK25/100 -> 0 | BL25: =$I25*BM25/100 -> 0 | BN25: =$I25*BO25/100 -> 0 | BP25: =$I25*BQ25/100 -> 0 | BR25: =$I25*BS25/100 -> 0 | BT25: =$I25*BU25/100 -> 0 | BV25: =$I25*BW25/100 -> 0 | BX25: =$I25*BY25/100 -> 0 | BZ25: =$I25*CA25/100 -> 0 | CB25: =$I25*CC25/100 -> 0
A26: 24 | G26: =IF($I26=0,"",$I26/$I$32*100) | J26: =$I26*K26/100 -> 0 | L26: =$I26*M26/100 -> 0 | N26: =$I26*O26/100 -> 0 | P26: =$I26*Q26/100 -> 0 | R26: =$I26*S26/100 -> 0 | T26: =$I26*U26/100 -> 0 | V26: =$I26*W26/100 -> 0 | X26: =$I26*Y26/100 -> 0 | Z26: =$I26*AA26/100 -> 0 | AB26: =$I26*AC26/100 -> 0 | AD26: =$I26*AE26/100 -> 0 | AF26: =$I26*AG26/100 -> 0 | AH26: =$I26*AI26/100 -> 0 | AJ26: =$I26*AK26/100 -> 0 | AL26: =$I26*AM26/100 -> 0 | AN26: =$I26*AO26/100 -> 0 | AP26: =$I26*AQ26/100 -> 0 | AR26: =$I26*AS26/100 -> 0 | AT26: =$I26*AU26/100 -> 0 | AV26: =$I26*AW26/100 -> 0 | AX26: =$I26*AY26/100 -> 0 | AZ26: =$I26*BA26/100 -> 0 | BB26: =$I26*BC26/100 -> 0 | BD26: =$I26*BE26/100 -> 0 | BF26: =$I26*BG26/100 -> 0 | BH26: =$I26*BI26/100 -> 0 | BJ26: =$I26*BK26/100 -> 0 | BL26: =$I26*BM26/100 -> 0 | BN26: =$I26*BO26/100 -> 0 | BP26: =$I26*BQ26/100 -> 0 | BR26: =$I26*BS26/100 -> 0 | BT26: =$I26*BU26/100 -> 0 | BV26: =$I26*BW26/100 -> 0 | BX26: =$I26*BY26/100 -> 0 | BZ26: =$I26*CA26/100 -> 0 | CB26: =$I26*CC26/100 -> 0
A27: 25 | G27: =IF($I27=0,"",$I27/$I$32*100) | J27: =$I27*K27/100 -> 0 | L27: =$I27*M27/100 -> 0 | N27: =$I27*O27/100 -> 0 | P27: =$I27*Q27/100 -> 0 | R27: =$I27*S27/100 -> 0 | T27: =$I27*U27/100 -> 0 | V27: =$I27*W27/100 -> 0 | X27: =$I27*Y27/100 -> 0 | Z27: =$I27*AA27/100 -> 0 | AB27: =$I27*AC27/100 -> 0 | AD27: =$I27*AE27/100 -> 0 | AF27: =$I27*AG27/100 -> 0 | AH27: =$I27*AI27/100 -> 0 | AJ27: =$I27*AK27/100 -> 0 | AL27: =$I27*AM27/100 -> 0 | AN27: =$I27*AO27/100 -> 0 | AP27: =$I27*AQ27/100 -> 0 | AR27: =$I27*AS27/100 -> 0 | AT27: =$I27*AU27/100 -> 0 | AV27: =$I27*AW27/100 -> 0 | AX27: =$I27*AY27/100 -> 0 | AZ27: =$I27*BA27/100 -> 0 | BB27: =$I27*BC27/100 -> 0 | BD27: =$I27*BE27/100 -> 0 | BF27: =$I27*BG27/100 -> 0 | BH27: =$I27*BI27/100 -> 0 | BJ27: =$I27*BK27/100 -> 0 | BL27: =$I27*BM27/100 -> 0 | BN27: =$I27*BO27/100 -> 0 | BP27: =$I27*BQ27/100 -> 0 | BR27: =$I27*BS27/100 -> 0 | BT27: =$I27*BU27/100 -> 0 | BV27: =$I27*BW27/100 -> 0 | BX27: =$I27*BY27/100 -> 0 | BZ27: =$I27*CA27/100 -> 0 | CB27: =$I27*CC27/100 -> 0
A28: 26 | G28: =IF($I28=0,"",$I28/$I$32*100) | J28: =$I28*K28/100 -> 0 | L28: =$I28*M28/100 -> 0 | N28: =$I28*O28/100 -> 0 | P28: =$I28*Q28/100 -> 0 | R28: =$I28*S28/100 -> 0 | T28: =$I28*U28/100 -> 0 | V28: =$I28*W28/100 -> 0 | X28: =$I28*Y28/100 -> 0 | Z28: =$I28*AA28/100 -> 0 | AB28: =$I28*AC28/100 -> 0 | AD28: =$I28*AE28/100 -> 0 | AF28: =$I28*AG28/100 -> 0 | AH28: =$I28*AI28/100 -> 0 | AJ28: =$I28*AK28/100 -> 0 | AL28: =$I28*AM28/100 -> 0 | AN28: =$I28*AO28/100 -> 0 | AP28: =$I28*AQ28/100 -> 0 | AR28: =$I28*AS28/100 -> 0 | AT28: =$I28*AU28/100 -> 0 | AV28: =$I28*AW28/100 -> 0 | AX28: =$I28*AY28/100 -> 0 | AZ28: =$I28*BA28/100 -> 0 | BB28: =$I28*BC28/100 -> 0 | BD28: =$I28*BE28/100 -> 0 | BF28: =$I28*BG28/100 -> 0 | BH28: =$I28*BI28/100 -> 0 | BJ28: =$I28*BK28/100 -> 0 | BL28: =$I28*BM28/100 -> 0 | BN28: =$I28*BO28/100 -> 0 | BP28: =$I28*BQ28/100 -> 0 | BR28: =$I28*BS28/100 -> 0 | BT28: =$I28*BU28/100 -> 0 | BV28: =$I28*BW28/100 -> 0 | BX28: =$I28*BY28/100 -> 0 | BZ28: =$I28*CA28/100 -> 0 | CB28: =$I28*CC28/100 -> 0
A29: 27 | G29: =IF($I29=0,"",$I29/$I$32*100) | J29: =$I29*K29/100 -> 0 | L29: =$I29*M29/100 -> 0 | N29: =$I29*O29/100 -> 0 | P29: =$I29*Q29/100 -> 0 | R29: =$I29*S29/100 -> 0 | T29: =$I29*U29/100 -> 0 | V29: =$I29*W29/100 -> 0 | X29: =$I29*Y29/100 -> 0 | Z29: =$I29*AA29/100 -> 0 | AB29: =$I29*AC29/100 -> 0 | AD29: =$I29*AE29/100 -> 0 | AF29: =$I29*AG29/100 -> 0 | AH29: =$I29*AI29/100 -> 0 | AJ29: =$I29*AK29/100 -> 0 | AL29: =$I29*AM29/100 -> 0 | AN29: =$I29*AO29/100 -> 0 | AP29: =$I29*AQ29/100 -> 0 | AR29: =$I29*AS29/100 -> 0 | AT29: =$I29*AU29/100 -> 0 | AV29: =$I29*AW29/100 -> 0 | AX29: =$I29*AY29/100 -> 0 | AZ29: =$I29*BA29/100 -> 0 | BB29: =$I29*BC29/100 -> 0 | BD29: =$I29*BE29/100 -> 0 | BF29: =$I29*BG29/100 -> 0 | BH29: =$I29*BI29/100 -> 0 | BJ29: =$I29*BK29/100 -> 0 | BL29: =$I29*BM29/100 -> 0 | BN29: =$I29*BO29/100 -> 0 | BP29: =$I29*BQ29/100 -> 0 | BR29: =$I29*BS29/100 -> 0 | BT29: =$I29*BU29/100 -> 0 | BV29: =$I29*BW29/100 -> 0 | BX29: =$I29*BY29/100 -> 0 | BZ29: =$I29*CA29/100 -> 0 | CB29: =$I29*CC29/100 -> 0
A30: 28 | G30: =IF($I30=0,"",$I30/$I$32*100) | J30: =$I30*K30/100 -> 0 | L30: =$I30*M30/100 -> 0 | N30: =$I30*O30/100 -> 0 | P30: =$I30*Q30/100 -> 0 | R30: =$I30*S30/100 -> 0 | T30: =$I30*U30/100 -> 0 | V30: =$I30*W30/100 -> 0 | X30: =$I30*Y30/100 -> 0 | Z30: =$I30*AA30/100 -> 0 | AB30: =$I30*AC30/100 -> 0 | AD30: =$I30*AE30/100 -> 0 | AF30: =$I30*AG30/100 -> 0 | AH30: =$I30*AI30/100 -> 0 | AJ30: =$I30*AK30/100 -> 0 | AL30: =$I30*AM30/100 -> 0 | AN30: =$I30*AO30/100 -> 0 | AP30: =$I30*AQ30/100 -> 0 | AR30: =$I30*AS30/100 -> 0 | AT30: =$I30*AU30/100 -> 0 | AV30: =$I30*AW30/100 -> 0 | AX30: =$I30*AY30/100 -> 0 | AZ30: =$I30*BA30/100 -> 0 | BB30: =$I30*BC30/100 -> 0 | BD30: =$I30*BE30/100 -> 0 | BF30: =$I30*BG30/100 -> 0 | BH30: =$I30*BI30/100 -> 0 | BJ30: =$I30*BK30/100 -> 0 | BL30: =$I30*BM30/100 -> 0 | BN30: =$I30*BO30/100 -> 0 | BP30: =$I30*BQ30/100 -> 0 | BR30: =$I30*BS30/100 -> 0 | BT30: =$I30*BU30/100 -> 0 | BV30: =$I30*BW30/100 -> 0 | BX30: =$I30*BY30/100 -> 0 | BZ30: =$I30*CA30/100 -> 0 | CB30: =$I30*CC30/100 -> 0
A31: 29 | G31: =IF($I31=0,"",$I31/$I$32*100) | J31: =$I31*K31/100 -> 0 | L31: =$I31*M31/100 -> 0 | N31: =$I31*O31/100 -> 0 | P31: =$I31*Q31/100 -> 0 | R31: =$I31*S31/100 -> 0 | T31: =$I31*U31/100 -> 0 | V31: =$I31*W31/100 -> 0 | X31: =$I31*Y31/100 -> 0 | Z31: =$I31*AA31/100 -> 0 | AB31: =$I31*AC31/100 -> 0 | AD31: =$I31*AE31/100 -> 0 | AF31: =$I31*AG31/100 -> 0 | AH31: =$I31*AI31/100 -> 0 | AJ31: =$I31*AK31/100 -> 0 | AL31: =$I31*AM31/100 -> 0 | AN31: =$I31*AO31/100 -> 0 | AP31: =$I31*AQ31/100 -> 0 | AR31: =$I31*AS31/100 -> 0 | AT31: =$I31*AU31/100 -> 0 | AV31: =$I31*AW31/100 -> 0 | AX31: =$I31*AY31/100 -> 0 | AZ31: =$I31*BA31/100 -> 0 | BB31: =$I31*BC31/100 -> 0 | BD31: =$I31*BE31/100 -> 0 | BF31: =$I31*BG31/100 -> 0 | BH31: =$I31*BI31/100 -> 0 | BJ31: =$I31*BK31/100 -> 0 | BL31: =$I31*BM31/100 -> 0 | BN31: =$I31*BO31/100 -> 0 | BP31: =$I31*BQ31/100 -> 0 | BR31: =$I31*BS31/100 -> 0 | BT31: =$I31*BU31/100 -> 0 | BV31: =$I31*BW31/100 -> 0 | BX31: =$I31*BY31/100 -> 0 | BZ31: =$I31*CA31/100 -> 0 | CB31: =$I31*CC31/100 -> 0
A32: Total simples | G32: =SUM($G$15:$G$31) -> 100 | I32: =SUM(I$16:I$31) -> 357482.71 | J32: =SUM(J$16:J$31) -> 40978.944 | K32: =($J$32/$I$32)*100 -> 11.463196 | L32: =SUM(L$16:L$31) -> 75562.978 | M32: =(L$32/$I$32)*100 -> 21.13752 | N32: =SUM(N$16:N$31) -> 105989.22 | O32: =(N$32/$I$32)*100 -> 29.648768 | P32: =SUM(P$15:P$31) -> 67057.414 | Q32: =(P$32/$I$32)*100 -> 18.758226 | R32: =SUM(R$15:R$31) -> 67894.154 | S32: =(R$32/$I$32)*100 -> 18.99229 | T32: =SUM(T$15:T$31) -> 0 | U32: =(T$32/$I$32)*100 -> 0 | V32: =SUM(V$15:V$31) -> 0 | W32: =(V$32/$I$32)*100 -> 0 | X32: =SUM(X$15:X$31) -> 0 | Y32: =(X$32/$I$32)*100 -> 0 | Z32: =SUM(Z$15:Z$31) -> 0 | AA32: =(Z$32/$I$32)*100 -> 0 | AB32: =SUM(AB$15:AB$31) -> 0 | AC32: =(AB$32/$I$32)*100 -> 0 | AD32: =SUM(AD$15:AD$31) -> 0 | AE32: =(AD$32/$I$32)*100 -> 0 | AF32: =SUM(AF$15:AF$31) -> 0 | AG32: =(AF$32/$I$32)*100 -> 0 | AH32: =SUM(AH$15:AH$31) -> 0 | AI32: =(AH$32/$I$32)*100 -> 0 | AJ32: =SUM(AJ$15:AJ$31) -> 0 | AK32: =(AJ$32/$I$32)*100 -> 0 | AL32: =SUM(AL$15:AL$31) -> 0 | AM32: =(AL$32/$I$32)*100 -> 0 | AN32: =SUM(AN$15:AN$31) -> 0 | AO32: =(AN$32/$I$32)*100 -> 0 | AP32: =SUM(AP$15:AP$31) -> 0 | AQ32: =(AP$32/$I$32)*100 -> 0 | AR32: =SUM(AR$15:AR$31) -> 0 | AS32: =(AR$32/$I$32)*100 -> 0 | AT32: =SUM(AT$15:AT$31) -> 0 | AU32: =(AT$32/$I$32)*100 -> 0 | AV32: =SUM(AV$15:AV$31) -> 0 | AW32: =(AV$32/$I$32)*100 -> 0 | AX32: =SUM(AX$15:AX$31) -> 0 | AY32: =(AX$32/$I$32)*100 -> 0 | AZ32: =SUM(AZ$15:AZ$31) -> 0 | BA32: =(AZ$32/$I$32)*100 -> 0 | BB32: =SUM(BB$15:BB$31) -> 0 | BC32: =(BB$32/$I$32)*100 -> 0 | BD32: =SUM(BD$15:BD$31) -> 0 | BE32: =(BD$32/$I$32)*100 -> 0 | BF32: =SUM(BF$15:BF$31) -> 0 | BG32: =(BF$32/$I$32)*100 -> 0 | BH32: =SUM(BH$15:BH$31) -> 0 | BI32: =(BH$32/$I$32)*100 -> 0 | BJ32: =SUM(BJ$15:BJ$31) -> 0 | BK32: =(BJ$32/$I$32)*100 -> 0 | BL32: =SUM(BL$15:BL$31) -> 0 | BM32: =(BL$32/$I$32)*100 -> 0 | BN32: =SUM(BN$15:BN$31) -> 0 | BO32: =(BN$32/$I$32)*100 -> 0 | BP32: =SUM(BP$15:BP$31) -> 0 | BQ32: =(BP$32/$I$32)*100 -> 0 | BR32: =SUM(BR$15:BR$31) -> 0 | BS32: =(BR$32/$I$32)*100 -> 0 | BT32: =SUM(BT$15:BT$31) -> 0 | BU32: =(BT$32/$I$32)*100 -> 0 | BV32: =SUM(BV$15:BV$31) -> 0 | BW32: =(BV$32/$I$32)*100 -> 0 | BX32: =SUM(BX$15:BX$31) -> 0 | BY32: =(BX$32/$I$32)*100 -> 0 | BZ32: =SUM(BZ$15:BZ$31) -> 0 | CA32: =(BZ$32/$I$32)*100 -> 0 | CB32: =SUM(CB$15:CB$31) -> 0 | CC32: =(CB$32/$I$32)*100 -> 0
A33: Total acumulado | G33: =K32+M32+O32+Q32+S32 -> 100 | L33: =$L$32+$J$32 -> 116541.92 | M33: =M$32+K$32 -> 32.600716 | N33: =N$32+L$33 -> 222531.14 | O33: =O$32+M$33 -> 62.249484 | P33: =P$32+N$33 -> 289588.56 | Q33: =Q$32+O$33 -> 81.00771 | R33: =R$32+P$33 -> 357482.71 | S33: =S$32+Q$33 -> 100 | T33: =T$32+R$33 -> 357482.71 | U33: =U$32+S$33 -> 100 | ... CC33: =CC$32+CA$33 -> 100
I38: Responsável Técnico | U38: Responsável Técnico | Z38: Responsável Legal
A39: ='PLANILHA ORÇ.'!B41 -> MAIO/2024 | I39: ='PLANILHA ORÇ.'!D42 -> ARTUR BIANCHINI HERTEL | U39: Nome: ENG.° CIVIL ARTUR BIANCHINI HERTEL | Z39: Nome:
A40: ='PLANILHA ORÇ.'!B42 -> São João do Sul / SC | I40: ='PLANILHA ORÇ.'!D43 -> CREA/SC: 014.558-2 | U40: Registro: 014.558-1 | Z40: CPF:

Sheet COMPOSIÇÕES
A2: COMPOSIÇÕES DE CUSTOS UNITÁRIOS
A4: Item | C4: Nome | E4: Referências | F4: Código | G4: Descrição de Serviço, Insumo, Mão de Obra, Equipamento | H4: Unid. | I4: Coeficiente | J4: Custo Unitário | K4: Total
A5: COMPOSIÇÃO 01 | C5: CAIXA COLETORA COM GRELHA DE CONCRETO | E5: SINAPI | F5: 88316 | G5: SERVENTE COM ENCARGOS COMPLEMENTARES | H5: H | I5: 0.2 | J5: 22.58 | K5: =ROUND((J5*I5),2) -> 4.52
E6: SICRO | F6: 2009619 | G6: Alvenaria de blocos de concreto 19 x 19 x 39 cm com espessura de 20 cm - areia comercial | H6: M2 | I6: 6 | J6: 118.12 | K6: =ROUND((J6*I6),2) -> 708.72
E7: SICRO | F7: 1109669 | G7: Argamassa de cimento e areia 1:3 - confecção em betoneira e lançamento manual - areia comercial | H7: M3 | I7: 0.1 | J7: 506.13 | K7: =ROUND((J7*I7),2) -> 50.61
E8: SICRO | F8: 407819 | G8: Armação em aço CA-50 - fornecimento, preparo e colocação | H8: KG | I8: 13.25 | J8: 12.06 | K8: =ROUND((J8*I8),2) -> 159.8
E9: SICRO | F9: 407820 | G9: Armação em aço CA-60 - fornecimento, preparo e colocação | H9: KG | I9: 3.52 | J9: 12.99 | K9: =ROUND((J9*I9),2) -> 45.72
E10: SICRO | F10: 1107896 | G10: Concreto fck = 25 MPa - confecção em betoneira e lançamento manual - areia e brita comerciais | H10: M3 | I10: 0.41 | J10: 469.15 | K10: =ROUND((J10*I10),2) -> 192.35
E11: SICRO | F11: 3103302 | G11: Formas de tábuas de pinho para dispositivos de drenagem - utilização de 3 vezes - confecção, instalação e retirada | H11: M2 | I11: 5.7865 | J11: 72.88 | K11: =ROUND((J11*I11),2) -> 421.72
E12: SICRO | F12: 5501706 | G12: Escavação mecânica com retroescavadeira em material de 1ª categoria | H12: M3 | I12: 5.35 | J12: 6.85 | K12: =ROUND((J12*I12),2) -> 36.65
C13: Data-base: | D13: 45352 | H13: Total sem BDI | K13: =ROUND(SUM(K5:K12),2) -> 1620.09
C14: Unidade: | D14: UNID.
C15: Critérios Adotados: | H15: Desconto Global (%) | K15: 0
H16: TOTAL | K16: =K13 -> 1620.09
A17: ='PLANILHA ORÇ.'!B41 -> MAIO/2024 | C17: RESPONSÁVEL TÉCNICO: | F17: ASSINATURA:
C18: ='PLANILHA ORÇ.'!D42 -> ARTUR BIANCHINI HERTEL
C19: ='PLANILHA ORÇ.'!D43 -> CREA/SC: 014.558-2
A21: Item | C21: Nome | E21: Referências | F21: Código | G21: Descrição de Serviço, Insumo, Mão de Obra, Equipamento | H21: Unid. | I21: Produtiva | J21: Improdutiva | K21: Coeficiente | L21: Produtiva | M21: Improdutiva | N21: Custo Unit.
E22: Equipamentos (A)
A23: COMPOSIÇÃO 02 | C23: EXECUÇÃO E COMPACTAÇÃO DE BASE EM SEIXO CLASSIFICADO | E23: SICRO | F23: E9605 | G23: Caminhão Tanque - 6.000 l (136 kW) | H23: Unid. | I23: 0.77 | J23: 0.23 | K23: 1 | L23: 250.03 | M23: 72.67 | N23: =I23*L23+J23*M23 -> 209.2372
E24: SICRO | F24: E9584 | G24: Carregadeira de pneus com capacidade de 1,72 m³ - 113 kW | H24: Unid. | I24: 0.84 | J24: 0.16 | K24: 1 | L24: 190.5 | M24: 94.11 | N24: =I24*L24+J24*M24 -> 175.0776
E25: SICRO | F25: E9514 | G25: Distribuidor de Agregados : Romanelli : DAR-5000 - autopropelido | H25: Unid. | I25: 0.85 | J25: 0.15 | K25: 1 | L25: 277.86 | M25: 101.33 | N25: =I25*L25+J25*M25 -> 251.3805
E26: SICRO | F26: E9524 | G26: Motoniveladora - 93 kW | H26: Unid. | I26: 0.2 | J26: 0 | K26: 1 | L26: 281.88 | M26: 122.62 | N26: =I26*L26+J26*M26 -> 56.376
E27: SICRO | F27: E9762 | G27: Rolo compactador autopropelido de 27 t - 85 kW | H27: Unid. | I27: 0.87 | J27: 0.13 | K27: 2 | L27: 250.55 | M27: 121.8786 | N27: =I27*L27+J27*M27 -> 233.82272
E28: SICRO | F28: E9530 | G28: Rolo compactador liso autopropelido vibratório de 11 t - 97 kW | H28: Unid. | I28: 0.64 | J28: 0.36 | K28: 2 | L28: 244.22 | M28: 105.11 | N28: =I28*L28+J28*M28 -> 194.1404
N29: =SUM(N23:N28) -> 1120.0344
E30: Mão de obra (B) | H30: Unid. | K30: Quantidade | M30: Salário Base | N30: Custo Unit.
E31: SICRO | F31: P9824 | G31: Servente | H31: h | K31: 8 | M31: 22.14 | N31: =M31*K31 -> 177.12
E32: SICRO | F32: P9801 | G32: Ajudante | H32: h | K32: 2 | M32: 24.82 | N32: =M32*K32 -> 49.64
N33: =SUM(N31:N32) -> 226.76
E34: (C) Produção da equipe 131,25 m3/h | H34: Custo Horário Total (A + B) | N34: =N33+N29 -> 1346.7944
E35: (D) Custo unitário da execução [(A + B )/ C] | N35: =ROUND(N34/131.25,2) -> 10.26
E36: Materiais (E) | H36: Unid. | K36: Quantidade | M36: Custo | N36: Custo Unit.
E37: =PESQUISA!A7 -> PESQUISA 01 | G37: =PESQUISA!C7 -> SEIXO CLASSIFICADO | H37: M3 | K37: 1.05 | M37: =PESQUISA!I7 -> 60 | N37: =M37*K37 -> 63
N38: =N37 -> 63
C39: Data-base: | D39: 45352 | H39: Total sem BDI | N39: =N38+N35 -> 73.26
C40: Unidade: | D40: M3
C41: Critérios Adotados:
H42: TOTAL | N42: =N39+N40-N41 -> 73.26
A43: ='PLANILHA ORÇ.'!B41 -> MAIO/2024 | C43: RESPONSÁVEL TÉCNICO: | F43: ASSINATURA:
...

Sheet PESQUISA
A1: ='[3]PLANILHA ORÇ.'!A1:D1 -> ESTADO DE SANTA CATARINA
A2: ='[3]PLANILHA ORÇ.'!A2:D2 -> PREFEITURA MUNICIAL DE SÃO JOÃO DO SUL
A3: ='[3]PLANILHA ORÇ.'!A3:D3 -> SECRETARIA DE OBRAS
F4: PESQUISA DE MERCADO
A6: Item | C6: Especificação do Serviço ou Material Pesquisado | D6: Observações | F6: 1º Fonte | G6: 2º Fonte | H6: 3º Fonte | I6: Mediana
A7: PESQUISA 01 | C7: SEIXO CLASSIFICADO | D7: Valor Cotado (R$) | F7: 55 | G7: 60 | H7: 60 | I7: =MEDIAN(F7:H7) -> 60
D8: Unidade | F8: M³ | G8: M3 | H8: M³
D9: Fornecedor | F9: Britagem Bosa Ltda | G9: Empreiteira e Transportadora São Roque Ltda | H9: Mampituba Mineração e Transportes LTDA-ME
D10: CNPJ | F10: 82.165.671/0001-77 | G10: 11.166.341/0002-39 | H10: 21.075.976.0001-01
D11: Nome do Contato | F11: Gabriela | G11: Antônio | H11: Alex Bianchin
D12: Telefone | F12: (48)3544-9052 | G12: (48) 98844-2428 | H12: (48) 98821-4116
D13: Data da Pesquisa | F13: 45332 | G13: 45330 | H13: 45330
C14: Justificativas sobre o valor efetivamente adotado: | D14: Não incluso BDI
D15: Não incluso transporte
A18: ='PLANILHA ORÇ.'!B41 -> MAIO/2024 | C18: =COMPOSIÇÕES!C17 -> RESPONSÁVEL TÉCNICO: | E18: ASSINATURA:
C19: =COMPOSIÇÕES!C18 -> ARTUR BIANCHINI HERTEL
C20: =[4]COMPOSIÇÕES!C30 -> CREA/SC: 014.558-2

Sheet BDI
D1: Agente Promotor | H1: .
D2: ='PLANILHA ORÇ.'!A2 -> PREFEITURA MUNICIPAL DE SÃO JOÃO DO SUL | H2: .
D3: Empreendimento | H3: .
D4: ='PLANILHA ORÇ.'!A4 -> PAVIMENTAÇÃO DA RODOVIA MUNICIPAL SJS 158 - TRECHO 02 - SENTIDO VILA GABRIEL - NORTE/SUL | H4: .
D5: Localização | H5: .
D6: ='PLANILHA ORÇ.'!A8 -> RODOVIA SJS 158 - TRECHO 02 | H6: . | L6: VERSÃO 1.18 (Dez/2015)
A8: =IF(N24=1,N26,N25) -> Composição do BDI para obras com mão-de-obra onerada | N8: FALSE
D10: TIPO DE OBRA | N10: Construção de Edifícios | O10: 2 | P10: =IF(O10=1,N10,IF(O10=2,N11,IF(O10=3,N12,IF(O10=4,N13,IF(O10=5,N14,IF(O10=6,N15," ")))))) -> Construção de Rodovias e Ferrovias
N11: Construção de Rodovias e Ferrovias
N12: Construção de Redes de Abastecimento de Água, Coleta de Esgoto e Construções Correlatas
C13: ="COMPOSIÇÃO - BDI para "&P10 -> COMPOSIÇÃO - BDI para Construção de Rodovias e Ferrovias | N13: Construção e Manutenção de Estações e Redes de Distribuição de Energia Elétrica
C14: ITEM | D14: DESCRIÇÃO ANALÍTICA | E14: SIGLAS | F14: PERCENTUAL | G14: SITUAÇÃO | H14: 1º QUARTIL (MÍNIMO) | I14: 3º QUARTIL (MÁXIMO) | N14: Obras Portuárias, Marítimas e Fluviais
C15: 1 | D15: ADMINISTRAÇÃO CENTRAL | E15: AC | F15: 0.045 | G15: =IF(F15="","",IF(AND(F15>=H15,F15<=I15),"OK","")) -> OK | H15: =INDEX(matriz,$W17,$O$10) -> 0.038 | I15: =INDEX(matriz2,$W23,$O$10) -> 0.0467 | N15: Fornecimento de Materiais e Equipamentos
C16: 2 | D16: SEGURO E GARANTIA | E16: S + G | F16: 0.0074 | G16: =IF(F16="","",IF(AND(F16>=H16,F16<=I16),"OK","")) -> OK | H16: =INDEX(matriz,$W18,$O$10) -> 0.0032 | I16: =INDEX(matriz2,$W24,$O$10) -> 0.0074 | P16: minimos | Q16: 1 | R16: 2 | S16: 3 | T16: 4 | U16: 5 | V16: 6
C17: 3 | D17: RISCO | E17: R | F17: 0.0075 | G17: =IF(F17="","",IF(AND(F17>=H17,F17<=I17),"OK","")) -> OK | H17: =INDEX(matriz,$W19,$O$10) -> 0.005 | I17: =INDEX(matriz2,$W25,$O$10) -> 0.0097 | Q17: 0.03 | R17: 0.038 | S17: 0.0343 | T17: 0.0529 | U17: 0.04 | V17: 0.015 | W17: 1
C18: 4 | D18: DESPESAS FINANCEIRAS | E18: DF | F18: 0.011 | G18: =IF(F18="","",IF(AND(F18>=H18,F18<=I18),"OK","")) -> OK | H18: =INDEX(matriz,$W20,$O$10) -> 0.0102 | I18: =INDEX(matriz2,$W26,$O$10) -> 0.0121 | N18: =((((1+F15+F16+F17)*(1+F18)*(1+F19))/(1-(F20-0.045))-1)) -> 0.17669915 | Q18: 0.008 | R18: 0.0032 | S18: 0.0028 | T18: 0.0025 | U18: 0.0081 | V18: 0.003 | W18: 2
C19: 5 | D19: LUCRO | E19: L | F19: 0.08 | G19: =IF(F19="","",IF(AND(F19>=H19,F19<=I19),"OK","")) -> OK | H19: =INDEX(matriz,$W21,$O$10) -> 0.0664 | I19: =INDEX(matriz2,$W27,$O$10) -> 0.0869 | N19: ="Percentual de BDI superior ao limite estipulado pelo Acórdão TCU 2.622/2013 devido a soma de 4,5% (CPRB, conforme LEI 13.161/2015) no item Tributos, referente a desoneração na Contribuição Previdenciária. O cálculo dessa composição onerada resulta em " &N22 -> Percentual de BDI superior ao limite estipulado pelo Acórdão TCU 2.622/2013 devido a soma de 4,5% (CPRB, conforme LEI 13.161/2015) no item Tributos, referente a desoneração na Contribuição Previdenciária. O cálculo dessa composição onerada resulta em 17,67% | Q19: 0.0097 | R19: 0.005 | S19: 0.01 | T19: 0.01 | U19: 0.0146 | V19: 0.0056 | W19: 3
C20: 6 | D20: TAXA REPRESENTATIVA DE TRIBUTOS | E20: I = PIS+COFINS+ISS+CPRB | F20: =SUM(F21:F24) -> 0.0615 | G20: =IF(F20="","",IF(AND(F20>=H20,F20<=I20),"OK","")) -> OK | H20: =IF(N24=1,0.0365,0.0815) -> 0.0365 | I20: =IF(N24=1,0.0865,0.1315) -> 0.0865 | N20: =ROUND(N18*100,2) -> 17.67 | Q20: 0.0059 | R20: 0.0102 | S20: 0.0094 | T20: 0.0101 | U20: 0.0094 | V20: 0.0085 | W20: 4
C21: 6.1 | D21: PIS | E21: PIS | F21: 0.0065 | G21: =IF(F21="","",IF(AND(F21>=H21,F21<=I21),"OK","")) -> OK | H21: 0.0065 | I21: 0.0065 | J21: =IF(N24=2,"Foi incluída a CPRB com a alíquota de 4,50% sobre a Receita Bruta"," ") | N21: % | Q21: 0.0616 | R21: 0.0664 | S21: 0.0674 | T21: 0.08 | U21: 0.0714 | V21: 0.035 | W21: 5
A22: Alíquota ISS: | B22: Base de cálculo: | C22: 6.2 | D22: COFINS | E22: COFINS | F22: 0.03 | G22: =IF(F22="","",IF(AND(F22>=H22,F22<=I22),"OK","")) -> OK | H22: 0.03 | I22: 0.03 | N22: =N20&N21 -> 17,67% | P22: maximos | Q22: 1 | R22: 2 | S22: 3 | T22: 4 | U22: 5 | V22: 6
C23: 6.3 | D23: CONTRIBUIÇÃO PREVIDENCIÁRIA SOBRE A RECEITA BRUTA | E23: CPRB | F23: =IF(N24=1,0,0.045) -> 0 | G23: =IF(F23="","",IF(AND(F23>=H23,F23<=I23),"OK","")) -> OK | H23: =IF(N24=1,0,0.045) -> 0 | I23: =IF(N24=1,0,0.045) -> 0 | Q23: 0.055 | R23: 0.0467 | S23: 0.0671 | T23: 0.0793 | U23: 0.0785 | V23: 0.0449 | W23: 1
A24: 0.05 | B24: 0.5 | C24: 6.4 | D24: ISS | E24: ISS | F24: =A24*B24 -> 0.025 | G24: =IF(F24="","",IF(AND(F24>=H24,F24<=I24),"OK","")) -> OK | H24: =IF(B24=0,0.02,0.02*B24) -> 0.01 | I24: =IF(B24=0,0.05,0.05*B24) -> 0.025 | N24: =IF(N8=TRUE,2,1) -> 1 | Q24: 0.01 | R24: 0.0074 | S24: 0.0075 | T24: 0.0056 | U24: 0.0199 | V24: 0.0082 | W24: 2
E25: LIMITE CONFORME ACÓRDÃO TCU 2.622/2013 | H25: =IF(O10=1,S30,IF(O10=2,S31,IF(O10=3,S32,IF(O10=4,S33,IF(O10=5,S34,IF(O10=6,S35," ")))))) -> de 19,60% a 24,23% | N25: Composição do BDI para obras com mão-de-obra desonerada (conforme Lei 13.161 de 2015) | Q25: 0.0127 | R25: 0.0097 | S25: 0.0174 | T25: 0.0197 | U25: 0.0316 | V25: 0.0089 | W25: 3
B26: Fórmula - Acórdão TCU 2.622/2013: | N26: Composição do BDI para obras com mão-de-obra onerada | Q26: 0.0139 | R26: 0.0121 | S26: 0.0117 | T26: 0.0111 | U26: 0.0133 | V26: 0.0111 | W26: 4
E27: BDI | F27: =((((1+F15+F16+F17)*(1+F18)*(1+F19))/(1-F20))-1) -> 0.23312052 | N27: =IF(Q43=2,N43,IF(Q43=3,N44,IF(Q43=4,N45,IF(Q43=5,N46,IF(Q43=6,O47,"Erro"))))) -> Percentual do BDI quando calculado sem desoneração é inferior ao limite estipulado pelo Acórdão TCU 2.622/2013. | Q27: 0.0896 | R27: 0.0869 | S27: 0.094 | T27: 0.0951 | U27: 0.1043 | V27: 0.0622 | W27: 5
N28: =IF(R43=2,N43,IF(R43=3,N45,IF(R43=4,O47,"Erro"))) -> OK!
N30: =(B24*100)&N21 -> 50% | P30: Construção de Edifícios | Q30: 0.2034 | R30: 0.25 | S30: de 20,34% a 25,00% | W30: 1
B31: Justificativas e Observações: | N31: =(A24*100)&N21 -> 5% | P31: Construção de Rodovias e Ferrovias | Q31: 0.196 | R31: 0.2423 | S31: de 19,60% a 24,23% | W31: 2
N32: =" e a sua base de cálculo é de "&N30 -> e a sua base de cálculo é de 50% | P32: Construção de Redes de Abastecimento de Água, Coleta de Esgoto e Construções Correlatas | Q32: 0.2076 | R32: 0.2644 | S32: de 20,76% a 26,44% | W32: 3
N33: =N31&N32 -> 5% e a sua base de cálculo é de 50% | P33: Construção e Manutenção de Estações e Redes de Distribuição de Energia Elétrica | Q33: 0.24 | R33: 0.2786 | S33: de 24,00% a 27,86% | W33: 4
N34: =" sobre o valor total do orçamento." -> sobre o valor total do orçamento. | P34: Obras Portuárias, Marítimas e Fluviais | Q34: 0.228 | R34: 0.3095 | S34: de 22,80% a 30,95% | W34: 5
N35: =N33&N34 -> 5% e a sua base de cálculo é de 50% sobre o valor total do orçamento. | P35: Fornecimento de Materiais e Equipamentos | Q35: 0.111 | R35: 0.168 | S35: de 11,10% a 16,80% | W35: 6
B36: =IF(N24=2,(IF(Q43=5,N19," "))," ")
P37: LIMITES DE BDI | Q37: =INDEX(Q30:R35,O10,1) -> 0.196 | R37: =INDEX(Q30:R35,O10,2) -> 0.2423
B38: Obs¹: Para pagamento de material em canteiro, quando possível nos programas do Gestor, o BDI de Materiais deve ser limitado a 12,00%.
B39: =IF(N24=2,N49,N50) -> Eu, responsável técnico pelo orçamento, declaro para os devidos fins, que a opção pela oneração sobre a folha de pagamento é mais adequada para a administração pública.
G40: Declaração do Tomador dos Recursos: | Q40: 1= abaixo | R40: 2= dentro | S40: 3= acima
G41: =" Declaro, conforme legislação tributária municipal, que a alíquota do ISS é de "&N35 -> Declaro, conforme legislação tributária municipal, que a alíquota do ISS é de 5% e a sua base de cálculo é de 50% sobre o valor total do orçamento. | P41: real | Q41: =IF(N18<Q37,1,IF(N18>R37,3,2)) -> 1 | R41: =IF(F27<Q37,1,2) -> 2
A42: ='PLANILHA ORÇ.'!B41 -> MAIO/2024 | O42: OK | P42: final | Q42: =IF(F27<Q37,1,IF(F27>R37,3,2)) -> 2 | R42: =IF(F27<R37,1,2) -> 1
A43: ='PLANILHA ORÇ.'!B42 -> São João do Sul / SC | M43: 2 | N43: Percentual do BDI inferior ao limite estipulado pelo Acórdão TCU 2.622/2013. | O43: 2= final abaixo | Q43: =SUM(Q41:Q42) -> 3 | R43: =SUM(R41:R42) -> 3
...
