Workbook
Name _Toc328556484: REAJUSTE!#REF!
Name matriz: [1]BDI!$Q$17:$V$21
Name matriz2: [1]BDI!$Q$23:$V$27
Name TESTE: [2]BDI!XEV:XEV*[2]BDI!XEW:XEW

Sheet ORÇAMENTO
B1: PROPOSTA DE VALOR
B2: EMPRESA: | C2: =PAVIM.!$I$2 -> BAIRRO: VILA BEATRIZ | H2: =PAVIM.!$K$2 -> MUNICIPIO: MARACAJÁ | J2: =PAVIM.!$M$2 -> ESTADO: SANTA CATARINA
B3: ESCOLA DE EDUCAÇÃO BÁSICA MUNICIPAL 12 DE MAIO | J3: =PAVIM.!$M$3 -> DATA: 28/04/26
A5: Item | B5: Descrição | C5: Unidade | D5: Quantidade | E5: Valor unitário sem BDI | F5: Código de Reajuste | G5: Valores | K5: Fonte | L5: Referência de Custo
G6: Unitário sem BDI | H6: BDI | I6: Unitário com BDI | J6: Contratado
A8: 5 | B8: Instalações Elétricas
A9: 5.72 | B9: Projetor circular (ate 200w) base e-27 completo inclusive lâmpada, conforme projeto | C9: Un. | D9: 3 | G9: 370 | H9: =BDI!$F$30 -> 0.2073 | I9: =TRUNC(G9*(1+H9),2) -> 446.7 | J9: =TRUNC(D9*I9,2) -> 1340.1 | K9: Mercado | L9: -
A10: 7 | B10: Instalações Hidro-Sanitárias
A11: 7.1 | B11: Cabide tipo gancho (louça) | C11: Un. | D11: 9 | G11: 24.44 | H11: =BDI!$F$30 -> 0.2073 | I11: =TRUNC(G11*(1+H11),2) -> 29.5 | J11: =TRUNC(D11*I11,2) -> 265.5 | K11: Sinapi 03/26 | L11: 37399
A12: 7.3 | B12: Caixa de areia 60 x 60 c/ grelha metálica | C12: Un. | D12: 4 | G12: 1725 | H12: =BDI!$F$30 -> 0.2073 | I12: =TRUNC(G12*(1+H12),2) -> 2082.59 | J12: =TRUNC(D12*I12,2) -> 8330.36 | K12: Mercado | L12: -
A13: 10 | B13: Estruturas metálicas
A14: 10.1 | B14: Estrutura metálica em aço A 036 p/cobertura - chapa de aço galvanizado | C14: Kg | D14: 1034.04 | G14: 32 | H14: =BDI!$F$30 -> 0.2073 | I14: =TRUNC(G14*(1+H14),2) -> 38.63 | J14: =TRUNC(D14*I14,2) -> 39944.96 | K14: Mercado | L14: -
A15: 12 | B15: Esquadrias metálicas - Fornecimento e instalação
A16: 12.17 | B16: Portão em chapa trapezoidal, tubo de aço com ferragens (largura 4,95 m x alltura 2,10 m) | C16: m² | D16: 10.4 | G16: 620 | H16: =BDI!$F$30 -> 0.2073 | I16: =TRUNC(G16*(1+H16),2) -> 748.52 | J16: =TRUNC(D16*I16,2) -> 7784.6 | K16: Mercado | L16: -
A17: 12.19 | B17: Portão tela/cano ch. c/ ferragens (largura 4,00 m x altura 2,10 m) | C17: m² | D17: 8.4 | G17: 620 | H17: =BDI!$F$30 -> 0.2073 | I17: =TRUNC(G17*(1+H17),2) -> 748.52 | J17: =TRUNC(D17*I17,2) -> 6287.56 | K17: Mercado | L17: -
A18: 16 | B18: Revestimento de Piso
A19: 16.6 | B19: Ladrilho hidráulico 20 x 20 cm | C19: m² | D19: 59.9 | G19: 165 | H19: =BDI!$F$30 -> 0.2073 | I19: =TRUNC(G19*(1+H19),2) -> 199.2 | J19: =TRUNC(D19*I19,2) -> 11932.08 | K19: Mercado | L19: -
A20: 16.13 | B20: Aplicação de resina acrílica duas demãos | C20: m² | D20: 720 | G20: 35 | H20: =BDI!$F$30 -> 0.2073 | I20: =TRUNC(G20*(1+H20),2) -> 42.25 | J20: =TRUNC(D20*I20,2) -> 30420 | K20: Mercado | L20: -
A21: 17 | B21: Pintura
A22: 17.4 | B22: Fundo super galvite 1 demão | C22: m² | D22: 9.6 | G22: 34.02 | H22: =BDI!$F$30 -> 0.2073 | I22: =TRUNC(G22*(1+H22),2) -> 41.07 | J22: =TRUNC(D22*I22,2) -> 394.27 | K22: Sinapi 03/26 | L22: 100726
A23: 17.5 | B23: Letreiro em parede feito a pincel | C23: m² | D23: 2 | G23: 57.84 | H23: =BDI!$F$30 -> 0.2073 | I23: =TRUNC(G23*(1+H23),2) -> 69.83 | J23: =TRUNC(D23*I23,2) -> 139.66 | K23: Sinapi 03/26 | L23: 102513
A24: 17.8 | B24: Pint. Poliesportiva - 2 dem.(pisos e cimentados) | C24: m² | D24: 1000 | G24: 22.86 | H24: =BDI!$F$30 -> 0.2073 | I24: =TRUNC(G24*(1+H24),2) -> 27.59 | J24: =TRUNC(D24*I24,2) -> 27590 | K24: Sinapi 03/26 | L24: 102491
A25: 20 | B25: Diversos
A26: 20.9 | B26: Exaustor diam. 30 cm | C26: Un. | D26: 1 | G26: 2300 | H26: =BDI!$F$30 -> 0.2073 | I26: =TRUNC(G26*(1+H26),2) -> 2776.79 | J26: =TRUNC(D26*I26,2) -> 2776.79 | K26: Mercado | L26: -
A27: 20.10 | B27: Coifa em chapa galvanizada epóxi 95x70x60cm c/ tubo saída | C27: Un. | D27: 1 | G27: 3500 | H27: =BDI!$F$30 -> 0.2073 | I27: =TRUNC(G27*(1+H27),2) -> 4225.55 | J27: =TRUNC(D27*I27,2) -> 4225.55 | K27: Mercado | L27: -
A28: 20.13 | B28: Sinalização - placa aérea a1 - 2,00x0,50 m | C28: Un. | D28: 2 | G28: 1800 | H28: =BDI!$F$30 -> 0.2073 | I28: =TRUNC(G28*(1+H28),2) -> 2173.14 | J28: =TRUNC(D28*I28,2) -> 4346.28 | K28: Mercado | L28: -
A29: 20.14 | B29: Sinalização - placa especial e1 - 3,50x0,60 m + suporte | C29: Un. | D29: 2 | G29: 3700 | H29: =BDI!$F$30 -> 0.2073 | I29: =TRUNC(G29*(1+H29),2) -> 4467.01 | J29: =TRUNC(D29*I29,2) -> 8934.02 | K29: Mercado | L29: -
A30: 20.15 | B30: Sinalização - placa especial e2 - 1,50x0,50 m -estacionamento | C30: Un. | D30: 2 | G30: 1400 | H30: =BDI!$F$30 -> 0.2073 | I30: =TRUNC(G30*(1+H30),2) -> 1690.22 | J30: =TRUNC(D30*I30,2) -> 3380.44 | K30: Mercado | L30: -
A31: 20.16 | B31: Sinalização - placas aéreas a2,a3,a4 e a5 -1,00x0,30 m | C31: Un. | D31: 8 | G31: 550 | H31: =BDI!$F$30 -> 0.2073 | I31: =TRUNC(G31*(1+H31),2) -> 664.01 | J31: =TRUNC(D31*I31,2) -> 5312.08 | K31: Mercado | L31: -
A32: 20.17 | B32: Sinalização - placas p1 a p20 - 0,30 m x 0,40 m | C32: Un. | D32: 48 | G32: 200 | H32: =BDI!$F$30 -> 0.2073 | I32: =TRUNC(G32*(1+H32),2) -> 241.46 | J32: =TRUNC(D32*I32,2) -> 11590.08 | K32: Mercado | L32: -
A33: 20.18 | B33: Sinalização - placas s1 a s7 - 0,21 m x 0,31 m | C33: Un. | D33: 16 | G33: 115 | H33: =BDI!$F$30 -> 0.2073 | I33: =TRUNC(G33*(1+H33),2) -> 138.83 | J33: =TRUNC(D33*I33,2) -> 2221.28 | K33: Mercado | L33: -
B35: OBS.: PREENCHER SOMENTE CÉLULAS EM AMARELO
I36: TOTAL: | J36: =SUM(J9:J33) -> 177215.61
I42: ________________________________________________
I43: Vinicius Lumertz Mengue
J44: Engenheiro Civil

Sheet CRONOGRAMA
C1: CRONOGRAMA GLOBAL
C2: =PAVIM.!$G$2 -> PREFEITURA MUNICIPAL DE MARACAJÁ | I2: =PAVIM.!$I$2 -> BAIRRO: VILA BEATRIZ
C3: =PAVIM.!$K$2 -> MUNICIPIO: MARACAJÁ | I3: =PAVIM.!$M$2 -> ESTADO: SANTA CATARINA
C4: ESCOLA DE EDUCAÇÃO BÁSICA MUNICIPAL 12 DE MAIO
B6: Ítem | C6: Descrição | D6: Mês 01 | F6: Mês 02 | H6: Mês 03 | J6: Mês 04 | L6: Acumulado
D7: % | E7: R$ | F7: % | G7: R$ | H7: % | I7: R$ | J7: % | K7: R$ | L7: % | M7: R$
B8: =ORÇAMENTO!A9 -> 5.72 | C8: =ORÇAMENTO!B9 -> Projetor circular (ate 200w) base e-27 completo inclusive lâmpada, conforme projeto | D8: 1 | E8: =ORÇAMENTO!J9 -> 1340.1 | L8: 1 | M8: =E8 -> 1340.1
B9: =ORÇAMENTO!A11 -> 7.1 | C9: =ORÇAMENTO!B11 -> Cabide tipo gancho (louça) | D9: 1 | E9: =ORÇAMENTO!J11 -> 265.5 | L9: 1 | M9: =E9 -> 265.5
B10: =ORÇAMENTO!A12 -> 7.3 | C10: =ORÇAMENTO!B12 -> Caixa de areia 60 x 60 c/ grelha metálica | D10: 1 | E10: =ORÇAMENTO!J12 -> 8330.36 | L10: 1 | M10: =E10 -> 8330.36
B11: =ORÇAMENTO!A14 -> 10.1 | C11: =ORÇAMENTO!B14 -> Estrutura metálica em aço A 036 p/cobertura - chapa de aço galvanizado | D11: 0.5 | E11: =ORÇAMENTO!J14/2 -> 19972.48 | F11: 0.5 | G11: =ORÇAMENTO!J14/2 -> 19972.48 | L11: 1 | M11: =E11+G11 -> 39944.96
B12: =ORÇAMENTO!A16 -> 12.17 | C12: =ORÇAMENTO!B16 -> Portão em chapa trapezoidal, tubo de aço com ferragens (largura 4,95 m x alltura 2,10 m) | F12: 1 | G12: =ORÇAMENTO!J16 -> 7784.6 | L12: 1 | M12: =G12 -> 7784.6
B13: =ORÇAMENTO!A17 -> 12.19 | C13: =ORÇAMENTO!B17 -> Portão tela/cano ch. c/ ferragens (largura 4,00 m x altura 2,10 m) | F13: 1 | G13: =ORÇAMENTO!J17 -> 6287.56 | L13: 1 | M13: =G13 -> 6287.56
B14: =ORÇAMENTO!A19 -> 16.6 | C14: =ORÇAMENTO!B19 -> Ladrilho hidráulico 20 x 20 cm | F14: 1 | G14: =ORÇAMENTO!J19 -> 11932.08 | L14: 1 | M14: =G14 -> 11932.08
B15: =ORÇAMENTO!A20 -> 16.13 | C15: =ORÇAMENTO!B20 -> Aplicação de resina acrílica duas demãos | H15: 1 | I15: =ORÇAMENTO!J20 -> 30420 | L15: 1 | M15: =I15 -> 30420
B16: =ORÇAMENTO!A22 -> 17.4 | C16: =ORÇAMENTO!B22 -> Fundo super galvite 1 demão | H16: 1 | I16: =ORÇAMENTO!J22 -> 394.27 | L16: 1 | M16: =I16 -> 394.27
B17: =ORÇAMENTO!A23 -> 17.5 | C17: =ORÇAMENTO!B23 -> Letreiro em parede feito a pincel | H17: 1 | I17: =ORÇAMENTO!J23 -> 139.66 | L17: 1 | M17: =I17 -> 139.66
B18: =ORÇAMENTO!A24 -> 17.8 | C18: =ORÇAMENTO!B24 -> Pint. Poliesportiva - 2 dem.(pisos e cimentados) | H18: 1 | I18: =ORÇAMENTO!J24 -> 27590 | L18: 1 | M18: =I18 -> 27590
B19: =ORÇAMENTO!A26 -> 20.9 | C19: =ORÇAMENTO!B26 -> Exaustor diam. 30 cm | J19: 1 | K19: =ORÇAMENTO!J26 -> 2776.79 | L19: 1 | M19: =K19 -> 2776.79
B20: =ORÇAMENTO!A27 -> 20.10 | C20: =ORÇAMENTO!B27 -> Coifa em chapa galvanizada epóxi 95x70x60cm c/ tubo saída | J20: 1 | K20: =ORÇAMENTO!J27 -> 4225.55 | L20: 1 | M20: =K20 -> 4225.55
B21: =ORÇAMENTO!A28 -> 20.13 | C21: =ORÇAMENTO!B28 -> Sinalização - placa aérea a1 - 2,00x0,50 m | J21: 1 | K21: =ORÇAMENTO!J28 -> 4346.28 | L21: 1 | M21: =K21 -> 4346.28
B22: =ORÇAMENTO!A29 -> 20.14 | C22: =ORÇAMENTO!B29 -> Sinalização - placa especial e1 - 3,50x0,60 m + suporte | J22: 1 | K22: =ORÇAMENTO!J29 -> 8934.02 | L22: 1 | M22: =K22 -> 8934.02
B23: =ORÇAMENTO!A30 -> 20.15 | C23: =ORÇAMENTO!B30 -> Sinalização - placa especial e2 - 1,50x0,50 m -estacionamento | J23: 1 | K23: =ORÇAMENTO!J30 -> 3380.44 | L23: 1 | M23: =K23 -> 3380.44
B24: =ORÇAMENTO!A31 -> 20.16 | C24: =ORÇAMENTO!B31 -> Sinalização - placas aéreas a2,a3,a4 e a5 -1,00x0,30 m | J24: 1 | K24: =ORÇAMENTO!J31 -> 5312.08 | L24: 1 | M24: =K24 -> 5312.08
B25: =ORÇAMENTO!A32 -> 20.17 | C25: =ORÇAMENTO!B32 -> Sinalização - placas p1 a p20 - 0,30 m x 0,40 m | J25: 1 | K25: =ORÇAMENTO!J32 -> 11590.08 | L25: 1 | M25: =K25 -> 11590.08
B26: =ORÇAMENTO!A33 -> 20.18 | C26: =ORÇAMENTO!B33 -> Sinalização - placas s1 a s7 - 0,21 m x 0,31 m | J26: 1 | K26: =ORÇAMENTO!J33 -> 2221.28 | L26: 1 | M26: =K26 -> 2221.28
B27: TOTAL | E27: =SUM(E8:E26) -> 29908.44 | G27: =SUM(G8:G26) -> 45976.72 | I27: =SUM(I8:I26) -> 58543.93 | K27: =SUM(K8:K26) -> 42786.52 | M27: =SUM(M8:M26) -> 177215.61
K36: ________________________________________________
K37: Vinicius Lumertz Mengue
L38: Engenheiro Civil

Sheet TERRAPL.
B1: PLANILHA DE CÁLCULO DE QUANTITATIVOS DE TERRAPLENAGEM
B2: =PAVIM.!G2 -> PREFEITURA MUNICIPAL DE MARACAJÁ | F2: =PAVIM.!I2 -> BAIRRO: VILA BEATRIZ | H2: =PAVIM.!K2 -> MUNICIPIO: MARACAJÁ | J2: =PAVIM.!M2 -> ESTADO: SANTA CATARINA
B3: =PAVIM.!G3 -> RUA ELONIR DA SILVEIRA NAZÁRIO | J3: =PAVIM.!M3 -> DATA: 28/04/26
A4: ESTACA | D4: SEMI DISTÂNCIA | E4: ÁREA DE CORTE | F4: SOMA DAS ÁREAS | G4: VOLUME DE CORTE | H4: ÁREA DE ATERRO | I4: SOMA DAS ÁREAS | J4: VOLUME DE ATERRO
A5: RUA VEREADOR FLÁVIO ROCHA
A6: 0 | B6: + | C6: 0 | E6: =3.5*0.35 -> 1.225 | H6: 0
A7: 1 | B7: + | C7: 0 | D7: =((A7*20+C7)-(A6*20+C6))/2 -> 10 | E7: =3.5*0.35 -> 1.225 | F7: =E7+E6 -> 2.45 | G7: =TRUNC(F7*D7,2) -> 24.5 | H7: 0 | I7: =H7+H6 -> 0 | J7: =TRUNC(I7*D7,2) -> 0
A8: 2 | B8: + | C8: 0 | D8: =((A8*20+C8)-(A7*20+C7))/2 -> 10 | E8: =3.5*0.35 -> 1.225 | F8: =E8+E7 -> 2.45 | G8: =TRUNC(F8*D8,2) -> 24.5 | H8: 0 | I8: =H8+H7 -> 0 | J8: =TRUNC(I8*D8,2) -> 0
A9: 3 | B9: + | C9: 0 | D9: =((A9*20+C9)-(A8*20+C8))/2 -> 10 | E9: =3.5*0.35 -> 1.225 | F9: =E9+E8 -> 2.45 | G9: =TRUNC(F9*D9,2) -> 24.5 | H9: 0 | I9: =H9+H8 -> 0 | J9: =TRUNC(I9*D9,2) -> 0
A10: 3 | B10: + | C10: 0 | D10: =((A10*20+C10)-(A9*20+C9))/2 -> 0 | E10: =3.5*0.35 -> 1.225 | F10: =E10+E9 -> 2.45 | G10: =TRUNC(F10*D10,2) -> 0 | H10: 0 | I10: =H10+H9 -> 0 | J10: =TRUNC(I10*D10,2) -> 0
G11: =SUM(G7:G10) -> 73.5 | J11: =SUM(J7:J10) -> 0
A13: RUA 156
A14: 0 | B14: + | C14: 0 | E14: 3.706 | H14: 0
A15: 1 | B15: + | C15: 0 | D15: =((A15*20+C15)-(A14*20+C14))/2 -> 10 | E15: 2.449 | F15: =E15+E14 -> 6.155 | G15: =TRUNC(F15*D15,2) -> 61.55 | H15: 0 | I15: =H15+H14 -> 0 | J15: =TRUNC(I15*D15,2) -> 0
A16: 2 | B16: + | C16: 0 | D16: =((A16*20+C16)-(A15*20+C15))/2 -> 10 | E16: 1.271 | F16: =E16+E15 -> 3.72 | G16: =TRUNC(F16*D16,2) -> 37.2 | H16: 0 | I16: =H16+H15 -> 0 | J16: =TRUNC(I16*D16,2) -> 0
A17: 2 | B17: + | C17: 5.351 | D17: =((A17*20+C17)-(A16*20+C16))/2 -> 2.6755 | E17: 0.972 | F17: =E17+E16 -> 2.243 | G17: =TRUNC(F17*D17,2) -> 6 | H17: 0 | I17: =H17+H16 -> 0 | J17: =TRUNC(I17*D17,2) -> 0
A18: 2 | B18: + | C18: 6.562 | D18: =((A18*20+C18)-(A17*20+C17))/2 -> 0.6055 | E18: 0.893 | F18: =E18+E17 -> 1.865 | G18: =TRUNC(F18*D18,2) -> 1.12 | H18: 0 | I18: =H18+H17 -> 0 | J18: =TRUNC(I18*D18,2) -> 0
A19: 3 | B19: + | C19: 0 | D19: =((A19*20+C19)-(A18*20+C18))/2 -> 6.719 | E19: 1.234 | F19: =E19+E18 -> 2.127 | G19: =TRUNC(F19*D19,2) -> 14.29 | H19: 0 | I19: =H19+H18 -> 0 | J19: =TRUNC(I19*D19,2) -> 0
A20: 4 | B20: + | C20: 0 | D20: =((A20*20+C20)-(A19*20+C19))/2 -> 10 | E20: 1.617 | F20: =E20+E19 -> 2.851 | G20: =TRUNC(F20*D20,2) -> 28.51 | H20: 0 | I20: =H20+H19 -> 0 | J20: =TRUNC(I20*D20,2) -> 0
A21: 5 | B21: + | C21: 0 | D21: =((A21*20+C21)-(A20*20+C20))/2 -> 10 | E21: 2.984 | F21: =E21+E20 -> 4.601 | G21: =TRUNC(F21*D21,2) -> 46.01 | H21: 0 | I21: =H21+H20 -> 0 | J21: =TRUNC(I21*D21,2) -> 0
A22: 6 | B22: + | C22: 0 | D22: =((A22*20+C22)-(A21*20+C21))/2 -> 10 | E22: 4.389 | F22: =E22+E21 -> 7.373 | G22: =TRUNC(F22*D22,2) -> 73.73 | H22: 0 | I22: =H22+H21 -> 0 | J22: =TRUNC(I22*D22,2) -> 0
A23: 6 | B23: + | C23: 10.159 | D23: =((A23*20+C23)-(A22*20+C22))/2 -> 5.0795 | E23: 5.676 | F23: =E23+E22 -> 10.065 | G23: =TRUNC(F23*D23,2) -> 51.12 | H23: 0 | I23: =H23+H22 -> 0 | J23: =TRUNC(I23*D23,2) -> 0
G24: =SUM(G15:G23) -> 319.53 | J24: =SUM(J15:J23) -> 0
A26: RUA CRICIÚMA
A27: 0 | B27: + | C27: 0 | E27: 3.057 | H27: 0
A28: 1 | B28: + | C28: 0 | D28: =((A28*20+C28)-(A27*20+C27))/2 -> 10 | E28: 1.772 | F28: =E28+E27 -> 4.829 | G28: =TRUNC(F28*D28,2) -> 48.29 | H28: 0 | I28: =H28+H27 -> 0 | J28: =TRUNC(I28*D28,2) -> 0
A29: 2 | B29: + | C29: 0 | D29: =((A29*20+C29)-(A28*20+C28))/2 -> 10 | E29: 1.892 | F29: =E29+E28 -> 3.664 | G29: =TRUNC(F29*D29,2) -> 36.64 | H29: 0 | I29: =H29+H28 -> 0 | J29: =TRUNC(I29*D29,2) -> 0
A30: 3 | B30: + | C30: 0 | D30: =((A30*20+C30)-(A29*20+C29))/2 -> 10 | E30: 2.124 | F30: =E30+E29 -> 4.016 | G30: =TRUNC(F30*D30,2) -> 40.16 | H30: 0 | I30: =H30+H29 -> 0 | J30: =TRUNC(I30*D30,2) -> 0
A31: 3 | B31: + | C31: 10.28 | D31: =((A31*20+C31)-(A30*20+C30))/2 -> 5.14 | E31: 2.139 | F31: =E31+E30 -> 4.263 | G31: =TRUNC(F31*D31,2) -> 21.91 | H31: 0 | I31: =H31+H30 -> 0 | J31: =TRUNC(I31*D31,2) -> 0
A32: 4 | B32: + | C32: 0 | D32: =((A32*20+C32)-(A31*20+C31))/2 -> 4.86 | E32: 2.087 | F32: =E32+E31 -> 4.226 | G32: =TRUNC(F32*D32,2) -> 20.53 | H32: 0 | I32: =H32+H31 -> 0 | J32: =TRUNC(I32*D32,2) -> 0
A33: 4 | B33: + | C33: 14.015 | D33: =((A33*20+C33)-(A32*20+C32))/2 -> 7.0075 | E33: 3.009 | F33: =E33+E32 -> 5.096 | G33: =TRUNC(F33*D33,2) -> 35.71 | H33: 0 | I33: =H33+H32 -> 0 | J33: =TRUNC(I33*D33,2) -> 0
A34: 5 | B34: + | C34: 0 | D34: =((A34*20+C34)-(A33*20+C33))/2 -> 2.9925 | E34: 2.804 | F34: =E34+E33 -> 5.813 | G34: =TRUNC(F34*D34,2) -> 17.39 | H34: 0 | I34: =H34+H33 -> 0 | J34: =TRUNC(I34*D34,2) -> 0
A35: 6 | B35: + | C35: 0 | D35: =((A35*20+C35)-(A34*20+C34))/2 -> 10 | E35: 2.784 | F35: =E35+E34 -> 5.588 | G35: =TRUNC(F35*D35,2) -> 55.88 | H35: 0 | I35: =H35+H34 -> 0 | J35: =TRUNC(I35*D35,2) -> 0
A36: 7 | B36: + | C36: 0 | D36: =((A36*20+C36)-(A35*20+C35))/2 -> 10 | E36: 4.506 | F36: =E36+E35 -> 7.29 | G36: =TRUNC(F36*D36,2) -> 72.9 | H36: 0 | I36: =H36+H35 -> 0 | J36: =TRUNC(I36*D36,2) -> 0
A37: 8 | B37: + | C37: 0 | D37: =((A37*20+C37)-(A36*20+C36))/2 -> 10 | E37: 4.876 | F37: =E37+E36 -> 9.382 | G37: =TRUNC(F37*D37,2) -> 93.82 | H37: 0 | I37: =H37+H36 -> 0 | J37: =TRUNC(I37*D37,2) -> 0
A38: 9 | B38: + | C38: 0 | D38: =((A38*20+C38)-(A37*20+C37))/2 -> 10 | E38: 5.216 | F38: =E38+E37 -> 10.092 | G38: =TRUNC(F38*D38,2) -> 100.92 | H38: 0 | I38: =H38+H37 -> 0 | J38: =TRUNC(I38*D38,2) -> 0
A39: 10 | B39: + | C39: 0 | D39: =((A39*20+C39)-(A38*20+C38))/2 -> 10 | E39: 5.164 | F39: =E39+E38 -> 10.38 | G39: =TRUNC(F39*D39,2) -> 103.8 | H39: 0 | I39: =H39+H38 -> 0 | J39: =TRUNC(I39*D39,2) -> 0
A40: 10 | B40: + | C40: 7.748 | D40: =((A40*20+C40)-(A39*20+C39))/2 -> 3.874 | E40: 4.467 | F40: =E40+E39 -> 9.631 | G40: =TRUNC(F40*D40,2) -> 37.31 | H40: 0 | I40: =H40+H39 -> 0 | J40: =TRUNC(I40*D40,2) -> 0
G41: =SUM(G28:G40) -> 685.26 | J41: =SUM(J28:J40) -> 0
A43: VOLUME TOTAL DE ESCAVAÇÃO: | I43: =G11+G24+G41 -> 1078.29

Sheet DIM. DREN.
C2: ANEXO 03 - ESTUDO DE BACIAS DE CONTRIBUIÇÃO PARA CÁLCULO
C3: E DIMENSIONAMENTO DE BUEIRO DE TALVEGUE
A5: RUA ARCENDINO FARIAS | E5: MUNICIPIO: MARACAJÁ | H5: PREFEITURA MUNICIPAL DE MARACAJÁ/SC
A6: BAIRRO/DISTRITO: ESPIGÃO GRANDE | E6: ESTADO: SC | H6: =#REF! -> #REF! | K6: FOLHA : 01 / 01
A8: ESTUDO DA BACIA DE CONTRIBUIÇÃO
A9: BACIA | B9: L. (m) | C9: Área (km²) | D9: Montante | E9: Jusante | F9: Decl. (m/km) | G9: TR (anos) | H9: tc | I9: i (mm/h) | J9: C (runoff) | K9: Qd (m³/s) (SOLICITADA)
A10: 1 | B10: 866 | C10: =BACIAS!G5 -> 0.264293 | D10: 16 | E10: 13.722 | F10: =(D10-E10)/(B10/1000) -> 2.630485 | G10: 25 | H10: =57*(((B10/1000)^2/(F10))^0.385) -> 35.160079 | I10: =(3445.7*G10^0.138)/(H10+26)^1.012 -> 83.615643 | J10: 0.25 | K10: =(J10*I10*C10)/3.6 -> 1.5346548
A12: DIMENSIONAMENTO
A13: ESTACA | D13: L. (m) | E13: Montante | G13: Jusante | I13: I (m/m) | K13: Ø Projetado
A14: 30 | B14: + | C14: 6 | D14: 13 | E14: =E10 -> 13.722 | G14: 13.45 | I14: =(E14-G14)/D14 -> 0.020923077 | K14: Duplo de 0,60m
K15: SUBSTITUIÇÃO
A38: ESTUDO DA BACIA DE CONTRIBUIÇÃO
A39: BACIA | B39: L. (m) | C39: Área (km²) | D39: Montante | E39: Jusante | F39: Decl. (m/km) | G39: TR (anos) | H39: tc | I39: i (mm/h) | J39: C (runoff) | K39: Qd (m³/s) (SOLICITADA)
A40: 2 | B40: 900 | C40: =BACIAS!G6 -> 0.173808 | D40: 15 | E40: 13.158 | F40: =(D40-E40)/(B40/1000) -> 2.0466667 | G40: 25 | H40: =57*(((B40/1000)^2/(F40))^0.385) -> 39.892242 | I40: =(3445.7*G40^0.138)/(H40+26)^1.012 -> 77.541266 | J40: 0.25 | K40: =(J40*I40*C40)/3.6 -> 0.93592308
A42: DIMENSIONAMENTO
A43: ESTACA | D43: L. (m) | E43: Montante | G43: Jusante | I43: I (m/m) | K43: Ø Projetado
A44: 50 | B44: + | C44: 0 | D44: 13 | E44: =E40 -> 13.158 | G44: 12.898 | I44: =(E44-G44)/D44 -> 0.02 | K44: Duplo de 0,60m
K45: SUBSTITUIÇÃO

Sheet BACIAS
D4: BACIA | E4: ÁREA DE CONTRIBUIÇÃO (m²) | F4: ÁREA DE CONTRIBUIÇÃO (HA) | G4: ÁREA DE CONTRIBUIÇÃO (KM²)
D5: 1 | E5: 264293 | F5: =E5/10000 -> 26.4293 | G5: =E5/(1000*1000) -> 0.264293
D6: 2 | E6: 173808 | F6: =E6/10000 -> 17.3808 | G6: =E6/(1000*1000) -> 0.173808
G11: =1232*7.5 -> 9240
G12: =G11-G13 -> 2700
G13: 6540
G14: =G12/1232 -> 2.1915584

Sheet PAVIM.
A1: =ORÇAMENTO!B7 -> 0 | G1: PLANILHA DE CÁLCULO DE QUANTITATIVOS DE PAVIMENTAÇÃO
G2: PREFEITURA MUNICIPAL DE MARACAJÁ | I2: BAIRRO: VILA BEATRIZ | K2: MUNICIPIO: MARACAJÁ | M2: ESTADO: SANTA CATARINA
G3: RUA ELONIR DA SILVEIRA NAZÁRIO | M3: =CONCATENATE("DATA:"," ",TEXT(TODAY(),"DD/MM/AA")) -> DATA: 28/04/26
A5: REGULARIZACAO E COMPACTAÇÃO DE SUBLEITO
A6: Est. inicial | D6: Est. Final | G6: LOCALIZAÇÃO | H6: LADO | I6: Comprimento (m) | J6: Largura (m) | K6: Área (m²) | L6: Espessura (m) | M6: Quantidade (m²)
A7: 0 | B7: + | C7: 0 | D7: 4 | E7: + | F7: 17 | G7: RUA JOSÉ MARQUES | H7: LE/LD | I7: =(D7*20+F7)-(A7*20+C7) -> 97 | J7: 8 | K7: =TRUNC(I7*J7,2) -> 776 | L7: - | M7: =K7 -> 776
A8: 0 | B8: =E7 -> + | C8: 0 | D8: 3 | E8: + | F8: 10 | G8: RUA VEREADOR FLÁVIO ROCHA | H8: LE/LD | I8: =(D8*20+F8)-(A8*20+C8) -> 70 | J8: 3.5 | K8: =TRUNC(I8*J8,2) -> 245 | L8: - | M8: =K8 -> 245
A9: 0 | B9: =E8 -> + | C9: 0 | D9: 0 | E9: + | F9: 5 | G9: RUA 123 | H9: LE/LD | I9: =(D9*20+F9)-(A9*20+C9) -> 5 | J9: 8 | K9: =TRUNC(I9*J9,2) -> 40 | L9: - | M9: =K9 -> 40
A10: 0 | B10: + | C10: 0 | D10: 6 | E10: + | F10: 10 | G10: RUA 156 | H10: LE/LD | I10: =(D10*20+F10)-(A10*20+C10) -> 130 | J10: 8 | K10: =TRUNC(I10*J10,2) -> 1040 | L10: - | M10: =K10 -> 1040
A11: 0 | B11: =E10 -> + | C11: 0 | D11: 4 | E11: + | F11: 10 | G11: RUA CRICIÚMA | H11: LE/LD | I11: =(D11*20+F11)-(A11*20+C11) -> 90 | J11: 8 | K11: =TRUNC(I11*J11,2) -> 720 | L11: - | M11: =K11 -> 720
A12: TOTAL: | M12: =SUM(M7:M11) -> 2821
A14: SUB-BASE EM MACADAME SECO
A15: Est. inicial | D15: Est. Final | G15: LOCALIZAÇÃO | H15: LADO | I15: Comprimento (m) | J15: Largura (m) | K15: Área (m²) | L15: Espessura (m) | M15: Quantidade (m³)
A16: =A7 -> 0 | B16: =B7 -> + | C16: =C7 -> 0 | D16: =D7 -> 4 | E16: =E7 -> + | F16: =F7 -> 17 | G16: =G7 -> RUA JOSÉ MARQUES | H16: =H7 -> LE/LD | I16: =(D16*20+F16)-(A16*20+C16) -> 97 | J16: =J7 -> 8 | K16: =TRUNC(I16*J16,2) -> 776 | L16: 0.2 | M16: =TRUNC(K16*L16,2) -> 155.2
A17: =A8 -> 0 | B17: =B8 -> + | C17: =C8 -> 0 | D17: =D8 -> 3 | E17: =E8 -> + | F17: =F8 -> 10 | G17: =G8 -> RUA VEREADOR FLÁVIO ROCHA | H17: =H8 -> LE/LD | I17: =(D17*20+F17)-(A17*20+C17) -> 70 | J17: =J8 -> 3.5 | K17: =TRUNC(I17*J17,2) -> 245 | L17: 0.2 | M17: =TRUNC(K17*L17,2) -> 49
A18: =A9 -> 0 | B18: =B9 -> + | C18: =C9 -> 0 | D18: =D9 -> 0 | E18: =E9 -> + | F18: =F9 -> 5 | G18: =G9 -> RUA 123 | H18: =H9 -> LE/LD | I18: =(D18*20+F18)-(A18*20+C18) -> 5 | J18: =J9 -> 8 | K18: =TRUNC(I18*J18,2) -> 40 | L18: 0.2 | M18: =TRUNC(K18*L18,2) -> 8
A19: =A10 -> 0 | B19: =B10 -> + | C19: =C10 -> 0 | D19: =D10 -> 6 | E19: =E10 -> + | F19: =F10 -> 10 | G19: =G10 -> RUA 156 | H19: =H10 -> LE/LD | I19: =(D19*20+F19)-(A19*20+C19) -> 130 | J19: =J10 -> 8 | K19: =TRUNC(I19*J19,2) -> 1040 | L19: 0.2 | M19: =TRUNC(K19*L19,2) -> 208
A20: =A11 -> 0 | B20: =B11 -> + | C20: =C11 -> 0 | D20: =D11 -> 4 | E20: =E11 -> + | F20: =F11 -> 10 | G20: =G11 -> RUA CRICIÚMA | H20: =H11 -> LE/LD | I20: =(D20*20+F20)-(A20*20+C20) -> 90 | J20: =J11 -> 8 | K20: =TRUNC(I20*J20,2) -> 720 | L20: 0.2 | M20: =TRUNC(K20*L20,2) -> 144
A21: TOTAL: | M21: =SUM(M16:M20) -> 564.2
A23: BASE DE BRITA GRADUADA SIMPLES
A24: Est. inicial | D24: Est. Final | G24: LOCALIZAÇÃO | H24: LADO | I24: Comprimento (m) | J24: Largura (m) | K24: Área (m²) | L24: Espessura (m) | M24: Quantidade (m³)
A25: =A16 -> 0 | B25: =B16 -> + | C25: =C16 -> 0 | D25: =D16 -> 4 | E25: =E16 -> + | F25: =F16 -> 17 | G25: =G16 -> RUA JOSÉ MARQUES | H25: =H16 -> LE/LD | I25: =(D25*20+F25)-(A25*20+C25) -> 97 | J25: =J16 -> 8 | K25: =TRUNC(I25*J25,2) -> 776 | L25: 0.15 | M25: =TRUNC(K25*L25,2) -> 116.4
A26: =A17 -> 0 | B26: =B17 -> + | C26: =C17 -> 0 | D26: =D17 -> 3 | E26: =E17 -> + | F26: =F17 -> 10 | G26: =G17 -> RUA VEREADOR FLÁVIO ROCHA | H26: =H17 -> LE/LD | I26: =(D26*20+F26)-(A26*20+C26) -> 70 | J26: =J17 -> 3.5 | K26: =TRUNC(I26*J26,2) -> 245 | L26: 0.15 | M26: =TRUNC(K26*L26,2) -> 36.75
A27: =A18 -> 0 | B27: =B18 -> + | C27: =C18 -> 0 | D27: =D18 -> 0 | E27: =E18 -> + | F27: =F18 -> 5 | G27: =G18 -> RUA 123 | H27: =H18 -> LE/LD | I27: =(D27*20+F27)-(A27*20+C27) -> 5 | J27: =J18 -> 8 | K27: =TRUNC(I27*J27,2) -> 40 | L27: 0.15 | M27: =TRUNC(K27*L27,2) -> 6
A28: =A19 -> 0 | B28: =B19 -> + | C28: =C19 -> 0 | D28: =D19 -> 6 | E28: =E19 -> + | F28: =F19 -> 10 | G28: =G19 -> RUA 156 | H28: =H19 -> LE/LD | I28: =(D28*20+F28)-(A28*20+C28) -> 130 | J28: =J19 -> 8 | K28: =TRUNC(I28*J28,2) -> 1040 | L28: 0.15 | M28: =TRUNC(K28*L28,2) -> 156
A29: =A20 -> 0 | B29: =B20 -> + | C29: =C20 -> 0 | D29: =D20 -> 4 | E29: =E20 -> + | F29: =F20 -> 10 | G29: =G20 -> RUA CRICIÚMA | H29: =H20 -> LE/LD | I29: =(D29*20+F29)-(A29*20+C29) -> 90 | J29: =J19 -> 8 | K29: =TRUNC(I29*J29,2) -> 720 | L29: 0.15 | M29: =TRUNC(K29*L29,2) -> 108
A30: TOTAL: | M30: =SUM(M25:M29) -> 423.15
A32: IMPRIMAÇÃO EM LIGANTE COM EMULSÃO ASFÁLTICA
A33: Est. inicial | D33: Est. Final | G33: LOCALIZAÇÃO | H33: LADO | I33: Comprimento (m) | J33: Largura (m) | K33: Área (m²) | L33: Espessura (m) | M33: Quantidade (m²)
A34: =A25 -> 0 | B34: =B25 -> + | C34: =C25 -> 0 | D34: =D25 -> 4 | E34: =E25 -> + | F34: =F25 -> 17 | G34: =G25 -> RUA JOSÉ MARQUES | H34: =H25 -> LE/LD | I34: =(D34*20+F34)-(A34*20+C34) -> 97 | J34: =J25 -> 8 | K34: =TRUNC(I34*J34,2) -> 776 | L34: - | M34: =K34 -> 776
A35: =A26 -> 0 | B35: =B26 -> + | C35: =C26 -> 0 | D35: =D26 -> 3 | E35: =E26 -> + | F35: =F26 -> 10 | G35: =G26 -> RUA VEREADOR FLÁVIO ROCHA | H35: =H26 -> LE/LD | I35: =(D35*20+F35)-(A35*20+C35) -> 70 | J35: =J26 -> 3.5 | K35: =TRUNC(I35*J35,2) -> 245 | L35: - | M35: =K35 -> 245
A36: =A27 -> 0 | B36: =B27 -> + | C36: =C27 -> 0 | D36: =D27 -> 0 | E36: =E27 -> + | F36: =F27 -> 5 | G36: =G27 -> RUA 123 | H36: =H27 -> LE/LD | I36: =(D36*20+F36)-(A36*20+C36) -> 5 | J36: =J27 -> 8 | K36: =TRUNC(I36*J36,2) -> 40 | L36: - | M36: =K36 -> 40
A37: =A28 -> 0 | B37: =B28 -> + | C37: =C28 -> 0 | D37: =D28 -> 6 | E37: =E28 -> + | F37: =F28 -> 10 | G37: =G28 -> RUA 156 | H37: =H28 -> LE/LD | I37: =(D37*20+F37)-(A37*20+C37) -> 130 | J37: =J28 -> 8 | K37: =TRUNC(I37*J37,2) -> 1040 | L37: - | M37: =K37 -> 1040
A38: =A29 -> 0 | B38: =B29 -> + | C38: =C29 -> 0 | D38: =D29 -> 4 | E38: =E29 -> + | F38: =F29 -> 10 | G38: =G29 -> RUA CRICIÚMA | H38: =H29 -> LE/LD | I38: =(D38*20+F38)-(A38*20+C38) -> 90 | J38: =J29 -> 8 | K38: =TRUNC(I38*J38,2) -> 720 | L38: - | M38: =K38 -> 720
A39: TOTAL (m²): | M39: =SUM(M34:M38) -> 2821
A40: AQUISIÇÃO PARA A IMPRIMAÇÃO COM EMULSÃO ASFÁLTICA - 0,0013T/m²: | M40: =TRUNC(M39*0.0013,2) -> 3.66
A41: TRANSPORTE DO MATERIAL BETUMINOSO PARA A IMPRIMAÇÃO COM EMULSÃO ASFÁLTICA - 0,0013T/m²: | M41: =M40 -> 3.66
A42: Cálculo para o valor do transp. adotou-se a fórmula conforme Portaria do DNIT n. 1.977, de 25 de outubro de 2017, publicada no Diário Oficial da União (26,939 + 0,253 x D) = [(26,939*(581,407/270,237))+(0,253*581,407/270,237)*488] x 1,17= | M42: =TRUNC(((26.939*(581.407/270.237))+(0.253*581.407/270.237)*488)*1.17,2) -> 378.59
A43: OBS.: D.M.T da Refinaria/PR até Usina Asfáltica = 488,00 km. ICMS = 17%
A45: PINTURA DE LIGAÇÃO
...

Sheet SINALIZAÇÃO
D1: PLANILHA DE CÁLCULO DE QUANTITATIVOS DE SINALIZAÇÃO
D2: =PAVIM.!G2 -> PREFEITURA MUNICIPAL DE MARACAJÁ | I2: =PAVIM.!I2 -> BAIRRO: VILA BEATRIZ | L2: =PAVIM.!K2 -> MUNICIPIO: MARACAJÁ | M2: =PAVIM.!M2 -> ESTADO: SANTA CATARINA
D3: =PAVIM.!G3 -> RUA ELONIR DA SILVEIRA NAZÁRIO | M3: =PAVIM.!M3 -> DATA: 28/04/26
A5: SINALIZAÇÃO HORIZONTAL - PINTURA DE FAIXA
A6: Est. Inicial | D6: Est. Final | G6: Rua | H6: Quantidade | I6: Comprimento (m) | J6: Largura (m) | K6: Faixas (un.) | L6: Tipo | M6: Total (m²)
A7: =PAVIM.!A47 -> 0 | B7: =PAVIM.!B7 -> + | C7: =PAVIM.!C7 -> 0 | D7: 7 | E7: =PAVIM.!E7 -> + | F7: =PAVIM.!F7 -> 17 | G7: =PAVIM.!G7 -> RUA JOSÉ MARQUES | H7: 1 | I7: =D7*20+F7 -> 157 | J7: 0.1 | K7: 1 | L7: EIXO DE PISTA | M7: =TRUNC(H7*I7*J7*K7,2) -> 15.7
A8: =A7 -> 0 | B8: =B7 -> + | C8: =C7 -> 0 | D8: =D7 -> 7 | E8: =E7 -> + | F8: =F7 -> 17 | G8: =G7 -> RUA JOSÉ MARQUES | H8: 2 | I8: =D8*20+F8 -> 157 | J8: 0.1 | K8: 1 | L8: BORDO DE PISTA - LE/LD | M8: =TRUNC(H8*I8*J8*K8,2) -> 31.4
A9: =PAVIM.!#REF! -> #REF! | B9: =PAVIM.!B8 -> + | C9: =PAVIM.!C8 -> 0 | D9: =PAVIM.!D8 -> 3 | E9: =PAVIM.!E8 -> + | F9: =PAVIM.!F8 -> 10 | G9: =PAVIM.!G8 -> RUA VEREADOR FLÁVIO ROCHA | H9: 1 | I9: =D9*20+F9 -> 70 | J9: 0.1 | K9: 1 | L9: EIXO DE PISTA | M9: =TRUNC(H9*I9*J9*K9,2) -> 7
A10: =A9 -> #REF! | B10: =B9 -> + | C10: =C9 -> 0 | D10: =D9 -> 3 | E10: =E9 -> + | F10: =F9 -> 10 | G10: =G9 -> RUA VEREADOR FLÁVIO ROCHA | H10: 2 | I10: =D10*20+F10 -> 70 | J10: 0.1 | K10: 1 | L10: BORDO DE PISTA - LE/LD | M10: =TRUNC(H10*I10*J10*K10,2) -> 14
A11: =PAVIM.!A48 -> 0 | B11: =PAVIM.!B48 -> + | C11: =PAVIM.!C48 -> 0 | D11: =PAVIM.!D48 -> 16 | E11: =PAVIM.!E48 -> + | F11: =PAVIM.!F48 -> 13 | G11: =PAVIM.!G48 -> RUA VEREADOR FLÁVIO ROCHA | H11: 1 | I11: =D11*20+F11 -> 333 | J11: 0.1 | K11: 1 | L11: EIXO DE PISTA | M11: =TRUNC(H11*I11*J11*K11,2) -> 33.3
A12: =A11 -> 0 | B12: =B11 -> + | C12: =C11 -> 0 | D12: =D11 -> 16 | E12: =E11 -> + | F12: =F11 -> 13 | G12: =G11 -> RUA VEREADOR FLÁVIO ROCHA | H12: 2 | I12: =D12*20+F12 -> 333 | J12: 0.1 | K12: 1 | L12: BORDO DE PISTA - LE/LD | M12: =TRUNC(H12*I12*J12*K12,2) -> 66.6
A13: =PAVIM.!A50 -> 0 | B13: =PAVIM.!B50 -> + | C13: =PAVIM.!C50 -> 0 | D13: =PAVIM.!D50 -> 6 | E13: =PAVIM.!E50 -> + | F13: =PAVIM.!F50 -> 10 | G13: =PAVIM.!G50 -> RUA 156 | H13: 1 | I13: =D13*20+F13 -> 130 | J13: 0.1 | K13: 1 | L13: EIXO DE PISTA | M13: =TRUNC(H13*I13*J13*K13,2) -> 13
A14: =A13 -> 0 | B14: =B13 -> + | C14: =C13 -> 0 | D14: =D13 -> 6 | E14: =E13 -> + | F14: =F13 -> 10 | G14: =G13 -> RUA 156 | H14: 2 | I14: =D14*20+F14 -> 130 | J14: 0.1 | K14: 1 | L14: BORDO DE PISTA - LE/LD | M14: =TRUNC(H14*I14*J14*K14,2) -> 26
A15: =PAVIM.!A51 -> 0 | B15: =PAVIM.!B51 -> + | C15: =PAVIM.!C51 -> 0 | D15: =PAVIM.!D51 -> 4 | E15: =PAVIM.!E51 -> + | F15: =PAVIM.!F51 -> 10 | G15: =PAVIM.!G51 -> RUA CRICIÚMA | H15: 1 | I15: =D15*20+F15 -> 90 | J15: 0.1 | K15: 1 | L15: EIXO DE PISTA | M15: =TRUNC(H15*I15*J15*K15,2) -> 9
A16: =A15 -> 0 | B16: =B15 -> + | C16: =C15 -> 0 | D16: =D15 -> 4 | E16: =E15 -> + | F16: =F15 -> 10 | G16: =G15 -> RUA CRICIÚMA | H16: 2 | I16: =D16*20+F16 -> 90 | J16: 0.1 | K16: 1 | L16: BORDO DE PISTA - LE/LD | M16: =TRUNC(H16*I16*J16*K16,2) -> 18
A17: TOTAL: | M17: =SUM(M7:M16) -> 234
A19: SINALIZAÇÃO HORIZONTAL - FAIXA DE PEDESTRES
A20: Est. Inicial | D20: Est. Final | G20: Rua | H20: Quantidade | I20: Comprimento (m) | J20: Largura (m) | K20: Faixas (un.) | L20: Tipo | M20: Total (m²)
A21: =A7 -> 0 | B21: =B7 -> + | C21: =C7 -> 0 | D21: =D7 -> 7 | E21: =E7 -> + | F21: =F7 -> 17 | G21: =G7 -> RUA JOSÉ MARQUES | H21: 1 | I21: 3 | J21: 0.3 | K21: 9 | L21: FAIXA DE PEDESTRE | M21: =TRUNC(H21*I21*J21*K21,2) -> 8.1
A22: =A21 -> 0 | B22: =B21 -> + | C22: =C21 -> 0 | D22: =D21 -> 7 | E22: =E21 -> + | F22: =F21 -> 17 | G22: =G21 -> RUA JOSÉ MARQUES | H22: 1 | I22: 4 | J22: 0.3 | K22: 2 | L22: FAIXA DE RETENÇÃO | M22: =TRUNC(H22*I22*J22*K22,2) -> 2.4
A23: =A9 -> #REF! | B23: =B9 -> + | C23: =C9 -> 0 | D23: =D9 -> 3 | E23: =E9 -> + | F23: =F9 -> 10 | G23: =G9 -> RUA VEREADOR FLÁVIO ROCHA | H23: 5 | I23: 3 | J23: 0.3 | K23: 9 | L23: FAIXA DE PEDESTRE | M23: =TRUNC(H23*I23*J23*K23,2) -> 40.5
A24: =A23 -> #REF! | B24: =B23 -> + | C24: =C23 -> 0 | D24: =D23 -> 3 | E24: =E23 -> + | F24: =F23 -> 10 | G24: =G23 -> RUA VEREADOR FLÁVIO ROCHA | H24: 5 | I24: 3.5 | J24: 0.3 | K24: 2 | L24: FAIXA DE RETENÇÃO | M24: =TRUNC(H24*I24*J24*K24,2) -> 10.5
A25: =A11 -> 0 | B25: =B11 -> + | C25: =C11 -> 0 | D25: =D11 -> 16 | E25: =E11 -> + | F25: =F11 -> 13 | G25: =G11 -> RUA VEREADOR FLÁVIO ROCHA | H25: 5 | I25: 3 | J25: 0.3 | K25: 9 | L25: FAIXA DE PEDESTRE | M25: =TRUNC(H25*I25*J25*K25,2) -> 40.5
A26: =A25 -> 0 | B26: =B25 -> + | C26: =C25 -> 0 | D26: =D25 -> 16 | E26: =E25 -> + | F26: =F25 -> 13 | G26: =G25 -> RUA VEREADOR FLÁVIO ROCHA | H26: 5 | I26: 3.5 | J26: 0.3 | K26: 2 | L26: FAIXA DE RETENÇÃO | M26: =TRUNC(H26*I26*J26*K26,2) -> 10.5
A27: =A13 -> 0 | B27: =B13 -> + | C27: =C13 -> 0 | D27: =D13 -> 6 | E27: =E13 -> + | F27: =F13 -> 10 | G27: =G13 -> RUA 156 | H27: 2 | I27: 3 | J27: 0.3 | K27: 9 | L27: FAIXA DE PEDESTRE | M27: =TRUNC(H27*I27*J27*K27,2) -> 16.2
A28: =A27 -> 0 | B28: =B27 -> + | C28: =C27 -> 0 | D28: =D27 -> 6 | E28: =E27 -> + | F28: =F27 -> 10 | G28: =G27 -> RUA 156 | H28: 2 | I28: 4 | J28: 0.3 | K28: 2 | L28: FAIXA DE RETENÇÃO | M28: =TRUNC(H28*I28*J28*K28,2) -> 4.8
A29: =A15 -> 0 | B29: =B15 -> + | C29: =C15 -> 0 | D29: =D15 -> 4 | E29: =E15 -> + | F29: =F15 -> 10 | G29: =G15 -> RUA CRICIÚMA | H29: 1 | I29: 3 | J29: 0.3 | K29: 9 | L29: FAIXA DE PEDESTRE | M29: =TRUNC(H29*I29*J29*K29,2) -> 8.1
A30: =A29 -> 0 | B30: =B29 -> + | C30: =C29 -> 0 | D30: =D29 -> 4 | E30: =E29 -> + | F30: =F29 -> 10 | G30: =G29 -> RUA CRICIÚMA | H30: 1 | I30: 4 | J30: 0.3 | K30: 2 | L30: FAIXA DE RETENÇÃO | M30: =TRUNC(H30*I30*J30*K30,2) -> 2.4
A31: TOTAL: | M31: =SUM(M21:M28) -> 133.5
A33: SINALIZAÇÃO VERTICAL - PLACA DE REGULAMENTAÇÃO
A34: Est. Inicial | D34: Est. Final | G34: Rua | H34: Quantidade | I34: Comprimento (m) | J34: Largura (m) | K34: Lado | L34: Tipo | M34: Quantidade (un.)
A35: =A23 -> #REF! | B35: =B23 -> + | C35: =C23 -> 0 | D35: =D23 -> 3 | E35: =E23 -> + | F35: =F23 -> 10 | G35: =G23 -> RUA VEREADOR FLÁVIO ROCHA | H35: 4 | I35: 0.6 | J35: 0.6 | K35: LE/LD | L35: PARE | M35: =H35 -> 4
A36: =A27 -> 0 | B36: =B27 -> + | C36: =C27 -> 0 | D36: =D27 -> 6 | E36: =E27 -> + | F36: =F27 -> 10 | G36: =G27 -> RUA 156 | H36: 2 | I36: 0.6 | J36: 0.6 | K36: LE | L36: PARE | M36: =H36 -> 2
A37: TOTAL: | M37: =SUM(M35:M36) -> 6
A39: SINALIZAÇÃO VERTICAL
A40: Est. Inicial | D40: Est. Final | G40: Rua | H40: Quantidade | I40: Comprimento (m) | J40: Largura (m) | K40: Lado | L40: Tipo | M40: Quantidade (un.)
A41: =A35 -> #REF! | B41: =B35 -> + | C41: =C35 -> 0 | D41: =D35 -> 3 | E41: =E35 -> + | F41: =F35 -> 10 | G41: =G35 -> RUA VEREADOR FLÁVIO ROCHA | H41: 1 | I41: 2 | J41: 1 | K41: LD | L41: PLACA DE OBRA | M41: 1
A42: TOTAL: | M42: =SUM(M41:M41) -> 1
A44: SINALIZAÇÃO VERTICAL
A45: Est. Inicial | D45: Est. Final | G45: Rua | H45: Quantidade | I45: Comprimento (m) | J45: Altura (m) | K45: Lado | L45: Tipo | M45: Quantidade (un.)
...

Sheet BDI
D1: Agente Promotor | F1: Número do Contrato
D2: PREFEITURA MUNICIPAL DE MARACAJÁ
D3: Empreendimento
D4: PAVIMENTAÇÃO COM CONCRETO ASFÁLTICO, TERRAPLENAGEM, DRENAGEM E SINALIZAÇÃO
D5: Localização
D6: =PAVIM.!G3 -> RUA ELONIR DA SILVEIRA NAZÁRIO | E6: =PAVIM.!I2 -> BAIRRO: VILA BEATRIZ | H6: =PAVIM.!M3 -> DATA: 28/04/26
D8: =PAVIM.!K2 -> MUNICIPIO: MARACAJÁ | E8: =PAVIM.!M2 -> ESTADO: SANTA CATARINA
A10: Composição do BDI para obras com mão-de-obra sem desoneração (conforme Lei 13.161 de 2015)
D12: TIPO DE OBRA
D13: Construção de Rodovias
C15: COMPOSIÇÃO - BDI para Construção de Rodovias e Ferrovias
C16: ITEM | D16: DESCRIÇÃO ANALÍTICA | E16: SIGLAS | F16: PERCENTUAL | G16: SITUAÇÃO | H16: 1° QUARTIL (MÍNIMO) | I16: 3° QUARTIL (MÁXIMA)
C17: 1 | D17: ADMINISTRAÇÃO CENTRAL | E17: AC | F17: 0.038 | G17: OK | H17: 0.038 | I17: 0.0467
C18: 2 | D18: SEGURO E GARANTIA | E18: S + G | F18: 0.0032 | G18: OK | H18: 0.0032 | I18: 0.0074
C19: 3 | D19: RISCO | E19: R | F19: 0.005 | G19: OK | H19: 0.005 | I19: 0.0097
C20: 4 | D20: DESPESAS FINANCEIRAS | E20: DF | F20: 0.0102 | G20: OK | H20: 0.0102 | I20: 0.0121
C21: 5 | D21: LUCRO | E21: L | F21: 0.0664 | G21: OK | H21: 0.0664 | I21: 0.0869
C22: 6 | D22: TAXA REPRESENTATIVA DE TRIBUTOS | E22: I= PIS+CONFINS+ISS+CPRB | F22: =SUM(F23:F26) -> 0.0665 | G22: OK | H22: 0.0365 | I22: 0.0865 | J22: Foi incluída a CPRB com a alíquota de 4,50% sobre a Receita Bruta
C23: 6.1 | D23: PIS | E23: PIS | F23: 0.0065 | G23: OK | H23: 0.0065 | I23: 0.0065
A24: Alíquota iss: | B24: Base de cálculo: | C24: 6.2 | D24: CONFINS | E24: CONFINS | F24: 0.03 | G24: OK | H24: 0.03 | I24: 0.03
C25: 6.3 | D25: CONTRIBUIÇÃO PREVIDENCIÁRIA SOBRE A RECEITA BRUTA | E25: CPRB | F25: 0 | G25: OK | H25: 0.045 | I25: 0.045 | J25: Mão-de-obra desonerada
A26: 0.03 | B26: 1 | C26: 6.4 | D26: ISS | E26: ISS | F26: 0.03 | G26: OK | H26: 0.02 | I26: 0.05
E27: LIMITE CONFORME ACÓRDÃO TCU 2.622/2013 | H27: de 19,60% a 24,23%
B28: Fórmula - Acórdão TCU 2.622/2013
C30: BDI= | D30: (1+AC+S+R+G)(1+DF)(1+L) 1 | E30: BDI | F30: =TRUNC((((1+F17+F18+F19)*(1+F20)*(1+F21))/(1-F22))-1,4) -> 0.2073 | G30: OK! Percentual do BDI quando calculado sem desoneração atende ao limite estipulado pelo Acórdão TCU 2.622/2013
D31: (1-I)
B37: Percentual de BDI dentro do limite estipulado pelo Acódão TCU 2.622/2013. O cálculo dessa composição sem desoneração resulta em 20,73%
B38: Obs¹: Para pagamento de material em canteiro, quando possível nos programas do Gestor, o BDI de Materiais deve ser limitado a 12,00%
B39: Obs²: O cálculo desta composição de BDI não considera a desoneração da contribuição previdenciária, conforme Lei 13.161/2015
B40: Eu, responsável técnico pelo orçamento, declaro para os devidos fins que a opção pela desoneração sobre a folha de pagamento é mais adequada para a administração pública.
F41: Declaração do Tomador dos Recursos:
F42: Declaro, conforme legislação tributária municipal, que a alíquota do ISS é de 3% e a sua base de cálculo é de 100% sobre o valor total do orçamento.
D46: Responsável Técnico pela Composição do BDI
D47: Nome: Vinicius Lumertz Mengue | F47: Responsável indicado pelo Tomador
D48: Registro: 208723-7 | F48: Nome: HELDER FRANCISCO LOCH
D49: ART: | F49: Cargo: CONTADOR
F50: CPF: 288.787.289-34

Sheet COMP. SICRO
A1: SISTEMA DE CUSTOS REFERENCIAIS DE OBRAS - SICRO | C1: Santa Catarina | H1: COMPOSIÇÃO 05
A2: Custo Unitário de Referência | C2: 44287 | E2: Produção da equipe: | F2: 1 | G2: m
A3: 2003579 | B3: Dreno longitudinal profundo para corte em solo - DPS 08 - tubo PEAD e brita comercial | H3: Valores em reais (R$)
A4: A - EQUIPAMENTOS | C4: Quantidade | D4: Utilização | F4: Custo Horário | H4: Custo Horário Total
D5: Operativa | E5: Improdutiva | F5: Produtivo | G5: Improdutivo
A6: E9556 | B6: Compactador manual de placa vibratória - 3,00 kW | C6: 0.01606 | D6: 1 | E6: 0 | F6: 6.303 | G6: 0.7222 | H6: =C6*D6*F6+E6*G6 -> 0.10122618
G7: Custo horário total de equipamentos: | H7: =SUM(H6:H6) -> 0.10122618
A8: B - MÃO DE OBRA | C8: Quantidade | D8: Unidade | E8: Custo Horário | G8: Custo Horário Total
A9: P9821 | B9: Pedreiro | C9: 0.08 | D9: h | E9: 26.4745 | G9: =C9*E9 -> 2.11796
A10: P9824 | B10: Servente | C10: 1.19245 | D10: h | E10: 21.1354 | G10: =C10*E10 -> 25.202908
F11: Custo horário total de mão de obra: | G11: =SUM(G9:H10) -> 27.320868
F12: Custo horário total de execução: | G12: =G11+H7 -> 27.422094
F13: Custo unitário de execução: | H13: =G12/F2 -> 27.422094
F14: Custo do FIC:
A15: C - MATERIAL | C15: Quantidade | D15: Unidade | E15: Preço Unitário | G15: Custo Horário Total
A16: M0191 | B16: Brita 1 | C16: 0.29607 | D16: m³ | E16: =#REF! -> #REF! | G16: =C16*E16 -> #REF!
A17: M0192 | B17: Brita 2 | C17: 0.29608 | D17: m³ | E17: =#REF! -> #REF! | G17: =C17*E17 -> #REF!
A18: M2051 | B18: Geotêxtil não-tecido agulhado em poliéster - resistência à tração longitudinal de 14 kN/m | C18: 4.1 | D18: m² | E18: =#REF! -> #REF! | G18: =C18*E18 -> #REF!
A19: M1658 | B19: Tubo PEAD corrugado perfurado para drenagem - D = 230 mm | C19: 1 | D19: m | E19: =#REF! -> #REF! | G19: =C19*E19 -> #REF!
F20: Custo unitário total de material: | G20: =SUM(G16:H19) -> #REF!
G21: Subtotal: | H21: =SUM(G20) -> #REF!
A22: D - ATIVIDADES AUXILIARES | C22: Quantidade | D22: Unidade | E22: Custo Horário | G22: Custo Horário Total
A23: 4805757 | B23: Escavação mecânica de vala em material de 1ª categoria | C23: 0.6 | D23: m³ | E23: 4.76 | H23: =C23*E23 -> 2.856
F24: Custo total de atividades auxiliares
F25: Subtotal | G25: =G24+H14+H13+H21+H23 -> #REF!
A27: E - TEMPO FIXO | C27: Código | D27: Quantidade | E27: Unidade | F27: Custo Unitário | H27: Custo Unitário
A28: M0191 | B28: Brita 1 - Caminhão basculante 10 m³ | C28: 5914647 | D28: 0.44411 | E28: t | F28: 1.1 | H28: =D28*F28 -> 0.488521
A29: M0192 | B29: Brita 2 - Caminhão basculante 10 m³ | C29: 5914647 | D29: 0.44412 | E29: t | F29: 1.1 | H29: =D29*F29 -> 0.488532
A30: M2051 | B30: Geotêxtil não-tecido agulhado em poliéster - resistência à tração longitudinal de 14 kN/m - Caminhão carroceria 15 t | C30: 5914655 | D30: 0.00103 | E30: t | F30: 26.19 | H30: =D30*F30 -> 0.0269757
A31: M1658 | B31: Tubo PEAD corrugado perfurado para drenagem - D = 230 mm - Caminhão carroceria 15 t | C31: 5914655 | D31: 0.02521 | E31: t | F31: 26.19 | H31: =D31*F31 -> 0.6602499
G32: Custo unitário total de tempo fixo: | H32: =SUM(H28:H31) -> 1.6642786
A33: F - MOMENTO DE TRANSPORTE | C33: Quantidade | D33: Unidade | E33: DMT | H33: Custo Unitário
E34: LN | F34: RP | G34: P
G36: Custo unitário total de transporte: | H36: =SUM(H35:H35) -> 0
G37: Custo unitário direto total: | H37: =H32+G25+H36 -> #REF!
A41: SISTEMA DE CUSTOS REFERENCIAIS DE OBRAS - SICRO | C41: Santa Catarina | H41: COMPOSIÇÃO 06
A42: Custo Unitário de Referência | C42: 44287 | E42: Produção da equipe: | F42: 84.62 | G42: m³
A43: 4011282 | B43: Base ou sub-base de macadame hidráulico com brita comercial | H43: Valores em reais (R$)
A44: A - EQUIPAMENTOS | C44: Quantidade | D44: Utilização | F44: Custo Horário | H44: Custo Horário Total
D45: Operativa | E45: Improdutiva | F45: Produtivo | G45: Improdutivo
...

Sheet REAJUSTE
B1: ÍNDICES DE REAJUSTAMENTO DE OBRAS RODOVIÁRIAS
B2: =PAVIM.!$G$2 -> PREFEITURA MUNICIPAL DE MARACAJÁ | C2: =PAVIM.!$I$2 -> BAIRRO: VILA BEATRIZ | E2: =PAVIM.!$K$2 -> MUNICIPIO: MARACAJÁ
B3: =PAVIM.!G3 -> RUA ELONIR DA SILVEIRA NAZÁRIO | C3: =PAVIM.!$M$2 -> ESTADO: SANTA CATARINA | E3: =PAVIM.!$M$3 -> DATA: 28/04/26
A5: CÓDIGO | B5: DESCRIÇÃO DOS ÍNDICES | C5: 45474 | D5: 45597 | E5: REAJUSTE
A6: PAV | B6: PAVIMENTAÇÃO | C6: 574.257 | D6: 581.407 | E6: =D6/C6 -> 1.0124509
A7: SV | B7: SINALIZAÇÃO VERTICAL | C7: 264.797 | D7: 267.496 | E7: =D7/C7 -> 1.0101927

Sheet MAT. BET.
B1: PREÇO MÉDIO MENSAL PONDERADO PRATICADO PELOS DISTRIBUIDORES DE PRODUTOS ASFÁLTICOS (R$/KG)
B2: =PAVIM.!$G$2 -> PREFEITURA MUNICIPAL DE MARACAJÁ | C2: =PAVIM.!$I$2 -> BAIRRO: VILA BEATRIZ | D2: =PAVIM.!$M$2 -> ESTADO: SANTA CATARINA
B3: =PAVIM.!G3 -> RUA ELONIR DA SILVEIRA NAZÁRIO | C3: =PAVIM.!$K$2 -> MUNICIPIO: MARACAJÁ | D3: =PAVIM.!$M$3 -> DATA: 28/04/26
A5: Importante: | B5: Quando não houver declaração de venda do produto selecionado, ou quando a declaração de venda do produto ocorrer por menos de 03 (três) distribuidoras, a tabela indicará campo vazio.
A6: Mês | B6: Produto | D6: Estado | E6: Preço
A7: 45597 | B7: EMULSÃO ASFÁLTICA PARA SERVIÇO DE IMPRIMAÇÃO | D7: PR | E7: 2.7766967
A8: 45597 | B8: EMULSÕES ASFÁLTICAS RR-1C | D8: PR | E8: 2.701241
A9: 45597 | B9: CIMENTOS ASFÁLTICOS CAP-50-70 | D9: PR | E9: 3.6865702
A10: Obs: Deverá ser acrescido o ICMS de 17% e BDI Diferenciado de 15% em relação ao valor do material
A11: Fonte: https://www.gov.br/anp/pt-br/assuntos/precos-e-defesa-da-concorrencia/precos/precos-de-distribuicao-de-produtos-asfalticos
