Workbook

Sheet quantitativos
A2: ITEM | B2: UN | C2: ESPECIFICAÇÃO | D2: ESPORTE | J2: QTDE TOTAL
A3: 1 | B3: jg | C3: SERVIÇOS DE ARBITRAGEM PARA CAMPEONATO MUNICIPAL DE FUTSAL - 02 árbitros e 01 apontador - Modalidade: Futsal masculino e feminino - Tempo de jogo: 02 períodos de 20 minutos | D3: 90 | J3: =SUM(D3:I3) -> 90
A4: 2 | B4: jg | C4: SERVIÇOS DE ARBITRAGEM PARA CAMPEONATO MUNICIPAL DE FUTEBOL SUÍÇO - - 02 árbitros e 01 apontador - Modalidade: Futebol Suíço masculino - Tempo de jogo: 02 períodos de 20 minutos | D4: 60 | J4: =SUM(D4:I4) -> 60
A5: 3 | B5: jg | C5: SERVIÇOS DE ARBITRAGEM PARA CAMPEONATO MUNICIPAL DE VÔLEI DE AREIA - 02 árbitros e 01 apontador Modalidade: Vôlei de areia masculino e feminino | D5: 60 | J5: =SUM(D5:I5) -> 60
A6: 4 | B6: jg | C6: SERVIÇOS DE ARBITRAGEM PARA CAMPEONATO MUNICIPAL DE VOLEIBOL DE QUADRA - 02 Árbitros e 01 apontador - Modalidade: Vôlei masculino e feminino | D6: 60 | J6: =SUM(D6:I6) -> 60
A7: 5 | B7: jg | C7: SERVIÇOS DE ARBITRAGEM PARA CAMPEONATO MUNICIPAL e REGIONAL DE FUTEVOLEI - 02 Árbitros e 01 apontador - Modalidade: Futevôlei masculino, feminino e misto - Tempo de Jogo: até 18 pontos | D7: 60 | J7: =SUM(D7:I7) -> 60
A8: 6 | B8: jg | C8: SERVIÇOS DE ARBITRAGEM PARA CAMPEONATO MUNICIPAL DE BASQUETE 3X3 - 02 Árbitros e 02 mesários - Modalidade: Basquete 3x3 masculino e feminino - Tempo de jogo: 10 min ou 21 pontos por partida. | D8: 80 | J8: =SUM(D8:I8) -> 80
A9: 7 | B9: jg | C9: SERVIÇOS DE ARBITRAGEM PARA OLIEJHO - 02 Árbitros e 01 apontador - Modalidade: Futsal masculino e feminino - Tempo de jogo: 02 períodos de 15 minutos | D9: 250 | J9: =SUM(D9:I9) -> 250
A10: 8 | B10: jg | C10: SERVIÇOS DE ARBITRAGEM PARA OLIEJHO - 02 Árbitros e 01 apontador - Modalidade: Handebol masculino e feminino - Tempo de jogo: 02 períodos de 15 minutos | D10: 100 | J10: =SUM(D10:I10) -> 100
A11: 9 | B11: jg | C11: SERVIÇOS DE ARBITRAGEM PARA JESC Municipal - 02 árbitros e 01 apontador - Modalidade: Futsal masculino e feminino - Tempo de jogo: 02 períodos de 15 minutos | D11: 150 | J11: =SUM(D11:I11) -> 150
A12: 10 | B12: jg | C12: SERVIÇOS DE ARBITRAGEM PARA JOGOS MOLEQUE BOM DE BOLA - 03 árbitros e 01 apontador - Modalidade: Futebol de Campo Tempo de jogo: (2 períodos de 30 min) | D12: 50 | J12: =SUM(D12:I12) -> 50

Sheet orçamentária
A1: PLANILHA ORÇAMENTÁRIA
A2: m | B2: un | C2: qtde total | D2: ESPECIFICAÇÃO | E2: ASSAMEC - ASSOCIAÇÃO DOS ARBITROS DO MEIO OESTE CATARINENSE - CNPJ 07.591.924/0001-59 | G2: DAIANE BUJES DA SILVA - CNPJ 58.505.948/0001-59 | I2: LIGA CENTRO OESTE DE FUTEBOL DE SALÃO - CNPJ - 07.865.344/0001-02 | K2: HOMOLOGAÇÃO PL nº 141/2025 – PE 31/2025 -INPC PERÍODO 09/2025 A 05/2026 - (3,60%) | M2: Média | N2: ARRED | O2: valor total média
A3: 1 | B3: jg | C3: =quantitativos!J3 -> 90 | D3: SERVIÇOS DE ARBITRAGEM PARA CAMPEONATO MUNICIPAL DE FUTSAL - 02 árbitros e 01 apontador - Modalidade: Futsal masculino e feminino - Tempo de jogo: 02 períodos de 20 minutos | E3: 400 | F3: =E3*C3 -> 36000 | G3: 498 | H3: =G3*C3 -> 44820 | I3: 550 | J3: =I3*C3 -> 49500 | K3: 496.14 | L3: =K3*C3 -> 44652.6 | M3: =SUM(K3+G3+I3+E3)/4 -> 486.035 | N3: =ROUND(M3,2) -> 486.04 | O3: =N3*C3 -> 43743.6
A4: 2 | B4: jg | C4: =quantitativos!J4 -> 60 | D4: SERVIÇOS DE ARBITRAGEM PARA CAMPEONATO MUNICIPAL DE FUTEBOL SUÍÇO - - 02 árbitros e 01 apontador - Modalidade: Futebol Suíço masculino - Tempo de jogo: 02 períodos de 20 minutos | E4: 400 | F4: =E4*C4 -> 24000 | G4: 510 | H4: =G4*C4 -> 30600 | I4: 550 | J4: =I4*C4 -> 33000 | K4: 511.68 | L4: =K4*C4 -> 30700.8 | M4: =SUM(K4+G4+I4+E4)/4 -> 492.92 | N4: =ROUND(M4,2) -> 492.92 | O4: =N4*C4 -> 29575.2
A5: 3 | B5: jg | C5: =quantitativos!J5 -> 60 | D5: SERVIÇOS DE ARBITRAGEM PARA CAMPEONATO MUNICIPAL DE VÔLEI DE AREIA - 02 árbitros e 01 apontador Modalidade: Vôlei de areia masculino e feminino | E5: 400 | F5: =E5*C5 -> 24000 | G5: 359 | H5: =G5*C5 -> 21540 | I5: 550 | J5: =I5*C5 -> 33000 | K5: 352.23 | L5: =K5*C5 -> 21133.8 | M5: =SUM(K5+G5+I5+E5)/4 -> 415.3075 | N5: =ROUND(M5,2) -> 415.31 | O5: =N5*C5 -> 24918.6
A6: 4 | B6: jg | C6: =quantitativos!J6 -> 60 | D6: SERVIÇOS DE ARBITRAGEM PARA CAMPEONATO MUNICIPAL DE VOLEIBOL DE QUADRA - 02 Árbitros e 01 apontador - Modalidade: Vôlei masculino e feminino | E6: 500 | F6: =E6*C6 -> 30000 | G6: 450 | H6: =G6*C6 -> 27000 | I6: 600 | J6: =I6*C6 -> 36000 | K6: 429.84 | L6: =K6*C6 -> 25790.4 | M6: =SUM(K6+G6+I6+E6)/4 -> 494.96 | N6: =ROUND(M6,2) -> 494.96 | O6: =N6*C6 -> 29697.6
A7: 5 | B7: jg | C7: =quantitativos!J7 -> 60 | D7: SERVIÇOS DE ARBITRAGEM PARA CAMPEONATO MUNICIPAL e REGIONAL DE FUTEVOLEI - 02 Árbitros e 01 apontador - Modalidade: Futevôlei masculino, feminino e misto - Tempo de Jogo: até 18 pontos | E7: 350 | F7: =E7*C7 -> 21000 | G7: 460 | H7: =G7*C7 -> 27600 | I7: 450 | J7: =I7*C7 -> 27000 | K7: 352.23 | L7: =K7*C7 -> 21133.8 | M7: =SUM(K7+G7+I7+E7)/4 -> 403.0575 | N7: =ROUND(M7,2) -> 403.06 | O7: =N7*C7 -> 24183.6
A8: 6 | B8: jg | C8: 80 | D8: SERVIÇOS DE ARBITRAGEM PARA CAMPEONATO MUNICIPAL DE BASQUETE 3X3 - 02 Árbitros e 02 mesários - Modalidade: Basquete 3x3 masculino e feminino - Tempo de jogo: 10 min ou 21 pontos por partida. | E8: 350 | F8: =E8*C8 -> 28000 | G8: 500 | H8: =G8*C8 -> 40000 | I8: 600 | J8: =I8*C8 -> 48000 | L8: =K8*C8 -> 0 | M8: =SUM(K8+G8+I8+E8)/3 -> 483.33333 | N8: =ROUND(M8,2) -> 483.33 | O8: =N8*C8 -> 38666.4
A9: 7 | B9: jg | C9: =quantitativos!J9 -> 250 | D9: SERVIÇOS DE ARBITRAGEM PARA OLIEJHO - 02 Árbitros e 01 apontador - Modalidade: Futsal masculino e feminino - Tempo de jogo: 02 períodos de 15 minutos | E9: 300 | F9: =E9*C9 -> 75000 | G9: 300 | H9: =G9*C9 -> 75000 | I9: 400 | J9: =I9*C9 -> 100000 | K9: 279.72 | L9: =K9*C9 -> 69930 | M9: =SUM(K9+G9+I9+E9)/4 -> 319.93 | N9: =ROUND(M9,2) -> 319.93 | O9: =N9*C9 -> 79982.5
A10: 8 | B10: jg | C10: =quantitativos!J10 -> 100 | D10: SERVIÇOS DE ARBITRAGEM PARA OLIEJHO - 02 Árbitros e 01 apontador - Modalidade: Handebol masculino e feminino - Tempo de jogo: 02 períodos de 15 minutos | E10: 300 | F10: =E10*C10 -> 30000 | G10: 340 | H10: =G10*C10 -> 34000 | I10: 400 | J10: =I10*C10 -> 40000 | K10: 279.72 | L10: =K10*C10 -> 27972 | M10: =SUM(K10+G10+I10+E10)/4 -> 329.93 | N10: =ROUND(M10,2) -> 329.93 | O10: =N10*C10 -> 32993
A11: 9 | B11: jg | C11: =quantitativos!J11 -> 150 | D11: SERVIÇOS DE ARBITRAGEM PARA JESC Municipal - 02 árbitros e 01 apontador - Modalidade: Futsal masculino e feminino - Tempo de jogo: 02 períodos de 15 minutos | E11: 300 | F11: =E11*C11 -> 45000 | G11: 300 | H11: =G11*C11 -> 45000 | I11: 500 | J11: =I11*C11 -> 75000 | L11: =K11*C11 -> 0 | M11: =SUM(K11+G11+I11+E11)/3 -> 366.66667 | N11: =ROUND(M11,2) -> 366.67 | O11: =N11*C11 -> 55000.5
A12: 10 | B12: jg | C12: =quantitativos!J12 -> 50 | D12: SERVIÇOS DE ARBITRAGEM PARA JOGOS MOLEQUE BOM DE BOLA - 03 árbitros e 01 apontador - Modalidade: Futebol de Campo Tempo de jogo: (2 períodos de 30 min) | E12: 700 | F12: =E12*C12 -> 35000 | G12: 600 | H12: =G12*C12 -> 30000 | I12: 700 | J12: =I12*C12 -> 35000 | L12: =K12*C12 -> 0 | M12: =SUM(K12+G12+I12+E12)/3 -> 666.66667 | N12: =ROUND(M12,2) -> 666.67 | O12: =N12*C12 -> 33333.5
F14: =SUM(F3:F13) -> 348000 | H14: =SUM(H3:H13) -> 375560 | J14: =SUM(J3:J13) -> 476500 | L14: =SUM(L3:L13) -> 241313.4 | O14: =SUM(O3:O13) -> 392094.5
