Workbook

Sheet DADOS
A1: Prefeitura Municipal de Ibicaré - SC
A2: SEMOP - Secretaria de Transporte, Obras e Serviços Públicos
A3: Data do documento: | C3: 30/04/2026
A4: Licitação número:
A5: Lote:
A6: Dados da licitante
A7: Razão social
A8: CNPJ:
A9: Telefone:
A10: E-Mail:
A11: Nome responsável:
A12: CPF responsável:
A13: Cidade licitante:
A14: UF licitante:
A20: INSTRUÇÕES DE PREENCHIMENTO DA PLANILHA
... A24: A coluna de material deverá ser informado quanto do valor total do item corresponde ao custo do material. Caso nenhum valor seja informado, todo o custo será considerado como custo de serviço. Ao preencher o campo de material, a planilha recalculará automaticamente o valor do custo de serviço.

Sheet Orçamento
A1: Prefeitura Municipal de Ibicaré - SC
A2: Orcamento de obra - Pavimentação Estrada Linha Triângulo a Gramados Leite
A3: Data: | B3: =DADOS!C3 -> 30/04/2026
A4: Empresa: | B4: =DADOS!C7 -> 0 | G4: Telefone: | H4: =DADOS!C9
A5: CNPJ: | B5: =DADOS!C8 | D5: Cidade: | E5: =DADOS!C13 -> 0 | H5: UF: | I5: =DADOS!C14 -> 0
A7: Item | B7: Descrição dos itens | C7: U.M. | D7: Qtde. | E7: Custo base R$ | F7: %BDI/K/TRDE Base | G7: Preço base R$ | H7: Custo Un. R$ | I7: %BDI/K/TRDE | J7: Preço Un. R$ | K7: Material R$ | L7: Serviço R$ | M7: Total Material R$ | N7: Total Serviço R$ | O7: Total R$
A8: 1 | B8: SERVIÇOS INICIAIS E EVENTUAIS | M8: =SUM(M9:M13) -> 0 | N8: =SUM(N9:N13) -> 0 | O8: =SUM(O9:O13) -> 0 | P8: Etapa
A9: 1.1 | B9: FORNECIMENTO E INSTALAÇÃO DE PLACA DE OBRA COM CHAPA GALVANIZADA E ESTRUTURA DE MADEIRA. AF_03/2022_PS | C9: M2 | D9: 10.5 | E9: 502.41 | F9: 22 | G9: 612.94 | I9: =ROUND('BDI Principal'!D14,2) -> 22 | J9: =ROUND((ROUND(H9,2)*I9/100)+ROUND(H9,2),2) -> 0 | L9: =J9-K9 -> 0 | M9: =ROUND(K9*D9,2) -> 0 | N9: =O9-M9 -> 0 | O9: =ROUND(D9*J9,2) -> 0 | P9: Item
A10: 1.2 | B10: SERVIÇOS TOPOGRÁFICOS PARA PAVIMENTAÇÃO (LOCAÇÃO DO GREIDE E NIVELAMENTO), INCLUSIVE ACOMPANHAMENTO E NOTA DE SERVIÇOS | C10: M | D10: 29905.71 | E10: 0.53 | F10: 22 | G10: 0.65 | I10: =ROUND('BDI Principal'!D14,2) -> 22 | J10: =ROUND((ROUND(H10,2)*I10/100)+ROUND(H10,2),2) -> 0 | L10: =J10-K10 -> 0 | M10: =ROUND(K10*D10,2) -> 0 | N10: =O10-M10 -> 0 | O10: =ROUND(D10*J10,2) -> 0 | P10: Item
A11: 1.3 | B11: ENSAIOS DA CAMADA DE REVESTIMENTO, INCLUINDO EXTRAÇÃO DE CORPOS DE PROVA (ROTAREX) PARA ENSAIOS DE RECONSTITUIÇÃO DE TRAÇO, DENSIDADE MÁXIMA MEDIDA, EXTRAÇÃO DE BETUME, DENSIDADE APARENTE, ROMPIMENTO (ESPESSURA DE CAMADA DE REVESTIMENTO, ENQUADRAMENTO DE FAIXA, GRAU DE COMPACTAÇÃO, VOLUME DE VAZIOS, RESISTÊNCIA A TRAÇÃO DA CAMADA DE REVESTIMENTO) | C11: M | D11: 4055.52 | E11: 7.66 | F11: 22 | G11: 9.35 | I11: =ROUND('BDI Principal'!D14,2) -> 22 | J11: =ROUND((ROUND(H11,2)*I11/100)+ROUND(H11,2),2) -> 0 | L11: =J11-K11 -> 0 | M11: =ROUND(K11*D11,2) -> 0 | N11: =O11-M11 -> 0 | O11: =ROUND(D11*J11,2) -> 0 | P11: Item
A12: 1.4 | B12: AS BUILT PARA PROJETO DE PAVIMENTAÇÃO, INCLUINDO TOPOGRAFIA, MEMORIAIS DE CÁLCULO, VOLUMES E APRESENTAÇÃO - FAIXA C (ÁREA TOTAL DA OBRA = ACIMA DE 5000 M²) | C12: M2 | D12: 29905.71 | E12: 0.54 | F12: 22 | G12: 0.66 | I12: =ROUND('BDI Principal'!D14,2) -> 22 | J12: =ROUND((ROUND(H12,2)*I12/100)+ROUND(H12,2),2) -> 0 | L12: =J12-K12 -> 0 | M12: =ROUND(K12*D12,2) -> 0 | N12: =O12-M12 -> 0 | O12: =ROUND(D12*J12,2) -> 0 | P12: Item
A13: 1.5 | B13: HIDROSSEMEADURA | C13: M² | D13: 13447.13 | E13: 6.78 | F13: 22 | G13: 8.27 | I13: =ROUND('BDI Principal'!D14,2) -> 22 | J13: =ROUND((ROUND(H13,2)*I13/100)+ROUND(H13,2),2) -> 0 | L13: =J13-K13 -> 0 | M13: =ROUND(K13*D13,2) -> 0 | N13: =O13-M13 -> 0 | O13: =ROUND(D13*J13,2) -> 0 | P13: Item
A14: 2 | B14: DRENAGEM | M14: =SUM(M15:M15) -> 0 | N14: =SUM(N15:N15) -> 0 | O14: =SUM(O15:O15) -> 0 | P14: Etapa
A15: 2.1 | B15: SARJETA TRIANGULAR DE CONCRETO - STC 100-21 MOLDADA NO LOCAL COM EXTRUSORA E CONCRETO USINADO - ESCAVAÇÃO MECÂNICA - AREIA E BRITA COMERCIAIS | C15: M | D15: 6383 | E15: 71.6 | F15: 22 | G15: 87.35 | I15: =ROUND('BDI Principal'!D14,2) -> 22 | J15: =ROUND((ROUND(H15,2)*I15/100)+ROUND(H15,2),2) -> 0 | L15: =J15-K15 -> 0 | M15: =ROUND(K15*D15,2) -> 0 | N15: =O15-M15 -> 0 | O15: =ROUND(D15*J15,2) -> 0 | P15: Item
A16: 3 | B16: BASE E SUB-BASE | M16: =SUM(M17:M17) -> 0 | N16: =SUM(N17:N17) -> 0 | O16: =SUM(O17:O17) -> 0 | P16: Etapa
A17: 3.1 | B17: BRITA GRADUADA SIMPLES ENTREGUE NA OBRA. AF_09/2025 | C17: M3 | D17: 6136.65 | E17: 180.62 | F17: 22 | G17: 220.36 | I17: =ROUND('BDI Principal'!D14,2) -> 22 | J17: =ROUND((ROUND(H17,2)*I17/100)+ROUND(H17,2),2) -> 0 | L17: =J17-K17 -> 0 | M17: =ROUND(K17*D17,2) -> 0 | N17: =O17-M17 -> 0 | O17: =ROUND(D17*J17,2) -> 0 | P17: Item
A18: 4 | B18: PAVIMENTAÇÃO ASFÁLTICA | M18: =SUM(M19:M23) -> 0 | N18: =SUM(N19:N23) -> 0 | O18: =SUM(O19:O23) -> 0 | P18: Etapa
A19: 4.1 | B19: IMPRIMAÇÃO COM EMULSÃO ASFÁLTICA | C19: M² | D19: 29905.71 | E19: 0.62 | F19: 22 | G19: 0.76 | I19: =ROUND('BDI Principal'!D14,2) -> 22 | J19: =ROUND((ROUND(H19,2)*I19/100)+ROUND(H19,2),2) -> 0 | L19: =J19-K19 -> 0 | M19: =ROUND(K19*D19,2) -> 0 | N19: =O19-M19 -> 0 | O19: =ROUND(D19*J19,2) -> 0 | P19: Item
A20: 4.2 | B20: PINTURA DE LIGAÇÃO | C20: M² | D20: 29905.71 | E20: 0.43 | F20: 22 | G20: 0.52 | I20: =ROUND('BDI Principal'!D14,2) -> 22 | J20: =ROUND((ROUND(H20,2)*I20/100)+ROUND(H20,2),2) -> 0 | L20: =J20-K20 -> 0 | M20: =ROUND(K20*D20,2) -> 0 | N20: =O20-M20 -> 0 | O20: =ROUND(D20*J20,2) -> 0 | P20: Item
A21: 4.3 | B21: TRANSPORTE DE MATERIAL BETUMINOSO COM CAMINHÃO TANQUE DISTRIBUIDOR - RODOVIA PAVIMENTADA | C21: TKM | D21: 923.73 | E21: 2.24 | F21: 22 | G21: 2.73 | I21: =ROUND('BDI Principal'!D14,2) -> 22 | J21: =ROUND((ROUND(H21,2)*I21/100)+ROUND(H21,2),2) -> 0 | L21: =J21-K21 -> 0 | M21: =ROUND(K21*D21,2) -> 0 | N21: =O21-M21 -> 0 | O21: =ROUND(D21*J21,2) -> 0 | P21: Item
A22: 4.4 | B22: CONCRETO ASFÁLTICO - FAIXA C-12,5 - AREIA E BRITA COMERCIAIS | C22: T | D22: 3588.69 | E22: 191.19 | F22: 22 | G22: 233.25 | I22: =ROUND('BDI Principal'!D14,2) -> 22 | J22: =ROUND((ROUND(H22,2)*I22/100)+ROUND(H22,2),2) -> 0 | L22: =J22-K22 -> 0 | M22: =ROUND(K22*D22,2) -> 0 | N22: =O22-M22 -> 0 | O22: =ROUND(D22*J22,2) -> 0 | P22: Item
A23: 4.5 | B23: TRANSPORTE DE MISTURA BETUMINOSA A QUENTE COM CAMINHÃO COM CAÇAMBA TÉRMICA DE 6 M³ - RODOVIA PAVIMENTADA | C23: TKM | D23: 12596.3 | E23: 0.91 | F23: 22 | G23: 1.11 | I23: =ROUND('BDI Principal'!D14,2) -> 22 | J23: =ROUND((ROUND(H23,2)*I23/100)+ROUND(H23,2),2) -> 0 | L23: =J23-K23 -> 0 | M23: =ROUND(K23*D23,2) -> 0 | N23: =O23-M23 -> 0 | O23: =ROUND(D23*J23,2) -> 0 | P23: Item
A24: 5 | B24: AQUISIÇÃO DE INSUMOS ASFÁLTICOS | M24: =SUM(M25:M30) -> 0 | N24: =SUM(N25:N30) -> 0 | O24: =SUM(O25:O30) -> 0 | P24: Etapa
A25: 5.1 | B25: CIMENTOS ASFÁLTICOS (CAP-50-70) ACRESCIDO DE 17% DE ICMS | C25: T | D25: 215.32 | E25: 3769.8 | F25: 15 | G25: 4335.27 | I25: ='BDI Diferenciado'!D14 -> 15 | J25: =ROUND((ROUND(H25,2)*I25/100)+ROUND(H25,2),2) -> 0 | L25: =J25-K25 -> 0 | M25: =ROUND(K25*D25,2) -> 0 | N25: =O25-M25 -> 0 | O25: =ROUND(D25*J25,2) -> 0 | P25: Item
A26: 5.2 | B26: EMULSÃO ASFÁLTICA PARA IMPRIMAÇÃO (EAI) ACRESCIDO DE 17% DE ICMS | C26: T | D26: 47.85 | E26: 2802.46 | F26: 15 | G26: 3222.83 | I26: ='BDI Diferenciado'!D14 -> 15 | J26: =ROUND((ROUND(H26,2)*I26/100)+ROUND(H26,2),2) -> 0 | L26: =J26-K26 -> 0 | M26: =ROUND(K26*D26,2) -> 0 | N26: =O26-M26 -> 0 | O26: =ROUND(D26*J26,2) -> 0 | P26: Item
A27: 5.3 | B27: EMULSÃO ASFÁLTICA (RR-2C) ACRESCIDO DE 17% DE ICMS | C27: T | D27: 29.91 | E27: 3097.49 | F27: 15 | G27: 3562.11 | I27: ='BDI Diferenciado'!D14 -> 15 | J27: =ROUND((ROUND(H27,2)*I27/100)+ROUND(H27,2),2) -> 0 | L27: =J27-K27 -> 0 | M27: =ROUND(K27*D27,2) -> 0 | N27: =O27-M27 -> 0 | O27: =ROUND(D27*J27,2) -> 0 | P27: Item
A28: 5.4 | B28: TRANSPORTE DE MATERIAL BETUMINOSO COM CAMINHÃO TANQUE DISTRIBUIDOR - RODOVIA PAVIMENTADA - CAP-50-70 | C28: TKM | D28: 79233.45 | E28: 2.24 | F28: 15 | G28: 2.58 | I28: ='BDI Diferenciado'!D14 -> 15 | J28: =ROUND((ROUND(H28,2)*I28/100)+ROUND(H28,2),2) -> 0 | L28: =J28-K28 -> 0 | M28: =ROUND(K28*D28,2) -> 0 | N28: =O28-M28 -> 0 | O28: =ROUND(D28*J28,2) -> 0 | P28: Item
A29: 5.5 | B29: TRANSPORTE DE MATERIAL BETUMINOSO COM CAMINHÃO TANQUE DISTRIBUIDOR - RODOVIA PAVIMENTADA - EAI | C29: TKM | D29: 17607.84 | E29: 2.24 | F29: 15 | G29: 2.58 | I29: ='BDI Diferenciado'!D14 -> 15 | J29: =ROUND((ROUND(H29,2)*I29/100)+ROUND(H29,2),2) -> 0 | L29: =J29-K29 -> 0 | M29: =ROUND(K29*D29,2) -> 0 | N29: =O29-M29 -> 0 | O29: =ROUND(D29*J29,2) -> 0 | P29: Item
A30: 5.6 | B30: TRANSPORTE DE MATERIAL BETUMINOSO COM CAMINHÃO TANQUE DISTRIBUIDOR - TRASPORTE DE EMULSÃO ASFÁLTICA CATIONICA RR-2C | C30: TKM | D30: 11006.28 | E30: 2.24 | F30: 15 | G30: 2.58 | I30: ='BDI Diferenciado'!D14 -> 15 | J30: =ROUND((ROUND(H30,2)*I30/100)+ROUND(H30,2),2) -> 0 | L30: =J30-K30 -> 0 | M30: =ROUND(K30*D30,2) -> 0 | N30: =O30-M30 -> 0 | O30: =ROUND(D30*J30,2) -> 0 | P30: Item
A31: 6 | B31: SINALIZAÇÃO | M31: =SUM(M32:M39) -> 0 | N31: =SUM(N32:N39) -> 0 | O31: =SUM(O32:O39) -> 0 | P31: Etapa
A32: 6.1 | B32: PINTURA DE EIXO VIÁRIO SOBRE ASFALTO COM TINTA RETRORREFLETIVA A BASE DE RESINA ACRÍLICA COM MICROESFERAS DE VIDRO - LINHA CONTÍNUA AMARELA | C32: M | D32: 7322 | E32: 6.99 | F32: 22 | G32: 8.53 | I32: =ROUND('BDI Principal'!D14,2) -> 22 | J32: =ROUND((ROUND(H32,2)*I32/100)+ROUND(H32,2),2) -> 0 | L32: =J32-K32 -> 0 | M32: =ROUND(K32*D32,2) -> 0 | N32: =O32-M32 -> 0 | O32: =ROUND(D32*J32,2) -> 0 | P32: Item
A33: 6.2 | B33: PINTURA DE EIXO VIÁRIO SOBRE ASFALTO COM TINTA RETRORREFLETIVA A BASE DE RESINA ACRÍLICA COM MICROESFERAS DE VIDRO - LINHA CONTÍNUA BRANCA | C33: M | D33: 8168 | E33: 6.99 | F33: 22 | G33: 8.53 | I33: =ROUND('BDI Principal'!D14,2) -> 22 | J33: =ROUND((ROUND(H33,2)*I33/100)+ROUND(H33,2),2) -> 0 | L33: =J33-K33 -> 0 | M33: =ROUND(K33*D33,2) -> 0 | N33: =O33-M33 -> 0 | O33: =ROUND(D33*J33,2) -> 0 | P33: Item
A34: 6.3 | B34: PINTURA DE FAIXA DE PEDESTRE, ZEBRADA, RETENÇÃO OU INSCRIÇÕES TINTA RETRORREFLETIVA A BASE DE RESINA ACRÍLICA COM MICROESFERAS DE VIDRO, E = 30 CM, APLICAÇÃO MANUAL. AF_05/2021 | C34: M2 | D34: 13 | E34: 32.07 | F34: 22 | G34: 39.13 | I34: =ROUND('BDI Principal'!D14,2) -> 22 | J34: =ROUND((ROUND(H34,2)*I34/100)+ROUND(H34,2),2) -> 0 | L34: =J34-K34 -> 0 | M34: =ROUND(K34*D34,2) -> 0 | N34: =O34-M34 -> 0 | O34: =ROUND(D34*J34,2) -> 0 | P34: Item
A35: 6.4 | B35: PLACA DE SINALIZACAO VIARIA QUADRADA L = 50 CM, COM SUPORTE DE ACO GALVANIZADO D = 50 MM E ALTURA = 3 M, INCLUSIVE BASE DE CONCRETO MAGRO | C35: UN | D35: 72 | E35: 471.76 | F35: 22 | G35: 575.55 | I35: =ROUND('BDI Principal'!D14,2) -> 22 | J35: =ROUND((ROUND(H35,2)*I35/100)+ROUND(H35,2),2) -> 0 | L35: =J35-K35 -> 0 | M35: =ROUND(K35*D35,2) -> 0 | N35: =O35-M35 -> 0 | O35: =ROUND(D35*J35,2) -> 0 | P35: Item
A36: 6.5 | B36: PLACA DE SINALIZAÇÃO VIARIA CIRCULAR D = 50 CM, COM SUPORTE DE ACO GALVANIZADO D = 50 MM E ALTURA = 3M INCLUSIVE BASE DE CONCRETO MAGRO | C36: UN | D36: 22 | E36: 507.98 | F36: 22 | G36: 619.74 | I36: =ROUND('BDI Principal'!D14,2) -> 22 | J36: =ROUND((ROUND(H36,2)*I36/100)+ROUND(H36,2),2) -> 0 | L36: =J36-K36 -> 0 | M36: =ROUND(K36*D36,2) -> 0 | N36: =O36-M36 -> 0 | O36: =ROUND(D36*J36,2) -> 0 | P36: Item
A37: 6.6 | B37: TACHA REFLETIVA EM PLÁSTICO INJETADO - BIDIRECIONAL TIPO II - COM UM PINO - FORNECIMENTO E COLOCAÇÃO | C37: UN | D37: 3063 | E37: 40.47 | F37: 22 | G37: 49.37 | I37: =ROUND('BDI Principal'!D14,2) -> 22 | J37: =ROUND((ROUND(H37,2)*I37/100)+ROUND(H37,2),2) -> 0 | L37: =J37-K37 -> 0 | M37: =ROUND(K37*D37,2) -> 0 | N37: =O37-M37 -> 0 | O37: =ROUND(D37*J37,2) -> 0 | P37: Item
A38: 6.7 | B38: DEFENSA MALEÁVEL SIMPLES - FORNECIMENTO E IMPLANTAÇÃO | C38: M | D38: 100 | E38: 817.83 | F38: 22 | G38: 997.75 | I38: =ROUND('BDI Principal'!D14,2) -> 22 | J38: =ROUND((ROUND(H38,2)*I38/100)+ROUND(H38,2),2) -> 0 | L38: =J38-K38 -> 0 | M38: =ROUND(K38*D38,2) -> 0 | N38: =O38-M38 -> 0 | O38: =ROUND(D38*J38,2) -> 0 | P38: Item
A39: 6.8 | B39: ANCORAGEM DE DEFENSA SEMIMALEÁVEL SIMPLES - FORNECIMENTO E IMPLANTAÇÃO | C39: M | D39: 27 | E39: 386.39 | F39: 22 | G39: 471.4 | I39: =ROUND('BDI Principal'!D14,2) -> 22 | J39: =ROUND((ROUND(H39,2)*I39/100)+ROUND(H39,2),2) -> 0 | L39: =J39-K39 -> 0 | M39: =ROUND(K39*D39,2) -> 0 | N39: =O39-M39 -> 0 | O39: =ROUND(D39*J39,2) -> 0 | P39: Item
A40: Valor total R$ | M40: =M8+M14+M16+M18+M24+M31 -> 0 | N40: =N8+N14+N16+N18+N24+N31 -> 0 | O40: =O8+O14+O16+O18+O24+O31 -> 0
A42: Itens com 'Custo Un. R$' na cor azul são de contrapartida do município, por isso seu custo deve permanecer zero!
...

Sheet Cronograma
A1: Prefeitura Municipal de Ibicaré - SC
A2: Orcamento de obra - Pavimentação Estrada Linha Triângulo a Gramados Leite
A3: Data: | B3: =DADOS!C3 -> 30/04/2026
A4: Empresa: | B4: =DADOS!C7 -> 0 | G4: Telefone: | H4: =DADOS!C9
A5: CNPJ: | B5: =DADOS!C8 | D5: Cidade: | E5: =DADOS!C13 -> 0 | H5: UF: | I5: =DADOS!C14 -> 0
A7: Item | B7: Etapa | C7: Total R$ | D7: % Mês 1 | E7: R$ Mês 1 | F7: % Mês 2 | G7: R$ Mês 2 | H7: % Mês 3 | I7: R$ Mês 3 | J7: % Mês 4 | K7: R$ Mês 4 | L7: % Mês 5 | M7: R$ Mês 5 | N7: % Mês 6 | O7: R$ Mês 6 | P7: % Total | Q7: R$ Total
A8: 1 | B8: SERVIÇOS INICIAIS E EVENTUAIS | C8: =Orçamento!O8 -> 0 | D8: 50 | E8: =C8*D8/100 -> 0 | F8: 0 | G8: =C8*F8/100 -> 0 | H8: 0 | I8: =C8*H8/100 -> 0 | J8: 0 | K8: =C8*J8/100 -> 0 | L8: 0 | M8: =C8*L8/100 -> 0 | N8: 50 | O8: =C8*N8/100 -> 0 | P8: =D8+F8+H8+J8+L8+N8 -> 100 | Q8: =E8+G8+I8+K8+M8+O8 -> 0
A9: 2 | B9: DRENAGEM | C9: =Orçamento!O14 -> 0 | D9: 0 | E9: =C9*D9/100 -> 0 | F9: 0 | G9: =C9*F9/100 -> 0 | H9: 0 | I9: =C9*H9/100 -> 0 | J9: 0 | K9: =C9*J9/100 -> 0 | L9: 50 | M9: =C9*L9/100 -> 0 | N9: 50 | O9: =C9*N9/100 -> 0 | P9: =D9+F9+H9+J9+L9+N9 -> 100 | Q9: =E9+G9+I9+K9+M9+O9 -> 0
A10: 3 | B10: BASE E SUB-BASE | C10: =Orçamento!O16 -> 0 | D10: 0 | E10: =C10*D10/100 -> 0 | F10: 100 | G10: =C10*F10/100 -> 0 | H10: 0 | I10: =C10*H10/100 -> 0 | J10: 0 | K10: =C10*J10/100 -> 0 | L10: 0 | M10: =C10*L10/100 -> 0 | N10: 0 | O10: =C10*N10/100 -> 0 | P10: =D10+F10+H10+J10+L10+N10 -> 100 | Q10: =E10+G10+I10+K10+M10+O10 -> 0
A11: 4 | B11: PAVIMENTAÇÃO ASFÁLTICA | C11: =Orçamento!O18 -> 0 | D11: 0 | E11: =C11*D11/100 -> 0 | F11: 0 | G11: =C11*F11/100 -> 0 | H11: 40 | I11: =C11*H11/100 -> 0 | J11: 30 | K11: =C11*J11/100 -> 0 | L11: 30 | M11: =C11*L11/100 -> 0 | N11: 0 | O11: =C11*N11/100 -> 0 | P11: =D11+F11+H11+J11+L11+N11 -> 100 | Q11: =E11+G11+I11+K11+M11+O11 -> 0
A12: 5 | B12: AQUISIÇÃO DE INSUMOS ASFÁLTICOS | C12: =Orçamento!O24 -> 0 | D12: 0 | E12: =C12*D12/100 -> 0 | F12: 0 | G12: =C12*F12/100 -> 0 | H12: 40 | I12: =C12*H12/100 -> 0 | J12: 30 | K12: =C12*J12/100 -> 0 | L12: 30 | M12: =C12*L12/100 -> 0 | N12: 0 | O12: =C12*N12/100 -> 0 | P12: =D12+F12+H12+J12+L12+N12 -> 100 | Q12: =E12+G12+I12+K12+M12+O12 -> 0
A13: 6 | B13: SINALIZAÇÃO | C13: =Orçamento!O31 -> 0 | D13: 0 | E13: =C13*D13/100 -> 0 | F13: 0 | G13: =C13*F13/100 -> 0 | H13: 0 | I13: =C13*H13/100 -> 0 | J13: 0 | K13: =C13*J13/100 -> 0 | L13: 0 | M13: =C13*L13/100 -> 0 | N13: 100 | O13: =C13*N13/100 -> 0 | P13: =D13+F13+H13+J13+L13+N13 -> 100 | Q13: =E13+G13+I13+K13+M13+O13 -> 0
A14: Totais cronograma | C14: =SUM(C8:C13) -> 0 | D14: =SUM(E8:E13) -> 0 | F14: =SUM(G8:G13) -> 0 | H14: =SUM(I8:I13) -> 0 | J14: =SUM(K8:K13) -> 0 | L14: =SUM(M8:M13) -> 0 | N14: =SUM(O8:O13) -> 0 | P14: =(Q14/C14)*100 -> #DIV/0! | Q14: =SUM(Q8:Q13) -> 0

Sheet BDI Principal
A1: Prefeitura Municipal de Ibicaré - SC
A2: Orcamento de obra - Pavimentação Estrada Linha Triângulo a Gramados Leite
A3: Data: | B3: =DADOS!C3 -> 30/04/2026
A4: Empresa: | B4: =DADOS!C7 -> 0 | G4: Telefone: | H4: =DADOS!C9
A5: CNPJ: | B5: =DADOS!C8 | D5: Cidade: | E5: =DADOS!C13 -> 0 | H5: UF: | I5: =DADOS!C14 -> 0
A7: Item | B7: 1º quartil | C7: 3º quartil | D7: Proposto | E7: Identificação
A8: AC | B8: 3.8 | C8: 4.67 | D8: 4.01 | E8: Administração Central | J8: =D8/100 -> 0.0401
A9: S+G | B9: 0.32 | C9: 0.74 | D9: 0.4 | E9: Seguro e Garantia | J9: =D9/100 -> 0.004
A10: R | B10: 0.5 | C10: 0.97 | D10: 0.56 | E10: Risco | J10: =D10/100 -> 0.0056
A11: DF | B11: 1.02 | C11: 1.21 | D11: 1.11 | E11: Despesas Financeiras | J11: =D11/100 -> 0.0111
A12: L | B12: 6.64 | C12: 8.69 | D12: 7.3 | E12: Lucro | J12: =D12/100 -> 0.073
A13: I* | B13: 5.65 | C13: 10.65 | D13: =I15+I18+I19 -> 6.65 | E13: Tributos * | J13: =D13/100 -> 0.0665
C14: Total | D14: =ROUND(((((1+J8+J9+J10)*(1+J11)*(1+J12)/(1-J15-J18))-1)*100),2) -> 22
F15: PIS e COFINS | I15: 3.65 | J15: =I15/100 -> 0.0365
F16: Alíquota ISS | I16: 3 | J16: =I16/100 -> 0.03
F17: Base de cálculo | I17: 100
F18: ISS Aplicável | I18: =((I17*I16)/100) -> 3 | J18: =I18/100 -> 0.03
F19: Cont. Prev. s/Rec.Bruta | I19: 0
E29: =DADOS!C11 -> 0
E30: =DADOS!C12 -> 0

Sheet BDI Diferenciado
A1: Prefeitura Municipal de Ibicaré - SC
A2: Orcamento de obra - Pavimentação Estrada Linha Triângulo a Gramados Leite
A3: Data: | B3: =DADOS!C3 -> 30/04/2026
A4: Empresa: | B4: =DADOS!C7 -> 0 | G4: Telefone: | H4: =DADOS!C9
A5: CNPJ: | B5: =DADOS!C8 | D5: Cidade: | E5: =DADOS!C13 -> 0 | H5: UF: | I5: =DADOS!C14 -> 0
A7: Item | B7: 1º quartil | C7: 3º quartil | D7: Proposto | E7: Identificação
A8: AC | B8: 1.5 | C8: 4.49 | D8: 3.1 | E8: Administração Central | J8: =D8/100 -> 0.031
A9: S+G | B9: 0.3 | C9: 0.82 | D9: 0.82 | E9: Seguro e Garantia | J9: =D9/100 -> 0.0082
A10: R | B10: 0.56 | C10: 0.89 | D10: 0.56 | E10: Risco | J10: =D10/100 -> 0.0056
A11: DF | B11: 0.85 | C11: 1.11 | D11: 1 | E11: Despesas Financeiras | J11: =D11/100 -> 0.01
A12: L | B12: 3.5 | C12: 6.22 | D12: 5 | E12: Lucro | J12: =D12/100 -> 0.05
A13: I* | B13: 5.65 | C13: 10.65 | D13: =I15+I16 -> 3.65 | E13: Tributos * | J13: =D13/100 -> 0.0365
C14: Total | D14: =ROUND(((((1+J8+J9+J10)*(1+J11)*(1+J12)/(1-J13))-1)*100),2) -> 15
F15: PIS e COFINS | I15: 3.65 | J15: =I15/100 -> 0.0365
F16: Cont. Prev. s/Rec.Bruta | I16: 0
E26: =DADOS!C11 -> 0
E27: =DADOS!C12 -> 0

Sheet BDI (Fator K e TRDE)
A1: Prefeitura Municipal de Ibicaré - SC
A2: Orcamento de obra - Pavimentação Estrada Linha Triângulo a Gramados Leite
A3: Data: | B3: =DADOS!C3 -> 30/04/2026
A4: Empresa: | B4: =DADOS!C7 -> 0 | G4: Telefone: | H4: =DADOS!C9
A5: CNPJ: | B5: =DADOS!C8 | D5: Cidade: | E5: =DADOS!C13 -> 0 | H5: UF: | I5: =DADOS!C14 -> 0
A8: K1= | B8: 1.1428 | C8: Encargos sociais incidentes sobre a mão de obra
A9: k2= | B9: 0.2 | C9: Administração central (overhead)
A10: k3= | B10: 0.12 | C10: Margem bruta
A11: k4= | B11: 0 | C11: Impostos (PIS + COFINS + ISS)
A12: K | B12: =(((1+B8+B9)*(1+B10))/(1-B11)) -> 2.623936 | C12: {[(1+k1+k2)(1+k3)]/(1-k4)}
A13: TRDE | B13: =((1+B10)/(1-B11)) -> 1.12 | C13: [(1+k3)/(1-k4)]
E23: =DADOS!C11 -> 0
E24: =DADOS!C12 -> 0

Sheet Repositório
A1: ='BDI Principal'!D14 -> 22
A2: ='BDI Diferenciado'!D14 -> 15
A3: ='BDI (Fator K e TRDE)'!B12 -> 2.623936
A4: ='BDI (Fator K e TRDE)'!B13 -> 1.12
