Workbook

Sheet Proposta
A2: Relatório Proposta dos Proponentes
A3: Obra: | P3: Edital:
A5: Razão Social: | P5: Data Base:
A7: CNPJ:
A9: BDI: | B9: 0.2123 | E9: %
A10: BDI Diferenciado | C10: 0.172
A12: 01 - Serviços Técnicos
A13: 01.01 - Administração local de obra
A14: Tabela de Origem | D14: Cód. Auxiliar | F14: Descrição do Serviço | Q14: Unid. | T14: Quantidade | U14: Custo MO | W14: Custo Material | X14: Sub.Serviço | AB14: Transporte | AC14: Custo Unit. | AG14: BDI(%) | AI14: Preço MO | AK14: Preço Material | AL14: Preço Unitário(R$) | AP14: Preço total | AR14: Verificação $+5%
A15: PRÓPRIA 04/24 | D15: CPU69747 | F15: Administração local, conforme IN 003/2021 SIE, Art. 8º, III, 6,23% do custo direto.Medição conforme percentual financeiro de medição | Q15: UN | T15: 1 | X15: 0 | AB15: 0 | AC15: =TRUNC(U15+W15,2) -> 0 | AG15: 0 | AI15: =U15+(AG15*U15) -> 0 | AK15: =W15+(W15*AG15) -> 0 | AM15: =TRUNC((AI15+AK15),2) -> 0 | AP15: =TRUNC(AM15*T15,2) -> 0 | AR15: =IF(AP15<=(Referencial!AP14*1.05),"Preço Válido","Preço Inválido") -> Preço Válido
A17: Total do Grupo**: | AL17: =TRUNC(SUM(AP15),2) -> 0 | AR17: =IF(AL17<=(Referencial!AL16*1.05),"Preço Válido","Preço Inválido") -> Preço Válido
A19: 02 - Serviços Iniciais
A20: 02.01 - Demolições
A21: Tabela de Origem | D21: Cód. Auxiliar | F21: Descrição do Serviço | Q21: Unid. | T21: Quantidade | U21: Custo MO | W21: Custo Material | X21: Sub.Serviço | AB21: Transporte | AC21: Custo Unit. | AG21: BDI(%) | AI21: Preço MO | AK21: Preço Material | AL21: Preço Unitário(R$) | AP21: Preço total | AR21: Verificação $+5%
A22: SINAPI 04/24 | D22: 100982 | F22: CARGA, MANOBRA E DESCARGA DE ENTULHO EM CAMINHÃO BASCULANTE 10 M³ - CARGA COM ESCAVADEIRA HIDRÁULICA (CAÇAMBA DE 0,80 M³ / 111 HP) E DESCARGA LIVRE (UNIDADE: M3). AF_07/2020 | Q22: M3 | T22: 0.51 | X22: 9.05 | AB22: 0 | AC22: =TRUNC(U22+W22,2) -> 0 | AG22: =B9 -> 0.2123 | AI22: =U22+(AG22*U22) -> 0 | AK22: =W22+(W22*AG22) -> 0 | AM22: =TRUNC((AI22+AK22),2) -> 0 | AP22: =TRUNC(AM22*T22,2) -> 0 | AR22: =IF(AP22<=(Referencial!AP21*1.05),"Preço Válido","Preço Inválido") -> Preço Válido
A23: SINAPI 04/24 | D23: 97627 | F23: DEMOLIÇÃO DE PILARES E VIGAS EM CONCRETO ARMADO, DE FORMA MECANIZADA COM MARTELETE, SEM REAPROVEITAMENTO. AF_09/2023 | Q23: M3 | T23: 0.51 | X23: 185.2 | AB23: 0 | AC23: =TRUNC(U23+W23,2) -> 0 | AG23: =B9 -> 0.2123 | AI23: =U23+(AG23*U23) -> 0 | AK23: =W23+(W23*AG23) -> 0 | AM23: =TRUNC((AI23+AK23),2) -> 0 | AP23: =TRUNC(AM23*T23,2) -> 0 | AR23: =IF(AP23<=(Referencial!AP22*1.05),"Preço Válido","Preço Inválido") -> Preço Válido
A25: Total do Grupo**: | AL25: =TRUNC(SUM(AP22:AQ23),2) -> 0 | AR25: =IF(AL25<=(Referencial!AL24*1.05),"Preço Válido","Preço Inválido") -> Preço Válido
A27: 03 - Elevadores
A28: 03.01 - Substituição do elevador
A29: Tabela de Origem | D29: Cód. Auxiliar | F29: Descrição do Serviço | Q29: Unid. | T29: Quantidade | U29: Custo MO | W29: Custo Material | X29: Sub.Serviço | AB29: Transporte | AC29: Custo Unit. | AG29: BDI(%) | AI29: Preço MO | AK29: Preço Material | AL29: Preço Unitário(R$) | AP29: Preço total | AR29: Verificação $+5%
A30: PRÓPRIA 04/24 | D30: CPU69681 | F30: FORNECIMENTO E INSTALAÇÃO DE ELEVADOR PARA 5 PARADAS, INCLUSO REMOÇÃO E DESCARTE DO EQUIPAMENTO EXISTENTE. | Q30: UN | T30: 1 | X30: 0 | AB30: 0 | AC30: =TRUNC(U30+W30,2) -> 0 | AG30: =C10 -> 0.172 | AI30: =U30+(AG30*U30) -> 0 | AK30: =W30+(W30*AG30) -> 0 | AM30: =TRUNC((AI30+AK30),2) -> 0 | AP30: =TRUNC(AM30*T30,2) -> 0 | AR30: =IF(AP30<=(Referencial!AP29*1.05),"Preço Válido","Preço Inválido") -> Preço Válido
A32: Total do Grupo**: | AL32: =TRUNC(SUM(AP30),2) -> 0 | AR32: =IF(AL32<=(Referencial!AL31*1.05),"Preço Válido","Preço Inválido") -> Preço Válido
A34: 04 - Revestimentos de Parede
A35: 04.01 - Reparo com argamassa
A36: Tabela de Origem | D36: Cód. Auxiliar | F36: Descrição do Serviço | Q36: Unid. | T36: Quantidade | U36: Custo MO | W36: Custo Material | X36: Sub.Serviço | AB36: Transporte | AC36: Custo Unit. | AG36: BDI(%) | AI36: Preço MO | AK36: Preço Material | AL36: Preço Unitário(R$) | AP36: Preço total | AR36: Verificação $+5%
A37: SINAPI 04/24 | D37: 87529 | F37: MASSA ÚNICA, PARA RECEBIMENTO DE PINTURA, EM ARGAMASSA TRAÇO 1:2:8, PREPARO MECÂNICO COM BETONEIRA 400L, APLICADA MANUALMENTE EM FACES INTERNAS DE PAREDES, ESPESSURA DE 20MM, COM EXECUÇÃO DE TALISCAS. AF_06/2014 | Q37: M2 | T37: 10.85 | X37: 41.14 | AB37: 0 | AC37: =TRUNC(U37+W37,2) -> 0 | AG37: =B9 -> 0.2123 | AI37: =U37+(AG37*U37) -> 0 | AK37: =W37+(W37*AG37) -> 0 | AM37: =TRUNC((AI37+AK37),2) -> 0 | AP37: =TRUNC(AM37*T37,2) -> 0 | AR37: =IF(AP37<=(Referencial!AP36*1.05),"Preço Válido","Preço Inválido") -> Preço Válido
A39: 04.02 - Pintura
A40: Tabela de Origem | D40: Cód. Auxiliar | F40: Descrição do Serviço | Q40: Unid. | T40: Quantidade | U40: Custo MO | W40: Custo Material | X40: Sub.Serviço | AB40: Transporte | AC40: Custo Unit. | AG40: BDI(%) | AI40: Preço MO | AK40: Preço Material | AL40: Preço Unitário(R$) | AP40: Preço total | AR40: Verificação $+5%
A41: SINAPI 04/24 | D41: 88485 | F41: FUNDO SELADOR ACRÍLICO, APLICAÇÃO MANUAL EM PAREDE, UMA DEMÃO. AF_04/2023 | Q41: M2 | T41: 10.85 | X41: 2.67 | AB41: 0 | AC41: =TRUNC(U41+W41,2) -> 0 | AG41: =B9 -> 0.2123 | AI41: =U41+(AG41*U41) -> 0 | AK41: =W41+(W41*AG41) -> 0 | AM41: =TRUNC((AI41+AK41),2) -> 0 | AP41: =TRUNC(AM41*T41,2) -> 0 | AR41: =IF(AP41<=(Referencial!AP40*1.05),"Preço Válido","Preço Inválido") -> Preço Válido
A42: SINAPI 04/24 | D42: 88489 | F42: PINTURA LÁTEX ACRÍLICA PREMIUM, APLICAÇÃO MANUAL EM PAREDES, DUAS DEMÃOS. AF_04/2023 | Q42: M2 | T42: 10.85 | X42: 6.57 | AB42: 0 | AC42: =TRUNC(U42+W42,2) -> 0 | AG42: =B9 -> 0.2123 | AI42: =U42+(AG42*U42) -> 0 | AK42: =W42+(W42*AG42) -> 0 | AM42: =TRUNC((AI42+AK42),2) -> 0 | AP42: =TRUNC(AM42*T42,2) -> 0 | AR42: =IF(AP42<=(Referencial!AP41*1.05),"Preço Válido","Preço Inválido") -> Preço Válido
A44: Total do Grupo**: | AL44: =TRUNC(SUM(AP37:AQ42),2) -> 0 | AR44: =IF(AL44<=(Referencial!AL43*1.05),"Preço Válido","Preço Inválido") -> Preço Válido
A46: 05 - Revestimentos
A47: 05.01 - Revestimento com soleira nas portas
A48: Tabela de Origem | D48: Cód. Auxiliar | F48: Descrição do Serviço | Q48: Unid. | T48: Quantidade | U48: Custo MO | W48: Custo Material | X48: Sub.Serviço | AB48: Transporte | AC48: Custo Unit. | AG48: BDI(%) | AI48: Preço MO | AK48: Preço Material | AL48: Preço Unitário(R$) | AP48: Preço total | AR48: Verificação $+5%
A49: SINAPI 04/24 | D49: 98689 | F49: SOLEIRA EM GRANITO, LARGURA 15 CM, ESPESSURA 2,0 CM. AF_09/2020 | Q49: M | T49: 4.25 | X49: 19.44 | AB49: 0 | AC49: =TRUNC(U49+W49,2) -> 0 | AG49: =$B$9 -> 0.2123 | AI49: =U49+(AG49*U49) -> 0 | AK49: =W49+(W49*AG49) -> 0 | AM49: =TRUNC((AI49+AK49),2) -> 0 | AP49: =TRUNC(AM49*T49,2) -> 0 | AR49: =IF(AP49<=(Referencial!AP48*1.05),"Preço Válido","Preço Inválido") -> Preço Válido
A51: 05.02 - Revestimento do piso da cabine
A52: Tabela de Origem | D52: Cód. Auxiliar | F52: Descrição do Serviço | Q52: Unid. | T52: Quantidade | U52: Custo MO | W52: Custo Material | X52: Sub.Serviço | AB52: Transporte | AC52: Custo Unit. | AG52: BDI(%) | AI52: Preço MO | AK52: Preço Material | AL52: Preço Unitário(R$) | AP52: Preço total | AR52: Verificação $+5%
A53: SINAPI 04/24 | D53: 98671 | F53: PISO EM GRANITO APLICADO EM AMBIENTES INTERNOS. AF_09/2020 | Q53: M2 | T53: 1.54 | X53: 42.25 | AB53: 0 | AC53: =TRUNC(U53+W53,2) -> 0 | AG53: =$B$9 -> 0.2123 | AI53: =U53+(AG53*U53) -> 0 | AK53: =W53+(W53*AG53) -> 0 | AM53: =TRUNC((AI53+AK53),2) -> 0 | AP53: =TRUNC(AM53*T53,2) -> 0 | AR53: =IF(AP53<=(Referencial!AP52*1.05),"Preço Válido","Preço Inválido") -> Preço Válido
A55: Total do Grupo**: | AL55: =TRUNC(SUM(AP49:AQ53),2) -> 0 | AR55: =IF(AL55<=(Referencial!AL54*1.05),"Preço Válido","Preço Inválido") -> Preço Válido
A57: Total Geral do Orçamento: | AL57: =TRUNC(SUM(AL17,AL25,AL32,AL44,AL55),2) -> 0 | AR57: =IF(AL57<=(Referencial!AL56*1),"Preço Válido","Preço Inválido") -> Preço Válido

Sheet Referencial
A2: Relatório Proposta dos Proponentes
A3: Obra: | P3: Edital:
A5: Razão Social: | P5: Data Base:
A7: CNPJ:
A9: BDI: | B9: 0.2132 | E9: %
A11: 01 - Serviços Técnicos
A12: 01.01 - Administração local de obra
A13: Tabela de Origem | D13: Cód. Auxiliar | F13: Descrição do Serviço | Q13: Unid. | T13: Quantidade | U13: Custo MO | W13: Custo Material | X13: Sub.Serviço | AB13: Transporte | AC13: Custo Unit. | AG13: BDI(%) | AI13: Preço MO | AK13: Preço Material | AL13: Preço Unitário(R$) | AP13: Preço total | AR13: Verificação $+5%
A14: PRÓPRIA 04/24 | D14: CPU69747 | F14: Administração local, conforme IN 003/2021 SIE, Art. 8º, III, 6,23% do custo direto.Medição conforme percentual financeiro de medição | Q14: UN | T14: 1 | U14: 16699.3 | W14: =Relatório!W14 -> 0 | X14: 0 | AB14: 0 | AC14: =TRUNC(U14+W14,2) -> 16699.3 | AG14: 0 | AI14: =U14+(AG14*U14) -> 16699.3 | AK14: =W14+(W14*AG14) -> 0 | AM14: =TRUNC((AI14+AK14),2) -> 16699.3 | AP14: =TRUNC(AM14*T14,2) -> 16699.3 | AR14: =IF(AQ14<=(Relatório!AL14*1.05),"Preço Válido","Preço Inválido") -> Preço Válido
A16: Total do Grupo**: | AL16: =TRUNC(SUM(AP14),2) -> 16699.3 | AR16: =IF(AQ16<=(Relatório!AL16*1.05),"Preço Válido","Preço Inválido") -> Preço Válido
A18: 02 - Serviços Iniciais
A19: 02.01 - Demolições
A20: Tabela de Origem | D20: Cód. Auxiliar | F20: Descrição do Serviço | Q20: Unid. | T20: Quantidade | U20: Custo MO | W20: Custo Material | X20: Sub.Serviço | AB20: Transporte | AC20: Custo Unit. | AG20: BDI(%) | AI20: Preço MO | AK20: Preço Material | AL20: Preço Unitário(R$) | AP20: Preço total | AR20: Verificação $+5%
A21: SINAPI 04/24 | D21: 100982 | F21: CARGA, MANOBRA E DESCARGA DE ENTULHO EM CAMINHÃO BASCULANTE 10 M³ - CARGA COM ESCAVADEIRA HIDRÁULICA (CAÇAMBA DE 0,80 M³ / 111 HP) E DESCARGA LIVRE (UNIDADE: M3). AF_07/2020 | Q21: M3 | T21: 0.51 | U21: 4.56 | W21: 4.57 | X21: 9.05 | AB21: 0 | AC21: =TRUNC(U21+W21,2) -> 9.13 | AG21: 0.2123 | AI21: =U21+(AG21*U21) -> 5.528088 | AK21: =W21+(W21*AG21) -> 5.540211 | AM21: =TRUNC((AI21+AK21),2) -> 11.06 | AP21: =TRUNC(AM21*T21,2) -> 5.64 | AR21: =IF(AQ21<=(Relatório!AL21*1.05),"Preço Válido","Preço Inválido") -> Preço Válido
A22: SINAPI 04/24 | D22: 97627 | F22: DEMOLIÇÃO DE PILARES E VIGAS EM CONCRETO ARMADO, DE FORMA MECANIZADA COM MARTELETE, SEM REAPROVEITAMENTO. AF_09/2023 | Q22: M3 | T22: 0.51 | U22: 92.03 | W22: 92.04 | X22: 185.2 | AB22: 0 | AC22: =TRUNC(U22+W22,2) -> 184.07 | AG22: 0.2123 | AI22: =U22+(AG22*U22) -> 111.56797 | AK22: =W22+(W22*AG22) -> 111.58009 | AM22: =TRUNC((AI22+AK22),2) -> 223.14 | AP22: =TRUNC(AM22*T22,2) -> 113.8 | AR22: =IF(AQ22<=(Relatório!AL22*1.05),"Preço Válido","Preço Inválido") -> Preço Válido
A24: Total do Grupo**: | AL24: =TRUNC(SUM(AP21:AQ22),2) -> 119.44 | AR24: =IF(AQ24<=(Relatório!AL24*1.05),"Preço Válido","Preço Inválido") -> Preço Válido
A26: 03 - Elevadores
A27: 03.01 - Substituição do elevador
A28: Tabela de Origem | D28: Cód. Auxiliar | F28: Descrição do Serviço | Q28: Unid. | T28: Quantidade | U28: Custo MO | W28: Custo Material | X28: Sub.Serviço | AB28: Transporte | AC28: Custo Unit. | AG28: BDI(%) | AI28: Preço MO | AK28: Preço Material | AL28: Preço Unitário(R$) | AP28: Preço total | AR28: Verificação $+5%
A29: PRÓPRIA 04/24 | D29: CPU69681 | F29: FORNECIMENTO E INSTALAÇÃO DE ELEVADOR PARA 5 PARADAS, INCLUSO REMOÇÃO E DESCARTE DO EQUIPAMENTO EXISTENTE. | Q29: UN | T29: 1 | U29: =Relatório!U29 -> 0 | W29: 226808 | X29: 0 | AB29: 0 | AC29: =TRUNC(U29+W29,2) -> 226808 | AG29: 0.172 | AI29: =U29+(AG29*U29) -> 0 | AK29: =W29+(W29*AG29) -> 265818.98 | AM29: =TRUNC((AI29+AK29),2) -> 265818.97 | AP29: =TRUNC(AM29*T29,2) -> 265818.97
A31: Total do Grupo**: | AL31: =TRUNC(SUM(AP29),2) -> 265818.97 | AR31: =IF(AQ31<=(Relatório!AL31*1.05),"Preço Válido","Preço Inválido") -> Preço Válido
A33: 04 - Revestimentos de Parede
A34: 04.01 - Reparo com argamassa
A35: Tabela de Origem | D35: Cód. Auxiliar | F35: Descrição do Serviço | Q35: Unid. | T35: Quantidade | U35: Custo MO | W35: Custo Material | X35: Sub.Serviço | AB35: Transporte | AC35: Custo Unit. | AG35: BDI(%) | AI35: Preço MO | AK35: Preço Material | AL35: Preço Unitário(R$) | AP35: Preço total | AR35: Verificação $+5%
A36: SINAPI 04/24 | D36: 87529 | F36: MASSA ÚNICA, PARA RECEBIMENTO DE PINTURA, EM ARGAMASSA TRAÇO 1:2:8, PREPARO MECÂNICO COM BETONEIRA 400L, APLICADA MANUALMENTE EM FACES INTERNAS DE PAREDES, ESPESSURA DE 20MM, COM EXECUÇÃO DE TALISCAS. AF_06/2014 | Q36: M2 | T36: 10.85 | U36: 19.74 | W36: 19.73 | X36: 41.14 | AB36: 0 | AC36: =TRUNC(U36+W36,2) -> 39.47 | AG36: 0.2123 | AI36: =U36+(AG36*U36) -> 23.930802 | AK36: =W36+(W36*AG36) -> 23.918679 | AM36: =TRUNC((AI36+AK36),2) -> 47.84 | AP36: =TRUNC(AM36*T36,2) -> 519.06
A38: 04.02 - Pintura
A39: Tabela de Origem | D39: Cód. Auxiliar | F39: Descrição do Serviço | Q39: Unid. | T39: Quantidade | U39: Custo MO | W39: Custo Material | X39: Sub.Serviço | AB39: Transporte | AC39: Custo Unit. | AG39: BDI(%) | AI39: Preço MO | AK39: Preço Material | AL39: Preço Unitário(R$) | AP39: Preço total | AR39: Verificação $+5%
A40: SINAPI 04/24 | D40: 88485 | F40: FUNDO SELADOR ACRÍLICO, APLICAÇÃO MANUAL EM PAREDE, UMA DEMÃO. AF_04/2023 | Q40: M2 | T40: 10.85 | U40: 1.91 | W40: 1.91 | X40: 2.67 | AB40: 0 | AC40: =TRUNC(U40+W40,2) -> 3.82 | AG40: 0.2123 | AI40: =U40+(AG40*U40) -> 2.315493 | AK40: =W40+(W40*AG40) -> 2.315493 | AM40: =TRUNC((AI40+AK40),2) -> 4.63 | AP40: =TRUNC(AM40*T40,2) -> 50.23
A41: SINAPI 04/24 | D41: 88489 | F41: PINTURA LÁTEX ACRÍLICA PREMIUM, APLICAÇÃO MANUAL EM PAREDES, DUAS DEMÃOS. AF_04/2023 | Q41: M2 | T41: 10.85 | U41: 6.34 | W41: 6.34 | X41: 6.57 | AB41: 0 | AC41: =TRUNC(U41+W41,2) -> 12.68 | AG41: 0.2123 | AI41: =U41+(AG41*U41) -> 7.685982 | AK41: =W41+(W41*AG41) -> 7.685982 | AM41: =TRUNC((AI41+AK41),2) -> 15.37 | AP41: =TRUNC(AM41*T41,2) -> 166.76
A43: Total do Grupo**: | AL43: =TRUNC(SUM(AP36:AQ41),2) -> 736.05 | AR43: =IF(AQ43<=(Relatório!AL43*1.05),"Preço Válido","Preço Inválido") -> Preço Válido
A45: 05 - Revestimentos
A46: 05.01 - Revestimento com soleira nas portas
A47: Tabela de Origem | D47: Cód. Auxiliar | F47: Descrição do Serviço | Q47: Unid. | T47: Quantidade | U47: Custo MO | W47: Custo Material | X47: Sub.Serviço | AB47: Transporte | AC47: Custo Unit. | AG47: BDI(%) | AI47: Preço MO | AK47: Preço Material | AL47: Preço Unitário(R$) | AP47: Preço total | AR47: Verificação $+5%
A48: SINAPI 04/24 | D48: 98689 | F48: SOLEIRA EM GRANITO, LARGURA 15 CM, ESPESSURA 2,0 CM. AF_09/2020 | Q48: M | T48: 4.25 | U48: 19.19 | W48: 91.57 | X48: 19.44 | AB48: 0 | AC48: =TRUNC(U48+W48,2) -> 110.76 | AG48: 0.2123 | AI48: =U48+(AG48*U48) -> 23.264037 | AK48: =W48+(W48*AG48) -> 111.01031 | AM48: =TRUNC((AI48+AK48),2) -> 134.27 | AP48: =TRUNC(AM48*T48,2) -> 570.64
A50: 05.02 - Revestimento do piso da cabine
A51: Tabela de Origem | D51: Cód. Auxiliar | F51: Descrição do Serviço | Q51: Unid. | T51: Quantidade | U51: Custo MO | W51: Custo Material | X51: Sub.Serviço | AB51: Transporte | AC51: Custo Unit. | AG51: BDI(%) | AI51: Preço MO | AK51: Preço Material | AL51: Preço Unitário(R$) | AP51: Preço total | AR51: Verificação $+5%
A52: SINAPI 04/24 | D52: 98671 | F52: PISO EM GRANITO APLICADO EM AMBIENTES INTERNOS. AF_09/2020 | Q52: M2 | T52: 1.54 | U52: 41.72 | W52: 387.55 | X52: 42.25 | AB52: 0 | AC52: =TRUNC(U52+W52,2) -> 429.27 | AG52: 0.2123 | AI52: =U52+(AG52*U52) -> 50.577156 | AK52: =W52+(W52*AG52) -> 469.82686 | AM52: =TRUNC((AI52+AK52),2) -> 520.4 | AP52: =TRUNC(AM52*T52,2) -> 801.41
A54: Total do Grupo**: | AL54: =TRUNC(SUM(AP48:AQ52),2) -> 1372.05 | AR54: =IF(AQ54<=(Relatório!AL54*1.05),"Preço Válido","Preço Inválido") -> Preço Válido
A56: Total Geral do Orçamento: | AL56: =TRUNC(SUM(AL16,AL24,AL31,AL43,AL54),2) -> 284745.81 | AR56: =IF(AQ56<=(Relatório!AL56),"Preço Válido","Preço Inválido") -> Preço Válido

Sheet Relatório
A2: Relatório Proposta dos Proponentes
A3: Obra: | P3: Edital:
A5: Razão Social: | P5: Data Base:
A7: CNPJ:
A9: BDI: | B9: 0.2132 | E9: %
A11: 01 - Serviços Técnicos
A12: 01.01 - Administração local de obra
A13: Tabela de Origem | D13: Cód. Auxiliar | F13: Descrição do Serviço | Q13: Unid. | T13: Quantidade | U13: Mão de Obra c/ Enc. | W13: Material | X13: Sub.Serviço | AB13: Transporte | AC13: Custo Unit. | AG13: BDI(%) | AI13: Preço Unitário(R$) | AK13: Preço Unit. c/ BDI | AL13: Preço total
A14: PRÓPRIA 09/23 | D14: CPU69747 | F14: Administração local, conforme IN 003/2021 SIE, Art. 8º, III, 6,23% do custo direto.Medição conforme percentual financeiro de medição | Q14: UN | T14: 1 | U14: =AC14 -> 11512.07 | W14: 0 | X14: 0 | AB14: 0 | AC14: 11512.07 | AG14: 0 | AI14: 11512.07 | AK14: 11512.07 | AL14: 11512.07
A16: Total do Grupo**:
A18: 02 - Serviços Iniciais
A19: 02.01 - Demolições
A20: Tabela de Origem | D20: Cód. Auxiliar | F20: Descrição do Serviço | Q20: Unid. | T20: Quantidade | U20: Mão de Obra c/ Enc. | W20: Material | X20: Sub.Serviço | AB20: Transporte | AC20: Custo Unit. | AG20: BDI(%) | AI20: Preço Unitário(R$) | AK20: Preço Unit. c/ BDI | AL20: Preço total
A21: SINAPI 09/23 | D21: 100982 | F21: CARGA, MANOBRA E DESCARGA DE ENTULHO EM CAMINHÃO BASCULANTE 10 M³ - CARGA COM ESCAVADEIRA HIDRÁULICA (CAÇAMBA DE 0,80 M³ / 111 HP) E DESCARGA LIVRE (UNIDADE: M3). AF_07/2020 | Q21: M3 | T21: 0.51 | U21: =AC21/2 -> 4.525 | W21: =AC21-U21 -> 4.525 | X21: 9.05 | AB21: 0 | AC21: 9.05 | AG21: 21.32 | AI21: 10.97 | AK21: 10.97 | AL21: 5.59
A22: SINAPI 09/23 | D22: 97627 | F22: DEMOLIÇÃO DE PILARES E VIGAS EM CONCRETO ARMADO, DE FORMA MECANIZADA COM MARTELETE, SEM REAPROVEITAMENTO. AF_09/2023 | Q22: M3 | T22: 0.51 | U22: =AC22/2 -> 92.6 | W22: =AC22-U22 -> 92.6 | X22: 185.2 | AB22: 0 | AC22: 185.2 | AG22: 21.32 | AI22: 224.68 | AK22: 224.68 | AL22: 114.58
A24: Total do Grupo**:
A26: 03 - Elevadores
A27: 03.01 - Substituição do elevador
A28: Tabela de Origem | D28: Cód. Auxiliar | F28: Descrição do Serviço | Q28: Unid. | T28: Quantidade | U28: Mão de Obra c/ Enc. | W28: Material | X28: Sub.Serviço | AB28: Transporte | AC28: Custo Unit. | AG28: BDI(%) | AI28: Preço Unitário(R$) | AK28: Preço Unit. c/ BDI | AL28: Preço total
A29: PRÓPRIA 03/23 | D29: CPU69681 | F29: FORNECIMENTO E INSTALAÇÃO DE ELEVADOR PARA 5 PARADAS, INCLUSO REMOÇÃO E DESCARTE DO EQUIPAMENTO EXISTENTE. | Q29: UN | T29: 1 | U29: 0 | W29: 171024.67 | X29: 0 | AB29: 0 | AC29: 171024.67 | AG29: 0 | AI29: 171024.67 | AK29: 171024.67 | AL29: 171024.67
A31: Total do Grupo**:
A33: 04 - Revestimentos de Parede
A34: 04.01 - Reparo com argamassa
A35: Tabela de Origem | D35: Cód. Auxiliar | F35: Descrição do Serviço | Q35: Unid. | T35: Quantidade | U35: Mão de Obra c/ Enc. | W35: Material | X35: Sub.Serviço | AB35: Transporte | AC35: Custo Unit. | AG35: BDI(%) | AI35: Preço Unitário(R$) | AK35: Preço Unit. c/ BDI | AL35: Preço total
A36: SINAPI 09/23 | D36: 87529 | F36: MASSA ÚNICA, PARA RECEBIMENTO DE PINTURA, EM ARGAMASSA TRAÇO 1:2:8, PREPARO MECÂNICO COM BETONEIRA 400L, APLICADA MANUALMENTE EM FACES INTERNAS DE PAREDES, ESPESSURA DE 20MM, COM EXECUÇÃO DE TALISCAS. AF_06/2014 | Q36: M2 | T36: 10.85 | U36: =AC36/2 -> 20.57 | W36: =AC36-U36 -> 20.57 | X36: 41.14 | AB36: 0 | AC36: 41.14 | AG36: 21.32 | AI36: 49.91 | AK36: 49.91 | AL36: 541.52
A38: 04.02 - Pintura
A39: Tabela de Origem | D39: Cód. Auxiliar | F39: Descrição do Serviço | Q39: Unid. | T39: Quantidade | U39: Mão de Obra c/ Enc. | W39: Material | X39: Sub.Serviço | AB39: Transporte | AC39: Custo Unit. | AG39: BDI(%) | AI39: Preço Unitário(R$) | AK39: Preço Unit. c/ BDI | AL39: Preço total
A40: SINAPI 09/23 | D40: 88485 | F40: FUNDO SELADOR ACRÍLICO, APLICAÇÃO MANUAL EM PAREDE, UMA DEMÃO. AF_04/2023 | Q40: M2 | T40: 10.85 | U40: =AC40/2 -> 1.965 | W40: =AC40-U40 -> 1.965 | X40: 2.67 | AB40: 0 | AC40: 3.93 | AG40: 21.32 | AI40: 4.76 | AK40: 4.76 | AL40: 51.64
A41: SINAPI 09/23 | D41: 88489 | F41: PINTURA LÁTEX ACRÍLICA PREMIUM, APLICAÇÃO MANUAL EM PAREDES, DUAS DEMÃOS. AF_04/2023 | Q41: M2 | T41: 10.85 | U41: =AC41/2 -> 6.33 | W41: =AC41-U41 -> 6.33 | X41: 6.57 | AB41: 0 | AC41: 12.66 | AG41: 21.32 | AI41: 15.35 | AK41: 15.35 | AL41: 166.54
A43: Total do Grupo**:
A45: 05 - Revestimentos
A46: 05.01 - Revestimento com soleira nas portas
A47: Tabela de Origem | D47: Cód. Auxiliar | F47: Descrição do Serviço | Q47: Unid. | T47: Quantidade | U47: Mão de Obra c/ Enc. | W47: Material | X47: Sub.Serviço | AB47: Transporte | AC47: Custo Unit. | AG47: BDI(%) | AI47: Preço Unitário(R$) | AK47: Preço Unit. c/ BDI | AL47: Preço total
A48: SINAPI 09/23 | D48: 98689 | F48: SOLEIRA EM GRANITO, LARGURA 15 CM, ESPESSURA 2,0 CM. AF_09/2020 | Q48: M | T48: 4.25 | U48: =X48 -> 19.44 | W48: 90.86 | X48: 19.44 | AB48: 0 | AC48: 110.3 | AG48: 21.32 | AI48: 133.81 | AK48: 133.81 | AL48: 568.69
A50: 05.02 - Revestimento do piso da cabine
A51: Tabela de Origem | D51: Cód. Auxiliar | F51: Descrição do Serviço | Q51: Unid. | T51: Quantidade | U51: Mão de Obra c/ Enc. | W51: Material | X51: Sub.Serviço | AB51: Transporte | AC51: Custo Unit. | AG51: BDI(%) | AI51: Preço Unitário(R$) | AK51: Preço Unit. c/ BDI | AL51: Preço total
A52: SINAPI 09/23 | D52: 98671 | F52: PISO EM GRANITO APLICADO EM AMBIENTES INTERNOS. AF_09/2020 | Q52: M2 | T52: 1.54 | U52: =X52 -> 42.25 | W52: 384.04 | X52: 42.25 | AB52: 0 | AC52: 426.29 | AG52: 21.32 | AI52: 517.17 | AK52: 517.17 | AL52: 796.44
A54: Total do Grupo**:
A56: Total Geral do Orçamento:
A57: ** O Total do Grupo apresenta apenas os insumos que não são composições
A64: ____________________________________________ | V64: ____________________________________________
A65: Triplan Projetos LTDA | V65: BRUNO VINICIUS CASARIM
A66: Empresa | V66: Engenheiro Mecânico
A69: Descrição do grupo | R69: Total do Grupo | AE69: Preço/UN
A70: Serviços Técnicos | R70: 11512.07 | AE70: 11512.07
A71: Serviços Iniciais | R71: 120.17 | AE71: 120.17
A72: Elevadores | R72: 171024.67 | AE72: 171024.67
A73: Revestimentos de Parede | R73: 759.7 | AE73: 759.7
A74: Revestimentos | R74: 1365.13 | AE74: 1365.13
A75: Total geral | R75: 184781.74 | AE75: 184781.74
