Workbook

Sheet Orç_analítico
B1: SECRETARIA DE ESTADO DA INFRAESTRUTURA E MOBILIDADE
B2: DIRETORIA DE FISCALIZAÇÃO DE OBRAS DE INFRAESTRUTURA - DFIS
B3: COMPOSIÇÃO DO ORÇAMENTO REFERENCIAL
B5: OBJETO: CONTRATAÇÃO DE EMPRESA PARA A EXECUÇÃO DOS SERVIÇOS DE “COORDENAÇÃO, SUPERVISÃO, CONTROLE E DE SUBSÍDIOS À FISCALIZAÇÃO DE OBRAS RODOVIÁRIAS NA EXECUÇÃO DOS TRABALHOS RODOVIÁRIOS DE IMPLANTAÇÃO E PAVIMENTAÇÃO DA RODOVIA SC-435, TRECHO: SÃO BONIFÁCIO –SÃO MARTINHO, SEGMENTO KM 64+500 AO KM 77+100 = PF, COM EXTENSÃO TOTAL DE 12,6 KM”.
B6: EMPRESA:
J7: Duração | K7: 18
B8: Referencial - Consolidação dos custos de mão de obra da engenharia consultiva (DNIT) - mês de referência: abril/2024
B9: Data Base do Orçamento: abril 2024
B10: OBJETO 1 - DESCRIÇÃO | E10: CÓDIGO | F10: UNID | G10: QUANTIDADE | J10: Custo Unitário (C.U) | K10: =BDI_supervisão!E13 -> 0 | L10: PREÇO UNITÁRIO (R$) | M10: PREÇO TOTAL (R$)
G11: por mês | H11: n.º de meses | I11: Total | K11: BDI
B12: 1. Pessoal
B13: 1.1 Equipe Técnica
B14: 1.1.1 | C14: Engenheiro residente/Supervisor* | D14: Engenheiro Supervisor (SICRO) | E14: P9819 | F14: MÊS | G14: 1 | H14: 18 | I14: =G14*H14 -> 18 | K14: =$K$10 -> 0 | L14: =TRUNC(J14+J14*K14,2) -> 0 | M14: =TRUNC(I14*L14,2) -> 0
B15: 1.1.2 | C15: Engenheiro de Projetos | E15: P8066 | F15: MÊS | G15: 1 | H15: 3 | I15: =G15*H15 -> 3 | K15: =$K$10 -> 0 | L15: =TRUNC(J15+J15*K15,2) -> 0 | M15: =TRUNC(I15*L15,2) -> 0
B16: 1.1.3 | C16: Técnico em meio ambiente | D16: Engenheiro Supervisor (SICRO) | E16: P8033 | F16: MÊS | G16: 1 | H16: 18 | I16: =G16*H16 -> 18 | K16: =$K$10 -> 0 | L16: =TRUNC(J16+J16*K16,2) -> 0 | M16: =TRUNC(I16*L16,2) -> 0
B17: 1.1.4 | C17: Técnico de Obras | D17: Técnico especializado - mensalista (SICRO) | E17: P8147 | F17: MÊS | G17: 1 | H17: 18 | I17: =G17*H17 -> 18 | K17: =$K$10 -> 0 | L17: =TRUNC(J17+J17*K17,2) -> 0 | M17: =TRUNC(I17*L17,2) -> 0
B18: 1.1.5 | C18: Desenhista/cadista* | D18: Laboratorista | E18: P9848 | F18: MÊS | G18: 1 | H18: 4 | I18: =G18*H18 -> 4 | K18: =$K$10 -> 0 | L18: =TRUNC(J18+J18*K18,2) -> 0 | M18: =TRUNC(I18*L18,2) -> 0
B19: 1.2 Equipe Administrativa
B20: 1.2.1 | C20: Auxiliar Administrativo | D20: Laboratorista | E20: P8026 | F20: MÊS | G20: 1 | H20: 18 | I20: =G20*H20 -> 18 | K20: =$K$10 -> 0 | L20: =TRUNC(J20+J20*K20,2) -> 0 | M20: =TRUNC(I20*L20,2) -> 0
B21: 1.3 Equipe de controle tecnológico e topografia
B22: 1.3.1 | C22: Laboratorista | D22: Laboratorista | E22: P8098 | F22: MÊS | G22: 1 | H22: 18 | I22: =G22*H22 -> 18 | K22: =$K$10 -> 0 | L22: =TRUNC(J22+J22*K22,2) -> 0 | M22: =TRUNC(I22*L22,2) -> 0
B23: 1.3.2 | C23: Auxiliar de Laboratorista | D23: Laboratorista | E23: P8027 | F23: MÊS | G23: 1 | H23: 18 | I23: =G23*H23 -> 18 | K23: =$K$10 -> 0 | L23: =TRUNC(J23+J23*K23,2) -> 0 | M23: =TRUNC(I23*L23,2) -> 0
B24: 1.3.3 | C24: Topógrafo | D24: Auxiliar de laboratório | E24: P8163 | F24: MÊS | G24: 1 | H24: 18 | I24: =G24*H24 -> 18 | K24: =$K$10 -> 0 | L24: =TRUNC(J24+J24*K24,2) -> 0 | M24: =TRUNC(I24*L24,2) -> 0
B25: 1.3.4 | C25: Auxiliar de Topografia | D25: Auxiliar de topografia | E25: P8028 | F25: MÊS | G25: 1 | H25: 18 | I25: =G25*H25 -> 18 | K25: =$K$10 -> 0 | L25: =TRUNC(J25+J25*K25,2) -> 0 | M25: =TRUNC(I25*L25,2) -> 0
H26: SUBTOTAL DO ITEM 1 | M26: =SUM(M14:M25) -> 0
B27: 2. Instalações físicas
B28: 2.1 | C28: Escritório | F28: MÊS | G28: 1 | H28: 18 | I28: =G28*H28 -> 18 | K28: =$K$10 -> 0 | L28: =TRUNC(J28+J28*K28,2) -> 0 | M28: =TRUNC(I28*L28,2) -> 0
B29: 2.2 | C29: Residência | F29: MÊS | G29: 1 | H29: 18 | I29: =G29*H29 -> 18 | K29: =$K$10 -> 0 | L29: =TRUNC(J29+J29*K29,2) -> 0 | M29: =TRUNC(I29*L29,2) -> 0
B30: 2.3 | C30: Laboratórios | F30: MÊS | G30: 1 | H30: 18 | I30: =G30*H30 -> 18 | K30: =$K$10 -> 0 | L30: =TRUNC(J30+J30*K30,2) -> 0 | M30: =TRUNC(I30*L30,2) -> 0
B31: 2.4 | C31: Topografia | F31: MÊS | G31: 1 | H31: 18 | I31: =G31*H31 -> 18 | K31: =$K$10 -> 0 | L31: =TRUNC(J31+J31*K31,2) -> 0 | M31: =TRUNC(I31*L31,2) -> 0
H32: SUBTOTAL DO ITEM 2 | M32: =SUM(M28:M31) -> 0
B33: 3. Mobiliários
B34: 3.1 | C34: Escritório | F34: MÊS | G34: 1 | H34: 18 | I34: =G34*H34 -> 18 | K34: =$K$10 -> 0 | L34: =TRUNC(J34+J34*K34,2) -> 0 | M34: =TRUNC(I34*L34,2) -> 0
B35: 3.2 | C35: Residência | F35: MÊS | G35: 1 | H35: 18 | I35: =G35*H35 -> 18 | K35: =$K$10 -> 0 | L35: =TRUNC(J35+J35*K35,2) -> 0 | M35: =TRUNC(I35*L35,2) -> 0
H36: SUBTOTAL DO ITEM 3 | M36: =SUM(M34:M35) -> 0
B37: 4. Cesta das Instalações - Instrumentos
B38: 4.1 | C38: Laboratório de asfalto | E38: B8955 | F38: MÊS | G38: 1 | H38: 8 | I38: =G38*H38 -> 8 | K38: =$K$10 -> 0 | L38: =TRUNC(J38+J38*K38,2) -> 0 | M38: =TRUNC(I38*L38,2) -> 0
B39: 4.2 | C39: Laboratório de concreto | E39: B8956 | F39: MÊS | G39: 1 | H39: 16 | I39: =G39*H39 -> 16 | K39: =$K$10 -> 0 | L39: =TRUNC(J39+J39*K39,2) -> 0 | M39: =TRUNC(I39*L39,2) -> 0
B40: 4.3 | C40: Laboratório de solos | E40: B8957 | F40: MÊS | G40: 1 | H40: 16 | I40: =G40*H40 -> 16 | K40: =$K$10 -> 0 | L40: =TRUNC(J40+J40*K40,2) -> 0 | M40: =TRUNC(I40*L40,2) -> 0
B41: 4.4 | C41: Topografia | E41: B8958 | F41: MÊS | G41: 1 | H41: 18 | I41: =G41*H41 -> 18 | K41: =$K$10 -> 0 | L41: =TRUNC(J41+J41*K41,2) -> 0 | M41: =TRUNC(I41*L41,2) -> 0
...

Sheet BDI_supervisão
B2: BDI - CONSULTORIA
B4: Despesas Indiretas | D4: % sobre PV | E4: % sobre CD
B5: Adm. Central | C5: Variável - f (CD)
B6: Despesas Financeiras | C6: 0,84% sobre (PV - Lucro)
B7: Seguros e Garantias Contratuais | C7: 0,10% do PV
B8: Riscos | C8: 0,5% do PV
B9: Lucro | C9: Variável - f (CD)
B10: PIS | C10: 0,65% do PV
B11: COFINS | C11: 3,00% do PV
B12: ISSQN | C12: % do PV
B13: Total - BDI (%) | D13: =ROUND(SUM(D5:D12),4) -> 0
B14: PV = Preço de Venda
B15: CD = Custo Direto
B16: Selic = 10,50% a.a.
B17: DF = [(1+SELIC)^(1/12)-1] sobre (PV - Lucro)
B18: ISS - São Martinho - Lei Complementar Nº 026/2017 (2,50%)

Sheet Cronograma
B3: SECRETARIA DE ESTADO DA INFRAESTRUTURA E MOBILIDADE | E3: SECRETARIA DE ESTADO DA INFRAESTRUTURA E MOBILIDADE | K3: SECRETARIA DE ESTADO DA INFRAESTRUTURA E MOBILIDADE | Q3: SECRETARIA DE ESTADO DA INFRAESTRUTURA E MOBILIDADE
B4: DFIS - DIRETORIA DE FISCALIZAÇÃO DE OBRAS DE INFRAESTRUTURA | E4: DFIS - DIRETORIA DE FISCALIZAÇÃO DE OBRAS DE INFRAESTRUTURA | K4: DFIS - DIRETORIA DE FISCALIZAÇÃO DE OBRAS DE INFRAESTRUTURA | Q4: DFIS - DIRETORIA DE FISCALIZAÇÃO DE OBRAS DE INFRAESTRUTURA
B5: CRONOGRAMA | E5: CRONOGRAMA | K5: CRONOGRAMA | Q5: CRONOGRAMA
E6: OBJETO: CONTRATAÇÃO DE EMPRESA PARA A EXECUÇÃO DOS SERVIÇOS DE “COORDENAÇÃO, SUPERVISÃO, CONTROLE E DE SUBSÍDIOS À FISCALIZAÇÃO DE OBRAS RODOVIÁRIAS NA EXECUÇÃO DOS TRABALHOS RODOVIÁRIOS DE IMPLANTAÇÃO E PAVIMENTAÇÃO DA RODOVIA SC-435, TRECHO: SÃO BONIFÁCIO –SÃO MARTINHO, SEGMENTO KM 64+500 AO KM 77+100 = PF, COM EXTENSÃO TOTAL DE 12,6 KM”. | K6: OBJETO: CONTRATAÇÃO DE EMPRESA PARA A EXECUÇÃO DOS SERVIÇOS DE “COORDENAÇÃO, SUPERVISÃO, CONTROLE E DE SUBSÍDIOS À FISCALIZAÇÃO DE OBRAS RODOVIÁRIAS NA EXECUÇÃO DOS TRABALHOS RODOVIÁRIOS DE IMPLANTAÇÃO E PAVIMENTAÇÃO DA RODOVIA SC-435, TRECHO: SÃO BONIFÁCIO –SÃO MARTINHO, SEGMENTO KM 64+500 AO KM 77+100 = PF, COM EXTENSÃO TOTAL DE 12,6 KM”. | Q6: OBJETO: CONTRATAÇÃO DE EMPRESA PARA A EXECUÇÃO DOS SERVIÇOS DE “COORDENAÇÃO, SUPERVISÃO, CONTROLE E DE SUBSÍDIOS À FISCALIZAÇÃO DE OBRAS RODOVIÁRIAS NA EXECUÇÃO DOS TRABALHOS RODOVIÁRIOS DE IMPLANTAÇÃO E PAVIMENTAÇÃO DA RODOVIA SC-435, TRECHO: SÃO BONIFÁCIO –SÃO MARTINHO, SEGMENTO KM 64+500 AO KM 77+100 = PF, COM EXTENSÃO TOTAL DE 12,6 KM”.
B10: ATIVIDADES | D10: PREÇO | E10: MESES | K10: MESES | Q10: MESES | W10: TOTAL
E11: 1 | F11: 2 | G11: 3 | H11: 4 | I11: 5 | J11: 6 | K11: 7 | L11: 8 | M11: 9 | N11: 10 | O11: 11 | P11: 12 | Q11: 13 | R11: 14 | S11: 15 | T11: 16 | U11: 17 | V11: 18
B12: 1. Pessoal | D12: =Orç_analítico!M26 -> 0 | E12: =1/18 -> 0.055555556 | F12: =1/18 -> 0.055555556 | G12: =1/18 -> 0.055555556 | H12: =1/18 -> 0.055555556 | I12: =1/18 -> 0.055555556 | J12: =1/18 -> 0.055555556 | K12: =1/18 -> 0.055555556 | L12: =1/18 -> 0.055555556 | ... V12: =1/18 -> 0.055555556 | W12: =SUM(E12:V12) -> 1
E13: =E12*$D$12 -> 0 | F13: =F12*$D$12 -> 0 | G13: =G12*$D$12 -> 0 | H13: =H12*$D$12 -> 0 | I13: =I12*$D$12 -> 0 | J13: =J12*$D$12 -> 0 | K13: =K12*$D$12 -> 0 | L13: =L12*$D$12 -> 0 | ... V13: =V12*$D$12 -> 0 | W13: =SUM(E13:V13) -> 0
B14: 2. Instalações Físicas | D14: =Orç_analítico!M32 -> 0 | E14: =1/18 -> 0.055555556 | F14: =1/18 -> 0.055555556 | G14: =1/18 -> 0.055555556 | H14: =1/18 -> 0.055555556 | I14: =1/18 -> 0.055555556 | J14: =1/18 -> 0.055555556 | K14: =1/18 -> 0.055555556 | L14: =1/18 -> 0.055555556 | ... V14: =1/18 -> 0.055555556 | W14: =SUM(E14:V14) -> 1
E15: =E14*$D$14 -> 0 | F15: =F14*$D$14 -> 0 | G15: =G14*$D$14 -> 0 | H15: =H14*$D$14 -> 0 | I15: =I14*$D$14 -> 0 | J15: =J14*$D$14 -> 0 | K15: =K14*$D$14 -> 0 | L15: =L14*$D$14 -> 0 | ... V15: =V14*$D$14 -> 0 | W15: =SUM(E15:V15) -> 0
B16: 3. Mobiliários | D16: =Orç_analítico!M36 -> 0 | E16: =1/18 -> 0.055555556 | F16: =1/18 -> 0.055555556 | G16: =1/18 -> 0.055555556 | H16: =1/18 -> 0.055555556 | I16: =1/18 -> 0.055555556 | J16: =1/18 -> 0.055555556 | K16: =1/18 -> 0.055555556 | L16: =1/18 -> 0.055555556 | ... V16: =1/18 -> 0.055555556 | W16: =SUM(E16:V16) -> 1
E17: =E16*$D$16 -> 0 | F17: =F16*$D$16 -> 0 | G17: =G16*$D$16 -> 0 | H17: =H16*$D$16 -> 0 | I17: =I16*$D$16 -> 0 | J17: =J16*$D$16 -> 0 | K17: =K16*$D$16 -> 0 | L17: =L16*$D$16 -> 0 | ... V17: =V16*$D$16 -> 0 | W17: =SUM(E17:V17) -> 0
B18: 4. Cesta de Instalações | D18: =Orç_analítico!M42 -> 0 | E18: 0.0136 | F18: 0.0499 | G18: 0.0499 | H18: 0.0499 | I18: 0.0499 | J18: 0.0499 | K18: 0.0499 | L18: 0.0499 | M18: 0.0499 | N18: 0.0717 | O18: 0.0717 | P18: 0.0717 | Q18: 0.0717 | R18: 0.0717 | S18: 0.0717 | T18: 0.0717 | U18: 0.0717 | V18: 0.0136 | W18: =SUM(E18:V18) -> 1
E19: =E18*$D$18 -> 0 | F19: =F18*$D$18 -> 0 | G19: =G18*$D$18 -> 0 | H19: =H18*$D$18 -> 0 | I19: =I18*$D$18 -> 0 | J19: =J18*$D$18 -> 0 | K19: =K18*$D$18 -> 0 | L19: =L18*$D$18 -> 0 | ... V19: =V18*$D$18 -> 0 | W19: =SUM(E19:V19) -> 0
B20: 5. Custos diversos | D20: =Orç_analítico!M46 -> 0 | E20: =1/18 -> 0.055555556 | F20: =1/18 -> 0.055555556 | G20: =1/18 -> 0.055555556 | H20: =1/18 -> 0.055555556 | I20: =1/18 -> 0.055555556 | J20: =1/18 -> 0.055555556 | K20: =1/18 -> 0.055555556 | L20: =1/18 -> 0.055555556 | ... V20: =1/18 -> 0.055555556 | W20: =SUM(E20:V20) -> 1
E21: =E20*$D$20 -> 0 | F21: =F20*$D$20 -> 0 | G21: =G20*$D$20 -> 0 | H21: =H20*$D$20 -> 0 | I21: =I20*$D$20 -> 0 | J21: =J20*$D$20 -> 0 | K21: =K20*$D$20 -> 0 | L21: =L20*$D$20 -> 0 | ... V21: =V20*$D$20 -> 0 | W21: =SUM(E21:V21) -> 0
B22: 6. Veículos | D22: =Orç_analítico!M51 -> 0 | E22: =1/18 -> 0.055555556 | F22: =1/18 -> 0.055555556 | G22: =1/18 -> 0.055555556 | H22: =1/18 -> 0.055555556 | I22: =1/18 -> 0.055555556 | J22: =1/18 -> 0.055555556 | K22: =1/18 -> 0.055555556 | L22: =1/18 -> 0.055555556 | ... V22: =1/18 -> 0.055555556 | W22: =SUM(E22:V22) -> 1
E23: =E22*$D$22 -> 0 | F23: =F22*$D$22 -> 0 | G23: =G22*$D$22 -> 0 | H23: =H22*$D$22 -> 0 | I23: =I22*$D$22 -> 0 | J23: =J22*$D$22 -> 0 | K23: =K22*$D$22 -> 0 | L23: =L22*$D$22 -> 0 | ... V23: =V22*$D$22 -> 0 | W23: =SUM(E23:V23) -> 0
B24: PREÇO TOTAL GLOBAL | D24: =SUM(D12:D23) -> 0
C28: % TOTAL MENSAL | E28: =E29/$D$24 -> #DIV/0! | F28: =F29/$D$24 -> #DIV/0! | G28: =G29/$D$24 -> #DIV/0! | H28: =H29/$D$24 -> #DIV/0! | I28: =I29/$D$24 -> #DIV/0! | J28: =J29/$D$24 -> #DIV/0! | K28: =K29/$D$24 -> #DIV/0! | L28: =L29/$D$24 -> #DIV/0! | ... V28: =V29/$D$24 -> #DIV/0! | W28: =SUM(E28:V28) -> #DIV/0!
C29: (R$) TOTAL MENSAL | E29: =(E13+E15+E17+E19+E21+E23) -> 0 | F29: =(F13+F15+F17+F19+F21+F23) -> 0 | G29: =(G13+G15+G17+G19+G21+G23) -> 0 | H29: =(H13+H15+H17+H19+H21+H23) -> 0 | I29: =(I13+I15+I17+I19+I21+I23) -> 0 | J29: =(J13+J15+J17+J19+J21+J23) -> 0 | K29: =(K13+K15+K17+K19+K21+K23) -> 0 | L29: =(L13+L15+L17+L19+L21+L23) -> 0 | ... V29: =(V13+V15+V17+V19+V21+V23) -> 0 | W29: =SUM(W13,W15,W17,W19,W21,W23) -> 0
C30: % TOTAL ACUMULADO | E30: =E31/$D$24 -> #DIV/0! | F30: =F31/$D$24 -> #DIV/0! | G30: =G31/$D$24 -> #DIV/0! | H30: =H31/$D$24 -> #DIV/0! | I30: =I31/$D$24 -> #DIV/0! | J30: =J31/$D$24 -> #DIV/0! | K30: =K31/$D$24 -> #DIV/0! | L30: =L31/$D$24 -> #DIV/0! | ... V30: =V31/$D$24 -> #DIV/0! | W30: =V30 -> #DIV/0!
C31: (R$) TOTAL ACUMUADO | E31: =E29 -> 0 | F31: =F29+E31 -> 0 | G31: =G29+F31 -> 0 | H31: =H29+G31 -> 0 | I31: =I29+H31 -> 0 | J31: =J29+I31 -> 0 | K31: =K29+J31 -> 0 | L31: =L29+K31 -> 0 | M31: =M29+L31 -> 0 | ... V31: =V29+U31 -> 0 | W31: =V31 -> 0
