Workbook
Name Excel_BuiltIn__FilterDatabase: Proposta!$A$13:$N$15
Name Excel_BuiltIn__FilterDatabase: Referencial!$A$13:$N$15

Sheet Proposta
B2: ESTADO DE SANTA CATARINA
H4: PROPOSTA DAS LICITANTES
A5: Obra:
A6: Edital:
A7: Razão Social: | M7: Data: __ / __ / ____
A8: CNPJ:
A9: BDI Administração Local (%): | C9: BDI Diferenciado Referencial (%) : | D9: N/A
A10: BDI Referencial (%): | C10: BDI Diferenciado Referencial – Serviços Especializados (%) : | D10: N/A | M10: Porcentagem de materiais (%) | N10: Porcentagem de mão de obra (%)
M11: =SUM(M15:M702)/$O$706 -> #DIV/0! | N11: =SUM(N15:N702)/$O$706 -> #DIV/0!
A13: 01 - Serviços Iniciais
A14: Tabela de Origem | B14: Cód. Auxiliar | C14: Descrição do Serviço | D14: Unid. | E14: Quantidade | F14: Custo Unit. Material (R$) | G14: Custo Unit. MO (R$) | H14: Custo Unit. (R$) | I14: BDI(%) | J14: Preço unit MATERIAL (R$) | K14: Preço unit MO (R$) | L14: Preço Unit. (R$) | M14: Preço MATERIAL (R$) | N14: Preço MO(R$) | O14: Preço Total (R$) | P14: Verificação $+5% | Q14: Proposta x Referência
A15: SINAPI 05/24 | B15: 98459 | C15: TAPUME COM TELHA METÁLICA. AF_03/2024 | D15: M2 | E15: 57.26 | H15: =TRUNC(F15+G15,2) -> 0 | I15: =$B$10 -> 0 | J15: =F15+(I15/100*F15) -> 0 | K15: =G15+(I15/100*G15) -> 0 | L15: =TRUNC(J15+K15,2) -> 0 | M15: =IF((J15+K15),TRUNC((J15/(J15+K15)*O15),2),0) -> 0 | N15: =IF((J15+K15),TRUNC((K15/(J15+K15)*O15),2),0) -> 0 | O15: =TRUNC(L15*E15,2) -> 0 | P15: =IF(O15<=(Relatório!O4*1.05),"PREÇO VÁLIDO","PREÇO INVÁLIDO") -> PREÇO VÁLIDO | Q15: =(O15/Relatório!O4)-1 -> -1
A16: SINAPI 05/24 | B16: 99059 | C16: LOCAÇÃO CONVENCIONAL DE OBRA, UTILIZANDO GABARITO DE TÁBUAS CORRIDAS PONTALETADAS A CADA 2,00M - 2 UTILIZAÇÕES. AF_03/2024 | D16: M | E16: 89.9 | H16: =TRUNC(F16+G16,2) -> 0 | I16: =$B$10 -> 0 | J16: =F16+(I16/100*F16) -> 0 | K16: =G16+(I16/100*G16) -> 0 | L16: =TRUNC(J16+K16,2) -> 0 | M16: =IF((J16+K16),TRUNC((J16/(J16+K16)*O16),2),0) -> 0 | N16: =IF((J16+K16),TRUNC((K16/(J16+K16)*O16),2),0) -> 0 | O16: =TRUNC(L16*E16,2) -> 0 | P16: =IF(O16<=(Relatório!O5*1.05),"PREÇO VÁLIDO","PREÇO INVÁLIDO") -> PREÇO VÁLIDO | Q16: =(O16/Relatório!O5)-1 -> -1
A18: Total do Grupo**: | O18: =SUM(O15:O16) -> 0
A20: 02 - Infraestrutura
A21: 02.01 - FUNDAÇÕES
A22: Tabela de Origem | B22: Cód. Auxiliar | C22: Descrição do Serviço | D22: Unid. | E22: Quantidade | F22: Custo Unit. Material (R$) | G22: Custo Unit. MO (R$) | H22: Custo Unit. (R$) | I22: BDI(%) | J22: Preço unit MATERIAL (R$) | K22: Preço unit MO (R$) | L22: Preço Unit. (R$) | M22: Preço MATERIAL (R$) | N22: Preço MO(R$) | O22: Preço Total (R$) | P22: Verificação $+5% | Q22: Proposta x Referência
A23: SINAPI 05/24 | B23: 104920 | C23: ARMAÇÃO DE BLOCO, SAPATA ISOLADA, VIGA BALDRAME E SAPATA CORRIDA UTILIZANDO AÇO CA-50 DE 12,5 MM - MONTAGEM. AF_01/2024 | D23: KG | E23: 269.2 | H23: =TRUNC(F23+G23,2) -> 0 | I23: =$B$10 -> 0 | J23: =F23+(I23/100*F23) -> 0 | K23: =G23+(I23/100*G23) -> 0 | L23: =TRUNC(J23+K23,2) -> 0 | M23: =IF((J23+K23),TRUNC((J23/(J23+K23)*O23),2),0) -> 0 | N23: =IF((J23+K23),TRUNC((K23/(J23+K23)*O23),2),0) -> 0 | O23: =TRUNC(L23*E23,2) -> 0 | P23: =IF(O23<=(Relatório!O12*1.05),"PREÇO VÁLIDO","PREÇO INVÁLIDO") -> PREÇO VÁLIDO | Q23: =(O23/Relatório!O12)-1 -> -1
A24: SINAPI 05/24 | B24: 104921 | C24: ARMAÇÃO DE BLOCO, SAPATA ISOLADA, VIGA BALDRAME E SAPATA CORRIDA UTILIZANDO AÇO CA-50 DE 16 MM - MONTAGEM. AF_01/2024 | D24: KG | E24: 211.9 | H24: =TRUNC(F24+G24,2) -> 0 | I24: =$B$10 -> 0 | J24: =F24+(I24/100*F24) -> 0 | K24: =G24+(I24/100*G24) -> 0 | L24: =TRUNC(J24+K24,2) -> 0 | M24: =IF((J24+K24),TRUNC((J24/(J24+K24)*O24),2),0) -> 0 | N24: =IF((J24+K24),TRUNC((K24/(J24+K24)*O24),2),0) -> 0 | O24: =TRUNC(L24*E24,2) -> 0 | P24: =IF(O24<=(Relatório!O13*1.05),"PREÇO VÁLIDO","PREÇO INVÁLIDO") -> PREÇO VÁLIDO | Q24: =(O24/Relatório!O13)-1 -> -1
A25: SINAPI 05/24 | B25: 96557 | C25: CONCRETAGEM DE BLOCO DE COROAMENTO OU VIGA BALDRAME, FCK 30 MPA, COM USO DE BOMBA - LANÇAMENTO, ADENSAMENTO E ACABAMENTO. AF_01/2024 | D25: M3 | E25: 16 | H25: =TRUNC(F25+G25,2) -> 0 | I25: =$B$10 -> 0 | J25: =F25+(I25/100*F25) -> 0 | K25: =G25+(I25/100*G25) -> 0 | L25: =TRUNC(J25+K25,2) -> 0 | M25: =IF((J25+K25),TRUNC((J25/(J25+K25)*O25),2),0) -> 0 | N25: =IF((J25+K25),TRUNC((K25/(J25+K25)*O25),2),0) -> 0 | O25: =TRUNC(L25*E25,2) -> 0 | P25: =IF(O25<=(Relatório!O14*1.05),"PREÇO VÁLIDO","PREÇO INVÁLIDO") -> PREÇO VÁLIDO | Q25: =(O25/Relatório!O14)-1 -> -1
A26: SINAPI 05/24 | B26: 96521 | C26: ESCAVAÇÃO MECANIZADA PARA BLOCO DE COROAMENTO OU SAPATA COM RETROESCAVADEIRA (INCLUINDO ESCAVAÇÃO PARA COLOCAÇÃO DE FÔRMAS). AF_01/2024 | D26: M3 | E26: 72.2 | H26: =TRUNC(F26+G26,2) -> 0 | I26: =$B$10 -> 0 | J26: =F26+(I26/100*F26) -> 0 | K26: =G26+(I26/100*G26) -> 0 | L26: =TRUNC(J26+K26,2) -> 0 | M26: =IF((J26+K26),TRUNC((J26/(J26+K26)*O26),2),0) -> 0 | N26: =IF((J26+K26),TRUNC((K26/(J26+K26)*O26),2),0) -> 0 | O26: =TRUNC(L26*E26,2) -> 0 | P26: =IF(O26<=(Relatório!O15*1.05),"PREÇO VÁLIDO","PREÇO INVÁLIDO") -> PREÇO VÁLIDO | Q26: =(O26/Relatório!O15)-1 -> -1
A27: SINAPI 05/24 | B27: 97083 | C27: COMPACTAÇÃO MECÂNICA DE SOLO PARA EXECUÇÃO DE RADIER, PISO DE CONCRETO OU LAJE SOBRE SOLO, COM COMPACTADOR DE SOLOS A PERCUSSÃO. AF_09/2021 | D27: M2 | E27: 44.1 | H27: =TRUNC(F27+G27,2) -> 0 | I27: =$B$10 -> 0 | J27: =F27+(I27/100*F27) -> 0 | K27: =G27+(I27/100*G27) -> 0 | L27: =TRUNC(J27+K27,2) -> 0 | M27: =IF((J27+K27),TRUNC((J27/(J27+K27)*O27),2),0) -> 0 | N27: =IF((J27+K27),TRUNC((K27/(J27+K27)*O27),2),0) -> 0 | O27: =TRUNC(L27*E27,2) -> 0 | P27: =IF(O27<=(Relatório!O16*1.05),"PREÇO VÁLIDO","PREÇO INVÁLIDO") -> PREÇO VÁLIDO | Q27: =(O27/Relatório!O16)-1 -> -1
A28: SINAPI 05/24 | B28: 96617 | C28: LASTRO DE CONCRETO MAGRO, APLICADO EM BLOCOS DE COROAMENTO OU SAPATAS, ESPESSURA DE 3 CM. AF_01/2024 | D28: M2 | E28: 31.07 | H28: =TRUNC(F28+G28,2) -> 0 | I28: =$B$10 -> 0 | J28: =F28+(I28/100*F28) -> 0 | K28: =G28+(I28/100*G28) -> 0 | L28: =TRUNC(J28+K28,2) -> 0 | M28: =IF((J28+K28),TRUNC((J28/(J28+K28)*O28),2),0) -> 0 | N28: =IF((J28+K28),TRUNC((K28/(J28+K28)*O28),2),0) -> 0 | O28: =TRUNC(L28*E28,2) -> 0 | P28: =IF(O28<=(Relatório!O17*1.05),"PREÇO VÁLIDO","PREÇO INVÁLIDO") -> PREÇO VÁLIDO | Q28: =(O28/Relatório!O17)-1 -> -1
A29: SINAPI 05/24 | B29: 100978 | C29: CARGA, MANOBRA E DESCARGA DE SOLOS E MATERIAIS GRANULARES EM CAMINHÃO BASCULANTE 10 M³ - CARGA COM ESCAVADEIRA HIDRÁULICA (CAÇAMBA DE 1,20 M³ / 155 HP) E DESCARGA LIVRE (UNIDADE: M3). AF_07/2020 | D29: M3 | E29: 29.4 | H29: =TRUNC(F29+G29,2) -> 0 | I29: =$B$10 -> 0 | J29: =F29+(I29/100*F29) -> 0 | K29: =G29+(I29/100*G29) -> 0 | L29: =TRUNC(J29+K29,2) -> 0 | M29: =IF((J29+K29),TRUNC((J29/(J29+K29)*O29),2),0) -> 0 | N29: =IF((J29+K29),TRUNC((K29/(J29+K29)*O29),2),0) -> 0 | O29: =TRUNC(L29*E29,2) -> 0 | P29: =IF(O29<=(Relatório!O18*1.05),"PREÇO VÁLIDO","PREÇO INVÁLIDO") -> PREÇO VÁLIDO | Q29: =(O29/Relatório!O18)-1 -> -1
A30: SINAPI 05/24 | B30: 95875 | C30: TRANSPORTE COM CAMINHÃO BASCULANTE DE 10 M³, EM VIA URBANA PAVIMENTADA, DMT ATÉ 30 KM (UNIDADE: M3XKM). AF_07/2020 | D30: M3KM | E30: 882 | H30: =TRUNC(F30+G30,2) -> 0 | I30: =$B$10 -> 0 | J30: =F30+(I30/100*F30) -> 0 | K30: =G30+(I30/100*G30) -> 0 | L30: =TRUNC(J30+K30,2) -> 0 | M30: =IF((J30+K30),TRUNC((J30/(J30+K30)*O30),2),0) -> 0 | N30: =IF((J30+K30),TRUNC((K30/(J30+K30)*O30),2),0) -> 0 | O30: =TRUNC(L30*E30,2) -> 0 | P30: =IF(O30<=(Relatório!O19*1.05),"PREÇO VÁLIDO","PREÇO INVÁLIDO") -> PREÇO VÁLIDO | Q30: =(O30/Relatório!O19)-1 -> -1
A31: SINAPI 05/24 | B31: 93382 | C31: REATERRO MANUAL DE VALAS, COM COMPACTADOR DE SOLOS DE PERCUSSÃO. AF_08/2023 | D31: M3 | E31: 59.99 | H31: =TRUNC(F31+G31,2) -> 0 | I31: =$B$10 -> 0 | J31: =F31+(I31/100*F31) -> 0 | K31: =G31+(I31/100*G31) -> 0 | L31: =TRUNC(J31+K31,2) -> 0 | M31: =IF((J31+K31),TRUNC((J31/(J31+K31)*O31),2),0) -> 0 | N31: =IF((J31+K31),TRUNC((K31/(J31+K31)*O31),2),0) -> 0 | O31: =TRUNC(L31*E31,2) -> 0 | P31: =IF(O31<=(Relatório!O20*1.05),"PREÇO VÁLIDO","PREÇO INVÁLIDO") -> PREÇO VÁLIDO | Q31: =(O31/Relatório!O20)-1 -> -1
A32: SINAPI 05/24 | B32: 95601 | C32: ARRASAMENTO MECANICO DE ESTACA DE CONCRETO ARMADO, DIAMETROS DE ATÉ 40 CM. AF_05/2021 | D32: UN | E32: 43 | H32: =TRUNC(F32+G32,2) -> 0 | I32: =$B$10 -> 0 | J32: =F32+(I32/100*F32) -> 0 | K32: =G32+(I32/100*G32) -> 0 | L32: =TRUNC(J32+K32,2) -> 0 | M32: =IF((J32+K32),TRUNC((J32/(J32+K32)*O32),2),0) -> 0 | N32: =IF((J32+K32),TRUNC((K32/(J32+K32)*O32),2),0) -> 0 | O32: =TRUNC(L32*E32,2) -> 0 | P32: =IF(O32<=(Relatório!O21*1.05),"PREÇO VÁLIDO","PREÇO INVÁLIDO") -> PREÇO VÁLIDO | Q32: =(O32/Relatório!O21)-1 -> -1
A33: SINAPI 05/24 | B33: 96543 | C33: ARMAÇÃO DE BLOCO UTILIZANDO AÇO CA-60 DE 5 MM - MONTAGEM. AF_01/2024 | D33: KG | E33: 69.8 | H33: =TRUNC(F33+G33,2) -> 0 | I33: =$B$10 -> 0 | J33: =F33+(I33/100*F33) -> 0 | K33: =G33+(I33/100*G33) -> 0 | L33: =TRUNC(J33+K33,2) -> 0 | M33: =IF((J33+K33),TRUNC((J33/(J33+K33)*O33),2),0) -> 0 | N33: =IF((J33+K33),TRUNC((K33/(J33+K33)*O33),2),0) -> 0 | O33: =TRUNC(L33*E33,2) -> 0 | P33: =IF(O33<=(Relatório!O22*1.05),"PREÇO VÁLIDO","PREÇO INVÁLIDO") -> PREÇO VÁLIDO | Q33: =(O33/Relatório!O22)-1 -> -1
A34: SINAPI 05/24 | B34: 96544 | C34: ARMAÇÃO DE BLOCO UTILIZANDO AÇO CA-50 DE 6,3 MM - MONTAGEM. AF_01/2024 | D34: KG | E34: 42.3 | H34: =TRUNC(F34+G34,2) -> 0 | I34: =$B$10 -> 0 | J34: =F34+(I34/100*F34) -> 0 | K34: =G34+(I34/100*G34) -> 0 | L34: =TRUNC(J34+K34,2) -> 0 | M34: =IF((J34+K34),TRUNC((J34/(J34+K34)*O34),2),0) -> 0 | N34: =IF((J34+K34),TRUNC((K34/(J34+K34)*O34),2),0) -> 0 | O34: =TRUNC(L34*E34,2) -> 0 | P34: =IF(O34<=(Relatório!O23*1.05),"PREÇO VÁLIDO","PREÇO INVÁLIDO") -> PREÇO VÁLIDO | Q34: =(O34/Relatório!O23)-1 -> -1
... A36: SINAPI 05/24 | B36: 96546 | C36: ARMAÇÃO DE BLOCO UTILIZANDO AÇO CA-50 DE 10 MM - MONTAGEM. AF_01/2024 | D36: KG | E36: 241.5 | H36: =TRUNC(F36+G36,2) -> 0 | I36: =$B$10 -> 0 | J36: =F36+(I36/100*F36) -> 0 | K36: =G36+(I36/100*G36) -> 0 | L36: =TRUNC(J36+K36,2) -> 0 | M36: =IF((J36+K36),TRUNC((J36/(J36+K36)*O36),2),0) -> 0 | N36: =IF((J36+K36),TRUNC((K36/(J36+K36)*O36),2),0) -> 0 | O36: =TRUNC(L36*E36,2) -> 0 | P36: =IF(O36<=(Relatório!O25*1.05),"PREÇO VÁLIDO","PREÇO INVÁLIDO") -> PREÇO VÁLIDO | Q36: =(O36/Relatório!O25)-1 -> -1
A37: PRÓPRIA 12/23 | B37: CPU98858 | C37: COMP.1657 PróprioESTACA HÉLICE CONTÍNUA, DIÂMETRO DE 30 CM, INCLUSO CONCRETO FCK=30MPA COM BOMBEAMENTO E ARMADURA MÍNIMA (EXCLUSIVE MOBILIZAÇÃO E DESMOBILIZAÇÃO). | D37: M | E37: 559 | H37: =TRUNC(F37+G37,2) -> 0 | I37: =$B$10 -> 0 | J37: =F37+(I37/100*F37) -> 0 | K37: =G37+(I37/100*G37) -> 0 | L37: =TRUNC(J37+K37,2) -> 0 | M37: =IF((J37+K37),TRUNC((J37/(J37+K37)*O37),2),0) -> 0 | N37: =IF((J37+K37),TRUNC((K37/(J37+K37)*O37),2),0) -> 0 | O37: =TRUNC(L37*E37,2) -> 0 | P37: =IF(O37<=(Relatório!O26*1.05),"PREÇO VÁLIDO","PREÇO INVÁLIDO") -> PREÇO VÁLIDO | Q37: =(O37/Relatório!O26)-1 -> -1
A38: PRÓPRIA 12/23 | B38: CPU98427 | C38: COMP.1628 PróprioARMAÇÃO DE BLOCO, VIGA BALDRAME E SAPATA UTILIZANDO AÇO CA-60 DE 4.2 MM - MONTAGEM. | D38: KG | E38: 14.4 | H38: =TRUNC(F38+G38,2) -> 0 | I38: =$B$10 -> 0 | J38: =F38+(I38/100*F38) -> 0 | K38: =G38+(I38/100*G38) -> 0 | L38: =TRUNC(J38+K38,2) -> 0 | M38: =IF((J38+K38),TRUNC((J38/(J38+K38)*O38),2),0) -> 0 | N38: =IF((J38+K38),TRUNC((K38/(J38+K38)*O38),2),0) -> 0 | O38: =TRUNC(L38*E38,2) -> 0 | P38: =IF(O38<=(Relatório!O27*1.05),"PREÇO VÁLIDO","PREÇO INVÁLIDO") -> PREÇO VÁLIDO | Q38: =(O38/Relatório!O27)-1 -> -1
A39: PRÓPRIA 12/23 | B39: CPU98135 | C39: COMP.1655 PróprioMOBILIZAÇÃO E DESMOBILIZAÇÃO DE EQUIPAMENTOS PARA ESTACA HÉLICE CONTÍNUA | D39: UN | E39: 1 | H39: =TRUNC(F39+G39,2) -> 0 | I39: =$B$10 -> 0 | J39: =F39+(I39/100*F39) -> 0 | K39: =G39+(I39/100*G39) -> 0 | L39: =TRUNC(J39+K39,2) -> 0 | M39: =IF((J39+K39),TRUNC((J39/(J39+K39)*O39),2),0) -> 0 | N39: =IF((J39+K39),TRUNC((K39/(J39+K39)*O39),2),0) -> 0 | O39: =TRUNC(L39*E39,2) -> 0 | P39: =IF(O39<=(Relatório!O28*1.05),"PREÇO VÁLIDO","PREÇO INVÁLIDO") -> PREÇO VÁLIDO | Q39: =(O39/Relatório!O28)-1 -> -1
A40: SINAPI 05/24 | B40: 96534 | C40: FABRICAÇÃO, MONTAGEM E DESMONTAGEM DE FÔRMA PARA BLOCO DE COROAMENTO, EM MADEIRA SERRADA, E=25 MM, 4 UTILIZAÇÕES. AF_01/2024 | D40: M2 | E40: 93.6 | H40: =TRUNC(F40+G40,2) -> 0 | I40: =$B$10 -> 0 | J40: =F40+(I40/100*F40) -> 0 | K40: =G40+(I40/100*G40) -> 0 | L40: =TRUNC(J40+K40,2) -> 0 | M40: =IF((J40+K40),TRUNC((J40/(J40+K40)*O40),2),0) -> 0 | N40: =IF((J40+K40),TRUNC((K40/(J40+K40)*O40),2),0) -> 0 | O40: =TRUNC(L40*E40,2) -> 0 | P40: =IF(O40<=(Relatório!O29*1.05),"PREÇO VÁLIDO","PREÇO INVÁLIDO") -> PREÇO VÁLIDO | Q40: =(O40/Relatório!O29)-1 -> -1
A41: SINAPI 05/24 | B41: 95579 | C41: MONTAGEM DE ARMADURA DE ESTACAS, DIÂMETRO = 16,0 MM. AF_09/2021_PS | D41: KG | E41: 2646.9 | H41: =TRUNC(F41+G41,2) -> 0 | I41: =$B$10 -> 0 | J41: =F41+(I41/100*F41) -> 0 | K41: =G41+(I41/100*G41) -> 0 | L41: =TRUNC(J41+K41,2) -> 0 | M41: =IF((J41+K41),TRUNC((J41/(J41+K41)*O41),2),0) -> 0 | N41: =IF((J41+K41),TRUNC((K41/(J41+K41)*O41),2),0) -> 0 | O41: =TRUNC(L41*E41,2) -> 0 | P41: =IF(O41<=(Relatório!O30*1.05),"PREÇO VÁLIDO","PREÇO INVÁLIDO") -> PREÇO VÁLIDO | Q41: =(O41/Relatório!O30)-1 -> -1
A42: SINAPI 05/24 | B42: 95584 | C42: MONTAGEM DE ARMADURA TRANSVERSAL DE ESTACAS DE SEÇÃO CIRCULAR, DIÂMETRO = 6,30 MM. AF_09/2021_PS | D42: KG | E42: 240.3 | H42: =TRUNC(F42+G42,2) -> 0 | I42: =$B$10 -> 0 | J42: =F42+(I42/100*F42) -> 0 | K42: =G42+(I42/100*G42) -> 0 | L42: =TRUNC(J42+K42,2) -> 0 | M42: =IF((J42+K42),TRUNC((J42/(J42+K42)*O42),2),0) -> 0 | N42: =IF((J42+K42),TRUNC((K42/(J42+K42)*O42),2),0) -> 0 | O42: =TRUNC(L42*E42,2) -> 0 | P42: =IF(O42<=(Relatório!O31*1.05),"PREÇO VÁLIDO","PREÇO INVÁLIDO") -> PREÇO VÁLIDO | Q42: =(O42/Relatório!O31)-1 -> -1
A44: 02.02 - BALDRAMES
A45: Tabela de Origem | B45: Cód. Auxiliar | C45: Descrição do Serviço | D45: Unid. | E45: Quantidade | F45: Custo Unit. Material (R$) | G45: Custo Unit. MO (R$) | H45: Custo Unit. (R$) | I45: BDI(%) | J45: Preço unit MATERIAL (R$) | K45: Preço unit MO (R$) | L45: Preço Unit. (R$) | M45: Preço MATERIAL (R$) | N45: Preço MO(R$) | O45: Preço Total (R$) | P45: Verificação $+5% | Q45: Proposta x Referência
A46: SINAPI 05/24 | B46: 104916 | C46: ARMAÇÃO DE SAPATA ISOLADA, VIGA BALDRAME E SAPATA CORRIDA UTILIZANDO AÇO CA-60 DE 5 MM - MONTAGEM. AF_01/2024 | D46: KG | E46: 198.9 | H46: =TRUNC(F46+G46,2) -> 0 | I46: =$B$10 -> 0 | J46: =F46+(I46/100*F46) -> 0 | K46: =G46+(I46/100*G46) -> 0 | L46: =TRUNC(J46+K46,2) -> 0 | M46: =IF((J46+K46),TRUNC((J46/(J46+K46)*O46),2),0) -> 0 | N46: =IF((J46+K46),TRUNC((K46/(J46+K46)*O46),2),0) -> 0 | O46: =TRUNC(L46*E46,2) -> 0 | P46: =IF(O46<=(Relatório!O35*1.05),"PREÇO VÁLIDO","PREÇO INVÁLIDO") -> PREÇO VÁLIDO | Q46: =(O46/Relatório!O35)-1 -> -1
A47: SINAPI 05/24 | B47: 104917 | C47: ARMAÇÃO DE SAPATA ISOLADA, VIGA BALDRAME E SAPATA CORRIDA UTILIZANDO AÇO CA-50 DE 6,3 MM - MONTAGEM. AF_01/2024 | D47: KG | E47: 198.4 | H47: =TRUNC(F47+G47,2) -> 0 | I47: =$B$10 -> 0 | J47: =F47+(I47/100*F47) -> 0 | K47: =G47+(I47/100*G47) -> 0 | L47: =TRUNC(J47+K47,2) -> 0 | M47: =IF((J47+K47),TRUNC((J47/(J47+K47)*O47),2),0) -> 0 | N47: =IF((J47+K47),TRUNC((K47/(J47+K47)*O47),2),0) -> 0 | O47: =TRUNC(L47*E47,2) -> 0 | P47: =IF(O47<=(Relatório!O36*1.05),"PREÇO VÁLIDO","PREÇO INVÁLIDO") -> PREÇO VÁLIDO | Q47: =(O47/Relatório!O36)-1 -> -1
...

Sheet Referencial
B2: ESTADO DE SANTA CATARINA
H4: Referencial
A5: Obra:
A6: Edital:
A7: Razão Social: | M7: Data: __ / __ / ____
A8: CNPJ:
A9: BDI Administração Local (%): | B9: 20.52 | C9: BDI Diferenciado Referencial (%) : | D9: N/A
A10: BDI Referencial (%): | B10: 20.52 | C10: BDI Diferenciado Referencial – Serviços Especializados (%) : | D10: N/A | G10: BDI Administração Local (%): | M10: Porcentagem de materiais (%) | N10: Porcentagem de mão de obra (%)
M11: =SUM(M15:M702)/$O$706 -> 0.571513 | N11: =SUM(N15:N702)/$O$706 -> 0.42848535
A13: 01 - Serviços Iniciais
A14: Tabela de Origem | B14: Cód. Auxiliar | C14: Descrição do Serviço | D14: Unid. | E14: Quantidade | F14: Custo Unit. Material (R$) | G14: Custo Unit. MO (R$) | H14: Custo Unit. (R$) | I14: BDI(%) | J14: Preço unit MATERIAL (R$) | K14: Preço unit MO (R$) | L14: Preço Unit. (R$) | M14: Preço MATERIAL (R$) | N14: Preço MO(R$) | O14: Preço Total (R$) | P14: Verificação $+5%
A15: SINAPI 05/24 | B15: 98459 | C15: TAPUME COM TELHA METÁLICA. AF_03/2024 | D15: M2 | E15: 57.26 | F15: =Relatório!F4 -> 58.04 | G15: =Relatório!G4 -> 31.11 | H15: =TRUNC(F15+G15,2) -> 89.15 | I15: =$B$10 -> 20.52 | J15: =F15+(I15/100*F15) -> 69.949808 | K15: =G15+(I15/100*G15) -> 37.493772 | L15: =TRUNC(J15+K15,2) -> 107.44 | M15: =IF((J15+K15),TRUNC((J15/(J15+K15)*O15),2),0) -> 4005.18 | N15: =IF((J15+K15),TRUNC((K15/(J15+K15)*O15),2),0) -> 2146.82 | O15: =TRUNC(L15*E15,2) -> 6152.01 | P15: =IF(O15<=(Relatório!O4*1.05),"PREÇO VÁLIDO","PREÇO INVÁLIDO") -> PREÇO VÁLIDO
A16: SINAPI 05/24 | B16: 99059 | C16: LOCAÇÃO CONVENCIONAL DE OBRA, UTILIZANDO GABARITO DE TÁBUAS CORRIDAS PONTALETADAS A CADA 2,00M - 2 UTILIZAÇÕES. AF_03/2024 | D16: M | E16: 89.9 | F16: =Relatório!F5 -> 54.85 | G16: =Relatório!G5 -> 35.37 | H16: =TRUNC(F16+G16,2) -> 90.22 | I16: =$B$10 -> 20.52 | J16: =F16+(I16/100*F16) -> 66.10522 | K16: =G16+(I16/100*G16) -> 42.627924 | L16: =TRUNC(J16+K16,2) -> 108.73 | M16: =IF((J16+K16),TRUNC((J16/(J16+K16)*O16),2),0) -> 5942.68 | N16: =IF((J16+K16),TRUNC((K16/(J16+K16)*O16),2),0) -> 3832.13 | O16: =TRUNC(L16*E16,2) -> 9774.82 | P16: =IF(O16<=(Relatório!O5*1.05),"PREÇO VÁLIDO","PREÇO INVÁLIDO") -> PREÇO VÁLIDO
A18: Total do Grupo**: | O18: =SUM(O15:O16) -> 15926.83
A20: 02 - Infraestrutura
A21: 02.01 - FUNDAÇÕES
A22: Tabela de Origem | B22: Cód. Auxiliar | C22: Descrição do Serviço | D22: Unid. | E22: Quantidade | F22: Custo Unit. Material (R$) | G22: Custo Unit. MO (R$) | H22: Custo Unit. (R$) | I22: BDI(%) | J22: Preço unit MATERIAL (R$) | K22: Preço unit MO (R$) | L22: Preço Unit. (R$) | M22: Preço MATERIAL (R$) | N22: Preço MO(R$) | O22: Preço Total (R$) | P22: Verificação $+5%
A23: SINAPI 05/24 | B23: 104920 | C23: ARMAÇÃO DE BLOCO, SAPATA ISOLADA, VIGA BALDRAME E SAPATA CORRIDA UTILIZANDO AÇO CA-50 DE 12,5 MM - MONTAGEM. AF_01/2024 | D23: KG | E23: 269.2 | F23: =Relatório!F12 -> 8.57 | G23: =Relatório!G12 -> 2.32 | H23: =TRUNC(F23+G23,2) -> 10.89 | I23: =$B$10 -> 20.52 | J23: =F23+(I23/100*F23) -> 10.328564 | K23: =G23+(I23/100*G23) -> 2.796064 | L23: =TRUNC(J23+K23,2) -> 13.12 | M23: =IF((J23+K23),TRUNC((J23/(J23+K23)*O23),2),0) -> 2779.46 | N23: =IF((J23+K23),TRUNC((K23/(J23+K23)*O23),2),0) -> 752.43 | O23: =TRUNC(L23*E23,2) -> 3531.9 | P23: =IF(O23<=(Relatório!O12*1.05),"PREÇO VÁLIDO","PREÇO INVÁLIDO") -> PREÇO VÁLIDO
A24: SINAPI 05/24 | B24: 104921 | C24: ARMAÇÃO DE BLOCO, SAPATA ISOLADA, VIGA BALDRAME E SAPATA CORRIDA UTILIZANDO AÇO CA-50 DE 16 MM - MONTAGEM. AF_01/2024 | D24: KG | E24: 211.9 | F24: =Relatório!F13 -> 8.47 | G24: =Relatório!G13 -> 1.72 | H24: =TRUNC(F24+G24,2) -> 10.19 | I24: =$B$10 -> 20.52 | J24: =F24+(I24/100*F24) -> 10.208044 | K24: =G24+(I24/100*G24) -> 2.072944 | L24: =TRUNC(J24+K24,2) -> 12.28 | M24: =IF((J24+K24),TRUNC((J24/(J24+K24)*O24),2),0) -> 2162.9 | N24: =IF((J24+K24),TRUNC((K24/(J24+K24)*O24),2),0) -> 439.22 | O24: =TRUNC(L24*E24,2) -> 2602.13 | P24: =IF(O24<=(Relatório!O13*1.05),"PREÇO VÁLIDO","PREÇO INVÁLIDO") -> PREÇO VÁLIDO
A25: SINAPI 05/24 | B25: 96557 | C25: CONCRETAGEM DE BLOCO DE COROAMENTO OU VIGA BALDRAME, FCK 30 MPA, COM USO DE BOMBA - LANÇAMENTO, ADENSAMENTO E ACABAMENTO. AF_01/2024 | D25: M3 | E25: 16 | F25: =Relatório!F14 -> 759.46 | G25: =Relatório!G14 -> 18.25 | H25: =TRUNC(F25+G25,2) -> 777.71 | I25: =$B$10 -> 20.52 | J25: =F25+(I25/100*F25) -> 915.30119 | K25: =G25+(I25/100*G25) -> 21.9949 | L25: =TRUNC(J25+K25,2) -> 937.29 | M25: =IF((J25+K25),TRUNC((J25/(J25+K25)*O25),2),0) -> 14644.72 | N25: =IF((J25+K25),TRUNC((K25/(J25+K25)*O25),2),0) -> 351.91 | O25: =TRUNC(L25*E25,2) -> 14996.64 | P25: =IF(O25<=(Relatório!O14*1.05),"PREÇO VÁLIDO","PREÇO INVÁLIDO") -> PREÇO VÁLIDO
A26: SINAPI 05/24 | B26: 96521 | C26: ESCAVAÇÃO MECANIZADA PARA BLOCO DE COROAMENTO OU SAPATA COM RETROESCAVADEIRA (INCLUINDO ESCAVAÇÃO PARA COLOCAÇÃO DE FÔRMAS). AF_01/2024 | D26: M3 | E26: 72.2 | F26: =Relatório!F15 -> 28.01 | G26: =Relatório!G15 -> 14.13 | H26: =TRUNC(F26+G26,2) -> 42.14 | I26: =$B$10 -> 20.52 | J26: =F26+(I26/100*F26) -> 33.757652 | K26: =G26+(I26/100*G26) -> 17.029476 | L26: =TRUNC(J26+K26,2) -> 50.78 | M26: =IF((J26+K26),TRUNC((J26/(J26+K26)*O26),2),0) -> 2436.95 | N26: =IF((J26+K26),TRUNC((K26/(J26+K26)*O26),2),0) -> 1229.35 | O26: =TRUNC(L26*E26,2) -> 3666.31 | P26: =IF(O26<=(Relatório!O15*1.05),"PREÇO VÁLIDO","PREÇO INVÁLIDO") -> PREÇO VÁLIDO
A27: SINAPI 05/24 | B27: 97083 | C27: COMPACTAÇÃO MECÂNICA DE SOLO PARA EXECUÇÃO DE RADIER, PISO DE CONCRETO OU LAJE SOBRE SOLO, COM COMPACTADOR DE SOLOS A PERCUSSÃO. AF_09/2021 | D27: M2 | E27: 44.1 | F27: =Relatório!F16 -> 0.65 | G27: =Relatório!G16 -> 2.91 | H27: =TRUNC(F27+G27,2) -> 3.56 | I27: =$B$10 -> 20.52 | J27: =F27+(I27/100*F27) -> 0.78338 | K27: =G27+(I27/100*G27) -> 3.507132 | L27: =TRUNC(J27+K27,2) -> 4.29 | M27: =IF((J27+K27),TRUNC((J27/(J27+K27)*O27),2),0) -> 34.54 | N27: =IF((J27+K27),TRUNC((K27/(J27+K27)*O27),2),0) -> 154.63 | O27: =TRUNC(L27*E27,2) -> 189.18 | P27: =IF(O27<=(Relatório!O16*1.05),"PREÇO VÁLIDO","PREÇO INVÁLIDO") -> PREÇO VÁLIDO
A28: SINAPI 05/24 | B28: 96617 | C28: LASTRO DE CONCRETO MAGRO, APLICADO EM BLOCOS DE COROAMENTO OU SAPATAS, ESPESSURA DE 3 CM. AF_01/2024 | D28: M2 | E28: 31.07 | F28: =Relatório!F17 -> 13.41 | G28: =Relatório!G17 -> 8.46 | H28: =TRUNC(F28+G28,2) -> 21.87 | I28: =$B$10 -> 20.52 | J28: =F28+(I28/100*F28) -> 16.161732 | K28: =G28+(I28/100*G28) -> 10.195992 | L28: =TRUNC(J28+K28,2) -> 26.35 | M28: =IF((J28+K28),TRUNC((J28/(J28+K28)*O28),2),0) -> 501.99 | N28: =IF((J28+K28),TRUNC((K28/(J28+K28)*O28),2),0) -> 316.69 | O28: =TRUNC(L28*E28,2) -> 818.69 | P28: =IF(O28<=(Relatório!O17*1.05),"PREÇO VÁLIDO","PREÇO INVÁLIDO") -> PREÇO VÁLIDO
A29: SINAPI 05/24 | B29: 100978 | C29: CARGA, MANOBRA E DESCARGA DE SOLOS E MATERIAIS GRANULARES EM CAMINHÃO BASCULANTE 10 M³ - CARGA COM ESCAVADEIRA HIDRÁULICA (CAÇAMBA DE 1,20 M³ / 155 HP) E DESCARGA LIVRE (UNIDADE: M3). AF_07/2020 | D29: M3 | E29: 29.4 | F29: =Relatório!F18 -> 5.85 | G29: =Relatório!G18 -> 1.22 | H29: =TRUNC(F29+G29,2) -> 7.07 | I29: =$B$10 -> 20.52 | J29: =F29+(I29/100*F29) -> 7.05042 | K29: =G29+(I29/100*G29) -> 1.470344 | L29: =TRUNC(J29+K29,2) -> 8.52 | M29: =IF((J29+K29),TRUNC((J29/(J29+K29)*O29),2),0) -> 207.25 | N29: =IF((J29+K29),TRUNC((K29/(J29+K29)*O29),2),0) -> 43.22 | O29: =TRUNC(L29*E29,2) -> 250.48 | P29: =IF(O29<=(Relatório!O18*1.05),"PREÇO VÁLIDO","PREÇO INVÁLIDO") -> PREÇO VÁLIDO
A30: SINAPI 05/24 | B30: 95875 | C30: TRANSPORTE COM CAMINHÃO BASCULANTE DE 10 M³, EM VIA URBANA PAVIMENTADA, DMT ATÉ 30 KM (UNIDADE: M3XKM). AF_07/2020 | D30: M3KM | E30: 882 | F30: =Relatório!F19 -> 2.1 | G30: =Relatório!G19 -> 0.37 | H30: =TRUNC(F30+G30,2) -> 2.47 | I30: =$B$10 -> 20.52 | J30: =F30+(I30/100*F30) -> 2.53092 | K30: =G30+(I30/100*G30) -> 0.445924 | L30: =TRUNC(J30+K30,2) -> 2.97 | M30: =IF((J30+K30),TRUNC((J30/(J30+K30)*O30),2),0) -> 2227.13 | N30: =IF((J30+K30),TRUNC((K30/(J30+K30)*O30),2),0) -> 392.4 | O30: =TRUNC(L30*E30,2) -> 2619.54 | P30: =IF(O30<=(Relatório!O19*1.05),"PREÇO VÁLIDO","PREÇO INVÁLIDO") -> PREÇO VÁLIDO
A31: SINAPI 05/24 | B31: 93382 | C31: REATERRO MANUAL DE VALAS, COM COMPACTADOR DE SOLOS DE PERCUSSÃO. AF_08/2023 | D31: M3 | E31: 59.99 | F31: =Relatório!F20 -> 6.77 | G31: =Relatório!G20 -> 20.49 | H31: =TRUNC(F31+G31,2) -> 27.26 | I31: =$B$10 -> 20.52 | J31: =F31+(I31/100*F31) -> 8.159204 | K31: =G31+(I31/100*G31) -> 24.694548 | L31: =TRUNC(J31+K31,2) -> 32.85 | M31: =IF((J31+K31),TRUNC((J31/(J31+K31)*O31),2),0) -> 489.41 | N31: =IF((J31+K31),TRUNC((K31/(J31+K31)*O31),2),0) -> 1481.25 | O31: =TRUNC(L31*E31,2) -> 1970.67 | P31: =IF(O31<=(Relatório!O20*1.05),"PREÇO VÁLIDO","PREÇO INVÁLIDO") -> PREÇO VÁLIDO
A32: SINAPI 05/24 | B32: 95601 | C32: ARRASAMENTO MECANICO DE ESTACA DE CONCRETO ARMADO, DIAMETROS DE ATÉ 40 CM. AF_05/2021 | D32: UN | E32: 43 | F32: =Relatório!F21 -> 2.97 | G32: =Relatório!G21 -> 14.56 | H32: =TRUNC(F32+G32,2) -> 17.53 | I32: =$B$10 -> 20.52 | J32: =F32+(I32/100*F32) -> 3.579444 | K32: =G32+(I32/100*G32) -> 17.547712 | L32: =TRUNC(J32+K32,2) -> 21.12 | M32: =IF((J32+K32),TRUNC((J32/(J32+K32)*O32),2),0) -> 153.86 | N32: =IF((J32+K32),TRUNC((K32/(J32+K32)*O32),2),0) -> 754.29 | O32: =TRUNC(L32*E32,2) -> 908.16 | P32: =IF(O32<=(Relatório!O21*1.05),"PREÇO VÁLIDO","PREÇO INVÁLIDO") -> PREÇO VÁLIDO
A33: SINAPI 05/24 | B33: 96543 | C33: ARMAÇÃO DE BLOCO UTILIZANDO AÇO CA-60 DE 5 MM - MONTAGEM. AF_01/2024 | D33: KG | E33: 69.8 | F33: =Relatório!F22 -> 10.44 | G33: =Relatório!G22 -> 10.36 | H33: =TRUNC(F33+G33,2) -> 20.8 | I33: =$B$10 -> 20.52 | J33: =F33+(I33/100*F33) -> 12.582288 | K33: =G33+(I33/100*G33) -> 12.485872 | L33: =TRUNC(J33+K33,2) -> 25.06 | M33: =IF((J33+K33),TRUNC((J33/(J33+K33)*O33),2),0) -> 877.95 | N33: =IF((J33+K33),TRUNC((K33/(J33+K33)*O33),2),0) -> 871.22 | O33: =TRUNC(L33*E33,2) -> 1749.18 | P33: =IF(O33<=(Relatório!O22*1.05),"PREÇO VÁLIDO","PREÇO INVÁLIDO") -> PREÇO VÁLIDO
A34: SINAPI 05/24 | B34: 96544 | C34: ARMAÇÃO DE BLOCO UTILIZANDO AÇO CA-50 DE 6,3 MM - MONTAGEM. AF_01/2024 | D34: KG | E34: 42.3 | F34: =Relatório!F23 -> 10.83 | G34: =Relatório!G23 -> 7.63 | H34: =TRUNC(F34+G34,2) -> 18.46 | I34: =$B$10 -> 20.52 | J34: =F34+(I34/100*F34) -> 13.052316 | K34: =G34+(I34/100*G34) -> 9.195676 | L34: =TRUNC(J34+K34,2) -> 22.24 | M34: =IF((J34+K34),TRUNC((J34/(J34+K34)*O34),2),0) -> 551.91 | N34: =IF((J34+K34),TRUNC((K34/(J34+K34)*O34),2),0) -> 388.83 | O34: =TRUNC(L34*E34,2) -> 940.75 | P34: =IF(O34<=(Relatório!O23*1.05),"PREÇO VÁLIDO","PREÇO INVÁLIDO") -> PREÇO VÁLIDO
... A36: SINAPI 05/24 | B36: 96546 | C36: ARMAÇÃO DE BLOCO UTILIZANDO AÇO CA-50 DE 10 MM - MONTAGEM. AF_01/2024 | D36: KG | E36: 241.5 | F36: =Relatório!F25 -> 10.06 | G36: =Relatório!G25 -> 4.21 | H36: =TRUNC(F36+G36,2) -> 14.27 | I36: =$B$10 -> 20.52 | J36: =F36+(I36/100*F36) -> 12.124312 | K36: =G36+(I36/100*G36) -> 5.073892 | L36: =TRUNC(J36+K36,2) -> 17.19 | M36: =IF((J36+K36),TRUNC((J36/(J36+K36)*O36),2),0) -> 2926.62 | N36: =IF((J36+K36),TRUNC((K36/(J36+K36)*O36),2),0) -> 1224.75 | O36: =TRUNC(L36*E36,2) -> 4151.38 | P36: =IF(O36<=(Relatório!O25*1.05),"PREÇO VÁLIDO","PREÇO INVÁLIDO") -> PREÇO VÁLIDO
A37: PRÓPRIA 12/23 | B37: CPU98858 | C37: COMP.1657 PróprioESTACA HÉLICE CONTÍNUA, DIÂMETRO DE 30 CM, INCLUSO CONCRETO FCK=30MPA COM BOMBEAMENTO E ARMADURA MÍNIMA (EXCLUSIVE MOBILIZAÇÃO E DESMOBILIZAÇÃO). | D37: M | E37: 559 | F37: =Relatório!F26 -> 59.685 | G37: =Relatório!G26 -> 59.685 | H37: =TRUNC(F37+G37,2) -> 119.37 | I37: =$B$10 -> 20.52 | J37: =F37+(I37/100*F37) -> 71.932362 | K37: =G37+(I37/100*G37) -> 71.932362 | L37: =TRUNC(J37+K37,2) -> 143.86 | M37: =IF((J37+K37),TRUNC((J37/(J37+K37)*O37),2),0) -> 40208.87 | N37: =IF((J37+K37),TRUNC((K37/(J37+K37)*O37),2),0) -> 40208.87 | O37: =TRUNC(L37*E37,2) -> 80417.74 | P37: =IF(O37<=(Relatório!O26*1.05),"PREÇO VÁLIDO","PREÇO INVÁLIDO") -> PREÇO VÁLIDO
A38: PRÓPRIA 12/23 | B38: CPU98427 | C38: COMP.1628 PróprioARMAÇÃO DE BLOCO, VIGA BALDRAME E SAPATA UTILIZANDO AÇO CA-60 DE 4.2 MM - MONTAGEM. | D38: KG | E38: 14.4 | F38: =Relatório!F27 -> 9.8 | G38: =Relatório!G27 -> 9.8 | H38: =TRUNC(F38+G38,2) -> 19.6 | I38: =$B$10 -> 20.52 | J38: =F38+(I38/100*F38) -> 11.81096 | K38: =G38+(I38/100*G38) -> 11.81096 | L38: =TRUNC(J38+K38,2) -> 23.62 | M38: =IF((J38+K38),TRUNC((J38/(J38+K38)*O38),2),0) -> 170.06 | N38: =IF((J38+K38),TRUNC((K38/(J38+K38)*O38),2),0) -> 170.06 | O38: =TRUNC(L38*E38,2) -> 340.12 | P38: =IF(O38<=(Relatório!O27*1.05),"PREÇO VÁLIDO","PREÇO INVÁLIDO") -> PREÇO VÁLIDO
A39: PRÓPRIA 12/23 | B39: CPU98135 | C39: COMP.1655 PróprioMOBILIZAÇÃO E DESMOBILIZAÇÃO DE EQUIPAMENTOS PARA ESTACA HÉLICE CONTÍNUA | D39: UN | E39: 1 | F39: =Relatório!F28 -> 7564.84 | G39: =Relatório!G28 -> 7564.84 | H39: =TRUNC(F39+G39,2) -> 15129.68 | I39: =$B$10 -> 20.52 | J39: =F39+(I39/100*F39) -> 9117.1452 | K39: =G39+(I39/100*G39) -> 9117.1452 | L39: =TRUNC(J39+K39,2) -> 18234.29 | M39: =IF((J39+K39),TRUNC((J39/(J39+K39)*O39),2),0) -> 9117.14 | N39: =IF((J39+K39),TRUNC((K39/(J39+K39)*O39),2),0) -> 9117.14 | O39: =TRUNC(L39*E39,2) -> 18234.29 | P39: =IF(O39<=(Relatório!O28*1.05),"PREÇO VÁLIDO","PREÇO INVÁLIDO") -> PREÇO VÁLIDO
A40: SINAPI 05/24 | B40: 96534 | C40: FABRICAÇÃO, MONTAGEM E DESMONTAGEM DE FÔRMA PARA BLOCO DE COROAMENTO, EM MADEIRA SERRADA, E=25 MM, 4 UTILIZAÇÕES. AF_01/2024 | D40: M2 | E40: 93.6 | F40: =Relatório!F29 -> 34.57 | G40: =Relatório!G29 -> 48.9 | H40: =TRUNC(F40+G40,2) -> 83.47 | I40: =$B$10 -> 20.52 | J40: =F40+(I40/100*F40) -> 41.663764 | K40: =G40+(I40/100*G40) -> 58.93428 | L40: =TRUNC(J40+K40,2) -> 100.59 | M40: =IF((J40+K40),TRUNC((J40/(J40+K40)*O40),2),0) -> 3899.41 | N40: =IF((J40+K40),TRUNC((K40/(J40+K40)*O40),2),0) -> 5515.8 | O40: =TRUNC(L40*E40,2) -> 9415.22 | P40: =IF(O40<=(Relatório!O29*1.05),"PREÇO VÁLIDO","PREÇO INVÁLIDO") -> PREÇO VÁLIDO
A41: SINAPI 05/24 | B41: 95579 | C41: MONTAGEM DE ARMADURA DE ESTACAS, DIÂMETRO = 16,0 MM. AF_09/2021_PS | D41: KG | E41: 2646.9 | F41: =Relatório!F30 -> 8.1 | G41: =Relatório!G30 -> 0.37 | H41: =TRUNC(F41+G41,2) -> 8.47 | I41: =$B$10 -> 20.52 | J41: =F41+(I41/100*F41) -> 9.76212 | K41: =G41+(I41/100*G41) -> 0.445924 | L41: =TRUNC(J41+K41,2) -> 10.2 | M41: =IF((J41+K41),TRUNC((J41/(J41+K41)*O41),2),0) -> 25818.99 | N41: =IF((J41+K41),TRUNC((K41/(J41+K41)*O41),2),0) -> 1179.38 | O41: =TRUNC(L41*E41,2) -> 26998.38 | P41: =IF(O41<=(Relatório!O30*1.05),"PREÇO VÁLIDO","PREÇO INVÁLIDO") -> PREÇO VÁLIDO
A42: SINAPI 05/24 | B42: 95584 | C42: MONTAGEM DE ARMADURA TRANSVERSAL DE ESTACAS DE SEÇÃO CIRCULAR, DIÂMETRO = 6,30 MM. AF_09/2021_PS | D42: KG | E42: 240.3 | F42: =Relatório!F31 -> 10.12 | G42: =Relatório!G31 -> 4.1 | H42: =TRUNC(F42+G42,2) -> 14.22 | I42: =$B$10 -> 20.52 | J42: =F42+(I42/100*F42) -> 12.196624 | K42: =G42+(I42/100*G42) -> 4.94132 | L42: =TRUNC(J42+K42,2) -> 17.13 | M42: =IF((J42+K42),TRUNC((J42/(J42+K42)*O42),2),0) -> 2929.48 | N42: =IF((J42+K42),TRUNC((K42/(J42+K42)*O42),2),0) -> 1186.84 | O42: =TRUNC(L42*E42,2) -> 4116.33 | P42: =IF(O42<=(Relatório!O31*1.05),"PREÇO VÁLIDO","PREÇO INVÁLIDO") -> PREÇO VÁLIDO
A44: 02.02 - BALDRAMES
A45: Tabela de Origem | B45: Cód. Auxiliar | C45: Descrição do Serviço | D45: Unid. | E45: Quantidade | F45: Custo Unit. Material (R$) | G45: Custo Unit. MO (R$) | H45: Custo Unit. (R$) | I45: BDI(%) | J45: Preço unit MATERIAL (R$) | K45: Preço unit MO (R$) | L45: Preço Unit. (R$) | M45: Preço MATERIAL (R$) | N45: Preço MO(R$) | O45: Preço Total (R$) | P45: Verificação $+5%
A46: SINAPI 05/24 | B46: 104916 | C46: ARMAÇÃO DE SAPATA ISOLADA, VIGA BALDRAME E SAPATA CORRIDA UTILIZANDO AÇO CA-60 DE 5 MM - MONTAGEM. AF_01/2024 | D46: KG | E46: 198.9 | F46: =Relatório!F35 -> 9.89 | G46: =Relatório!G35 -> 7.42 | H46: =TRUNC(F46+G46,2) -> 17.31 | I46: =$B$10 -> 20.52 | J46: =F46+(I46/100*F46) -> 11.919428 | K46: =G46+(I46/100*G46) -> 8.942584 | L46: =TRUNC(J46+K46,2) -> 20.86 | M46: =IF((J46+K46),TRUNC((J46/(J46+K46)*O46),2),0) -> 2370.54 | N46: =IF((J46+K46),TRUNC((K46/(J46+K46)*O46),2),0) -> 1778.5 | O46: =TRUNC(L46*E46,2) -> 4149.05 | P46: =IF(O46<=(Relatório!O35*1.05),"PREÇO VÁLIDO","PREÇO INVÁLIDO") -> PREÇO VÁLIDO
A47: SINAPI 05/24 | B47: 104917 | C47: ARMAÇÃO DE SAPATA ISOLADA, VIGA BALDRAME E SAPATA CORRIDA UTILIZANDO AÇO CA-50 DE 6,3 MM - MONTAGEM. AF_01/2024 | D47: KG | E47: 198.4 | F47: =Relatório!F36 -> 10.42 | G47: =Relatório!G36 -> 5.4 | H47: =TRUNC(F47+G47,2) -> 15.82 | I47: =$B$10 -> 20.52 | J47: =F47+(I47/100*F47) -> 12.558184 | K47: =G47+(I47/100*G47) -> 6.50808 | L47: =TRUNC(J47+K47,2) -> 19.06 | M47: =IF((J47+K47),TRUNC((J47/(J47+K47)*O47),2),0) -> 2490.72 | N47: =IF((J47+K47),TRUNC((K47/(J47+K47)*O47),2),0) -> 1290.77 | O47: =TRUNC(L47*E47,2) -> 3781.5 | P47: =IF(O47<=(Relatório!O36*1.05),"PREÇO VÁLIDO","PREÇO INVÁLIDO") -> PREÇO VÁLIDO
...

Sheet Relatório
A2: 01 - Serviços Iniciais
A3: Tabela de Origem | B3: Cód. Auxiliar | C3: Descrição do Serviço | D3: Unid. | E3: Quantidade | F3: Custo Unit. Material (R$) | G3: Custo Unit. MO (R$) | H3: Custo Unit. (R$) | I3: BDI(%) | J3: Preço unit MATERIAL (R$) | K3: Preço unit MO (R$) | L3: Preço Unit. (R$) | M3: Preço MATERIAL (R$) | N3: Preço MO(R$) | O3: Preço Total (R$)
A4: SINAPI 05/24 | B4: 98459 | C4: TAPUME COM TELHA METÁLICA. AF_03/2024 | D4: M2 | E4: 57.26 | F4: 58.04 | G4: 31.11 | H4: 89.15 | I4: 20.52 | L4: 107.44 | O4: 6152.01
A5: SINAPI 05/24 | B5: 99059 | C5: LOCAÇÃO CONVENCIONAL DE OBRA, UTILIZANDO GABARITO DE TÁBUAS CORRIDAS PONTALETADAS A CADA 2,00M - 2 UTILIZAÇÕES. AF_03/2024 | D5: M | E5: 89.9 | F5: 54.85 | G5: 35.37 | H5: 90.22 | I5: 20.52 | L5: 108.73 | O5: 9774.82
A7: Total do Grupo**: | O7: =SUM(O4:O5) -> 15926.83
A9: 02 - Infraestrutura
A10: 02.01 - FUNDAÇÕES
A11: Tabela de Origem | B11: Cód. Auxiliar | C11: Descrição do Serviço | D11: Unid. | E11: Quantidade | F11: Custo Unit. Material (R$) | G11: Custo Unit. MO (R$) | H11: Custo Unit. (R$) | I11: BDI(%) | J11: Preço unit MATERIAL (R$) | K11: Preço unit MO (R$) | L11: Preço Unit. (R$) | M11: Preço MATERIAL (R$) | N11: Preço MO(R$) | O11: Preço Total (R$)
A12: SINAPI 05/24 | B12: 104920 | C12: ARMAÇÃO DE BLOCO, SAPATA ISOLADA, VIGA BALDRAME E SAPATA CORRIDA UTILIZANDO AÇO CA-50 DE 12,5 MM - MONTAGEM. AF_01/2024 | D12: KG | E12: 269.2 | F12: 8.57 | G12: 2.32 | H12: 10.89 | I12: 20.52 | L12: 13.12 | O12: 3531.9
A13: SINAPI 05/24 | B13: 104921 | C13: ARMAÇÃO DE BLOCO, SAPATA ISOLADA, VIGA BALDRAME E SAPATA CORRIDA UTILIZANDO AÇO CA-50 DE 16 MM - MONTAGEM. AF_01/2024 | D13: KG | E13: 211.9 | F13: 8.47 | G13: 1.72 | H13: 10.19 | I13: 20.52 | L13: 12.28 | O13: 2602.13
A14: SINAPI 05/24 | B14: 96557 | C14: CONCRETAGEM DE BLOCO DE COROAMENTO OU VIGA BALDRAME, FCK 30 MPA, COM USO DE BOMBA - LANÇAMENTO, ADENSAMENTO E ACABAMENTO. AF_01/2024 | D14: M3 | E14: 16 | F14: 759.46 | G14: 18.25 | H14: 777.71 | I14: 20.52 | L14: 937.29 | O14: 14996.64
A15: SINAPI 05/24 | B15: 96521 | C15: ESCAVAÇÃO MECANIZADA PARA BLOCO DE COROAMENTO OU SAPATA COM RETROESCAVADEIRA (INCLUINDO ESCAVAÇÃO PARA COLOCAÇÃO DE FÔRMAS). AF_01/2024 | D15: M3 | E15: 72.2 | F15: 28.01 | G15: 14.13 | H15: 42.14 | I15: 20.52 | L15: 50.78 | O15: 3666.31
A16: SINAPI 05/24 | B16: 97083 | C16: COMPACTAÇÃO MECÂNICA DE SOLO PARA EXECUÇÃO DE RADIER, PISO DE CONCRETO OU LAJE SOBRE SOLO, COM COMPACTADOR DE SOLOS A PERCUSSÃO. AF_09/2021 | D16: M2 | E16: 44.1 | F16: 0.65 | G16: 2.91 | H16: 3.56 | I16: 20.52 | L16: 4.29 | O16: 189.18
A17: SINAPI 05/24 | B17: 96617 | C17: LASTRO DE CONCRETO MAGRO, APLICADO EM BLOCOS DE COROAMENTO OU SAPATAS, ESPESSURA DE 3 CM. AF_01/2024 | D17: M2 | E17: 31.07 | F17: 13.41 | G17: 8.46 | H17: 21.87 | I17: 20.52 | L17: 26.35 | O17: 818.69
A18: SINAPI 05/24 | B18: 100978 | C18: CARGA, MANOBRA E DESCARGA DE SOLOS E MATERIAIS GRANULARES EM CAMINHÃO BASCULANTE 10 M³ - CARGA COM ESCAVADEIRA HIDRÁULICA (CAÇAMBA DE 1,20 M³ / 155 HP) E DESCARGA LIVRE (UNIDADE: M3). AF_07/2020 | D18: M3 | E18: 29.4 | F18: 5.85 | G18: 1.22 | H18: 7.07 | I18: 20.52 | L18: 8.52 | O18: 250.48
A19: SINAPI 05/24 | B19: 95875 | C19: TRANSPORTE COM CAMINHÃO BASCULANTE DE 10 M³, EM VIA URBANA PAVIMENTADA, DMT ATÉ 30 KM (UNIDADE: M3XKM). AF_07/2020 | D19: M3KM | E19: 882 | F19: 2.1 | G19: 0.37 | H19: 2.47 | I19: 20.52 | L19: 2.97 | O19: 2619.54
A20: SINAPI 05/24 | B20: 93382 | C20: REATERRO MANUAL DE VALAS, COM COMPACTADOR DE SOLOS DE PERCUSSÃO. AF_08/2023 | D20: M3 | E20: 59.99 | F20: 6.77 | G20: 20.49 | H20: 27.26 | I20: 20.52 | L20: 32.85 | O20: 1970.67
A21: SINAPI 05/24 | B21: 95601 | C21: ARRASAMENTO MECANICO DE ESTACA DE CONCRETO ARMADO, DIAMETROS DE ATÉ 40 CM. AF_05/2021 | D21: UN | E21: 43 | F21: 2.97 | G21: 14.56 | H21: 17.53 | I21: 20.52 | L21: 21.12 | O21: 908.16
A22: SINAPI 05/24 | B22: 96543 | C22: ARMAÇÃO DE BLOCO UTILIZANDO AÇO CA-60 DE 5 MM - MONTAGEM. AF_01/2024 | D22: KG | E22: 69.8 | F22: 10.44 | G22: 10.36 | H22: 20.8 | I22: 20.52 | L22: 25.06 | O22: 1749.18
A23: SINAPI 05/24 | B23: 96544 | C23: ARMAÇÃO DE BLOCO UTILIZANDO AÇO CA-50 DE 6,3 MM - MONTAGEM. AF_01/2024 | D23: KG | E23: 42.3 | F23: 10.83 | G23: 7.63 | H23: 18.46 | I23: 20.52 | L23: 22.24 | O23: 940.75
... A25: SINAPI 05/24 | B25: 96546 | C25: ARMAÇÃO DE BLOCO UTILIZANDO AÇO CA-50 DE 10 MM - MONTAGEM. AF_01/2024 | D25: KG | E25: 241.5 | F25: 10.06 | G25: 4.21 | H25: 14.27 | I25: 20.52 | L25: 17.19 | O25: 4151.38
A26: PRÓPRIA 12/23 | B26: CPU98858 | C26: COMP.1657 PróprioESTACA HÉLICE CONTÍNUA, DIÂMETRO DE 30 CM, INCLUSO CONCRETO FCK=30MPA COM BOMBEAMENTO E ARMADURA MÍNIMA (EXCLUSIVE MOBILIZAÇÃO E DESMOBILIZAÇÃO). | D26: M | E26: 559 | F26: =H26-G26 -> 59.685 | G26: =H26/2 -> 59.685 | H26: 119.37 | I26: 20.52 | L26: 143.86 | O26: 80417.74
A27: PRÓPRIA 12/23 | B27: CPU98427 | C27: COMP.1628 PróprioARMAÇÃO DE BLOCO, VIGA BALDRAME E SAPATA UTILIZANDO AÇO CA-60 DE 4.2 MM - MONTAGEM. | D27: KG | E27: 14.4 | F27: =H27-G27 -> 9.8 | G27: =H27/2 -> 9.8 | H27: 19.6 | I27: 20.52 | L27: 23.62 | O27: 340.12
A28: PRÓPRIA 12/23 | B28: CPU98135 | C28: COMP.1655 PróprioMOBILIZAÇÃO E DESMOBILIZAÇÃO DE EQUIPAMENTOS PARA ESTACA HÉLICE CONTÍNUA | D28: UN | E28: 1 | F28: =H28-G28 -> 7564.84 | G28: =H28/2 -> 7564.84 | H28: 15129.68 | I28: 20.52 | L28: 18234.29 | O28: 18234.29
A29: SINAPI 05/24 | B29: 96534 | C29: FABRICAÇÃO, MONTAGEM E DESMONTAGEM DE FÔRMA PARA BLOCO DE COROAMENTO, EM MADEIRA SERRADA, E=25 MM, 4 UTILIZAÇÕES. AF_01/2024 | D29: M2 | E29: 93.6 | F29: 34.57 | G29: 48.9 | H29: 83.47 | I29: 20.52 | L29: 100.59 | O29: 9415.22
A30: SINAPI 05/24 | B30: 95579 | C30: MONTAGEM DE ARMADURA DE ESTACAS, DIÂMETRO = 16,0 MM. AF_09/2021_PS | D30: KG | E30: 2646.9 | F30: 8.1 | G30: 0.37 | H30: 8.47 | I30: 20.52 | L30: 10.2 | O30: 26998.38
A31: SINAPI 05/24 | B31: 95584 | C31: MONTAGEM DE ARMADURA TRANSVERSAL DE ESTACAS DE SEÇÃO CIRCULAR, DIÂMETRO = 6,30 MM. AF_09/2021_PS | D31: KG | E31: 240.3 | F31: 10.12 | G31: 4.1 | H31: 14.22 | I31: 20.52 | L31: 17.13 | O31: 4116.33
A33: 02.02 - BALDRAMES
A34: Tabela de Origem | B34: Cód. Auxiliar | C34: Descrição do Serviço | D34: Unid. | E34: Quantidade | F34: Custo Unit. Material (R$) | G34: Custo Unit. MO (R$) | H34: Custo Unit. (R$) | I34: BDI(%) | J34: Preço unit MATERIAL (R$) | K34: Preço unit MO (R$) | L34: Preço Unit. (R$) | M34: Preço MATERIAL (R$) | N34: Preço MO(R$) | O34: Preço Total (R$)
A35: SINAPI 05/24 | B35: 104916 | C35: ARMAÇÃO DE SAPATA ISOLADA, VIGA BALDRAME E SAPATA CORRIDA UTILIZANDO AÇO CA-60 DE 5 MM - MONTAGEM. AF_01/2024 | D35: KG | E35: 198.9 | F35: 9.89 | G35: 7.42 | H35: 17.31 | I35: 20.52 | L35: 20.86 | O35: 4149.05
A36: SINAPI 05/24 | B36: 104917 | C36: ARMAÇÃO DE SAPATA ISOLADA, VIGA BALDRAME E SAPATA CORRIDA UTILIZANDO AÇO CA-50 DE 6,3 MM - MONTAGEM. AF_01/2024 | D36: KG | E36: 198.4 | F36: 10.42 | G36: 5.4 | H36: 15.82 | I36: 20.52 | L36: 19.06 | O36: 3781.5
A37: SINAPI 05/24 | B37: 104918 | C37: ARMAÇÃO DE SAPATA ISOLADA, VIGA BALDRAME E SAPATA CORRIDA UTILIZANDO AÇO CA-50 DE 8 MM - MONTAGEM. AF_01/2024 | D37: KG | E37: 78.4 | F37: 10.56 | G37: 3.95 | H37: 14.51 | I37: 20.52 | L37: 17.48 | O37: 1370.43
A38: SINAPI 05/24 | B38: 104919 | C38: ARMAÇÃO DE SAPATA ISOLADA, VIGA BALDRAME E SAPATA CORRIDA UTILIZANDO AÇO CA-50 DE 10 MM - MONTAGEM. AF_01/2024 | D38: KG | E38: 154.6 | F38: 9.87 | G38: 3 | H38: 12.87 | I38: 20.52 | L38: 15.51 | O38: 2397.84
A39: SINAPI 05/24 | B39: 104920 | C39: ARMAÇÃO DE BLOCO, SAPATA ISOLADA, VIGA BALDRAME E SAPATA CORRIDA UTILIZANDO AÇO CA-50 DE 12,5 MM - MONTAGEM. AF_01/2024 | D39: KG | E39: 473.3 | F39: 8.57 | G39: 2.32 | H39: 10.89 | I39: 20.52 | L39: 13.12 | O39: 6209.69
A40: SINAPI 05/24 | B40: 104921 | C40: ARMAÇÃO DE BLOCO, SAPATA ISOLADA, VIGA BALDRAME E SAPATA CORRIDA UTILIZANDO AÇO CA-50 DE 16 MM - MONTAGEM. AF_01/2024 | D40: KG | E40: 469.2 | F40: 8.47 | G40: 1.72 | H40: 10.19 | I40: 20.52 | L40: 12.28 | O40: 5761.77
A41: SINAPI 05/24 | B41: 96536 | C41: FABRICAÇÃO, MONTAGEM E DESMONTAGEM DE FÔRMA PARA VIGA BALDRAME, EM MADEIRA SERRADA, E=25 MM, 4 UTILIZAÇÕES. AF_01/2024 | D41: M2 | E41: 208.5 | F41: 31.87 | G41: 40.42 | H41: 72.29 | I41: 20.52 | L41: 87.12 | O41: 18164.52
A42: SINAPI 05/24 | B42: 96557 | C42: CONCRETAGEM DE BLOCO DE COROAMENTO OU VIGA BALDRAME, FCK 30 MPA, COM USO DE BOMBA - LANÇAMENTO, ADENSAMENTO E ACABAMENTO. AF_01/2024 | D42: M3 | E42: 17 | F42: 759.46 | G42: 18.25 | H42: 777.71 | I42: 20.52 | L42: 937.29 | O42: 15933.93
A44: 02.03 - LAJES
A45: Tabela de Origem | B45: Cód. Auxiliar | C45: Descrição do Serviço | D45: Unid. | E45: Quantidade | F45: Custo Unit. Material (R$) | G45: Custo Unit. MO (R$) | H45: Custo Unit. (R$) | I45: BDI(%) | J45: Preço unit MATERIAL (R$) | K45: Preço unit MO (R$) | L45: Preço Unit. (R$) | M45: Preço MATERIAL (R$) | N45: Preço MO(R$) | O45: Preço Total (R$)
A46: SINAPI 05/24 | B46: 92767 | C46: ARMAÇÃO DE LAJE DE ESTRUTURA CONVENCIONAL DE CONCRETO ARMADO UTILIZANDO AÇO CA-60 DE 4,2 MM - MONTAGEM. AF_06/2022 | D46: KG | E46: 339.7 | F46: 10.02 | G46: 5.91 | H46: 15.93 | I46: 20.52 | L46: 19.19 | O46: 6518.84
...
