Workbook

Sheet Proposta
B2: ESTADO DE SANTA CATARINA
A4: PROPOSTA DAS LICITANTES
A6: Obra: | B6: Elaboração de projetos básico e executivo de revitalização do pavimento da pista de pouso e decolagem, pista de táxi e pátio de estacionamento de aeronaves e implantação de taxiway para hangares, do Aeroporto de três Barras | H6: Data: ___ / ___ / ____
A7: Edital:
A8: Razão Social:
A9: CNPJ: | H9: Porcentagem de materiais (%) | I9: Porcentagem de mão de obra (%)
A10: BDI Administração Local (%): | B10: 0 | D10: BDI Diferenciado Referencial (%) : | E10: 0 | H10: =SUM(M:M)/O43 -> #DIV/0! | I10: =SUM(N:N)/O43 -> #DIV/0!
A11: BDI Diferenciado Referencial (%) : | B11: 0 | D11: BDI Diferenciado Referencial – Serviços Especializados (%) : | E11: 0
A17: 54 - Estudos e Projetos
A18: Tabela de Origem | B18: Cód Auxiliar | C18: Descrição do Serviço | D18: Unid. | E18: Quantidade | F18: Custo Unit. Material (R$) | G18: Custo Unit. MO (R$) | H18: Custo Unit. (R$) | I18: BDI (%) | J18: Preço Unit Material (R$) | K18: Preço Unit MO (R$) | L18: Preço Unit. (R$) | M18: Preço MATERIAL (R$) | N18: Preço MO (R$) | O18: Preço Total (R$) | P18: Verificação $+5% | Q18: Proposta x Referência
A19: Tabela Referencial de Preços SICRO Outubro 2024 - Onerada | C19: Estudos e Projetos
A20: Tabela Referencial de Preços SICRO Outubro 2024 - Onerada | C20: Pessoal
A21: Tabela Referencial de Preços SICRO Outubro 2024 - Onerada | B21: CPU125689 | C21: Engenheiro de projetos pleno - Projetos | D21: MES | E21: 3.5 | J21: =F21+(I21/100*F21) -> 0 | K21: =G21+(I21/100*G21) -> 0 | L21: =TRUNC(J21+K21,2) -> 0 | M21: =IF((J21+K21), TRUNC((J21/(J21+K21)*O21),2), 0) -> 0 | N21: =IF((J21+K21), TRUNC((K21/(J21+K21)*O21),2), 0) -> 0 | O21: =TRUNC(L21*E21,2) -> 0 | P21: =IF(O21<=(Relatório!O21*1.05),"PREÇO VÁLIDO","PREÇO INVÁLIDO") -> PREÇO VÁLIDO | Q21: =IF(Relatório!O21=0, -1, (O21/Relatório!O21)-1) -> -1
A22: Tabela Referencial de Preços SICRO Outubro 2024 - Onerada | B22: CPU125690 | C22: Engenheiro de projetos júnior - Projetos | D22: MES | E22: 7 | J22: =F22+(I22/100*F22) -> 0 | K22: =G22+(I22/100*G22) -> 0 | L22: =TRUNC(J22+K22,2) -> 0 | M22: =IF((J22+K22), TRUNC((J22/(J22+K22)*O22),2), 0) -> 0 | N22: =IF((J22+K22), TRUNC((K22/(J22+K22)*O22),2), 0) -> 0 | O22: =TRUNC(L22*E22,2) -> 0 | P22: =IF(O22<=(Relatório!O22*1.05),"PREÇO VÁLIDO","PREÇO INVÁLIDO") -> PREÇO VÁLIDO | Q22: =IF(Relatório!O22=0, -1, (O22/Relatório!O22)-1) -> -1
A23: Tabela Referencial de Preços SICRO Outubro 2024 - Onerada | B23: CPU125691 | C23: Cadista | D23: MES | E23: 7 | J23: =F23+(I23/100*F23) -> 0 | K23: =G23+(I23/100*G23) -> 0 | L23: =TRUNC(J23+K23,2) -> 0 | M23: =IF((J23+K23), TRUNC((J23/(J23+K23)*O23),2), 0) -> 0 | N23: =IF((J23+K23), TRUNC((K23/(J23+K23)*O23),2), 0) -> 0 | O23: =TRUNC(L23*E23,2) -> 0 | P23: =IF(O23<=(Relatório!O23*1.05),"PREÇO VÁLIDO","PREÇO INVÁLIDO") -> PREÇO VÁLIDO | Q23: =IF(Relatório!O23=0, -1, (O23/Relatório!O23)-1) -> -1
A24: Tabela Referencial de Preços SICRO Outubro 2024 - Onerada | B24: CPU125692 | C24: Laboratorista | D24: MES | E24: 1 | J24: =F24+(I24/100*F24) -> 0 | K24: =G24+(I24/100*G24) -> 0 | L24: =TRUNC(J24+K24,2) -> 0 | M24: =IF((J24+K24), TRUNC((J24/(J24+K24)*O24),2), 0) -> 0 | N24: =IF((J24+K24), TRUNC((K24/(J24+K24)*O24),2), 0) -> 0 | O24: =TRUNC(L24*E24,2) -> 0 | P24: =IF(O24<=(Relatório!O24*1.05),"PREÇO VÁLIDO","PREÇO INVÁLIDO") -> PREÇO VÁLIDO | Q24: =IF(Relatório!O24=0, -1, (O24/Relatório!O24)-1) -> -1
A25: Tabela Referencial de Preços SICRO Outubro 2024 - Onerada | B25: CPU125693 | C25: Auxiliar de Laboratorista | D25: MES | E25: 1 | J25: =F25+(I25/100*F25) -> 0 | K25: =G25+(I25/100*G25) -> 0 | L25: =TRUNC(J25+K25,2) -> 0 | M25: =IF((J25+K25), TRUNC((J25/(J25+K25)*O25),2), 0) -> 0 | N25: =IF((J25+K25), TRUNC((K25/(J25+K25)*O25),2), 0) -> 0 | O25: =TRUNC(L25*E25,2) -> 0 | P25: =IF(O25<=(Relatório!O25*1.05),"PREÇO VÁLIDO","PREÇO INVÁLIDO") -> PREÇO VÁLIDO | Q25: =IF(Relatório!O25=0, -1, (O25/Relatório!O25)-1) -> -1
A26: Tabela Referencial de Preços SICRO Outubro 2024 - Onerada | B26: CPU125694 | C26: Topógrafo | D26: MES | E26: 1 | J26: =F26+(I26/100*F26) -> 0 | K26: =G26+(I26/100*G26) -> 0 | L26: =TRUNC(J26+K26,2) -> 0 | M26: =IF((J26+K26), TRUNC((J26/(J26+K26)*O26),2), 0) -> 0 | N26: =IF((J26+K26), TRUNC((K26/(J26+K26)*O26),2), 0) -> 0 | O26: =TRUNC(L26*E26,2) -> 0 | P26: =IF(O26<=(Relatório!O26*1.05),"PREÇO VÁLIDO","PREÇO INVÁLIDO") -> PREÇO VÁLIDO | Q26: =IF(Relatório!O26=0, -1, (O26/Relatório!O26)-1) -> -1
A27: Tabela Referencial de Preços SICRO Outubro 2024 - Onerada | B27: CPU125695 | C27: Auxiliar de Topografia | D27: MES | E27: 1 | J27: =F27+(I27/100*F27) -> 0 | K27: =G27+(I27/100*G27) -> 0 | L27: =TRUNC(J27+K27,2) -> 0 | M27: =IF((J27+K27), TRUNC((J27/(J27+K27)*O27),2), 0) -> 0 | N27: =IF((J27+K27), TRUNC((K27/(J27+K27)*O27),2), 0) -> 0 | O27: =TRUNC(L27*E27,2) -> 0 | P27: =IF(O27<=(Relatório!O27*1.05),"PREÇO VÁLIDO","PREÇO INVÁLIDO") -> PREÇO VÁLIDO | Q27: =IF(Relatório!O27=0, -1, (O27/Relatório!O27)-1) -> -1
A28: Tabela Referencial de Preços SICRO Outubro 2024 - Onerada | C28: Instalações Físicas | E28: 0 | P28: =IF(O28<=(Relatório!O28*1.05),"PREÇO VÁLIDO","PREÇO INVÁLIDO") -> PREÇO VÁLIDO | Q28: =IF(Relatório!O28=0, -1, (O28/Relatório!O28)-1) -> -1
A29: Tabela Referencial de Preços SICRO Outubro 2024 - Onerada | B29: CPU125696 | C29: Escritório | D29: MES | E29: 7 | J29: =F29+(I29/100*F29) -> 0 | K29: =G29+(I29/100*G29) -> 0 | L29: =TRUNC(J29+K29,2) -> 0 | M29: =IF((J29+K29), TRUNC((J29/(J29+K29)*O29),2), 0) -> 0 | N29: =IF((J29+K29), TRUNC((K29/(J29+K29)*O29),2), 0) -> 0 | O29: =TRUNC(L29*E29,2) -> 0 | P29: =IF(O29<=(Relatório!O29*1.05),"PREÇO VÁLIDO","PREÇO INVÁLIDO") -> PREÇO VÁLIDO | Q29: =IF(Relatório!O29=0, -1, (O29/Relatório!O29)-1) -> -1
A30: Tabela Referencial de Preços SICRO Outubro 2024 - Onerada | B30: CPU125697 | C30: Laboratório | D30: MES | E30: 1 | J30: =F30+(I30/100*F30) -> 0 | K30: =G30+(I30/100*G30) -> 0 | L30: =TRUNC(J30+K30,2) -> 0 | M30: =IF((J30+K30), TRUNC((J30/(J30+K30)*O30),2), 0) -> 0 | N30: =IF((J30+K30), TRUNC((K30/(J30+K30)*O30),2), 0) -> 0 | O30: =TRUNC(L30*E30,2) -> 0 | P30: =IF(O30<=(Relatório!O30*1.05),"PREÇO VÁLIDO","PREÇO INVÁLIDO") -> PREÇO VÁLIDO | Q30: =IF(Relatório!O30=0, -1, (O30/Relatório!O30)-1) -> -1
A31: Tabela Referencial de Preços SICRO Outubro 2024 - Onerada | C31: Mobiliários | E31: 0 | P31: =IF(O31<=(Relatório!O31*1.05),"PREÇO VÁLIDO","PREÇO INVÁLIDO") -> PREÇO VÁLIDO | Q31: =IF(Relatório!O31=0, -1, (O31/Relatório!O31)-1) -> -1
A32: Tabela Referencial de Preços SICRO Outubro 2024 - Onerada | B32: CPU125698 | C32: Escritório | D32: MES | E32: 7 | J32: =F32+(I32/100*F32) -> 0 | K32: =G32+(I32/100*G32) -> 0 | L32: =TRUNC(J32+K32,2) -> 0 | M32: =IF((J32+K32), TRUNC((J32/(J32+K32)*O32),2), 0) -> 0 | N32: =IF((J32+K32), TRUNC((K32/(J32+K32)*O32),2), 0) -> 0 | O32: =TRUNC(L32*E32,2) -> 0 | P32: =IF(O32<=(Relatório!O32*1.05),"PREÇO VÁLIDO","PREÇO INVÁLIDO") -> PREÇO VÁLIDO | Q32: =IF(Relatório!O32=0, -1, (O32/Relatório!O32)-1) -> -1
A33: Tabela Referencial de Preços SICRO Outubro 2024 - Onerada | C33: Cesta das Instalações | E33: 0 | P33: =IF(O33<=(Relatório!O33*1.05),"PREÇO VÁLIDO","PREÇO INVÁLIDO") -> PREÇO VÁLIDO | Q33: =IF(Relatório!O33=0, -1, (O33/Relatório!O33)-1) -> -1
A34: Tabela Referencial de Preços SICRO Outubro 2024 - Onerada | B34: CPU125699 | C34: Laboratório de asfalto | D34: MES | E34: 1 | J34: =F34+(I34/100*F34) -> 0 | K34: =G34+(I34/100*G34) -> 0 | L34: =TRUNC(J34+K34,2) -> 0 | M34: =IF((J34+K34), TRUNC((J34/(J34+K34)*O34),2), 0) -> 0 | N34: =IF((J34+K34), TRUNC((K34/(J34+K34)*O34),2), 0) -> 0 | O34: =TRUNC(L34*E34,2) -> 0 | P34: =IF(O34<=(Relatório!O34*1.05),"PREÇO VÁLIDO","PREÇO INVÁLIDO") -> PREÇO VÁLIDO | Q34: =IF(Relatório!O34=0, -1, (O34/Relatório!O34)-1) -> -1
A35: Tabela Referencial de Preços SICRO Outubro 2024 - Onerada | B35: CPU125700 | C35: Laboratório de solos | D35: MES | E35: 1 | J35: =F35+(I35/100*F35) -> 0 | K35: =G35+(I35/100*G35) -> 0 | L35: =TRUNC(J35+K35,2) -> 0 | M35: =IF((J35+K35), TRUNC((J35/(J35+K35)*O35),2), 0) -> 0 | N35: =IF((J35+K35), TRUNC((K35/(J35+K35)*O35),2), 0) -> 0 | O35: =TRUNC(L35*E35,2) -> 0 | P35: =IF(O35<=(Relatório!O35*1.05),"PREÇO VÁLIDO","PREÇO INVÁLIDO") -> PREÇO VÁLIDO | Q35: =IF(Relatório!O35=0, -1, (O35/Relatório!O35)-1) -> -1
A36: Tabela Referencial de Preços SICRO Outubro 2024 - Onerada | B36: CPU125701 | C36: Topografia | D36: MES | E36: 1 | J36: =F36+(I36/100*F36) -> 0 | K36: =G36+(I36/100*G36) -> 0 | L36: =TRUNC(J36+K36,2) -> 0 | M36: =IF((J36+K36), TRUNC((J36/(J36+K36)*O36),2), 0) -> 0 | N36: =IF((J36+K36), TRUNC((K36/(J36+K36)*O36),2), 0) -> 0 | O36: =TRUNC(L36*E36,2) -> 0 | P36: =IF(O36<=(Relatório!O36*1.05),"PREÇO VÁLIDO","PREÇO INVÁLIDO") -> PREÇO VÁLIDO | Q36: =IF(Relatório!O36=0, -1, (O36/Relatório!O36)-1) -> -1
A37: Tabela Referencial de Preços SICRO Outubro 2024 - Onerada | C37: Custos Diversos | E37: 0 | P37: =IF(O37<=(Relatório!O37*1.05),"PREÇO VÁLIDO","PREÇO INVÁLIDO") -> PREÇO VÁLIDO | Q37: =IF(Relatório!O37=0, -1, (O37/Relatório!O37)-1) -> -1
A38: Tabela Referencial de Preços SICRO Outubro 2024 - Onerada | B38: CPU125702 | C38: Escritório | D38: MES | E38: 7 | J38: =F38+(I38/100*F38) -> 0 | K38: =G38+(I38/100*G38) -> 0 | L38: =TRUNC(J38+K38,2) -> 0 | M38: =IF((J38+K38), TRUNC((J38/(J38+K38)*O38),2), 0) -> 0 | N38: =IF((J38+K38), TRUNC((K38/(J38+K38)*O38),2), 0) -> 0 | O38: =TRUNC(L38*E38,2) -> 0 | P38: =IF(O38<=(Relatório!O38*1.05),"PREÇO VÁLIDO","PREÇO INVÁLIDO") -> PREÇO VÁLIDO | Q38: =IF(Relatório!O38=0, -1, (O38/Relatório!O38)-1) -> -1
A39: Tabela Referencial de Preços SICRO Outubro 2024 - Onerada | C39: Veículo | E39: 0 | P39: =IF(O39<=(Relatório!O39*1.05),"PREÇO VÁLIDO","PREÇO INVÁLIDO") -> PREÇO VÁLIDO | Q39: =IF(Relatório!O39=0, -1, (O39/Relatório!O39)-1) -> -1
A40: Tabela Referencial de Preços SICRO Outubro 2024 - Onerada | B40: CPU125703 | C40: Veículo Leve - 53kW sem motorista (Laboratório) | D40: MES | E40: 1 | J40: =F40+(I40/100*F40) -> 0 | K40: =G40+(I40/100*G40) -> 0 | L40: =TRUNC(J40+K40,2) -> 0 | M40: =IF((J40+K40), TRUNC((J40/(J40+K40)*O40),2), 0) -> 0 | N40: =IF((J40+K40), TRUNC((K40/(J40+K40)*O40),2), 0) -> 0 | O40: =TRUNC(L40*E40,2) -> 0 | P40: =IF(O40<=(Relatório!O40*1.05),"PREÇO VÁLIDO","PREÇO INVÁLIDO") -> PREÇO VÁLIDO | Q40: =IF(Relatório!O40=0, -1, (O40/Relatório!O40)-1) -> -1
A41: Tabela Referencial de Preços SICRO Outubro 2024 - Onerada | B41: CPU125704 | C41: Veículo Leve - 53kW sem motorista (Topografia- equipe 1) | D41: MES | E41: 1 | J41: =F41+(I41/100*F41) -> 0 | K41: =G41+(I41/100*G41) -> 0 | L41: =TRUNC(J41+K41,2) -> 0 | M41: =IF((J41+K41), TRUNC((J41/(J41+K41)*O41),2), 0) -> 0 | N41: =IF((J41+K41), TRUNC((K41/(J41+K41)*O41),2), 0) -> 0 | O41: =TRUNC(L41*E41,2) -> 0 | P41: =IF(O41<=(Relatório!O41*1.05),"PREÇO VÁLIDO","PREÇO INVÁLIDO") -> PREÇO VÁLIDO | Q41: =IF(Relatório!O41=0, -1, (O41/Relatório!O41)-1) -> -1
A42: Total do Grupo: | O42: =ROUND(SUM(O17:O41), 2) -> 0
A43: Total da Proposta: | O43: =SUM(O42) -> 0
A45: =CONCATENATE("Importa o presente valor total proposto em: ", TEXT(SUM(O42), "R$ #.###,#0")) -> Importa o presente valor total proposto em: R$ ,0
B47: Sistema Integrado de Controle de Obras Públicas
B48: Emitido em: 16/06/2025

Sheet Referencial
B2: ESTADO DE SANTA CATARINA
A4: PROPOSTA DAS LICITANTES
A6: Obra: | B6: Elaboração de projetos básico e executivo de revitalização do pavimento da pista de pouso e decolagem, pista de táxi e pátio de estacionamento de aeronaves e implantação de taxiway para hangares, do Aeroporto de três Barras | H6: Data: ___ / ___ / ____
A7: Edital:
A8: Razão Social:
A9: CNPJ: | H9: Porcentagem de materiais (%) | I9: Porcentagem de mão de obra (%)
A10: BDI Administração Local (%): | B10: 0 | D10: BDI Diferenciado Referencial (%) : | E10: 0 | H10: =SUM(M:M)/O43 -> 0 | I10: =SUM(N:N)/O43 -> 1
A11: BDI Diferenciado Referencial (%) : | B11: 0 | D11: BDI Diferenciado Referencial – Serviços Especializados (%) : | E11: 0
A17: 54 - Estudos e Projetos
A18: Tabela de Origem | B18: Cód Auxiliar | C18: Descrição do Serviço | D18: Unid. | E18: Quantidade | F18: Custo Unit. Material (R$) | G18: Custo Unit. MO (R$) | H18: Custo Unit. (R$) | I18: BDI (%) | J18: Preço Unit Material (R$) | K18: Preço Unit MO (R$) | L18: Preço Unit. (R$) | M18: Preço MATERIAL (R$) | N18: Preço MO (R$) | O18: Preço Total (R$) | P18: Verificação $+5% | Q18: Proposta x Referência
A19: Tabela Referencial de Preços SICRO Outubro 2024 - Onerada | C19: Estudos e Projetos | E19: 0 | P19: =IF(O19<=(Relatório!O19*1.05),"PREÇO VÁLIDO","PREÇO INVÁLIDO") -> PREÇO VÁLIDO
A20: Tabela Referencial de Preços SICRO Outubro 2024 - Onerada | C20: Pessoal | E20: 0 | P20: =IF(O20<=(Relatório!O20*1.05),"PREÇO VÁLIDO","PREÇO INVÁLIDO") -> PREÇO VÁLIDO
A21: Tabela Referencial de Preços SICRO Outubro 2024 - Onerada | B21: CPU125689 | C21: Engenheiro de projetos pleno - Projetos | D21: MES | E21: 3.5 | F21: 0 | G21: 30035.945 | H21: 0 | I21: 42.66 | J21: =TRUNC(F21+(I21/100*F21),2) -> 0 | K21: =TRUNC(G21+(I21/100*G21),2) -> 42849.27 | L21: =TRUNC(J21+K21,2) -> 42849.27 | M21: =IF((J21+K21), TRUNC((J21/(J21+K21)*O21),2), 0) -> 0 | N21: =IF((J21+K21), TRUNC((K21/(J21+K21)*O21),2), 0) -> 149972.44 | O21: =TRUNC(L21*E21,2) -> 149972.44 | P21: =IF(O21<=(Relatório!O21*1.05),"PREÇO VÁLIDO","PREÇO INVÁLIDO") -> PREÇO VÁLIDO
A22: Tabela Referencial de Preços SICRO Outubro 2024 - Onerada | B22: CPU125690 | C22: Engenheiro de projetos júnior - Projetos | D22: MES | E22: 7 | F22: 0 | G22: 22647.345 | H22: 0 | I22: 42.66 | J22: =TRUNC(F22+(I22/100*F22),2) -> 0 | K22: =TRUNC(G22+(I22/100*G22),2) -> 32308.7 | L22: =TRUNC(J22+K22,2) -> 32308.7 | M22: =IF((J22+K22), TRUNC((J22/(J22+K22)*O22),2), 0) -> 0 | N22: =IF((J22+K22), TRUNC((K22/(J22+K22)*O22),2), 0) -> 226160.9 | O22: =TRUNC(L22*E22,2) -> 226160.9 | P22: =IF(O22<=(Relatório!O22*1.05),"PREÇO VÁLIDO","PREÇO INVÁLIDO") -> PREÇO VÁLIDO
A23: Tabela Referencial de Preços SICRO Outubro 2024 - Onerada | B23: CPU125691 | C23: Cadista | D23: MES | E23: 7 | F23: 0 | G23: 8271.115 | H23: 0 | I23: 42.66 | J23: =TRUNC(F23+(I23/100*F23),2) -> 0 | K23: =TRUNC(G23+(I23/100*G23),2) -> 11799.57 | L23: =TRUNC(J23+K23,2) -> 11799.57 | M23: =IF((J23+K23), TRUNC((J23/(J23+K23)*O23),2), 0) -> 0 | N23: =IF((J23+K23), TRUNC((K23/(J23+K23)*O23),2), 0) -> 82596.99 | O23: =TRUNC(L23*E23,2) -> 82596.99 | P23: =IF(O23<=(Relatório!O23*1.05),"PREÇO VÁLIDO","PREÇO INVÁLIDO") -> PREÇO VÁLIDO
A24: Tabela Referencial de Preços SICRO Outubro 2024 - Onerada | B24: CPU125692 | C24: Laboratorista | D24: MES | E24: 1 | F24: 0 | G24: 5447.285 | H24: 0 | I24: 42.66 | J24: =TRUNC(F24+(I24/100*F24),2) -> 0 | K24: =TRUNC(G24+(I24/100*G24),2) -> 7771.09 | L24: =TRUNC(J24+K24,2) -> 7771.09 | M24: =IF((J24+K24), TRUNC((J24/(J24+K24)*O24),2), 0) -> 0 | N24: =IF((J24+K24), TRUNC((K24/(J24+K24)*O24),2), 0) -> 7771.09 | O24: =TRUNC(L24*E24,2) -> 7771.09 | P24: =IF(O24<=(Relatório!O24*1.05),"PREÇO VÁLIDO","PREÇO INVÁLIDO") -> PREÇO VÁLIDO
A25: Tabela Referencial de Preços SICRO Outubro 2024 - Onerada | B25: CPU125693 | C25: Auxiliar de Laboratorista | D25: MES | E25: 1 | F25: 0 | G25: 4415.635 | H25: 0 | I25: 42.66 | J25: =TRUNC(F25+(I25/100*F25),2) -> 0 | K25: =TRUNC(G25+(I25/100*G25),2) -> 6299.34 | L25: =TRUNC(J25+K25,2) -> 6299.34 | M25: =IF((J25+K25), TRUNC((J25/(J25+K25)*O25),2), 0) -> 0 | N25: =IF((J25+K25), TRUNC((K25/(J25+K25)*O25),2), 0) -> 6299.34 | O25: =TRUNC(L25*E25,2) -> 6299.34 | P25: =IF(O25<=(Relatório!O25*1.05),"PREÇO VÁLIDO","PREÇO INVÁLIDO") -> PREÇO VÁLIDO
A26: Tabela Referencial de Preços SICRO Outubro 2024 - Onerada | B26: CPU125694 | C26: Topógrafo | D26: MES | E26: 1 | F26: 0 | G26: 5618.85 | H26: 0 | I26: 42.66 | J26: =TRUNC(F26+(I26/100*F26),2) -> 0 | K26: =TRUNC(G26+(I26/100*G26),2) -> 8015.85 | L26: =TRUNC(J26+K26,2) -> 8015.85 | M26: =IF((J26+K26), TRUNC((J26/(J26+K26)*O26),2), 0) -> 0 | N26: =IF((J26+K26), TRUNC((K26/(J26+K26)*O26),2), 0) -> 8015.85 | O26: =TRUNC(L26*E26,2) -> 8015.85 | P26: =IF(O26<=(Relatório!O26*1.05),"PREÇO VÁLIDO","PREÇO INVÁLIDO") -> PREÇO VÁLIDO
A27: Tabela Referencial de Preços SICRO Outubro 2024 - Onerada | B27: CPU125695 | C27: Auxiliar de Topografia | D27: MES | E27: 1 | F27: 0 | G27: 4117.92 | H27: 0 | I27: 42.66 | J27: =TRUNC(F27+(I27/100*F27),2) -> 0 | K27: =TRUNC(G27+(I27/100*G27),2) -> 5874.62 | L27: =TRUNC(J27+K27,2) -> 5874.62 | M27: =IF((J27+K27), TRUNC((J27/(J27+K27)*O27),2), 0) -> 0 | N27: =IF((J27+K27), TRUNC((K27/(J27+K27)*O27),2), 0) -> 5874.62 | O27: =TRUNC(L27*E27,2) -> 5874.62 | P27: =IF(O27<=(Relatório!O27*1.05),"PREÇO VÁLIDO","PREÇO INVÁLIDO") -> PREÇO VÁLIDO
A28: Tabela Referencial de Preços SICRO Outubro 2024 - Onerada | C28: Instalações Físicas | E28: 0 | P28: =IF(O28<=(Relatório!O28*1.05),"PREÇO VÁLIDO","PREÇO INVÁLIDO") -> PREÇO VÁLIDO
A29: Tabela Referencial de Preços SICRO Outubro 2024 - Onerada | B29: CPU125696 | C29: Escritório | D29: MES | E29: 7 | F29: 0 | G29: 2056.465 | H29: 0 | I29: 42.66 | J29: =TRUNC(F29+(I29/100*F29),2) -> 0 | K29: =TRUNC(G29+(I29/100*G29),2) -> 2933.75 | L29: =TRUNC(J29+K29,2) -> 2933.75 | M29: =IF((J29+K29), TRUNC((J29/(J29+K29)*O29),2), 0) -> 0 | N29: =IF((J29+K29), TRUNC((K29/(J29+K29)*O29),2), 0) -> 20536.25 | O29: =TRUNC(L29*E29,2) -> 20536.25 | P29: =IF(O29<=(Relatório!O29*1.05),"PREÇO VÁLIDO","PREÇO INVÁLIDO") -> PREÇO VÁLIDO
A30: Tabela Referencial de Preços SICRO Outubro 2024 - Onerada | B30: CPU125697 | C30: Laboratório | D30: MES | E30: 1 | F30: 0 | G30: 569.79 | H30: 0 | I30: 42.66 | J30: =TRUNC(F30+(I30/100*F30),2) -> 0 | K30: =TRUNC(G30+(I30/100*G30),2) -> 812.86 | L30: =TRUNC(J30+K30,2) -> 812.86 | M30: =IF((J30+K30), TRUNC((J30/(J30+K30)*O30),2), 0) -> 0 | N30: =IF((J30+K30), TRUNC((K30/(J30+K30)*O30),2), 0) -> 812.86 | O30: =TRUNC(L30*E30,2) -> 812.86 | P30: =IF(O30<=(Relatório!O30*1.05),"PREÇO VÁLIDO","PREÇO INVÁLIDO") -> PREÇO VÁLIDO
A31: Tabela Referencial de Preços SICRO Outubro 2024 - Onerada | C31: Mobiliários | E31: 0 | P31: =IF(O31<=(Relatório!O31*1.05),"PREÇO VÁLIDO","PREÇO INVÁLIDO") -> PREÇO VÁLIDO
A32: Tabela Referencial de Preços SICRO Outubro 2024 - Onerada | B32: CPU125698 | C32: Escritório | D32: MES | E32: 7 | F32: 0 | G32: 1369.86 | H32: 0 | I32: 42.66 | J32: =TRUNC(F32+(I32/100*F32),2) -> 0 | K32: =TRUNC(G32+(I32/100*G32),2) -> 1954.24 | L32: =TRUNC(J32+K32,2) -> 1954.24 | M32: =IF((J32+K32), TRUNC((J32/(J32+K32)*O32),2), 0) -> 0 | N32: =IF((J32+K32), TRUNC((K32/(J32+K32)*O32),2), 0) -> 13679.68 | O32: =TRUNC(L32*E32,2) -> 13679.68 | P32: =IF(O32<=(Relatório!O32*1.05),"PREÇO VÁLIDO","PREÇO INVÁLIDO") -> PREÇO VÁLIDO
A33: Tabela Referencial de Preços SICRO Outubro 2024 - Onerada | C33: Cesta das Instalações | E33: 0 | P33: =IF(O33<=(Relatório!O33*1.05),"PREÇO VÁLIDO","PREÇO INVÁLIDO") -> PREÇO VÁLIDO
A34: Tabela Referencial de Preços SICRO Outubro 2024 - Onerada | B34: CPU125699 | C34: Laboratório de asfalto | D34: MES | E34: 1 | F34: 0 | G34: 5630.035 | H34: 0 | I34: 42.66 | J34: =TRUNC(F34+(I34/100*F34),2) -> 0 | K34: =TRUNC(G34+(I34/100*G34),2) -> 8031.8 | L34: =TRUNC(J34+K34,2) -> 8031.8 | M34: =IF((J34+K34), TRUNC((J34/(J34+K34)*O34),2), 0) -> 0 | N34: =IF((J34+K34), TRUNC((K34/(J34+K34)*O34),2), 0) -> 8031.8 | O34: =TRUNC(L34*E34,2) -> 8031.8 | P34: =IF(O34<=(Relatório!O34*1.05),"PREÇO VÁLIDO","PREÇO INVÁLIDO") -> PREÇO VÁLIDO
A35: Tabela Referencial de Preços SICRO Outubro 2024 - Onerada | B35: CPU125700 | C35: Laboratório de solos | D35: MES | E35: 1 | F35: 0 | G35: 3451.735 | H35: 0 | I35: 42.66 | J35: =TRUNC(F35+(I35/100*F35),2) -> 0 | K35: =TRUNC(G35+(I35/100*G35),2) -> 4924.24 | L35: =TRUNC(J35+K35,2) -> 4924.24 | M35: =IF((J35+K35), TRUNC((J35/(J35+K35)*O35),2), 0) -> 0 | N35: =IF((J35+K35), TRUNC((K35/(J35+K35)*O35),2), 0) -> 4924.24 | O35: =TRUNC(L35*E35,2) -> 4924.24 | P35: =IF(O35<=(Relatório!O35*1.05),"PREÇO VÁLIDO","PREÇO INVÁLIDO") -> PREÇO VÁLIDO
A36: Tabela Referencial de Preços SICRO Outubro 2024 - Onerada | B36: CPU125701 | C36: Topografia | D36: MES | E36: 1 | F36: 0 | G36: 4293.625 | H36: 0 | I36: 42.66 | J36: =TRUNC(F36+(I36/100*F36),2) -> 0 | K36: =TRUNC(G36+(I36/100*G36),2) -> 6125.28 | L36: =TRUNC(J36+K36,2) -> 6125.28 | M36: =IF((J36+K36), TRUNC((J36/(J36+K36)*O36),2), 0) -> 0 | N36: =IF((J36+K36), TRUNC((K36/(J36+K36)*O36),2), 0) -> 6125.28 | O36: =TRUNC(L36*E36,2) -> 6125.28 | P36: =IF(O36<=(Relatório!O36*1.05),"PREÇO VÁLIDO","PREÇO INVÁLIDO") -> PREÇO VÁLIDO
A37: Tabela Referencial de Preços SICRO Outubro 2024 - Onerada | C37: Custos Diversos | E37: 0 | P37: =IF(O37<=(Relatório!O37*1.05),"PREÇO VÁLIDO","PREÇO INVÁLIDO") -> PREÇO VÁLIDO
A38: Tabela Referencial de Preços SICRO Outubro 2024 - Onerada | B38: CPU125702 | C38: Escritório | D38: MES | E38: 7 | F38: 0 | G38: 408.575 | H38: 0 | I38: 42.66 | J38: =TRUNC(F38+(I38/100*F38),2) -> 0 | K38: =TRUNC(G38+(I38/100*G38),2) -> 582.87 | L38: =TRUNC(J38+K38,2) -> 582.87 | M38: =IF((J38+K38), TRUNC((J38/(J38+K38)*O38),2), 0) -> 0 | N38: =IF((J38+K38), TRUNC((K38/(J38+K38)*O38),2), 0) -> 4080.09 | O38: =TRUNC(L38*E38,2) -> 4080.09 | P38: =IF(O38<=(Relatório!O38*1.05),"PREÇO VÁLIDO","PREÇO INVÁLIDO") -> PREÇO VÁLIDO
A39: Tabela Referencial de Preços SICRO Outubro 2024 - Onerada | C39: Veículo | E39: 0 | P39: =IF(O39<=(Relatório!O39*1.05),"PREÇO VÁLIDO","PREÇO INVÁLIDO") -> PREÇO VÁLIDO
A40: Tabela Referencial de Preços SICRO Outubro 2024 - Onerada | B40: CPU125703 | C40: Veículo Leve - 53kW sem motorista (Laboratório) | D40: MES | E40: 1 | F40: 0 | G40: 3089.55 | H40: 0 | I40: 42.66 | J40: =TRUNC(F40+(I40/100*F40),2) -> 0 | K40: =TRUNC(G40+(I40/100*G40),2) -> 4407.55 | L40: =TRUNC(J40+K40,2) -> 4407.55 | M40: =IF((J40+K40), TRUNC((J40/(J40+K40)*O40),2), 0) -> 0 | N40: =IF((J40+K40), TRUNC((K40/(J40+K40)*O40),2), 0) -> 4407.55 | O40: =TRUNC(L40*E40,2) -> 4407.55 | P40: =IF(O40<=(Relatório!O40*1.05),"PREÇO VÁLIDO","PREÇO INVÁLIDO") -> PREÇO VÁLIDO
A41: Tabela Referencial de Preços SICRO Outubro 2024 - Onerada | B41: CPU125704 | C41: Veículo Leve - 53kW sem motorista (Topografia- equipe 1) | D41: MES | E41: 1 | F41: 0 | G41: 3089.285 | H41: 0 | I41: 42.66 | J41: =TRUNC(F41+(I41/100*F41),2) -> 0 | K41: =TRUNC(G41+(I41/100*G41),2) -> 4407.17 | L41: =TRUNC(J41+K41,2) -> 4407.17 | M41: =IF((J41+K41), TRUNC((J41/(J41+K41)*O41),2), 0) -> 0 | N41: =IF((J41+K41), TRUNC((K41/(J41+K41)*O41),2), 0) -> 4407.17 | O41: =TRUNC(L41*E41,2) -> 4407.17 | P41: =IF(O41<=(Relatório!O41*1.05),"PREÇO VÁLIDO","PREÇO INVÁLIDO") -> PREÇO VÁLIDO
A42: Total do Grupo: | O42: =SUM(O17:O41) -> 553696.15
A43: Total da Proposta: | O43: =SUM(O42) -> 553696.15
A45: =CONCATENATE("Importa o presente valor total proposto em: ", TEXT(SUM(O42), "R$ #.###,#0")) -> Importa o presente valor total proposto em: R$ 553.696,15
B47: Sistema Integrado de Controle de Obras Públicas
B48: Emitido em: 16/06/2025

Sheet Relatório
B2: ESTADO DE SANTA CATARINA
A4: PROPOSTA DAS LICITANTES
A6: Obra: | B6: Elaboração de projetos básico e executivo de revitalização do pavimento da pista de pouso e decolagem, pista de táxi e pátio de estacionamento de aeronaves e implantação de taxiway para hangares, do Aeroporto de três Barras | H6: Data: ___ / ___ / ____
A7: Edital:
A8: Razão Social:
A9: CNPJ: | H9: Porcentagem de materiais (%) | I9: Porcentagem de mão de obra (%)
A10: BDI Administração Local (%): | B10: 0 | D10: BDI Diferenciado Referencial (%) : | E10: 0 | H10: =SUM(M:M)/O43 -> 0 | I10: =SUM(N:N)/O43 -> 1
A11: BDI Diferenciado Referencial (%) : | B11: 0 | D11: BDI Diferenciado Referencial – Serviços Especializados (%) : | E11: 0
A17: 54 - Estudos e Projetos
A18: Tabela de Origem | B18: Cód Auxiliar | C18: Descrição do Serviço | D18: Unid. | E18: Quantidade | F18: Custo Unit. Material (R$) | G18: Custo Unit. MO (R$) | H18: Custo Unit. (R$) | I18: BDI (%) | J18: Preço Unit Material (R$) | K18: Preço Unit MO (R$) | L18: Preço Unit. (R$) | M18: Preço MATERIAL (R$) | N18: Preço MO (R$) | O18: Preço Total (R$) | P18: Verificação $+5% | Q18: Proposta x Referência
A19: Tabela Referencial de Preços SICRO Outubro 2024 - Onerada | C19: Estudos e Projetos | E19: 0
A20: Tabela Referencial de Preços SICRO Outubro 2024 - Onerada | C20: Pessoal | E20: 0
A21: Tabela Referencial de Preços SICRO Outubro 2024 - Onerada | B21: CPU125689 | C21: Engenheiro de projetos pleno - Projetos | D21: MES | E21: 3.5 | F21: 0 | G21: 30035.94 | H21: 0 | I21: 42.66 | J21: =F21+(I21/100*F21) -> 0 | K21: =G21+(I21/100*G21) -> 42849.272 | L21: =TRUNC(J21+K21,2) -> 42849.27 | M21: =IF((J21+K21), TRUNC((J21/(J21+K21)*O21),2), 0) -> 0 | N21: =IF((J21+K21), TRUNC((K21/(J21+K21)*O21),2), 0) -> 149972.44 | O21: =TRUNC(L21*E21,2) -> 149972.44
A22: Tabela Referencial de Preços SICRO Outubro 2024 - Onerada | B22: CPU125690 | C22: Engenheiro de projetos júnior - Projetos | D22: MES | E22: 7 | F22: 0 | G22: 22647.34 | H22: 0 | I22: 42.66 | J22: =F22+(I22/100*F22) -> 0 | K22: =G22+(I22/100*G22) -> 32308.695 | L22: =TRUNC(J22+K22,2) -> 32308.69 | M22: =IF((J22+K22), TRUNC((J22/(J22+K22)*O22),2), 0) -> 0 | N22: =IF((J22+K22), TRUNC((K22/(J22+K22)*O22),2), 0) -> 226160.83 | O22: =TRUNC(L22*E22,2) -> 226160.83
A23: Tabela Referencial de Preços SICRO Outubro 2024 - Onerada | B23: CPU125691 | C23: Cadista | D23: MES | E23: 7 | F23: 0 | G23: 8271.11 | H23: 0 | I23: 42.66 | J23: =F23+(I23/100*F23) -> 0 | K23: =G23+(I23/100*G23) -> 11799.566 | L23: =TRUNC(J23+K23,2) -> 11799.56 | M23: =IF((J23+K23), TRUNC((J23/(J23+K23)*O23),2), 0) -> 0 | N23: =IF((J23+K23), TRUNC((K23/(J23+K23)*O23),2), 0) -> 82596.92 | O23: =TRUNC(L23*E23,2) -> 82596.92
A24: Tabela Referencial de Preços SICRO Outubro 2024 - Onerada | B24: CPU125692 | C24: Laboratorista | D24: MES | E24: 1 | F24: 0 | G24: 5447.28 | H24: 0 | I24: 42.66 | J24: =F24+(I24/100*F24) -> 0 | K24: =G24+(I24/100*G24) -> 7771.0896 | L24: =TRUNC(J24+K24,2) -> 7771.08 | M24: =IF((J24+K24), TRUNC((J24/(J24+K24)*O24),2), 0) -> 0 | N24: =IF((J24+K24), TRUNC((K24/(J24+K24)*O24),2), 0) -> 7771.08 | O24: =TRUNC(L24*E24,2) -> 7771.08
A25: Tabela Referencial de Preços SICRO Outubro 2024 - Onerada | B25: CPU125693 | C25: Auxiliar de Laboratorista | D25: MES | E25: 1 | F25: 0 | G25: 4415.63 | H25: 0 | I25: 42.66 | J25: =F25+(I25/100*F25) -> 0 | K25: =G25+(I25/100*G25) -> 6299.3378 | L25: =TRUNC(J25+K25,2) -> 6299.33 | M25: =IF((J25+K25), TRUNC((J25/(J25+K25)*O25),2), 0) -> 0 | N25: =IF((J25+K25), TRUNC((K25/(J25+K25)*O25),2), 0) -> 6299.33 | O25: =TRUNC(L25*E25,2) -> 6299.33
A26: Tabela Referencial de Preços SICRO Outubro 2024 - Onerada | B26: CPU125694 | C26: Topógrafo | D26: MES | E26: 1 | F26: 0 | G26: 5618.85 | H26: 0 | I26: 42.66 | J26: =F26+(I26/100*F26) -> 0 | K26: =G26+(I26/100*G26) -> 8015.8514 | L26: =TRUNC(J26+K26,2) -> 8015.85 | M26: =IF((J26+K26), TRUNC((J26/(J26+K26)*O26),2), 0) -> 0 | N26: =IF((J26+K26), TRUNC((K26/(J26+K26)*O26),2), 0) -> 8015.85 | O26: =TRUNC(L26*E26,2) -> 8015.85
A27: Tabela Referencial de Preços SICRO Outubro 2024 - Onerada | B27: CPU125695 | C27: Auxiliar de Topografia | D27: MES | E27: 1 | F27: 0 | G27: 4117.92 | H27: 0 | I27: 42.66 | J27: =F27+(I27/100*F27) -> 0 | K27: =G27+(I27/100*G27) -> 5874.6247 | L27: =TRUNC(J27+K27,2) -> 5874.62 | M27: =IF((J27+K27), TRUNC((J27/(J27+K27)*O27),2), 0) -> 0 | N27: =IF((J27+K27), TRUNC((K27/(J27+K27)*O27),2), 0) -> 5874.62 | O27: =TRUNC(L27*E27,2) -> 5874.62
A28: Tabela Referencial de Preços SICRO Outubro 2024 - Onerada | C28: Instalações Físicas | E28: 0
A29: Tabela Referencial de Preços SICRO Outubro 2024 - Onerada | B29: CPU125696 | C29: Escritório | D29: MES | E29: 7 | F29: 0 | G29: 2056.46 | H29: 0 | I29: 42.66 | J29: =F29+(I29/100*F29) -> 0 | K29: =G29+(I29/100*G29) -> 2933.7458 | L29: =TRUNC(J29+K29,2) -> 2933.74 | M29: =IF((J29+K29), TRUNC((J29/(J29+K29)*O29),2), 0) -> 0 | N29: =IF((J29+K29), TRUNC((K29/(J29+K29)*O29),2), 0) -> 20536.18 | O29: =TRUNC(L29*E29,2) -> 20536.18
A30: Tabela Referencial de Preços SICRO Outubro 2024 - Onerada | B30: CPU125697 | C30: Laboratório | D30: MES | E30: 1 | F30: 0 | G30: 569.79 | H30: 0 | I30: 42.66 | J30: =F30+(I30/100*F30) -> 0 | K30: =G30+(I30/100*G30) -> 812.86241 | L30: =TRUNC(J30+K30,2) -> 812.86 | M30: =IF((J30+K30), TRUNC((J30/(J30+K30)*O30),2), 0) -> 0 | N30: =IF((J30+K30), TRUNC((K30/(J30+K30)*O30),2), 0) -> 812.86 | O30: =TRUNC(L30*E30,2) -> 812.86
A31: Tabela Referencial de Preços SICRO Outubro 2024 - Onerada | C31: Mobiliários | E31: 0
A32: Tabela Referencial de Preços SICRO Outubro 2024 - Onerada | B32: CPU125698 | C32: Escritório | D32: MES | E32: 7 | F32: 0 | G32: 1369.86 | H32: 0 | I32: 42.66 | J32: =F32+(I32/100*F32) -> 0 | K32: =G32+(I32/100*G32) -> 1954.2423 | L32: =TRUNC(J32+K32,2) -> 1954.24 | M32: =IF((J32+K32), TRUNC((J32/(J32+K32)*O32),2), 0) -> 0 | N32: =IF((J32+K32), TRUNC((K32/(J32+K32)*O32),2), 0) -> 13679.68 | O32: =TRUNC(L32*E32,2) -> 13679.68
A33: Tabela Referencial de Preços SICRO Outubro 2024 - Onerada | C33: Cesta das Instalações | E33: 0
A34: Tabela Referencial de Preços SICRO Outubro 2024 - Onerada | B34: CPU125699 | C34: Laboratório de asfalto | D34: MES | E34: 1 | F34: 0 | G34: 5630.03 | H34: 0 | I34: 42.66 | J34: =F34+(I34/100*F34) -> 0 | K34: =G34+(I34/100*G34) -> 8031.8008 | L34: =TRUNC(J34+K34,2) -> 8031.8 | M34: =IF((J34+K34), TRUNC((J34/(J34+K34)*O34),2), 0) -> 0 | N34: =IF((J34+K34), TRUNC((K34/(J34+K34)*O34),2), 0) -> 8031.8 | O34: =TRUNC(L34*E34,2) -> 8031.8
A35: Tabela Referencial de Preços SICRO Outubro 2024 - Onerada | B35: CPU125700 | C35: Laboratório de solos | D35: MES | E35: 1 | F35: 0 | G35: 3451.73 | H35: 0 | I35: 42.66 | J35: =F35+(I35/100*F35) -> 0 | K35: =G35+(I35/100*G35) -> 4924.238 | L35: =TRUNC(J35+K35,2) -> 4924.23 | M35: =IF((J35+K35), TRUNC((J35/(J35+K35)*O35),2), 0) -> 0 | N35: =IF((J35+K35), TRUNC((K35/(J35+K35)*O35),2), 0) -> 4924.23 | O35: =TRUNC(L35*E35,2) -> 4924.23
A36: Tabela Referencial de Preços SICRO Outubro 2024 - Onerada | B36: CPU125701 | C36: Topografia | D36: MES | E36: 1 | F36: 0 | G36: 4293.62 | H36: 0 | I36: 42.66 | J36: =F36+(I36/100*F36) -> 0 | K36: =G36+(I36/100*G36) -> 6125.2783 | L36: =TRUNC(J36+K36,2) -> 6125.27 | M36: =IF((J36+K36), TRUNC((J36/(J36+K36)*O36),2), 0) -> 0 | N36: =IF((J36+K36), TRUNC((K36/(J36+K36)*O36),2), 0) -> 6125.27 | O36: =TRUNC(L36*E36,2) -> 6125.27
A37: Tabela Referencial de Preços SICRO Outubro 2024 - Onerada | C37: Custos Diversos | E37: 0
A38: Tabela Referencial de Preços SICRO Outubro 2024 - Onerada | B38: CPU125702 | C38: Escritório | D38: MES | E38: 7 | F38: 0 | G38: 408.57 | H38: 0 | I38: 42.66 | J38: =F38+(I38/100*F38) -> 0 | K38: =G38+(I38/100*G38) -> 582.86596 | L38: =TRUNC(J38+K38,2) -> 582.86 | M38: =IF((J38+K38), TRUNC((J38/(J38+K38)*O38),2), 0) -> 0 | N38: =IF((J38+K38), TRUNC((K38/(J38+K38)*O38),2), 0) -> 4080.02 | O38: =TRUNC(L38*E38,2) -> 4080.02
A39: Tabela Referencial de Preços SICRO Outubro 2024 - Onerada | C39: Veículo | E39: 0
A40: Tabela Referencial de Preços SICRO Outubro 2024 - Onerada | B40: CPU125703 | C40: Veículo Leve - 53kW sem motorista (Laboratório) | D40: MES | E40: 1 | F40: 0 | G40: 3089.55 | H40: 0 | I40: 42.66 | J40: =F40+(I40/100*F40) -> 0 | K40: =G40+(I40/100*G40) -> 4407.552 | L40: =TRUNC(J40+K40,2) -> 4407.55 | M40: =IF((J40+K40), TRUNC((J40/(J40+K40)*O40),2), 0) -> 0 | N40: =IF((J40+K40), TRUNC((K40/(J40+K40)*O40),2), 0) -> 4407.55 | O40: =TRUNC(L40*E40,2) -> 4407.55
A41: Tabela Referencial de Preços SICRO Outubro 2024 - Onerada | B41: CPU125704 | C41: Veículo Leve - 53kW sem motorista (Topografia- equipe 1) | D41: MES | E41: 1 | F41: 0 | G41: 3089.28 | H41: 0 | I41: 42.66 | J41: =F41+(I41/100*F41) -> 0 | K41: =G41+(I41/100*G41) -> 4407.1668 | L41: =TRUNC(J41+K41,2) -> 4407.16 | M41: =IF((J41+K41), TRUNC((J41/(J41+K41)*O41),2), 0) -> 0 | N41: =IF((J41+K41), TRUNC((K41/(J41+K41)*O41),2), 0) -> 4407.16 | O41: =TRUNC(L41*E41,2) -> 4407.16
A42: Total do Grupo: | O42: =SUM(O17:O41) -> 553695.82
A43: Total da Proposta: | O43: =SUM(O42) -> 553695.82
A45: =CONCATENATE("Importa o presente valor total proposto em: ", TEXT(SUM(O42), "R$ #.###,#0")) -> Importa o presente valor total proposto em: R$ 553.695,82
B47: Sistema Integrado de Controle de Obras Públicas
B48: Emitido em: 16/06/2025
