Workbook
Name Formatação_Amarelo_comCusto: INDIRECT("'Analítico CCUs'!$W$2:$X$"&'[1]Analítico CCUs'!#REF!)
Name Formatação_Azul: INDIRECT("'Analítico CCUs'!$P$2:$X$"&'[1]Analítico CCUs'!#REF!)
Name Formatação_Vermelho: INDIRECT("'Analítico CCUs'!$F$2:$N$"&'[1]Analítico CCUs'!#REF!)
Name Fromatação_Amarelo_semCusto: INDIRECT("'Analítico CCUs'!$P$2:$V$"&'[1]Analítico CCUs'!#REF!)
Name Natureza: '[2]Lista suspensa'!$A$2:$A$4
Name SemanaTerminando: #REF!

Sheet Crono
C2: SECRETARIA DE ESTADO DA INFRAESTRUTURA E MOBILIDADE | M2: SECRETARIA DE ESTADO DA INFRAESTRUTURA E MOBILIDADE | Y2: SECRETARIA DE ESTADO DA INFRAESTRUTURA E MOBILIDADE | AK2: SECRETARIA DE ESTADO DA INFRAESTRUTURA E MOBILIDADE
C5: =Orç_analítico!B5 -> OBJETO: Serviços Especializados de Assistência Técnica à Secretaria de Estado da Infraestrutura na execução dos Serviços e Estudos Técnicos necessários à Gestão e Acompanhamento Técnico e Ambiental das intervenções integrantes do Programa Estrada Boa, e que serão executadas ao abrigo do Contrato de Financiamento Mediante Abertura de Crédito em tratativas com o BNDES (Operação BNDES SC 2024) | M5: =C5 -> OBJETO: Serviços Especializados de Assistência Técnica à Secretaria de Estado da Infraestrutura na execução dos Serviços e Estudos Técnicos necessários à Gestão e Acompanhamento Técnico e Ambiental das intervenções integrantes do Programa Estrada Boa, e que serão executadas ao abrigo do Contrato de Financiamento Mediante Abertura de Crédito em tratativas com o BNDES (Operação BNDES SC 2024) | Y5: =M5 -> OBJETO: Serviços Especializados de Assistência Técnica à Secretaria de Estado da Infraestrutura na execução dos Serviços e Estudos Técnicos necessários à Gestão e Acompanhamento Técnico e Ambiental das intervenções integrantes do Programa Estrada Boa, e que serão executadas ao abrigo do Contrato de Financiamento Mediante Abertura de Crédito em tratativas com o BNDES (Operação BNDES SC 2024) | AK5: =Y5 -> OBJETO: Serviços Especializados de Assistência Técnica à Secretaria de Estado da Infraestrutura na execução dos Serviços e Estudos Técnicos necessários à Gestão e Acompanhamento Técnico e Ambiental das intervenções integrantes do Programa Estrada Boa, e que serão executadas ao abrigo do Contrato de Financiamento Mediante Abertura de Crédito em tratativas com o BNDES (Operação BNDES SC 2024)
C9: ATIVIDADES | E9: PREÇO | F9: MESES | M9: MESES | Y9: MESES
F10: 1 | G10: 2 | H10: 3 | I10: 4 | J10: 5 | K10: 6 | L10: 7 | M10: 8 | N10: 9 | O10: 10 | P10: 11 | Q10: 12 | R10: 13 | S10: 14 | T10: 15 | U10: 16 | V10: 17 | W10: 18 | X10: 19 | Y10: 20 | Z10: 21 | AA10: 22 | AB10: 23 | AC10: 24 | AD10: 25 | AE10: 26 | AF10: 27 | AG10: 28 | AH10: 29 | AI10: 30 | AJ10: 31 | AK10: 32 | AL10: 33 | AM10: 34 | AN10: 35 | AO10: 36 | AP10: 37 | AQ10: 38 | AR10: 39 | AS10: 40 | AT10: 41 | AU10: 42
E11: =E13 -> 0 | F11: =1/42 -> 0.023809524 | G11: =1/42 -> 0.023809524 | H11: =1/42 -> 0.023809524 | I11: =1/42 -> 0.023809524 | J11: =1/42 -> 0.023809524 | K11: =1/42 -> 0.023809524 | L11: =1/42 -> 0.023809524 | M11: =1/42 -> 0.023809524 | ... AU11: =1/42 -> 0.023809524 | AV11: =SUM(F11:AU11) -> 1
F12: =F11*$E$11 -> 0 | G12: =G11*$E$11 -> 0 | H12: =H11*$E$11 -> 0 | I12: =I11*$E$11 -> 0 | J12: =J11*$E$11 -> 0 | K12: =K11*$E$11 -> 0 | L12: =L11*$E$11 -> 0 | M12: =M11*$E$11 -> 0 | ... AU12: =AU11*$E$11 -> 0 | AV12: =SUM(F12:AU12) -> 0
C13: PREÇO TOTAL GLOBAL | E13: =Orç_analítico!M28 -> 0
C14: % TOTAL MENSAL | F14: =F15/$E$13 -> #DIV/0! | G14: =G15/$E$13 -> #DIV/0! | H14: =H15/$E$13 -> #DIV/0! | I14: =I15/$E$13 -> #DIV/0! | J14: =J15/$E$13 -> #DIV/0! | K14: =K15/$E$13 -> #DIV/0! | L14: =L15/$E$13 -> #DIV/0! | M14: =M15/$E$13 -> #DIV/0! | ... AU14: =AU15/$E$13 -> #DIV/0! | AV14: =SUM(F14:AU14) -> #DIV/0!
C15: (R$) TOTAL MENSAL | F15: =F12 -> 0 | G15: =G12 -> 0 | H15: =H12 -> 0 | I15: =I12 -> 0 | J15: =J12 -> 0 | K15: =K12 -> 0 | L15: =L12 -> 0 | M15: =M12 -> 0 | ... AU15: =AU12 -> 0 | AV15: =SUM(F15:AU15) -> 0
C16: % TOTAL ACUMULADO | F16: =F14 -> #DIV/0! | G16: =G14+F16 -> #DIV/0! | H16: =H14+G16 -> #DIV/0! | I16: =I14+H16 -> #DIV/0! | J16: =J14+I16 -> #DIV/0! | K16: =K14+J16 -> #DIV/0! | L16: =L14+K16 -> #DIV/0! | M16: =M14+L16 -> #DIV/0! | N16: =N14+M16 -> #DIV/0! | ... AU16: =AU14+AT16 -> #DIV/0! | AV16: =AU16 -> #DIV/0!
C17: (R$) TOTAL ACUMUADO | F17: =F15 -> 0 | G17: =G15+F17 -> 0 | H17: =H15+G17 -> 0 | I17: =I15+H17 -> 0 | J17: =J15+I17 -> 0 | K17: =K15+J17 -> 0 | L17: =L15+K17 -> 0 | M17: =M15+L17 -> 0 | N17: =N15+M17 -> 0 | ... AU17: =AU15+AT17 -> 0 | AV17: =AU17 -> 0
K167: =#REF!/100 -> #REF!
J168: C = (C.U + A + B)*Remuneração da empresa (12 %)
G198: Custo Unitário (C.U) | H198: Custo Reajustado (04/2020) | I198: 40 % do Custo*** | J198: C = (C.U + A + B)*Remuneração da empresa (12 %)
B199: Restituição Aerofotogramétrica 1:5000 L=500 | G199: =3498.77 -> 3498.77 | H199: =G199*239.055/140.549 -> 5950.9386 | I199: =H199*0.4 -> 2380.3754 | J199: =TRUNC(I199*0.12,2) -> 285.64 | K199: =(J199+I199)*0.1474 -> 392.97067 | L199: =SUM(I199:K199) -> 3058.9861 | M199: =TRUNC(L199*D199,2) -> 0 | N199: CONSULTORIA | O199: 38869 | P199: 43922
O200: 140.549 | P200: 239.055
C202: TOTAL OBJETO 3: | M202: =M200+M197+M180 -> 0
A206: 3. (***) Considerado apenas 40% do Custo.
A207: 4. Preços atualizados pelo Índice de Consultoria da Fundação Getúlio Vargas.

Sheet Orç_analítico
B1: SECRETARIA DE ESTADO DA INFRAESTRUTURA E MOBILIDADE
B2: DIRETORIA DE PLANEJAMENTO
B3: GERÊNCIA DE CAPTAÇÃO DE RECURSOS E GESTÃO DE PROJETOS
B4: COMPOSIÇÃO DO ORÇAMENTO REFERENCIAL
B5: OBJETO: Serviços Especializados de Assistência Técnica à Secretaria de Estado da Infraestrutura na execução dos Serviços e Estudos Técnicos necessários à Gestão e Acompanhamento Técnico e Ambiental das intervenções integrantes do Programa Estrada Boa, e que serão executadas ao abrigo do Contrato de Financiamento Mediante Abertura de Crédito em tratativas com o BNDES (Operação BNDES SC 2024)
J6: Duração | K6: 42
B7: Referencial - Consolidação dos custos de mão de obra da engenharia consultiva (DNIT) - mês de referência: ABR-25
B8: Data Base do Orçamento: ABRIL 2025
B9: OBJETO 1 - DESCRIÇÃO | E9: CÓDIGO | F9: UNID | G9: QUANTIDADE | J9: Custo Unitário (C.U) | K9: 0 | L9: PREÇO UNITÁRIO (R$) | M9: PREÇO TOTAL (R$)
G10: por mês | H10: n.º de meses | I10: Total | K10: BDI
B11: 1. Pessoal
B12: 1.1 Equipe Técnica
B13: 1.1.1 | C13: Coordenador | D13: P8067 | E13: P8061 | F13: MÊS | G13: 1 | H13: 42 | I13: =G13*H13 -> 42 | J13: 0 | K13: =ROUND(J13*$K$9,2) -> 0 | L13: =J13+K13 -> 0 | M13: =ROUND(I13*L13,2) -> 0
B14: 1.1.2 | C14: Engenheiro Especialista em Obras Rodoviárias | D14: P8061 | E14: P8067 | F14: MÊS | G14: 2 | H14: 42 | I14: =G14*H14 -> 84 | J14: 0 | K14: =ROUND(J14*$K$9,2) -> 0 | L14: =J14+K14 -> 0 | M14: =ROUND(I14*L14,2) -> 0
B15: 1.1.3 | C15: Engenheiro Especialista Ambiental | D15: P8067 | E15: P8059 | F15: MÊS | G15: 1 | H15: 42 | I15: =G15*H15 -> 42 | J15: 0 | K15: =ROUND(J15*$K$9,2) -> 0 | L15: =J15+K15 -> 0 | M15: =ROUND(I15*L15,2) -> 0
B16: 1.1.4 | C16: Engenheiro Especialista em Análises de Viabilidade Técnico Econômica | D16: P8067 | E16: P8067 | F16: MÊS | G16: 1 | H16: 3 | I16: =G16*H16 -> 3 | J16: 0 | K16: =ROUND(J16*$K$9,2) -> 0 | L16: =J16+K16 -> 0 | M16: =ROUND(I16*L16,2) -> 0
B17: 1.1.5 | C17: Técnico em Contabilidade | D17: P8040 | E17: P8040 | F17: MÊS | G17: 1 | H17: 42 | I17: =G17*H17 -> 42 | J17: 0 | K17: =ROUND(J17*$K$9,2) -> 0 | L17: =J17+K17 -> 0 | M17: =ROUND(I17*L17,2) -> 0
B18: 1.1.6 | C18: Auxiliar de Engenheiro | D18: P8147 | E18: P8147 | F18: MÊS | G18: 2 | H18: 42 | I18: =G18*H18 -> 84 | J18: 0 | K18: =ROUND(J18*$K$9,2) -> 0 | L18: =J18+K18 -> 0 | M18: =ROUND(I18*L18,2) -> 0
H19: SUBTOTAL DO ITEM 1 | M19: =SUM(M13:M18) -> 0
B20: 2. Mobiliário
B21: 2.1 | C21: Escritório | F21: MÊS | G21: 1 | H21: 42 | I21: =G21*H21 -> 42 | J21: 0 | K21: =ROUND(J21*$K$9,2) -> 0 | L21: =J21+K21 -> 0 | M21: =ROUND(I21*L21,2) -> 0
H22: SUBTOTAL DO ITEM 2 | M22: =SUM(M21:M21) -> 0
B23: 3. Visitas técnicas
B24: 3.1 | C24: Veículo Leve - 53kW sem motorista | E24: CPU-002 | F24: MÊS | G24: 1 | H24: 42 | I24: =G24*H24 -> 42 | J24: 0 | K24: =ROUND(J24*$K$9,2) -> 0 | L24: =J24+K24 -> 0 | M24: =ROUND(I24*L24,2) -> 0
B25: 3.2 | C25: Nível Superior - Pernoite | F25: MÊS | G25: 8 | H25: 42 | I25: =G25*H25 -> 336 | J25: 0 | K25: =ROUND(J25*$K$9,2) -> 0 | L25: =J25+K25 -> 0 | M25: =ROUND(I25*L25,2) -> 0
B26: 3.3 | C26: Nível Superior - Sem pernoite | F26: MÊS | G26: 2 | H26: 42 | I26: =G26*H26 -> 84 | J26: 0 | K26: =ROUND(J26*$K$9,2) -> 0 | L26: =J26+K26 -> 0 | M26: =ROUND(I26*L26,2) -> 0
H27: SUBTOTAL DO ITEM 3 | M27: =SUM(M24:M26) -> 0
B28: TOTAL | M28: =N28 -> 0 | N28: =M19+M22+M27 -> 0
B29: OBSERVAÇÕES:
B30: (1) A alíquota de ISSQN a adotar na composição do Orçamento a ser Proposto, deverá ser igual a que será efetivamente cobrada pelo Município da Cidade de Florianópolis, onde se localizá o Escritório da empresa. (2) Para o preço das diárias considerou o preço da diária do Executivo Estadual para o nível superior conforme Resolução GGG N° 002/2023 (valor de referência de março/2023 atualizado por índice de Consultoria FGV/DNITpara ABRIL/2025 - I0 = 277,093 março/23 e I1 = 303,675) (3) Previstos custos de diárias e transporte, indispensáveis às visitas técnicas necessárias ao Gerenciamento. (As visitas técnicas são atividades essenciais ao objeto contratado, não se confundindo com deslocamentos da administração central. Assim, é necessária a previsão de diárias e transporte para sua realização, garantindo a plena execução dos serviços e os resultados esperados).

Sheet Rel. de M.O ABR-25.
A1: Código | B1: Categoria | C1: Unid. | D1: Salário | E1: Encargos Sociais | G1: Encargos Complementares | Q1: Encargos Adicionais | W1: Encargos Totais | Y1: Valor Total
G2: Alimentação | I2: EPI | K2: Ferramenta | M2: Transporte | O2: Exame Ocupacional | Q2: Cesta Básica | S2: Assistência Médica | U2: Seguro de Vida
D3: R$ | E3: % | F3: R$ | G3: % | H3: R$ | I3: % | J3: R$ | K3: % | L3: R$ | M3: % | N3: R$ | O3: % | P3: R$ | Q3: % | R3: R$ | S3: % | T3: R$ | U3: % | V3: R$ | W3: % | X3: R$ | Y3: R$
A4: Profissionais mensalistas
A5: P8001 | B5: Advogado júnior | C5: mês | D5: 4939.72 | E5: 79.39 | F5: 3921.65 | G5: 14.91 | H5: 736.74 | I5: 0.55 | J5: 27.13 | K5: 0 | L5: 0 | M5: 0 | N5: 0 | O5: 0.06 | P5: 3.02 | Q5: 0 | R5: 0 | S5: 6.36 | T5: 314.2 | U5: 0.2 | V5: 9.98 | W5: 101.48 | X5: 5012.72 | Y5: 9952.44
A6: P8002 | B6: Advogado pleno | C6: mês | D6: 6586.3 | E6: 79.39 | F6: 5228.86 | G6: 11.19 | H6: 736.74 | I6: 0.41 | J6: 27.13 | K6: 0 | L6: 0 | M6: 0 | N6: 0 | O6: 0.05 | P6: 3.02 | Q6: 0 | R6: 0 | S6: 4.77 | T6: 314.2 | U6: 0.15 | V6: 9.98 | W6: 95.96 | X6: 6319.94 | Y6: 12906.23
A7: P8003 | B7: Advogado sênior | C7: mês | D7: 12088.9 | E7: 79.39 | F7: 9597.38 | G7: 6.09 | H7: 736.74 | I7: 0.22 | J7: 27.13 | K7: 0 | L7: 0 | M7: 0 | N7: 0 | O7: 0.02 | P7: 3.02 | Q7: 0 | R7: 0 | S7: 2.6 | T7: 314.2 | U7: 0.08 | V7: 9.98 | W7: 88.42 | X7: 10688.45 | Y7: 22777.35
A8: P8007 | B8: Analista de desenvolvimento de sistemas júnior | C8: mês | D8: 4251.21 | E8: 79.59 | F8: 3383.54 | G8: 17.33 | H8: 736.74 | I8: 0 | J8: 0 | K8: 0 | L8: 0 | M8: 0 | N8: 0 | O8: 0.08 | P8: 3.27 | Q8: 0 | R8: 0 | S8: 7.39 | T8: 314.2 | U8: 0.23 | V8: 9.98 | W8: 104.62 | X8: 4447.73 | Y8: 8698.95
A9: P8008 | B9: Analista de desenvolvimento de sistemas pleno | C9: mês | D9: 5668.29 | E9: 79.59 | F9: 4511.39 | G9: 13 | H9: 736.74 | I9: 0 | J9: 0 | K9: 0 | L9: 0 | M9: 0 | N9: 0 | O9: 0.06 | P9: 3.27 | Q9: 0 | R9: 0 | S9: 5.54 | T9: 314.2 | U9: 0.18 | V9: 9.98 | W9: 98.36 | X9: 5575.58 | Y9: 11243.87
A10: P8009 | B10: Analista de desenvolvimento de sistemas sênior | C10: mês | D10: 10092 | E10: 79.59 | F10: 8032.22 | G10: 7.3 | H10: 736.74 | I10: 0 | J10: 0 | K10: 0 | L10: 0 | M10: 0 | N10: 0 | O10: 0.03 | P10: 3.27 | Q10: 0 | R10: 0 | S10: 3.11 | T10: 314.2 | U10: 0.1 | V10: 9.98 | W10: 90.13 | X10: 9096.41 | Y10: 19188.41
A11: P8013 | B11: Arquiteto júnior | C11: mês | D11: 12903 | E11: 79.43 | F11: 10248.85 | G11: 5.71 | H11: 736.74 | I11: 0.21 | J11: 27.13 | K11: 0 | L11: 0 | M11: 0 | N11: 0 | O11: 0.02 | P11: 2.8 | Q11: 0 | R11: 0 | S11: 2.44 | T11: 314.2 | U11: 0.08 | V11: 9.98 | W11: 87.88 | X11: 11339.71 | Y11: 24242.71
A12: P8014 | B12: Arquiteto pleno | C12: mês | D12: 14712.81 | E12: 79.43 | F12: 11686.39 | G12: 5.01 | H12: 736.74 | I12: 0.18 | J12: 27.13 | K12: 0 | L12: 0 | M12: 0 | N12: 0 | O12: 0.02 | P12: 2.8 | Q12: 0 | R12: 0 | S12: 2.14 | T12: 314.2 | U12: 0.07 | V12: 9.98 | W12: 86.84 | X12: 12777.24 | Y12: 27490.05
A13: P8015 | B13: Arquiteto sênior | C13: mês | D13: 16522.62 | E13: 79.43 | F13: 13123.92 | G13: 4.46 | H13: 736.74 | I13: 0.16 | J13: 27.13 | K13: 0 | L13: 0 | M13: 0 | N13: 0 | O13: 0.02 | P13: 2.8 | Q13: 0 | R13: 0 | S13: 1.9 | T13: 314.2 | U13: 0.06 | V13: 9.98 | W13: 86.03 | X13: 14214.77 | Y13: 30737.39
A14: P8019 | B14: Assistente social júnior | C14: mês | D14: 3362.83 | E14: 80.12 | F14: 2694.3 | G14: 21.91 | H14: 736.74 | I14: 0.81 | J14: 27.13 | K14: 0 | L14: 0 | M14: 1.4 | N14: 47.13 | O14: 0.13 | P14: 4.22 | Q14: 0 | R14: 0 | S14: 9.34 | T14: 314.2 | U14: 0.3 | V14: 9.98 | W14: 114 | X14: 3833.7 | Y14: 7196.53
A15: P8020 | B15: Assistente social pleno | C15: mês | D15: 4483.77 | E15: 80.12 | F15: 3592.4 | G15: 16.43 | H15: 736.74 | I15: 0.61 | J15: 27.13 | K15: 0 | L15: 0 | M15: 0 | N15: 0 | O15: 0.09 | P15: 4.22 | Q15: 0 | R15: 0 | S15: 7.01 | T15: 314.2 | U15: 0.22 | V15: 9.98 | W15: 104.48 | X15: 4684.67 | Y15: 9168.44
A16: P8021 | B16: Assistente social sênior | C16: mês | D16: 7579.69 | E16: 80.12 | F16: 6072.85 | G16: 9.72 | H16: 736.74 | I16: 0.36 | J16: 27.13 | K16: 0 | L16: 0 | M16: 0 | N16: 0 | O16: 0.06 | P16: 4.22 | Q16: 0 | R16: 0 | S16: 4.15 | T16: 314.2 | U16: 0.13 | V16: 9.98 | W16: 94.53 | X16: 7165.12 | Y16: 14744.81
... A101: P8200 | B101: Sociólogo sênior | C101: mês | D101: 8917.47 | E101: 81.89 | F101: 7302.52 | G101: 8.26 | H101: 736.74 | I101: 0.3 | J101: 27.13 | K101: 0 | L101: 0 | M101: 0 | N101: 0 | O101: 0.08 | P101: 7.01 | Q101: 0 | R101: 0 | S101: 3.52 | T101: 314.2 | U101: 0.11 | V101: 9.98 | W101: 94.17 | X101: 8397.57 | Y101: 17315.04
A102: Profissionais horistas
A103: P8264 | B103: Motorista de veículo leve - horista | C103: h | D103: 9.82 | E103: 113.26 | F103: 11.12 | G103: 41.11 | H103: 4.04 | I103: 1.84 | J103: 0.18 | K103: 0 | L103: 0 | M103: 6.66 | N103: 0.65 | O103: 0.19 | P103: 0.02 | Q103: 0 | R103: 0 | S103: 17.53 | T103: 1.72 | U103: 0.56 | V103: 0.05 | W103: 181.16 | X103: 17.79 | Y103: 27.61
A104: Fonte: FGV IBRE

Sheet CPUs
B3: CGCIT | J3: DNIT
B4: SISTEMA DE CUSTOS REFERENCIAIS DE OBRAS - SICRO | E4: Santa Catarina | G4: FIC | H4: 0
B5: Custo Unitário de Referência | E5: 45566 | H5: Produção da equipe | J5: mês
B6: CPU - 001 | C6: Veículo Leve - 53kW sem motorista | I6: Valores em reais (R$)
B7: A - EQUIPAMENTOS | D7: Quantidade | E7: Utilização | G7: Custo Horário | J7: Custo
E8: Operativa | F8: Improdutiva | G8: Produtivo | H8: Improdutivo | J8: Horário Total
B9: E8889 | C9: Veículo leve - tipo hatch - (sem motorista) | D9: 1 | E9: 66 | F9: 116.49 | G9: =Tab_custos_eq_mob!F6 -> 36.69 | H9: =Tab_custos_eq_mob!G6 -> 6.57 | J9: =E9*G9+F9*H9 -> 3186.8793
H10: Custo horário total de equipamentos | J10: =SUM(J9:J9) -> 3186.8793
B11: B - MÃO DE OBRA | D11: Quantidade | E11: Unidade | F11: Custo Horário | H11: Custo Horário Total
D13: Custo horário total de mão de obra | I13: =J12 -> 0
D14: Custo horário total de execução | J14: =I13+J10 -> 3186.8793
D15: Custo unitário de execução
H16: Custo do FIC
H17: Custo do FIT
B18: C - MATERIAL | D18: Quantidade | E18: Unidade | F18: Preço Unitário | H18: Custo Unitário
D19: Custo unitário total de material
B20: D - ATIVIDADES AUXILIARES | D20: Quantidade | E20: Unidade | F20: Custo Unitário | H20: Custo Unitário
D22: Custo total de atividades auxiliares
H23: Subtotal | J23: =J22+J15+J16 -> 0
B24: E - TEMPO FIXO | D24: Código | E24: Quantidade | F24: Unidade | G24: Custo Unitário | I24: Custo Unitário
D26: Custo unitário total de tempo fixo
B27: F - MOMENTO DE TRANSPORTE | D27: Quantidade | E27: Unidade | F27: DMT | J27: Custo Unitário
F28: LN | G28: RP | H28: P
D30: Custo unitário total de transporte | J30: -
F31: Custo unitário direto total | J31: =TRUNC(J10,2) -> 3186.87
B33: SISTEMA DE CUSTOS REFERENCIAIS DE OBRAS - SICRO | E33: Santa Catarina | G33: FIC | H33: 0
B34: Custo Unitário de Referência | E34: 45748 | H34: Produção da equipe | J34: mês
B35: CPU - 002 | C35: Veículo Leve - 53kW sem motorista | I35: Valores em reais (R$)
B36: A - EQUIPAMENTOS | D36: Quantidade | E36: Utilização | G36: Custo Horário | J36: Custo
E37: Operativa | F37: Improdutiva | G37: Produtivo | H37: Improdutivo | J37: Horário Total
B38: E8889 | C38: Veículo leve - tipo hatch - (sem motorista) | D38: 1 | E38: 44 | F38: 138.49 | G38: 36.69 | H38: 6.57 | J38: =E38*G38+F38*H38 -> 2524.2393
H39: Custo horário total de equipamentos | J39: =SUM(J38:J38) -> 2524.2393
B40: B - MÃO DE OBRA | D40: Quantidade | E40: Unidade | F40: Custo Horário | H40: Custo Horário Total
D42: Custo horário total de mão de obra | I42: =J41 -> 0
D43: Custo horário total de execução | J43: =I42+J39 -> 2524.2393
D44: Custo unitário de execução
H45: Custo do FIC
H46: Custo do FIT
B47: C - MATERIAL | D47: Quantidade | E47: Unidade | F47: Preço Unitário | H47: Custo Unitário
D48: Custo unitário total de material
...

Sheet Tab_custos_eq_mob
B1: 45748
B2: Tabela 1 - Custos de veículos
B3: ="Tabela de Preços de Consultoria - mês de referência: "&TEXT(B1,"MMMM")&" de "&TEXT(B1,"AAAA") -> Tabela de Preços de Consultoria - mês de referência: abril de 2025
B4: Item | C4: Código | D4: Tipo | E4: Unidade | F4: Custo unitário (R$ / un) | H4: S
F5: Produtivo | G5: Improdutivo
B6: Veículos | C6: E8889 | D6: Veículo leve - 53 kW (sem motorista) | E6: hora | F6: 36.69 | G6: 6.57
C7: E8890 | D7: Veículo leve - 53 kW (com motorista) | E7: hora | F7: 64.3 | G7: 34.18
C8: E8891 | D8: Veículo leve picape 4 x 4 com capacidade de 1,10 t - 147 kW (sem motorista) | E8: hora | F8: 79.6 | G8: 22.89
C9: E8888 | D9: Veículo tipo van furgão com capacidade de 1,38 t - 100 kW (sem motorista) | E9: hora | F9: 56.35 | G9: 17.21
C10: E8887 | D10: Veículo tipo van furgão com capacidade de 1,38 t - 100 kW (com motorista) | E10: hora | F10: 83.96 | G10: 44.82
B11: Fonte: FGV IBRE
B13: Tabela 2 - Custos de imóveis, mobiliário, cestas de instalações e custos diversos
B14: ="Tabela de Preços de Consultoria - mês de referência: "&TEXT(B1,"MMMM")&" de "&TEXT(B1,"AAAA") -> Tabela de Preços de Consultoria - mês de referência: abril de 2025
B15: Item | C15: Código | D15: Tipo | F15: Unidade | G15: Custo unitário (R$ / un)
B16: Imóveis | C16: B8951 | D16: Comercial (2,55% do CMCC - SINAPI) | F16: m² x mês | G16: 49.4
C17: B8952 | D17: Residencial (2,45% do CMCC - SINAPI) | F17: m² x mês | G17: 47.46
B18: Mobiliário | C18: B8953 | D18: Escritório | F18: ocupante x mês | G18: 467.45
C19: B8954 | D19: Residência | F19: ocupante x mês | G19: 42.11
B20: Cesta das Instalações | C20: B8955 | D20: Laboratório de asfalto | F20: mês | G20: 5952.38
C21: B8956 | D21: Laboratório de concreto | F21: mês | G21: 4642.56
C22: B8957 | D22: Laboratório de solos | F22: mês | G22: 3520.5
C23: B8958 | D23: Topografia | F23: mês | G23: 5150.27
C24: B8961 | D24: Topografia por VANT | F24: mês | G24: 866.31
B25: Custos Diversos | C25: B8959 | D25: Escritório | F25: ocupante x mês | G25: 137.55
C26: B8960 | D26: Residência | F26: ocupante x mês | G26: 204.08
B27: Fonte: FGV IBRE

Sheet Calc_Mobiliário
B2: Custo do Mobiliário Escritório
B12: Cmob esc | C12: =TRUNC(C13*C14,2) -> 3739.6
B13: Vm esc | C13: =H13 -> 467.45 | E13: =Tab_custos_eq_mob!C18 -> B8953 | G13: oc. x mês | H13: =Tab_custos_eq_mob!G18 -> 467.45
B14: P | C14: 8
B16: Custo do Mobiliário Residência
B25: Cmob res
B26: Vm res | C26: =H26 -> 42.11 | E26: =Tab_custos_eq_mob!C19 -> B8954 | G26: oc. x mês | H26: =Tab_custos_eq_mob!G19 -> 42.11
B27: P
