Workbook

Sheet Orç_analítico
B1: SECRETARIA DE ESTADO DA INFRAESTRUTURA E MOBILIDADE
B2: DIRETORIA DE FISCALIZAÇÃO DE OBRAS DE INFRAESTRUTURA - DFIS
B3: COMPOSIÇÃO DO ORÇAMENTO REFERENCIAL
B5: OBJETO: CONTRATAÇÃO DE EMPRESA PARA A EXECUÇÃO DOS SERVIÇOS DE “COORDENAÇÃO, SUPERVISÃO, CONTROLE DE SUBSÍDIOS A FISCALIZAÇÃO NA EXECUÇÃO DOS TRABALHOS RODOVIÁRIOS DE IMPLANTAÇÃO E PAVIMENTAÇÃO NA RODOVIA SC-350, TRECHO: ABELARDO LUZ – PASSOS MAIA (LOTE 01, EXTENSÃO 22,96 KM, E LOTE 02, EXTENSÃO 22,95 KM)”.
B6: EMPRESA:
I7: Duração | J7: 12
B8: Referencial - Consolidação dos custos de mão de obra da engenharia consultiva (DNIT) - mês de referência: julho/2024
B9: Data Base do Orçamento: julho 2024
B10: OBJETO 1 - DESCRIÇÃO | D10: CÓDIGO | E10: UNID | F10: QUANTIDADE | I10: Custo Unitário (C.U) | J10: =BDI_supervisão!E13 -> 0 | K10: PREÇO UNITÁRIO (R$) | L10: PREÇO TOTAL (R$)
F11: por mês | G11: n.º de meses | H11: Total | J11: BDI
B12: 1. Pessoal
B13: 1.1 Equipe Técnica
B14: 1.1.1 | C14: Engenheiro residente/Supervisor* | D14: P9819 | E14: MÊS | F14: 1 | G14: 12 | H14: =F14*G14 -> 12 | J14: =$J$10 -> 0 | K14: =TRUNC(I14+I14*J14,2) -> 0 | L14: =TRUNC(H14*K14,2) -> 0
B15: 1.1.2 | C15: Engenheiro Florestal | D15: P8069 | E15: MÊS | F15: 0.4 | G15: 10 | H15: =F15*G15 -> 4 | J15: =$J$10 -> 0 | K15: =TRUNC(I15+I15*J15,2) -> 0 | L15: =TRUNC(H15*K15,2) -> 0
B16: 1.1.3 | C16: Técnico de Obras - Lote 01 | D16: P8147 | E16: MÊS | F16: 1 | G16: 9 | H16: =F16*G16 -> 9 | J16: =$J$10 -> 0 | K16: =TRUNC(I16+I16*J16,2) -> 0 | L16: =TRUNC(H16*K16,2) -> 0
B17: 1.1.4 | C17: Técnico de Obras - Lote 02 | D17: P8147 | E17: MÊS | F17: 1 | G17: 10 | H17: =F17*G17 -> 10 | J17: =$J$10 -> 0 | K17: =TRUNC(I17+I17*J17,2) -> 0 | L17: =TRUNC(H17*K17,2) -> 0
B18: 1.1.5 | C18: Desenhista/cadista* | D18: P9848 | E18: MÊS | F18: 1 | G18: 2 | H18: =F18*G18 -> 2 | J18: =$J$10 -> 0 | K18: =TRUNC(I18+I18*J18,2) -> 0 | L18: =TRUNC(H18*K18,2) -> 0
B19: 1.1.1 Equipe Administrativa
B20: 1.1.1.1 | C20: Engenheiro de Projetos | D20: P8066 | E20: MÊS | F20: 1 | G20: 8 | H20: =F20*G20 -> 8 | J20: =$J$10 -> 0 | K20: =TRUNC(I20+I20*J20,2) -> 0 | L20: =TRUNC(H20*K20,2) -> 0
B21: 1.2 Equipe Administrativa
B22: 1.2.1 | C22: Auxiliar Administrativo | D22: P8026 | E22: MÊS | F22: 1 | G22: 10 | H22: =F22*G22 -> 10 | J22: =$J$10 -> 0 | K22: =TRUNC(I22+I22*J22,2) -> 0 | L22: =TRUNC(H22*K22,2) -> 0
B23: 1.3 Equipe de controle tecnológico e topografia - Lote 01
B24: 1.3.1 | C24: Laboratorista | D24: P8098 | E24: MÊS | F24: 1 | G24: 9 | H24: =F24*G24 -> 9 | J24: =$J$10 -> 0 | K24: =TRUNC(I24+I24*J24,2) -> 0 | L24: =TRUNC(H24*K24,2) -> 0
B25: 1.3.2 | C25: Auxiliar de Laboratorista | D25: P8027 | E25: MÊS | F25: 1 | G25: 9 | H25: =F25*G25 -> 9 | J25: =$J$10 -> 0 | K25: =TRUNC(I25+I25*J25,2) -> 0 | L25: =TRUNC(H25*K25,2) -> 0
B26: 1.3.3 | C26: Topógrafo | D26: P8163 | E26: MÊS | F26: 1 | G26: 9 | H26: =F26*G26 -> 9 | J26: =$J$10 -> 0 | K26: =TRUNC(I26+I26*J26,2) -> 0 | L26: =TRUNC(H26*K26,2) -> 0
B27: 1.3.4 | C27: Auxiliar de Topografia | D27: P8028 | E27: MÊS | F27: 1 | G27: 9 | H27: =F27*G27 -> 9 | J27: =$J$10 -> 0 | K27: =TRUNC(I27+I27*J27,2) -> 0 | L27: =TRUNC(H27*K27,2) -> 0
B28: 1.4 Equipe de controle tecnológico e topografia - Lote 02
B29: 1.4.1 | C29: Laboratorista | D29: P8098 | E29: MÊS | F29: 1 | G29: 10 | H29: =F29*G29 -> 10 | J29: =$J$10 -> 0 | K29: =TRUNC(I29+I29*J29,2) -> 0 | L29: =TRUNC(H29*K29,2) -> 0
B30: 1.4.2 | C30: Auxiliar de Laboratorista | D30: P8027 | E30: MÊS | F30: 1 | G30: 10 | H30: =F30*G30 -> 10 | J30: =$J$10 -> 0 | K30: =TRUNC(I30+I30*J30,2) -> 0 | L30: =TRUNC(H30*K30,2) -> 0
B31: 1.4.3 | C31: Topógrafo | D31: P8163 | E31: MÊS | F31: 1 | G31: 10 | H31: =F31*G31 -> 10 | J31: =$J$10 -> 0 | K31: =TRUNC(I31+I31*J31,2) -> 0 | L31: =TRUNC(H31*K31,2) -> 0
B32: 1.4.4 | C32: Auxiliar de Topografia | D32: P8028 | E32: MÊS | F32: 1 | G32: 10 | H32: =F32*G32 -> 10 | J32: =$J$10 -> 0 | K32: =TRUNC(I32+I32*J32,2) -> 0 | L32: =TRUNC(H32*K32,2) -> 0
G33: SUBTOTAL DO ITEM 1 | L33: =SUM(L14:L32) -> 0
B34: 2. Instalações físicas
B35: 2.1 | C35: Escritório | E35: MÊS | F35: 1 | G35: 12 | H35: =F35*G35 -> 12 | J35: =$J$10 -> 0 | K35: =TRUNC(I35+I35*J35,2) -> 0 | L35: =TRUNC(H35*K35,2) -> 0
B36: 2.2 | C36: Residência | E36: MÊS | F36: 1 | G36: 12 | H36: =F36*G36 -> 12 | J36: =$J$10 -> 0 | K36: =TRUNC(I36+I36*J36,2) -> 0 | L36: =TRUNC(H36*K36,2) -> 0
B37: 2.3 | C37: Laboratórios | E37: MÊS | F37: 1 | G37: 10 | H37: =F37*G37 -> 10 | J37: =$J$10 -> 0 | K37: =TRUNC(I37+I37*J37,2) -> 0 | L37: =TRUNC(H37*K37,2) -> 0
B38: 2.4 | C38: Topografia | E38: MÊS | F38: 1 | G38: 10 | H38: =F38*G38 -> 10 | J38: =$J$10 -> 0 | K38: =TRUNC(I38+I38*J38,2) -> 0 | L38: =TRUNC(H38*K38,2) -> 0
G39: SUBTOTAL DO ITEM 2 | L39: =SUM(L35:L38) -> 0
B40: 3. Mobiliários
B41: 3.1 | C41: Escritório | E41: MÊS | F41: 1 | G41: 12 | H41: =F41*G41 -> 12 | J41: =$J$10 -> 0 | K41: =TRUNC(I41+I41*J41,2) -> 0 | L41: =TRUNC(H41*K41,2) -> 0
...

Sheet BDI_supervisão
B2: BDI - SUPERVISÃO
B4: Despesas Indiretas | D4: % sobre PV | E4: % sobre CD
B5: Adm. Central | C5: Variável - f (CD)
B6: Despesas Financeiras | C6: 0,84% sobre (PV - Lucro)
B7: Seguros e Garantias Contratuais | C7: 0,10% do PV
B8: Riscos | C8: 0,5% do PV
B9: Lucro | C9: Variável - f (CD)
B10: PIS | C10: 0,65% do PV
B11: COFINS | C11: 3,00% do PV
B12: ISSQN | C12: % do PV
B13: Total - BDI (%) | D13: =ROUND(SUM(D5:D12),4) -> 0 | E13: 0
B14: PV = Preço de Venda
B15: CD = Custo Direto
B16: Selic = | C16: ='[1]INSIRA AQUI'!C3 -> 0.1075
B17: DF = [(1+SELIC)^(1/12)-1] sobre (PV - Lucro)
B18: Ouro Verde - Lei Complementar Nº 015/2003 - 2%
B19: Abelardo Luz - Lei Complementar Nº 017/2001 - 2%
B20: Faxinal dos Guedes - Lei Complementar Nº 016/2003 - 3%
B21: Passos Maia- Lei Complementar Nº 033/2009 - 3%
B22: Vargeão - Lei Complementar Nº 008/2003 - 3%

Sheet Cronograma
B3: SECRETARIA DE ESTADO DA INFRAESTRUTURA E MOBILIDADE | E3: SECRETARIA DE ESTADO DA INFRAESTRUTURA E MOBILIDADE | K3: SECRETARIA DE ESTADO DA INFRAESTRUTURA E MOBILIDADE
B4: DFIS - DIRETORIA DE FISCALIZAÇÃO DE OBRAS DE INFRAESTRUTURA | E4: DFIS - DIRETORIA DE FISCALIZAÇÃO DE OBRAS DE INFRAESTRUTURA | K4: DFIS - DIRETORIA DE FISCALIZAÇÃO DE OBRAS DE INFRAESTRUTURA
B5: CRONOGRAMA | E5: CRONOGRAMA | K5: CRONOGRAMA
E6: OBJETO: CONTRATAÇÃO DE EMPRESA PARA A EXECUÇÃO DOS SERVIÇOS DE ““COORDENAÇÃO, SUPERVISÃO, CONTROLE DE SUBSÍDIOS A FISCALIZAÇÃO NA EXECUÇÃO DOS TRABALHOS RODOVIÁRIOS DE IMPLANTAÇÃO E PAVIMENTAÇÃO NA RODOVIA SC-350, TRECHO: ABELARDO LUZ – PASSOS MAIA (LOTE 01, EXTENSÃO 22,96 KM, E LOTE 02, EXTENSÃO 22,95 KM)”. | K6: OBJETO: CONTRATAÇÃO DE EMPRESA PARA A EXECUÇÃO DOS SERVIÇOS DE ““COORDENAÇÃO, SUPERVISÃO, CONTROLE DE SUBSÍDIOS A FISCALIZAÇÃO NA EXECUÇÃO DOS TRABALHOS RODOVIÁRIOS DE IMPLANTAÇÃO E PAVIMENTAÇÃO NA RODOVIA SC-350, TRECHO: ABELARDO LUZ – PASSOS MAIA (LOTE 01, EXTENSÃO 22,96 KM, E LOTE 02, EXTENSÃO 22,95 KM)”.
B10: ATIVIDADES | D10: PREÇO | E10: MESES | K10: MESES | Q10: TOTAL
E11: 1 | F11: 2 | G11: 3 | H11: 4 | I11: 5 | J11: 6 | K11: 7 | L11: 8 | M11: 9 | N11: 10 | O11: 11 | P11: 12
B12: 1. Pessoal | D12: =Orç_analítico!L33 -> 0 | E12: 0.1005 | F12: 0.1005 | G12: 0.1005 | H12: 0.1005 | I12: 0.1005 | J12: 0.1005 | K12: 0.1005 | L12: 0.1005 | M12: 0.0799 | N12: 0.0573 | O12: 0.0294 | P12: 0.0294 | Q12: =SUM(E12:P12) -> 1
E13: =E12*$D$12 -> 0 | F13: =F12*$D$12 -> 0 | G13: =G12*$D$12 -> 0 | H13: =H12*$D$12 -> 0 | I13: =I12*$D$12 -> 0 | J13: =J12*$D$12 -> 0 | K13: =K12*$D$12 -> 0 | L13: =L12*$D$12 -> 0 | ... P13: =P12*$D$12 -> 0 | Q13: =SUM(E13:P13) -> 0
B14: 2. Instalações Físicas | D14: =Orç_analítico!L39 -> 0 | E14: 0.0857 | F14: 0.0857 | G14: 0.0857 | H14: 0.0857 | I14: 0.0857 | J14: 0.0857 | K14: 0.0857 | L14: 0.0857 | M14: 0.0857 | N14: 0.0857 | O14: 0.0713 | P14: 0.0717 | Q14: =SUM(E14:P14) -> 1
E15: =E14*$D$14 -> 0 | F15: =F14*$D$14 -> 0 | G15: =G14*$D$14 -> 0 | H15: =H14*$D$14 -> 0 | I15: =I14*$D$14 -> 0 | J15: =J14*$D$14 -> 0 | K15: =K14*$D$14 -> 0 | L15: =L14*$D$14 -> 0 | ... P15: =P14*$D$14 -> 0 | Q15: =SUM(E15:P15) -> 0
B16: 3. Mobiliários | D16: =Orç_analítico!L43 -> 0 | E16: =1/12 -> 0.083333333 | F16: =1/12 -> 0.083333333 | G16: =1/12 -> 0.083333333 | H16: =1/12 -> 0.083333333 | I16: =1/12 -> 0.083333333 | J16: =1/12 -> 0.083333333 | K16: =1/12 -> 0.083333333 | L16: =1/12 -> 0.083333333 | ... P16: =1/12 -> 0.083333333 | Q16: =SUM(E16:P16) -> 1
E17: =E16*$D$16 -> 0 | F17: =F16*$D$16 -> 0 | G17: =G16*$D$16 -> 0 | H17: =H16*$D$16 -> 0 | I17: =I16*$D$16 -> 0 | J17: =J16*$D$16 -> 0 | K17: =K16*$D$16 -> 0 | L17: =L16*$D$16 -> 0 | ... P17: =P16*$D$16 -> 0 | Q17: =SUM(E17:P17) -> 0
B18: 4. Cesta de Instalações | D18: =Orç_analítico!L49 -> 0 | E18: 0.1182 | F18: 0.1182 | G18: 0.1182 | H18: 0.1182 | I18: 0.1182 | J18: 0.1182 | K18: 0.1182 | L18: 0.1182 | M18: 0.0272 | N18: 0.0272 | O18: 0 | P18: 0 | Q18: =SUM(E18:P18) -> 1
E19: =E18*$D$18 -> 0 | F19: =F18*$D$18 -> 0 | G19: =G18*$D$18 -> 0 | H19: =H18*$D$18 -> 0 | I19: =I18*$D$18 -> 0 | J19: =J18*$D$18 -> 0 | K19: =K18*$D$18 -> 0 | L19: =L18*$D$18 -> 0 | ... P19: =P18*$D$18 -> 0 | Q19: =SUM(E19:P19) -> 0
B20: 5. Custos diversos | D20: =Orç_analítico!L53 -> 0 | E20: =1/12 -> 0.083333333 | F20: =1/12 -> 0.083333333 | G20: =1/12 -> 0.083333333 | H20: =1/12 -> 0.083333333 | I20: =1/12 -> 0.083333333 | J20: =1/12 -> 0.083333333 | K20: =1/12 -> 0.083333333 | L20: =1/12 -> 0.083333333 | ... P20: =1/12 -> 0.083333333 | Q20: =SUM(E20:P20) -> 1
E21: =E20*$D$20 -> 0 | F21: =F20*$D$20 -> 0 | G21: =G20*$D$20 -> 0 | H21: =H20*$D$20 -> 0 | I21: =I20*$D$20 -> 0 | J21: =J20*$D$20 -> 0 | K21: =K20*$D$20 -> 0 | L21: =L20*$D$20 -> 0 | ... P21: =P20*$D$20 -> 0 | Q21: =SUM(E21:P21) -> 0
B22: 6. Veículos | D22: =Orç_analítico!L60 -> 0 | E22: 0.0937 | F22: 0.0937 | G22: 0.0937 | H22: 0.0937 | I22: 0.0937 | J22: 0.0937 | K22: 0.0937 | L22: 0.0937 | M22: 0.0937 | N22: 0.0688 | O22: 0.0438 | P22: 0.0441 | Q22: =SUM(E22:P22) -> 1
E23: =E22*$D$22 -> 0 | F23: =F22*$D$22 -> 0 | G23: =G22*$D$22 -> 0 | H23: =H22*$D$22 -> 0 | I23: =I22*$D$22 -> 0 | J23: =J22*$D$22 -> 0 | K23: =K22*$D$22 -> 0 | L23: =L22*$D$22 -> 0 | ... P23: =P22*$D$22 -> 0 | Q23: =SUM(E23:P23) -> 0
B24: PREÇO TOTAL GLOBAL | D24: =SUM(D12:D23) -> 0
C28: % TOTAL MENSAL | E28: =E29/$D$24 -> #DIV/0! | F28: =F29/$D$24 -> #DIV/0! | G28: =G29/$D$24 -> #DIV/0! | H28: =H29/$D$24 -> #DIV/0! | I28: =I29/$D$24 -> #DIV/0! | J28: =J29/$D$24 -> #DIV/0! | K28: =K29/$D$24 -> #DIV/0! | L28: =L29/$D$24 -> #DIV/0! | ... P28: =P29/$D$24 -> #DIV/0! | Q28: =SUM(E28:P28) -> #DIV/0!
C29: (R$) TOTAL MENSAL | E29: =(E13+E15+E17+E19+E21+E23) -> 0 | F29: =(F13+F15+F17+F19+F21+F23) -> 0 | G29: =(G13+G15+G17+G19+G21+G23) -> 0 | H29: =(H13+H15+H17+H19+H21+H23) -> 0 | I29: =(I13+I15+I17+I19+I21+I23) -> 0 | J29: =(J13+J15+J17+J19+J21+J23) -> 0 | K29: =(K13+K15+K17+K19+K21+K23) -> 0 | L29: =(L13+L15+L17+L19+L21+L23) -> 0 | ... P29: =(P13+P15+P17+P19+P21+P23) -> 0 | Q29: =SUM(Q13,Q15,Q17,Q19,Q21,Q23) -> 0
C30: % TOTAL ACUMULADO | E30: =E31/$D$24 -> #DIV/0! | F30: =F31/$D$24 -> #DIV/0! | G30: =G31/$D$24 -> #DIV/0! | H30: =H31/$D$24 -> #DIV/0! | I30: =I31/$D$24 -> #DIV/0! | J30: =J31/$D$24 -> #DIV/0! | K30: =K31/$D$24 -> #DIV/0! | L30: =L31/$D$24 -> #DIV/0! | ... P30: =P31/$D$24 -> #DIV/0! | Q30: =Q28 -> #DIV/0!
C31: (R$) TOTAL ACUMUADO | E31: =E29 -> 0 | F31: =F29+E31 -> 0 | G31: =G29+F31 -> 0 | H31: =H29+G31 -> 0 | I31: =I29+H31 -> 0 | J31: =J29+I31 -> 0 | K31: =K29+J31 -> 0 | L31: =L29+K31 -> 0 | M31: =M29+L31 -> 0 | ... P31: =P29+O31 -> 0 | Q31: =Q29 -> 0
