Workbook

Sheet Orçamento
B1: SECRETARIA DE ESTADO DA INFRAESTRUTURA E MOBILIDADE
B2: DIRETORIA DE FISCALIZAÇÃO DE OBRAS DE INFRAESTRUTURA - DFIS
B3: COMPOSIÇÃO DO ORÇAMENTO REFERENCIAL
B5: OBJETO: Contratação de empresa para a execução dos serviços de coordenação, supervisão, controle e de subsídios à fiscalização de obras de estabilização de taludes e recuperação de Muro de Contenção (Terrae) - SC-477. trecho: Dr. Pedrinho - SC-112 (p/ Rio Negrinho)
B6: EMPRESA:
J7: Duração | K7: 10
B8: Referencial - Consolidação dos custos de mão de obra da engenharia consultiva (DNIT) - mês de referência: julho de 2024
B9: Data Base do Orçamento: julho de 2024
B10: OBJETO 1 - DESCRIÇÃO | E10: CÓDIGO | F10: UNID | G10: QUANTIDADE | J10: Custo Unitário (C.U) | K10: 0 | L10: PREÇO UNITÁRIO (R$) | M10: PREÇO TOTAL (R$)
G11: por mês | H11: n.º de meses | I11: Total | K11: BDI
B12: 1. Pessoal
B13: 1.1 Equipe Fixa
B14: 1.1.1 | C14: Engenheiro residente/Supervisor* | D14: Engenheiro Supervisor (SICRO) | E14: P9819 | F14: MÊS | G14: 1 | H14: 8 | I14: =G14*H14 -> 8 | K14: =$K$10 -> 0 | L14: =ROUND(J14+J14*K14,2) -> 0 | M14: =TRUNC(I14*L14,2) -> 0
B15: 1.1.2 | C15: Auxiliar Administrativo | D15: Laboratorista | E15: P8026 | F15: MÊS | G15: 1 | H15: 6 | I15: =G15*H15 -> 6 | K15: =$K$10 -> 0 | L15: =ROUND(J15+J15*K15,2) -> 0 | M15: =TRUNC(I15*L15,2) -> 0
B16: 1.1.3 | C16: Técnico de Obras | D16: Técnico especializado - mensalista (SICRO) | E16: =[1]Tab_consultoria_pessoal!A74 -> P8151 | F16: MÊS | G16: 1 | H16: 6 | I16: =G16*H16 -> 6 | K16: =$K$10 -> 0 | L16: =ROUND(J16+J16*K16,2) -> 0 | M16: =TRUNC(I16*L16,2) -> 0
B17: 1.2 Equipe Vinculada de Projeto
B18: 1.2.1 | C18: Engenheiro de Projetos Pleno | D18: Engenheiro Supervisor (SICRO) | E18: P8066 | F18: MÊS | G18: 1 | H18: 2 | I18: =G18*H18 -> 2 | K18: =$K$10 -> 0 | L18: =ROUND(J18+J18*K18,2) -> 0 | M18: =TRUNC(I18*L18,2) -> 0
B19: 1.3 Equipe de controle tecnológico e topografia
B20: 1.3.1 | C20: Laboratorista | D20: Auxiliar de laboratório | E20: =[1]Tab_consultoria_pessoal!A58 -> P8102 | F20: MÊS | G20: 1 | H20: 6 | I20: =G20*H20 -> 6 | K20: =$K$10 -> 0 | L20: =ROUND(J20+J20*K20,2) -> 0 | M20: =TRUNC(I20*L20,2) -> 0
B21: 1.3.2 | C21: Auxiliar de Laboratorista | D21: Topógrafo | E21: =[1]Tab_consultoria_pessoal!A22 -> P8028 | F21: MÊS | G21: 1 | H21: 6 | I21: =G21*H21 -> 6 | K21: =$K$10 -> 0 | L21: =ROUND(J21+J21*K21,2) -> 0 | M21: =TRUNC(I21*L21,2) -> 0
B22: 1.3.3 | C22: Topógrafo | D22: Topógrafo | E22: =[1]Tab_consultoria_pessoal!A78 -> P8167 | F22: MÊS | G22: 1 | H22: 6 | I22: =G22*H22 -> 6 | K22: =$K$10 -> 0 | L22: =ROUND(J22+J22*K22,2) -> 0 | M22: =TRUNC(I22*L22,2) -> 0
B23: 1.3.4 | C23: Auxiliar de Topografia | D23: Topógrafo | E23: =[1]Tab_consultoria_pessoal!A23 -> P8032 | F23: MÊS | G23: 1 | H23: 6 | I23: =G23*H23 -> 6 | K23: =$K$10 -> 0 | L23: =ROUND(J23+J23*K23,2) -> 0 | M23: =TRUNC(I23*L23,2) -> 0
H24: SUBTOTAL DO ITEM 1 | M24: =SUM(M13:M23) -> 0
B25: 2. Instalações físicas
B26: 2.1 | C26: Escritório | F26: MÊS | G26: 1 | H26: 10 | I26: =G26*H26 -> 10 | K26: =$K$10 -> 0 | L26: =ROUND(J26+J26*K26,2) -> 0 | M26: =TRUNC(I26*L26,2) -> 0
B27: 2.2 | C27: Residência | F27: MÊS | G27: 1 | H27: 10 | I27: =G27*H27 -> 10 | K27: =$K$10 -> 0 | L27: =ROUND(J27+J27*K27,2) -> 0 | M27: =TRUNC(I27*L27,2) -> 0
B28: 2.3 | C28: Laboratórios | F28: MÊS | G28: 1 | H28: 6 | I28: =G28*H28 -> 6 | K28: =K27 -> 0 | L28: =ROUND(J28+J28*K28,2) -> 0 | M28: =TRUNC(I28*L28,2) -> 0
B29: 2.4 | C29: Topografia | F29: MÊS | G29: 1 | H29: 6 | I29: =G29*H29 -> 6 | K29: =$K$10 -> 0 | L29: =ROUND(J29+J29*K29,2) -> 0 | M29: =TRUNC(I29*L29,2) -> 0
H30: SUBTOTAL DO ITEM 2 | M30: =SUM(M26:M29) -> 0
B31: 3. Mobiliários
B32: 3.1 | C32: Escritório | F32: MÊS | G32: 1 | H32: 10 | I32: =G32*H32 -> 10 | K32: =$K$10 -> 0 | L32: =ROUND(J32+J32*K32,2) -> 0 | M32: =TRUNC(I32*L32,2) -> 0
B33: 3.2 | C33: Residência | F33: MÊS | G33: 1 | H33: 10 | I33: =G33*H33 -> 10 | K33: =$K$10 -> 0 | L33: =ROUND(J33+J33*K33,2) -> 0 | M33: =TRUNC(I33*L33,2) -> 0
H34: SUBTOTAL DO ITEM 3 | M34: =SUM(M32:M33) -> 0
B35: 4. Cesta das Instalações - Instrumentos
B36: 4.1 | C36: Laboratório de asfalto | E36: =[1]Tab_custos_eq_mob!C21 -> B8956 | F36: MÊS | G36: 1 | H36: 3 | I36: =G36*H36 -> 3 | K36: =$K$10 -> 0 | L36: =ROUND(J36+J36*K36,2) -> 0 | M36: =TRUNC(I36*L36,2) -> 0
B37: 4.2 | C37: Laboratório de concreto | E37: =[1]Tab_custos_eq_mob!C22 -> B8957 | F37: MÊS | G37: 1 | H37: 6 | I37: =G37*H37 -> 6 | K37: =$K$10 -> 0 | L37: =ROUND(J37+J37*K37,2) -> 0 | M37: =TRUNC(I37*L37,2) -> 0
B38: 4.3 | C38: Laboratório de solos | E38: =[1]Tab_custos_eq_mob!C23 -> B8958 | F38: MÊS | G38: 1 | H38: 4 | I38: =G38*H38 -> 4 | K38: =$K$10 -> 0 | L38: =ROUND(J38+J38*K38,2) -> 0 | M38: =TRUNC(I38*L38,2) -> 0
B39: 4.4 | C39: Topografia | E39: =[1]Tab_custos_eq_mob!C24 -> B8961 | F39: MÊS | G39: 1 | H39: 6 | I39: =G39*H39 -> 6 | K39: =$K$10 -> 0 | L39: =ROUND(J39+J39*K39,2) -> 0 | M39: =TRUNC(I39*L39,2) -> 0
H40: SUBTOTAL DO ITEM 4 | M40: =SUM(M36:M39) -> 0
B41: 5. Custos diversos
...

Sheet BDI_supervisão
B2: BDI - CONSULTORIA
B4: Despesas Indiretas | D4: % sobre PV | E4: % sobre CD
B5: Adm. Central | C5: Variável - f (CD)
B6: Despesas Financeiras | C6: % sobre (PV - Lucro)
B7: Seguros e Garantias Contratuais | C7: 0,25% do PV
B8: Riscos | C8: 0,5% do PV
B9: Lucro | C9: Variável - f (CD)
B10: PIS | C10: 0,65% do PV
B11: COFINS | C11: 3,00% do PV
B12: ISSQN | C12: % do PV
B13: Total - BDI (%) | D13: =ROUND(SUM(D5:D12),4) -> 0 | E13: =ROUND(SUM(E5:E12),4) -> 0
B14: PV = Preço de Venda
B15: CD = Custo Direto
B16: Selic = 10,75% a.a.
B17: DF = [(1+SELIC)^(1/12)-1] sobre (PV - Lucro)
B18: ISS - Doutor Pedrinho/SC - Lei Complementar Nº 27/2003 (3,0%)

Sheet Cronograma
B3: SECRETARIA DE ESTADO DA INFRAESTRUTURA E MOBILIDADE
B5: CRONOGRAMA FÍSICO-FINANCEIRO
B6: =Orçamento!B5 -> OBJETO: Contratação de empresa para a execução dos serviços de coordenação, supervisão, controle e de subsídios à fiscalização de obras de estabilização de taludes e recuperação de Muro de Contenção (Terrae) - SC-477. trecho: Dr. Pedrinho - SC-112 (p/ Rio Negrinho)
B8: EMPESA:
B10: ATIVIDADES | D10: PREÇO | E10: MESES | O10: TOTAL
E11: 1 | F11: 2 | G11: 3 | H11: 4 | I11: 5 | J11: 6 | K11: 7 | L11: 8 | M11: 9 | N11: 10
B12: 1. Pessoal | D12: =Orçamento!M24 -> 0 | E12: =E13/$D$12 -> 0.054014298 | F12: =F13/$D$12 -> 0.054014298 | G12: =G13/$D$12 -> 0.12893759 | H12: =H13/$D$12 -> 0.12893759 | I12: =I13/$D$12 -> 0.12893759 | J12: =J13/$D$12 -> 0.12893759 | K12: =K13/$D$12 -> 0.12893759 | L12: =L13/$D$12 -> 0.12893759 | ... N12: =N13/$D$12 -> 0.059172927 | O12: =E12+F12+G12+H12+I12+J12+K12+L12+M12+N12 -> 0
E13: =E12*$D$12 -> 0 | F13: =F12*$D$12 -> 0 | G13: =G12*$D$12 -> 0 | H13: =H12*$D$12 -> 0 | I13: =I12*$D$12 -> 0 | J13: =J12*$D$12 -> 0 | K13: =K12*$D$12 -> 0 | L13: =L12*$D$12 -> 0 | ... N13: =N12*$D$12 -> 0 | O13: =SUM(E13:N13) -> 0
B14: 2. Instalações Físicas | D14: =Orçamento!M30 -> 0 | E14: =E15/$D$14 -> 0.077752455 | F14: =F15/$D$14 -> 0.077752455 | G14: =G15/$D$14 -> 0.1148317 | H14: =H15/$D$14 -> 0.1148317 | I14: =I15/$D$14 -> 0.1148317 | J14: =J15/$D$14 -> 0.1148317 | K14: =K15/$D$14 -> 0.1148317 | L14: =L15/$D$14 -> 0.1148317 | ... N14: =N15/$D$14 -> 0.077752455 | O14: =E14+F14+G14+H14+I14+J14+K14+L14+M14+N14 -> 0
E15: =E14*$D$14 -> 0 | F15: =F14*$D$14 -> 0 | G15: =G14*$D$14 -> 0 | H15: =H14*$D$14 -> 0 | I15: =I14*$D$14 -> 0 | J15: =J14*$D$14 -> 0 | K15: =K14*$D$14 -> 0 | L15: =L14*$D$14 -> 0 | ... N15: =N14*$D$14 -> 0 | O15: =SUM(E15:N15) -> 0
B16: 3. Mobiliários | D16: =Orçamento!M34 -> 0 | E16: =E17/$D$16 -> 0.1 | F16: =F17/$D$16 -> 0.1 | G16: =G17/$D$16 -> 0.1 | H16: =H17/$D$16 -> 0.1 | I16: =I17/$D$16 -> 0.1 | J16: =J17/$D$16 -> 0.1 | K16: =K17/$D$16 -> 0.1 | L16: =L17/$D$16 -> 0.1 | ... N16: =N17/$D$16 -> 0.1 | O16: =E16+F16+G16+H16+I16+J16+K16+L16+M16+N16 -> 0
E17: =E16*$D$16 -> 0 | F17: =F16*$D$16 -> 0 | G17: =G16*$D$16 -> 0 | H17: =H16*$D$16 -> 0 | I17: =I16*$D$16 -> 0 | J17: =J16*$D$16 -> 0 | K17: =K16*$D$16 -> 0 | L17: =L16*$D$16 -> 0 | ... N17: =N16*$D$16 -> 0 | O17: =SUM(E17:N17) -> 0
B18: 4. Cesta de Instalações | D18: =Orçamento!M40 -> 0 | E18: =E19/$D$18 -> 0 | F18: =F19/$D$18 -> 0 | G18: =G19/$D$18 -> 0.14821413 | H18: =H19/$D$18 -> 0.14821413 | I18: =I19/$D$18 -> 0.14821413 | J18: =J19/$D$18 -> 0.21430117 | K18: =K19/$D$18 -> 0.17052822 | L18: =L19/$D$18 -> 0.17052822 | ... N18: =N19/$D$18 -> 0 | O18: =E18+F18+G18+H18+I18+J18+K18+L18+M18+N18 -> 0
E19: =E18*$D$18 -> 0 | F19: =F18*$D$18 -> 0 | G19: =G18*$D$18 -> 0 | H19: =H18*$D$18 -> 0 | I19: =I18*$D$18 -> 0 | J19: =J18*$D$18 -> 0 | K19: =K18*$D$18 -> 0 | L19: =L18*$D$18 -> 0 | ... N19: =N18*$D$18 -> 0 | O19: =SUM(E19:N19) -> 0
B20: 5. Custos diversos | D20: =Orçamento!M44 -> 0 | E20: =E21/$D$20 -> 0.1 | F20: =F21/$D$20 -> 0.1 | G20: =G21/$D$20 -> 0.1 | H20: =H21/$D$20 -> 0.1 | I20: =I21/$D$20 -> 0.1 | J20: =J21/$D$20 -> 0.1 | K20: =K21/$D$20 -> 0.1 | L20: =L21/$D$20 -> 0.1 | ... N20: =N21/$D$20 -> 0.1 | O20: =E20+F20+G20+H20+I20+J20+K20+L20+M20+N20 -> 0
E21: =E20*$D$20 -> 0 | F21: =F20*$D$20 -> 0 | G21: =G20*$D$20 -> 0 | H21: =H20*$D$20 -> 0 | I21: =I20*$D$20 -> 0 | J21: =J20*$D$20 -> 0 | K21: =K20*$D$20 -> 0 | L21: =L20*$D$20 -> 0 | ... N21: =N20*$D$20 -> 0 | O21: =SUM(E21:N21) -> 0
B22: 6. Veículos | D22: =Orçamento!M49 -> 0 | E22: =E18 -> 0 | F22: =F18 -> 0 | G22: =G23/$D$22 -> 0.14762316 | H22: =H23/$D$22 -> 0.14762316 | I22: =I23/$D$22 -> 0.14762316 | J22: =J23/$D$22 -> 0.14762316 | K22: =K23/$D$22 -> 0.14762316 | L22: =L23/$D$22 -> 0.14762316 | M22: =M23/$D$22 -> 0.057130522 | N22: =N23/$D$22 -> 0.057130522 | O22: =E22+F22+G22+H22+I22+J22+K22+L22+M22+N22 -> 0
E23: =E22*$D$22 -> 0 | F23: =F22*$D$22 -> 0 | G23: =G22*$D$22 -> 0 | H23: =H22*$D$22 -> 0 | I23: =I22*$D$22 -> 0 | J23: =J22*$D$22 -> 0 | K23: =K22*$D$22 -> 0 | L23: =L22*$D$22 -> 0 | ... N23: =N22*$D$22 -> 0 | O23: =SUM(E23:N23) -> 0
B24: PREÇO TOTAL GLOBAL | D24: =SUM(D12:D23) -> 0
C28: % TOTAL MENSAL | E28: =E29/$D$24 -> #DIV/0! | F28: =F29/$D$24 -> #DIV/0! | G28: =G29/$D$24 -> #DIV/0! | H28: =H29/$D$24 -> #DIV/0! | I28: =I29/$D$24 -> #DIV/0! | J28: =J29/$D$24 -> #DIV/0! | K28: =K29/$D$24 -> #DIV/0! | L28: =L29/$D$24 -> #DIV/0! | ... N28: =N29/$D$24 -> #DIV/0! | O28: =SUM(E28:N28) -> #DIV/0!
C29: (R$) TOTAL MENSAL | E29: =(E13+E15+E17+E19+E21+E23) -> 0 | F29: =(F13+F15+F17+F19+F21+F23) -> 0 | G29: =(G13+G15+G17+G19+G21+G23) -> 0 | H29: =(H13+H15+H17+H19+H21+H23) -> 0 | I29: =(I13+I15+I17+I19+I21+I23) -> 0 | J29: =(J13+J15+J17+J19+J21+J23) -> 0 | K29: =(K13+K15+K17+K19+K21+K23) -> 0 | L29: =(L13+L15+L17+L19+L21+L23) -> 0 | ... N29: =(N13+N15+N17+N19+N21+N23) -> 0 | O29: =SUM(O13,O15,O17,O19,O21,O23) -> 0
C30: % TOTAL ACUMULADO | E30: =E31/$D$24 -> #DIV/0! | F30: =F31/$D$24 -> #DIV/0! | G30: =G31/$D$24 -> #DIV/0! | H30: =H31/$D$24 -> #DIV/0! | I30: =I31/$D$24 -> #DIV/0! | J30: =J31/$D$24 -> #DIV/0! | K30: =K31/$D$24 -> #DIV/0! | L30: =L31/$D$24 -> #DIV/0! | ... N30: =N31/$D$24 -> #DIV/0! | O30: =#REF! -> #REF!
C31: (R$) TOTAL ACUMUADO | E31: =E29 -> 0 | F31: =F29+E31 -> 0 | G31: =G29+F31 -> 0 | H31: =H29+G31 -> 0 | I31: =I29+H31 -> 0 | J31: =J29+I31 -> 0 | K31: =K29+J31 -> 0 | L31: =L29+K31 -> 0 | M31: =M29+L31 -> 0 | N31: =N29+M31 -> 0 | O31: =#REF! -> #REF!
