Workbook
Name _: #REF!
Name _: #REF!
Name ________: #REF!
Name ________: #REF!
Name ___________: #REF!
Name ___________: #REF!
Name __________a70000: #REF!
Name __________a70000: #REF!
Name __________a70000: #REF!
Name _________a70000: #REF!
Name _________a70000: #REF!
Name _________a70000: #REF!
Name ________a100000: #REF!
Name ________a100000: #REF!
Name ________a100000: #REF!
Name ________a70000: #REF!
Name ________a70000: #REF!
Name ________a70000: #REF!
Name _______a100000: #REF!
Name _______a100000: #REF!
Name _______a100000: #REF!
Name _______a70000: #REF!
Name _______a70000: #REF!
Name _______a70000: #REF!
Name ______a100000: #REF!
Name ______a100000: #REF!
Name ______a100000: #REF!
Name ______a70000: #REF!
Name ______a70000: #REF!
Name ______a70000: #REF!
Name _____a100000: #REF!
Name _____a100000: #REF!
Name _____a100000: #REF!
Name _____a70000: #REF!
Name _____a70000: #REF!
Name _____a70000: #REF!
Name ____a100000: #REF!
Name ____a100000: #REF!
Name ____a100000: #REF!
Name ____a70000: #REF!
Name ____a70000: #REF!
Name ____a70000: #REF!
Name ___a100000: #REF!
Name ___a100000: #REF!
Name ___a100000: #REF!
Name ___a70000: #REF!
Name ___a70000: #REF!
Name ___a70000: #REF!
Name __a100000: #REF!
Name __a100000: #REF!
Name __a100000: #REF!
Name __a70000: #REF!
Name __a70000: #REF!
Name __a70000: #REF!
Name __SM1: #REF!
Name __SM1: #REF!
Name __SM1: #REF!
Name __SM10: #REF!
Name __SM10: #REF!
Name __SM10: #REF!

Sheet Planilha Proposta
A4: Orçamento Sintético
A6: Proponente: | K6: :
A7: Ano | K7: : | L7: 2025
A8: Proposta | K8: : | L8: Contratação de empresa especializada em elaboração de projetos de arquitetura e de engenharia Modelagem da Informação da Construção (BIM), para construção da Delegacia de Polícia Civil e CINTRAN, do município de Itapema, Santa Catarina
A9: Município(s) | K9: : | L9: Itapema
A11: Dimensão | K11: : | L11: 935,43m² | AD11: Data da Proposta (T) :
AD14: BDI:
A15: 01 - Consultoria
A16: 01.01 - Levantamentos, Estudos e Ensaios
A17: 01.01.01 - Mobilização e Desmobilização
D18: Referência | M18: Cód. Padrão | Q18: Cód. Auxiliar | T18: Descrição do Serviço | Y18: Unid. | AC18: Índice | AE18: Quantidade | AI18: BDI(%) | AK18: Preço Unitário(R$) | AQ18: Preço total
D19: 10101001 | M19: 15 | Q19: CPU127772 | T19: MOBILIZAÇÃO E DESMOBILIZAÇÃO DE EQUIPAMENTO DE SONDAGEM A PERCUSSÃO COM ENSAIO DE PENETRAÇÃO PADRÃO (SPT), INCLUSIVE CUSTO FIXO E VARIÁVEL - CO-29372/SIURB | Y19: UN | AC19: CON | AE19: 1 | AQ19: =TRUNC(AK19*AE19,2) -> 0 | AV19: =TRUNC(AK19*AE19,2) -> 0
A21: 01.01.02 - Levantamento Planialtimétrico
D22: Referência | M22: Cód. Padrão | Q22: Cód. Auxiliar | T22: Descrição do Serviço | Y22: Unid. | AC22: Índice | AE22: Quantidade | AI22: BDI(%) | AK22: Preço Unitário(R$) | AQ22: Preço total
D23: 10102001 | M23: 13 | Q23: CPU127762 | T23: LEVANTAMENTO PLANIALTIMÉTRICO DE ÁREAS - ATÉ 10.000M2 - 20001013/SIURB | Y23: UN | AC23: CON | AE23: 1 | AQ23: =TRUNC(AK23*AE23,2) -> 0 | AV23: =TRUNC(AK23*AE23,2) -> 0
A25: 01.01.03 - Sondagem
D26: Referência | M26: Cód. Padrão | Q26: Cód. Auxiliar | T26: Descrição do Serviço | Y26: Unid. | AC26: Índice | AE26: Quantidade | AI26: BDI(%) | AK26: Preço Unitário(R$) | AQ26: Preço total
D27: 10103001 | M27: 22 | Q27: CPU127795 | T27: SONDAGEM A PERCUSSÃO COM ENSAIO DE PENETRAÇÃO PADRÃO (SPT), DIÂMETRO 2.1/2", EXCLUSIVE MOBILIZAÇÃO E DESMOBILIZAÇÃO - CO-28388/SICOR-MG | Y27: M | AC27: CON | AE27: 80 | AQ27: =TRUNC(AK27*AE27,2) -> 0 | AV27: =TRUNC(AK27*AE27,2) -> 0
A29: 01.01.04 - Projeto de Arquitetura, Urbanismo e Paisagismo
D30: Referência | M30: Cód. Padrão | Q30: Cód. Auxiliar | T30: Descrição do Serviço | Y30: Unid. | AC30: Índice | AE30: Quantidade | AI30: BDI(%) | AK30: Preço Unitário(R$) | AQ30: Preço total
D31: 10104001 | M31: 30 | Q31: CPU127878 | T31: PROJETO ARQUITETÔNICO, PAISAGISMO E URBANISMO | Y31: M2 | AC31: CON | AE31: 991.81 | AI31: 26.17 | AQ31: =TRUNC(AK31*AE31,2) -> 0 | AV31: =TRUNC(AK31*AE31,2) -> 0
A33: 01.01.05 - Projetos de engenharia
D34: Referência | M34: Cód. Padrão | Q34: Cód. Auxiliar | T34: Descrição do Serviço | Y34: Unid. | AC34: Índice | AE34: Quantidade | AI34: BDI(%) | AK34: Preço Unitário(R$) | AQ34: Preço total
D35: 10105001 | M35: 31 | Q35: CPU127881 | T35: PROJETO ESTRUTURAL, INCLUSIVE FUNDAÇÃO | Y35: M2 | AC35: CON | AE35: 935.43 | AQ35: =TRUNC(AK35*AE35,2) -> 0 | AV35: =TRUNC(AK35*AE35,2) -> 0
D36: 10105002 | M36: 32 | Q36: CPU127883 | T36: PROJETO HIDROSSANITÁRIO | Y36: M2 | AC36: CON | AE36: 935.43 | AQ36: =TRUNC(AK36*AE36,2) -> 0 | AV36: =TRUNC(AK36*AE36,2) -> 0
D37: 10105003 | M37: 33 | Q37: CPU127884 | T37: PROJETO REDES ELÉTRICAS | Y37: M2 | AC37: CON | AE37: 935.43 | AQ37: =TRUNC(AK37*AE37,2) -> 0 | AV37: =TRUNC(AK37*AE37,2) -> 0
D38: 10105004 | M38: 38 | Q38: CPU127890 | T38: PROJETO DE ALARME E CFTV | Y38: M2 | AC38: CON | AE38: 935.43 | AQ38: =TRUNC(AK38*AE38,2) -> 0 | AV38: =TRUNC(AK38*AE38,2) -> 0
D39: 10105005 | M39: 35 | Q39: CPU127887 | T39: PROJETO DO SIST.DE CABEAMENTO ESTRUTURADO (VOZ, DADOS E SONORIZAÇÃO) | Y39: M2 | AC39: CON | AE39: 935.43 | AQ39: =TRUNC(AK39*AE39,2) -> 0 | AV39: =TRUNC(AK39*AE39,2) -> 0
D40: 10105006 | M40: 40 | Q40: CPU127892 | T40: PROJETO TELEFÔNICO | Y40: M2 | AC40: CON | AE40: 935.43 | AQ40: =TRUNC(AK40*AE40,2) -> 0 | AV40: =TRUNC(AK40*AE40,2) -> 0
D41: 10105007 | M41: 34 | Q41: CPU127886 | T41: PROJETO DE PREVENÇÃO E COMBATE A INCÊNDIO | Y41: M2 | AC41: CON | AE41: 991.81 | AQ41: =TRUNC(AK41*AE41,2) -> 0 | AV41: =TRUNC(AK41*AE41,2) -> 0
D42: 10105008 | M42: 37 | Q42: CPU127889 | T42: PROJETO DE CLIMATIZAÇÃO E CONFORTO AMBIENTAL | Y42: M2 | AC42: CON | AE42: 935.43 | AQ42: =TRUNC(AK42*AE42,2) -> 0 | AV42: =TRUNC(AK42*AE42,2) -> 0
A44: 01.01.06 - Elaboração do Planejamento, Conogramas e Planilha estimativa
D45: Referência | M45: Cód. Padrão | Q45: Cód. Auxiliar | T45: Descrição do Serviço | Y45: Unid. | AC45: Índice | AE45: Quantidade | AI45: BDI(%) | AK45: Preço Unitário(R$) | AQ45: Preço total
D46: 10106001 | M46: 41 | Q46: CPU127893 | T46: PLANILHA ORÇAMENTÁRIA PARA CONSTRUÇÕES NOVAS - ÁREA ATÉ 1.000 M2 - CO-27390/SICOR-MG | Y46: M2 | AC46: CON | AE46: 991.81 | AQ46: =TRUNC(AK46*AE46,2) -> 0 | AV46: =TRUNC(AK46*AE46,2) -> 0
A48: Total do Grupo**: | AL48: =SUM(AQ19:AQ46) -> 0 | AV48: =SUM(AV19:AV46) -> 0
A50: Total Geral do Orçamento: | AL50: =AL48 -> 0
A51: ** O Total do Grupo apresenta apenas os insumos que não são composições
A55: Descrição do grupo | V55: Total do Grupo | AE55: Preço/m²
A56: Consultoria | V56: =AL50 -> 0
A57: Total geral | V57: =V56 -> 0

Sheet Planilha1

Sheet composições
A4: Relatório de Composição do Serviço do Orçamento
A6: Órgão | F6: : | G6: PCSC - Polícia Civil de Santa Catarina | V6: Valores Expressos em Reais (R$)
A7: Ano | F7: : | G7: 2025
A8: Orçamento | F8: : | G8: Contratação de empresa especializada em elaboração de projetos de arquitetura e de engenharia Modelagem da Informação da Construção (BIM), para construção da Delegacia de Polícia Civil e CINTRAN, do município de Itapema, Santa Catarina
A9: Município(s) | F9: : | G9: Itapema
A11: Dimensão | F11: : | G11: 935,430 M2 | V11: Data base do orçamento (T) :
A13: Serviço: CPU127762 LEVANTAMENTO PLANIALTIMÉTRICO DE ÁREAS - ATÉ 10.000M2 - 20001013/SIURB | AD13: Unidade: UN
A15: Tipo | E15: Descricao | Q15: Código Auxiliar | U15: Unid. | Y15: Custo Unitário | AE15: Consumo | AL15: Custo Unitário
A16: Insumo | E16: AJUDANTE OU AUXILIAR DE TOPOGRAFIA (SGSP) - 01134/SIURB | Q16: MO127747 | U16: H | Y16: 27.72 | AE16: 50 | AL16: 1386
A17: Insumo | E17: DESENHISTA CADISTA (SGSP) - 01158/SIURB | Q17: MO127748 | U17: H | Y17: 50.65 | AE17: 12 | AL17: 607.8
A18: Insumo | E18: DESENHISTA DE TOPOGRAFIA - NÍVEL TÉCNICO (SGSP) - 01163/SIURB | Q18: MO127749 | U18: H | Y18: 66.39 | AE18: 24 | AL18: 1593.36
A19: Insumo | E19: TOPÓGRAFO (SGSP) - 01181/SIURB | Q19: MO127752 | U19: H | Y19: 67.06 | AE19: 25 | AL19: 1676.5
A21: Total: | AI21: 5263.66
A22: BDI:20,36% | AI22: 1071.68
A23: Preço unitário Total: | AI23: 6335.34
A25: Serviço: CPU127772 MOBILIZAÇÃO E DESMOBILIZAÇÃO DE EQUIPAMENTO DE SONDAGEM A PERCUSSÃO COM ENSAIO DE PENETRAÇÃO PADRÃO (SPT), INCLUSIVE CUSTO FIXO E VARIÁVEL - CO-29372/SIURB | AD25: Unidade: UN
A26: Observações: Adotado deslocamento de até 50KM
A28: Tipo | E28: Descricao | Q28: Código Auxiliar | U28: Unid. | Y28: Custo Unitário | AE28: Consumo | AL28: Custo Unitário
A29: Composição | E29: MOBILIZAÇÃO E DESMOBILIZAÇÃO DE EQUIPAMENTO DE SONDAGEM A PERCUSSÃO COM ENSAIO DE PENETRAÇÃO PADRÃO (SPT) - (CUSTO FIXO) - CO-28390/SICOR-MG | Q29: CPU127778 | U29: UN | Y29: 917.49 | AE29: 1 | AL29: 917.49
A30: Composição | E30: MOBILIZAÇÃO E DESMOBILIZAÇÃO DE EQUIPAMENTO DE SONDAGEM A PERCUSSÃO COM ENSAIO DE PENETRAÇÃO PADRÃO (SPT) - (CUSTO VARIÁVEL), EXCLUSIVE CUSTO FIXO - CO-28389/SICOR-MG | Q30: CPU127776 | U30: KM | Y30: 2.26 | AE30: 50 | AL30: 113
A32: Total: | AI32: 1030.49
A33: BDI:20,36% | AI33: 209.8
A34: Preço unitário Total: | AI34: 1240.29
A36: Serviço: CPU127795 SONDAGEM A PERCUSSÃO COM ENSAIO DE PENETRAÇÃO PADRÃO (SPT), DIÂMETRO 2.1/2", EXCLUSIVE MOBILIZAÇÃO E DESMOBILIZAÇÃO - CO-28388/SICOR-MG | AD36: Unidade: M
A38: Tipo | E38: Descricao | Q38: Código Auxiliar | U38: Unid. | Y38: Custo Unitário | AE38: Consumo | AL38: Custo Unitário
A39: Insumo | E39: SONDAGEM À PERCUSSÃO SPT (DIÂMETRO DO FURO: 2.1/2"|FATURAMENTO MÍNIMO: 10M) - MATCO-28387 - SICOR-MG | Q39: MAT127740 | U39: M | Y39: 79.31 | AE39: 1 | AL39: 79.31
A41: Total: | AI41: 79.31
A42: BDI:20,36% | AI42: 16.14
A43: Preço unitário Total: | AI43: 95.45
A45: Serviço: CPU127878 PROJETO ARQUITETÔNICO, PAISAGISMO E URBANISMO | AD45: Unidade: M2
A46: Observações: DEPARTAMENTODE EDIFICAÇÕES E DE RODOVIAS DO ESPÍRITO SANTO -DER-ES - PROJETO DE DELEGACIAS DE POLÍCIA - Mar/24 reajustado por indice FGV Dez/24
A48: Tipo | E48: Descricao | Q48: Código Auxiliar | U48: Unid. | Y48: Custo Unitário | AE48: Consumo | AL48: Custo Unitário
A49: Insumo | E49: PROJETO ARQUITETÔNICO | Q49: MO127801 | U49: M2 | Y49: 31.49 | AE49: 1 | AL49: 31.49
A51: Total: | AI51: 31.49
A52: BDI:26,17% | AI52: 8.24
A53: Preço unitário Total: | AI53: 39.73
A55: Serviço: CPU127881 PROJETO ESTRUTURAL, INCLUSIVE FUNDAÇÃO | AD55: Unidade: M2
A56: Observações: DEPARTAMENTODE EDIFICAÇÕES E DE RODOVIAS DO ESPÍRITO SANTO -DER-ES - PROJETO DE DELEGACIAS DE POLÍCIA - Mar/24 reajustado por indice FGV Dez/24
A58: Tipo | E58: Descricao | Q58: Código Auxiliar | U58: Unid. | Y58: Custo Unitário | AE58: Consumo | AL58: Custo Unitário
A59: Insumo | E59: PROJETO ESTRUTURAL, INCLUSIVE FUNDAÇÃO | Q59: MO127803 | U59: M2 | Y59: 19.18 | AE59: 1 | AL59: 19.18
...

Sheet CRONOGRAMA (2)
B4: CRONOGRAMA FINANCEIRO
A5: Objeto: | B5: ='Planilha Proposta'!L8 -> Contratação de empresa especializada em elaboração de projetos de arquitetura e de engenharia Modelagem da Informação da Construção (BIM), para construção da Delegacia de Polícia Civil e CINTRAN, do município de Itapema, Santa Catarina
A8: ATIVIDADES | C8: PREÇO | D8: MESES | J8: TOTAL
D9: 1 | E9: 2 | F9: 3 | G9: 4 | H9: 5 | I9: 6
A10: 01.01 - Levantamentos, Estudos e Ensaios | C10: =C12+C17+C22 -> 0 | D10: =D11/C10 -> #DIV/0! | E10: =E11/$C$10 -> #DIV/0! | F10: =F11/$C$10 -> #DIV/0! | G10: =G11/$C$10 -> #DIV/0! | H10: =H11/$C$10 -> #DIV/0! | I10: =I11/$C$10 -> #DIV/0! | J10: =SUM(D10:I10) -> #DIV/0!
D11: =(D12*C12)+(D17*C17)+(D22*C22) -> 0 | E11: =(E12*C12)+(E17*C17)+(E22*C22) -> 0 | F11: =(F12*C12)+(F17*C17)+(F22*C22) -> 0 | G11: =(G12*C12)+(G17*C17)+(G22*C22) -> 0 | H11: =(H12*C12)+(H17*C17)+(H22*C22) -> 0 | I11: =(I12*C12)+(I17*C17)+(I22*C22) -> 0 | J11: =SUM(D11:I11) -> 0 | K11: =J11/C192 -> #DIV/0!
A12: MOBILIZAÇÃO E DESMOBILIZAÇÃO | C12: ='Planilha Proposta'!AQ19 -> 0 | D12: =(D13*A13)+(D14*A14)+(D15*A15)+(D16*A16) -> 1 | E12: =(E13*A13)+(E14*A14)+(E15*A15)+(E16*A16) -> 0 | F12: =(F13*A13)+(F14*A14)+(F15*A15)+(F16*A16) -> 0 | G12: =(G13*A13)+(G14*A14)+(G15*A15)+(G16*A16) -> 0 | H12: =(H13*A13)+(H14*A14)+(H15*A15)+(H16*A16) -> 0 | I12: =(I13*A13)+(I14*A14)+(I15*A15)+(I16*A16) -> 0 | J12: =SUM(D12:I12) -> 1
A13: 0 | B13: Execução | D13: 1 | J13: =SUM(D13:I13) -> 1
A14: 0.2 | B14: Entrega | D14: 1 | J14: =SUM(D14:I14) -> 1
A15: 0 | B15: Análise e Revisões | D15: 1 | J15: =SUM(D15:I15) -> 1
A16: 0.8 | B16: Aprovação | D16: 1 | J16: =SUM(D16:I16) -> 1
A17: LEVANTAMENTO PLANIALTIMÉTRICO | C17: ='Planilha Proposta'!AQ23 -> 0 | D17: =(D18*A18)+(D19*A19)+(D20*A20)+(D21*A21) -> 1 | E17: =(E18*A18)+(E19*A19)+(E20*A20)+(E21*A21) -> 0 | F17: =(F18*A18)+(F19*A19)+(F20*A20)+(F21*A21) -> 0 | G17: =(G18*A18)+(G19*A19)+(G20*A20)+(G21*A21) -> 0 | H17: =(H18*A18)+(H19*A19)+(H20*A20)+(H21*A21) -> 0 | I17: =(I18*A18)+(I19*A19)+(I20*A20)+(I21*A21) -> 0 | J17: =SUM(D17:I17) -> 1
A18: 0 | B18: Execução | D18: 1 | J18: =SUM(D18:I18) -> 1
A19: 0.2 | B19: Entrega | D19: 1 | J19: =SUM(D19:I19) -> 1
A20: 0 | B20: Análise e Revisões | D20: 1 | J20: =SUM(D20:I20) -> 1
A21: 0.8 | B21: Aprovação | D21: 1 | J21: =SUM(D21:I21) -> 1
A22: SONDAGEM | C22: ='Planilha Proposta'!AQ27 -> 0 | D22: =(D23*A23)+(D24*A24)+(D25*A25)+(D26*A26) -> 1 | E22: =(E23*A23)+(E24*A24)+(E25*A25)+(E26*A26) -> 0 | F22: =(F23*A23)+(F24*A24)+(F25*A25)+(F26*A26) -> 0 | G22: =(G23*A23)+(G24*A24)+(G25*A25)+(G26*A26) -> 0 | H22: =(H23*A23)+(H24*A24)+(H25*A25)+(H26*A26) -> 0 | I22: =(I23*A23)+(I24*A24)+(I25*A25)+(I26*A26) -> 0 | J22: =SUM(D22:I22) -> 1
A23: 0 | B23: Execução | D23: 1 | J23: =SUM(D23:I23) -> 1
A24: 0.2 | B24: Entrega | D24: 1 | J24: =SUM(D24:I24) -> 1
A25: 0 | B25: Análise e Revisões | D25: 1 | J25: =SUM(D25:I25) -> 1
A26: 0.8 | B26: Aprovação | D26: 1 | J26: =SUM(D26:I26) -> 1
A27: 01.01.04 - Projeto de Arquitetura, Urbanismo e Paisagismo | C27: ='Planilha Proposta'!AQ31 -> 0 | D27: =D28/$C$27 -> #DIV/0! | E27: =E28/$C$27 -> #DIV/0! | F27: =F28/$C$27 -> #DIV/0! | G27: =G28/$C$27 -> #DIV/0! | H27: =H28/$C$27 -> #DIV/0! | I27: =I28/$C$27 -> #DIV/0! | J27: =SUM(D27:I27) -> #DIV/0!
D28: =(D29*$C$29)+(D34*$C$34)+($C$39*D39)+(D44*$C$44)+(D49*$C$49) -> 0 | E28: =(E29*$C$29)+(E34*$C$34)+($C$39*E39)+(E44*$C$44)+(E49*$C$49) -> 0 | F28: =(F29*$C$29)+(F34*$C$34)+($C$39*F39)+(F44*$C$44)+(F49*$C$49) -> 0 | G28: =(G29*$C$29)+(G34*$C$34)+($C$39*G39)+(G44*$C$44)+(G49*$C$49) -> 0 | H28: =(H29*$C$29)+(H34*$C$34)+($C$39*H39)+(H44*$C$44)+(H49*$C$49) -> 0 | I28: =(I29*$C$29)+(I34*$C$34)+($C$39*I39)+(I44*$C$44)+(I49*$C$49) -> 0 | J28: =SUM(D28:I28) -> 0
A29: Elaboração do Anteprojeto - AP | C29: =ROUND($C$27*0.1,4) -> 0 | D29: =(D30*A30)+(D31*A31)+(D32*A32)+(D33*A33) -> 0 | E29: =(E30*A30)+(E31*A31)+(E32*A32)+(E33*A33) -> 1 | F29: =(F30*A30)+(F31*A31)+(F32*A32)+(F33*A33) -> 0 | G29: =(G30*A30)+(G31*A31)+(G32*A32)+(G33*A33) -> 0 | H29: =(H30*A30)+(H31*A31)+(H32*A32)+(H33*A33) -> 0 | I29: =(I30*A30)+(I31*A31)+(I32*A32)+(I33*A33) -> 0 | J29: =SUM(D29:I29) -> 1
A30: 0 | B30: Execução | D30: 0.4 | E30: 0.6 | J30: =SUM(D30:I30) -> 1
A31: 0.2 | B31: Entrega | E31: 1 | J31: =SUM(D31:I31) -> 1
A32: 0 | B32: Análise e Revisões | E32: 1 | J32: =SUM(D32:I32) -> 1
A33: 0.8 | B33: Aprovação | E33: 1 | J33: =SUM(D33:I33) -> 1
A34: Elaboração do Projeto Legal Entrada - PLE | C34: =ROUND($C$27*0.05,4) -> 0 | D34: =(D35*A35)+(D36*A36)+(D37*A37)+(D38*A38) -> 0 | E34: =(E35*A35)+(E36*A36)+(E37*A37)+(E38*A38) -> 0 | F34: =(F35*A35)+(F36*A36)+(F37*A37)+(F38*A38) -> 1 | G34: =(G35*A35)+(G36*A36)+(G37*A37)+(G38*A38) -> 0 | H34: =(H35*A35)+(H36*A36)+(H37*A37)+(H38*A38) -> 0 | I34: =(I35*A35)+(I36*A36)+(I37*A37)+(I38*A38) -> 0 | J34: =SUM(D34:I34) -> 1
A35: 0 | B35: Execução | E35: 0.4 | F35: 0.6 | J35: =SUM(D35:I35) -> 1
A36: 0.2 | B36: Entrega | F36: 1 | J36: =SUM(D36:I36) -> 1
A37: 0 | B37: Análise e Revisões | F37: 1 | J37: =SUM(D37:I37) -> 1
A38: 0.8 | B38: Aprovação | F38: 1 | J38: =SUM(D38:I38) -> 1
A39: Elaboração do Projeto Legal Aprovado - PLA | C39: =ROUND($C$27*0.05,4) -> 0 | D39: =(D40*A40)+(D41*A41)+(D42*A42)+(D43*A43) -> 0 | E39: =(E40*A40)+(E41*A41)+(E42*A42)+(E43*A43) -> 0 | F39: =(F40*A40)+(F41*A41)+(F42*A42)+(F43*A43) -> 0.2 | G39: =(G40*A40)+(G41*A41)+(G42*A42)+(G43*A43) -> 0.8 | H39: =(H40*A40)+(H41*A41)+(H42*A42)+(H43*A43) -> 0 | I39: =(I40*A40)+(I41*A41)+(I42*A42)+(I43*A43) -> 0 | J39: =SUM(D39:I39) -> 1
A40: 0 | B40: Execução | F40: 1 | J40: =SUM(D40:I40) -> 1
A41: 0.2 | B41: Entrega | F41: 1 | J41: =SUM(D41:I41) -> 1
A42: 0 | B42: Análise e Revisões | F42: 1 | J42: =SUM(D42:I42) -> 1
A43: 0.8 | B43: Aprovação | G43: 1 | J43: =SUM(D43:I43) -> 1
A44: Elaboração do Projeto básico - PB | C44: =ROUND($C$27*0.3,4) -> 0 | D44: =(D45*A45)+(D46*A46)+(D47*A47)+(D48*A48) -> 0 | E44: =(E45*A45)+(E46*A46)+(E47*A47)+(E48*A48) -> 0 | F44: =(F45*A45)+(F46*A46)+(F47*A47)+(F48*A48) -> 0 | G44: =(G45*A45)+(G46*A46)+(G47*A47)+(G48*A48) -> 1 | H44: =(H45*A45)+(H46*A46)+(H47*A47)+(H48*A48) -> 0 | I44: =(I45*A45)+(I46*A46)+(I47*A47)+(I48*A48) -> 0 | J44: =SUM(D44:I44) -> 1
A45: 0 | B45: Execução | E45: 0.35 | F45: 0.6 | G45: 0.05 | J45: =SUM(D45:I45) -> 1
...

Sheet CRONOGRAMA TR
B4: CRONOGRAMA FINANCEIRO
A5: Objeto: | B5: ='Planilha Proposta'!L8 -> Contratação de empresa especializada em elaboração de projetos de arquitetura e de engenharia Modelagem da Informação da Construção (BIM), para construção da Delegacia de Polícia Civil e CINTRAN, do município de Itapema, Santa Catarina | I5: DATA BASE:
A8: ATIVIDADES | C8: PREÇO | D8: MESES | J8: TOTAL
D9: 1 | E9: 2 | F9: 3 | G9: 4 | H9: 5 | I9: 6
A10: 01.01 - Levantamentos, Estudos e Ensaios | C10: =C12+C17+C22 -> 0 | D10: =D11/C10 -> #DIV/0! | E10: =E11/$C$10 -> #DIV/0! | F10: =F11/$C$10 -> #DIV/0! | G10: =G11/$C$10 -> #DIV/0! | H10: =H11/$C$10 -> #DIV/0! | I10: =I11/$C$10 -> #DIV/0! | J10: =SUM(D10:I10) -> #DIV/0!
D11: =(D12*C12)+(D17*C17)+(D22*C22) -> 0 | E11: =(E12*C12)+(E17*C17)+(E22*C22) -> 0 | F11: =(F12*C12)+(F17*C17)+(F22*C22) -> 0 | G11: =(G12*C12)+(G17*C17)+(G22*C22) -> 0 | H11: =(H12*C12)+(H17*C17)+(H22*C22) -> 0 | I11: =(I12*C12)+(I17*C17)+(I22*C22) -> 0 | J11: =SUM(D11:I11) -> 0
A12: Mobilização e Desmobilização | C12: ='Planilha Proposta'!AQ19 -> 0 | D12: =(D13*A13)+(D14*A14)+(D15*A15)+(D16*A16) -> 1 | E12: =(E13*A13)+(E14*A14)+(E15*A15)+(E16*A16) -> 0 | F12: =(F13*A13)+(F14*A14)+(F15*A15)+(F16*A16) -> 0 | G12: =(G13*A13)+(G14*A14)+(G15*A15)+(G16*A16) -> 0 | H12: =(H13*A13)+(H14*A14)+(H15*A15)+(H16*A16) -> 0 | I12: =(I13*A13)+(I14*A14)+(I15*A15)+(I16*A16) -> 0 | J12: =SUM(D12:I12) -> 1
A13: 0 | B13: Execução | D13: 1 | J13: =SUM(D13:I13) -> 1
A14: 0.2 | B14: Entrega | D14: 1 | J14: =SUM(D14:I14) -> 1
A15: 0 | B15: Análise e Revisões | D15: 1 | J15: =SUM(D15:I15) -> 1
A16: 0.8 | B16: Aprovação | D16: 1 | J16: =SUM(D16:I16) -> 1
A17: Levantamento Planialtimétrico | C17: ='Planilha Proposta'!AQ23 -> 0 | D17: =(D18*A18)+(D19*A19)+(D20*A20)+(D21*A21) -> 1 | E17: =(E18*A18)+(E19*A19)+(E20*A20)+(E21*A21) -> 0 | F17: =(F18*A18)+(F19*A19)+(F20*A20)+(F21*A21) -> 0 | G17: =(G18*A18)+(G19*A19)+(G20*A20)+(G21*A21) -> 0 | H17: =(H18*A18)+(H19*A19)+(H20*A20)+(H21*A21) -> 0 | I17: =(I18*A18)+(I19*A19)+(I20*A20)+(I21*A21) -> 0 | J17: =SUM(D17:I17) -> 1
A18: 0 | B18: Execução | D18: 1 | J18: =SUM(D18:I18) -> 1
A19: 0.2 | B19: Entrega | D19: 1 | J19: =SUM(D19:I19) -> 1
A20: 0 | B20: Análise e Revisões | D20: 1 | J20: =SUM(D20:I20) -> 1
A21: 0.8 | B21: Aprovação | D21: 1 | J21: =SUM(D21:I21) -> 1
A22: Sondagem | C22: ='Planilha Proposta'!AQ27 -> 0 | D22: =(D23*A23)+(D24*A24)+(D25*A25)+(D26*A26) -> 1 | E22: =(E23*A23)+(E24*A24)+(E25*A25)+(E26*A26) -> 0 | F22: =(F23*A23)+(F24*A24)+(F25*A25)+(F26*A26) -> 0 | G22: =(G23*A23)+(G24*A24)+(G25*A25)+(G26*A26) -> 0 | H22: =(H23*A23)+(H24*A24)+(H25*A25)+(H26*A26) -> 0 | I22: =(I23*A23)+(I24*A24)+(I25*A25)+(I26*A26) -> 0 | J22: =SUM(D22:I22) -> 1
A23: 0 | B23: Execução | D23: 1 | J23: =SUM(D23:I23) -> 1
A24: 0.2 | B24: Entrega | D24: 1 | J24: =SUM(D24:I24) -> 1
A25: 0 | B25: Análise e Revisões | D25: 1 | J25: =SUM(D25:I25) -> 1
A26: 0.8 | B26: Aprovação | D26: 1 | J26: =SUM(D26:I26) -> 1
A27: 01.01.04 - Projeto de Arquitetura, Urbanismo e Paisagismo | C27: ='Planilha Proposta'!AQ31 -> 0 | D27: =D28/$C$27 -> #DIV/0! | E27: =E28/$C$27 -> #DIV/0! | F27: =F28/$C$27 -> #DIV/0! | G27: =G28/$C$27 -> #DIV/0! | H27: =H28/$C$27 -> #DIV/0! | I27: =I28/$C$27 -> #DIV/0! | J27: =SUM(D27:I27) -> #DIV/0!
D28: =(D29*$C$29)+(D34*$C$34)+($C$39*D39)+(D44*$C$44)+(D49*$C$49) -> 0 | E28: =(E29*$C$29)+(E34*$C$34)+($C$39*E39)+(E44*$C$44)+(E49*$C$49) -> 0 | F28: =(F29*$C$29)+(F34*$C$34)+($C$39*F39)+(F44*$C$44)+(F49*$C$49) -> 0 | G28: =(G29*$C$29)+(G34*$C$34)+($C$39*G39)+(G44*$C$44)+(G49*$C$49) -> 0 | H28: =(H29*$C$29)+(H34*$C$34)+($C$39*H39)+(H44*$C$44)+(H49*$C$49) -> 0 | I28: =(I29*$C$29)+(I34*$C$34)+($C$39*I39)+(I44*$C$44)+(I49*$C$49) -> 0 | J28: =SUM(D28:I28) -> 0
A29: Elaboração do Anteprojeto - AP | C29: =ROUND($C$27*0.1,4) -> 0 | D29: =(D30*A30)+(D31*A31)+(D32*A32)+(D33*A33) -> 0 | E29: =(E30*A30)+(E31*A31)+(E32*A32)+(E33*A33) -> 1 | F29: =(F30*A30)+(F31*A31)+(F32*A32)+(F33*A33) -> 0 | G29: =(G30*A30)+(G31*A31)+(G32*A32)+(G33*A33) -> 0 | H29: =(H30*A30)+(H31*A31)+(H32*A32)+(H33*A33) -> 0 | I29: =(I30*A30)+(I31*A31)+(I32*A32)+(I33*A33) -> 0 | J29: =SUM(D29:I29) -> 1
A30: 0 | B30: Execução | D30: 0.4 | E30: 0.6 | J30: =SUM(D30:I30) -> 1
A31: 0.2 | B31: Entrega | E31: 1 | J31: =SUM(D31:I31) -> 1
A32: 0 | B32: Análise e Revisões | E32: 1 | J32: =SUM(D32:I32) -> 1
A33: 0.8 | B33: Aprovação | E33: 1 | J33: =SUM(D33:I33) -> 1
A34: Elaboração do Projeto Legal Entrada - PLE | C34: =ROUND($C$27*0.05,4) -> 0 | D34: =(D35*A35)+(D36*A36)+(D37*A37)+(D38*A38) -> 0 | E34: =(E35*A35)+(E36*A36)+(E37*A37)+(E38*A38) -> 0 | F34: =(F35*A35)+(F36*A36)+(F37*A37)+(F38*A38) -> 1 | G34: =(G35*A35)+(G36*A36)+(G37*A37)+(G38*A38) -> 0 | H34: =(H35*A35)+(H36*A36)+(H37*A37)+(H38*A38) -> 0 | I34: =(I35*A35)+(I36*A36)+(I37*A37)+(I38*A38) -> 0 | J34: =SUM(D34:I34) -> 1
A35: 0 | B35: Execução | E35: 0.4 | F35: 0.6 | J35: =SUM(D35:I35) -> 1
A36: 0.2 | B36: Entrega | F36: 1 | J36: =SUM(D36:I36) -> 1
A37: 0 | B37: Análise e Revisões | F37: 1 | J37: =SUM(D37:I37) -> 1
A38: 0.8 | B38: Aprovação | F38: 1 | J38: =SUM(D38:I38) -> 1
A39: Elaboração do Projeto Legal Aprovado - PLA | C39: =ROUND($C$27*0.05,4) -> 0 | D39: =(D40*A40)+(D41*A41)+(D42*A42)+(D43*A43) -> 0 | E39: =(E40*A40)+(E41*A41)+(E42*A42)+(E43*A43) -> 0 | F39: =(F40*A40)+(F41*A41)+(F42*A42)+(F43*A43) -> 0.2 | G39: =(G40*A40)+(G41*A41)+(G42*A42)+(G43*A43) -> 0.8 | H39: =(H40*A40)+(H41*A41)+(H42*A42)+(H43*A43) -> 0 | I39: =(I40*A40)+(I41*A41)+(I42*A42)+(I43*A43) -> 0 | J39: =SUM(D39:I39) -> 1
A40: 0 | B40: Execução | F40: 1 | J40: =SUM(D40:I40) -> 1
A41: 0.2 | B41: Entrega | F41: 1 | J41: =SUM(D41:I41) -> 1
A42: 0 | B42: Análise e Revisões | F42: 1 | J42: =SUM(D42:I42) -> 1
A43: 0.8 | B43: Aprovação | G43: 1 | J43: =SUM(D43:I43) -> 1
A44: Elaboração do Projeto básico - PB | C44: =ROUND($C$27*0.3,4) -> 0 | D44: =(D45*A45)+(D46*A46)+(D47*A47)+(D48*A48) -> 0 | E44: =(E45*A45)+(E46*A46)+(E47*A47)+(E48*A48) -> 0 | F44: =(F45*A45)+(F46*A46)+(F47*A47)+(F48*A48) -> 0 | G44: =(G45*A45)+(G46*A46)+(G47*A47)+(G48*A48) -> 1 | H44: =(H45*A45)+(H46*A46)+(H47*A47)+(H48*A48) -> 0 | I44: =(I45*A45)+(I46*A46)+(I47*A47)+(I48*A48) -> 0 | J44: =SUM(D44:I44) -> 1
A45: 0 | B45: Execução | E45: 0.35 | F45: 0.6 | G45: 0.05 | J45: =SUM(D45:I45) -> 1
...

Sheet BDIs
B2: BDI – SERVIÇOS TÉCNICOS ESPECIALIZADOS
B4: Contratação de empresa especializada em elaboração de projetos de arquitetura e de engenharia, utilizando a metodologia da Modelagem da Informação da Construção (BIM), para construção de edificação no interior do terreno do imóvel que abriga Delegacia de Polícia Civil e CINTRAN, do município de Itapema, Santa Catarina.
B6: ISSQ referencial máximo 5,00%
B8: Taxa Selic na data-base do orçamento (03/2025) (%)
B10: Itens | F10: Siglas | G10: Adotado (%)
B11: Administração Central | F11: AC
B12: Seguro e Garantia | F12: SG
B13: Risco | F13: R
B14: Despesas Financeiras | F14: DF | G14: =((1+(H8/100))^(22/252)-1)*100 -> 0
B15: Lucro | F15: L
B16: Cofins % e PIS % | F16: CP
B17: ISS | F17: ISS | G17: =H6 -> 0
B18: Contribuição Previdenciária sobre a Receita Bruta | F18: CPRB | G18: 0
B19: BDI Onerado | G19: =(((1+(G11+G12+G13)/100)*(1+G14/100)*(1+G15/100))/(1-(G16+G17+G18)/100))-1 -> 0
B21: Fórmula para cálculo do BDI conforme Acórdão 2.622/2013 – Plenário (TCU):
B23: Observações:
B24: 1) Percentuais adotados conforme Instrução Normativa SIE 2/2020. https://www.sie.sc.gov.br/instrucoes-normativas
B25: (2) Não é permitida a utilização de mão de obra desonerada para as empresas de arquitetura e engenharia enquadradas no Grupo 711 do CNAE 2.0.
B26: (3) Os percentuais de PIS e Cofins adotados referem-se a pessoas jurídicas sujeitas ao regime de incidência cumulativa. Ajustes, se necessários, devem ser feitos pelos licitantes de acordo com seu regime tributário.
B29: Cidade, data da assinatura digital

Sheet BDI Diferenciado
B2: BDI – DIFERENCIADO SERVIÇOS TÉCNICOS ESPECIALIZADOS
B4: Contratação de empresa especializada em elaboração de projetos de arquitetura e de engenharia, utilizando a metodologia da Modelagem da Informação da Construção (BIM), para construção de edificação no interior do terreno do imóvel que abriga Delegacia de Polícia Civil e CINTRAN, do município de Itapema, Santa Catarina.
B6: ISSQ referencial máximo 5,00%
B8: Taxa Selic na data-base do orçamento (03/2025) (%)
B10: Itens | F10: Siglas | G10: Adotado (%)
B11: Administração Central | F11: AC
B12: Seguro e Garantia | F12: SG
B13: Risco | F13: R
B14: Despesas Financeiras | F14: DF | G14: =((1+(H8/100))^(22/252)-1)*100 -> 0
B15: Lucro | F15: L
B16: Cofins % e PIS % | F16: CP
B17: ISS | F17: ISS | G17: =H6 -> 0
B18: Contribuição Previdenciária sobre a Receita Bruta | F18: CPRB | G18: 0
B19: BDI Onerado | G19: =(((1+(G11+G12+G13)/100)*(1+G14/100)*(1+G15/100))/(1-(G16+G17+G18)/100))-1 -> 0
B21: Fórmula para cálculo do BDI conforme Acórdão 2.622/2013 – Plenário (TCU):
B23: Observações:
B24: 1) Percentuais adotados conforme Instrução Normativa SIE 2/2020. https://www.sie.sc.gov.br/instrucoes-normativas
B25: (2) Não é permitida a utilização de mão de obra desonerada para as empresas de arquitetura e engenharia enquadradas no Grupo 711 do CNAE 2.0.
B26: (3) Os percentuais de PIS e Cofins adotados referem-se a pessoas jurídicas sujeitas ao regime de incidência cumulativa. Ajustes, se necessários, devem ser feitos pelos licitantes de acordo com seu regime tributário.
B29: Florianópolis, data da assinatura digital
B33: (assinado digitalmente)
