Workbook

Sheet Proposta
B2: ESTADO DE SANTA CATARINA
A4: PROPOSTA DAS LICITANTES
A6: Obra: | B6: Reforma da área de Doação de Sangue e Abrigo de Resíduos para HEMOSC - Florianópolis | H6: Data: ___ / ___ / ____
A7: Edital:
A8: Razão Social:
A9: CNPJ: | H9: Porcentagem de materiais (%) | I9: Porcentagem de mão de obra (%)
A10: BDI Administração Local (%): | D10: BDI Diferenciado Referencial (%) : | H10: =SUM(M:M)/O630 | I10: =SUM(N:N)/O630
A11: BDI Diferenciado Referencial (%) : | B11: 0.2605 | D11: BDI Diferenciado Referencial – Serviços Especializados (%) :
A13: Tabela de Origem | B13: 272 - TABELA SINAPI DESONERADA FEVEREIRO 2026
A17: 39 - Consultoria
A18: Tabela de Origem | B18: Cód Auxiliar | C18: Descrição do Serviço | D18: Unid. | E18: Quantidade | F18: Material / Outros (R$) | G18: Mão de Obra (R$) | H18: Custo Unit. (R$) | I18: BDI (%) | J18: Preço Unit Material (R$) | K18: Preço Unit MO (R$) | L18: Preço Unit. (R$) | M18: Preço MATERIAL (R$) | N18: Preço MO (R$) | O18: Preço Total (R$) | P18: Verificação $+5% | Q18: Proposta x Referência
A19: TABELA SINAPI DESONERADA FEVEREIRO 2026 | C19: Consultoria | E19: 0
A20: TABELA SINAPI DESONERADA FEVEREIRO 2026 | B20: CPU168929 | C20: 121 - ADMINISTRAÇÃO LOCAL | D20: UN | E20: 1 | H20: =F20+G20 | I20: 26.05 | J20: =F20+(I20/100*F20) | K20: =G20+(I20/100*G20) | L20: =TRUNC(J20+K20,2) | M20: =TRUNC(IF((J20+K20), (J20/(J20+K20)*O20), 0),2) | N20: =TRUNC(IF((J20+K20), (K20/(J20+K20)*O20), 0),2) | O20: =TRUNC(L20*E20,2) | P20: =IF(O20<=(Referencial!O20*1.05),"PREÇO VÁLIDO","PREÇO INVÁLIDO") | Q20: =(O20/Referencial!O20)-1
N21: Total do Grupo: | O21: =TRUNC(SUM(O17:O20),2)
A23: 9062 - Barraco Da Obra
A24: Tabela de Origem | B24: Cód Auxiliar | C24: Descrição do Serviço | D24: Unid. | E24: Quantidade | F24: Material / Outros (R$) | G24: Mão de Obra (R$) | H24: Custo Unit. (R$) | I24: BDI (%) | J24: Preço Unit Material (R$) | K24: Preço Unit MO (R$) | L24: Preço Unit. (R$) | M24: Preço MATERIAL (R$) | N24: Preço MO (R$) | O24: Preço Total (R$) | P24: Verificação $+5% | Q24: Proposta x Referência
A25: TABELA SINAPI DESONERADA FEVEREIRO 2026 | C25: Barraco Da Obra | E25: 0
A26: TABELA SINAPI DESONERADA FEVEREIRO 2026 | B26: 103689 | C26: FORNECIMENTO E INSTALAÇÃO DE PLACA DE OBRA COM CHAPA GALVANIZADA E ESTRUTURA DE MADEIRA. AF_03/2022_PS | D26: M2 | E26: 6.48 | H26: =F26+G26 | I26: 26.05 | J26: =F26+(I26/100*F26) | K26: =G26+(I26/100*G26) | L26: =TRUNC(J26+K26,2) | M26: =TRUNC(IF((J26+K26), (J26/(J26+K26)*O26), 0),2) | N26: =TRUNC(IF((J26+K26), (K26/(J26+K26)*O26), 0),2) | O26: =TRUNC(L26*E26,2) | P26: =IF(O26<=(Referencial!O26*1.05),"PREÇO VÁLIDO","PREÇO INVÁLIDO") | Q26: =(O26/Referencial!O26)-1
A27: TABELA SINAPI DESONERADA FEVEREIRO 2026 | B27: CPU168933 | C27: 090 - CONTAINER DEPÓSITO/ALMOXARIFADO | D27: MES | E27: 7 | H27: =F27+G27 | I27: 26.05 | J27: =F27+(I27/100*F27) | K27: =G27+(I27/100*G27) | L27: =TRUNC(J27+K27,2) | M27: =TRUNC(IF((J27+K27), (J27/(J27+K27)*O27), 0),2) | N27: =TRUNC(IF((J27+K27), (K27/(J27+K27)*O27), 0),2) | O27: =TRUNC(L27*E27,2) | P27: =IF(O27<=(Referencial!O27*1.05),"PREÇO VÁLIDO","PREÇO INVÁLIDO") | Q27: =(O27/Referencial!O27)-1
A28: TABELA SINAPI DESONERADA FEVEREIRO 2026 | B28: CPU168936 | C28: 091 - CONTAINER SANITÁRIO/VESTIÁRIO | D28: MES | E28: 7 | H28: =F28+G28 | I28: 26.05 | J28: =F28+(I28/100*F28) | K28: =G28+(I28/100*G28) | L28: =TRUNC(J28+K28,2) | M28: =TRUNC(IF((J28+K28), (J28/(J28+K28)*O28), 0),2) | N28: =TRUNC(IF((J28+K28), (K28/(J28+K28)*O28), 0),2) | O28: =TRUNC(L28*E28,2) | P28: =IF(O28<=(Referencial!O28*1.05),"PREÇO VÁLIDO","PREÇO INVÁLIDO") | Q28: =(O28/Referencial!O28)-1
N29: Total do Grupo: | O29: =TRUNC(SUM(O23:O28),2)
A31: 9051 - Serviços Iniciais
A32: Tabela de Origem | B32: Cód Auxiliar | C32: Descrição do Serviço | D32: Unid. | E32: Quantidade | F32: Material / Outros (R$) | G32: Mão de Obra (R$) | H32: Custo Unit. (R$) | I32: BDI (%) | J32: Preço Unit Material (R$) | K32: Preço Unit MO (R$) | L32: Preço Unit. (R$) | M32: Preço MATERIAL (R$) | N32: Preço MO (R$) | O32: Preço Total (R$) | P32: Verificação $+5% | Q32: Proposta x Referência
A33: TABELA SINAPI DESONERADA FEVEREIRO 2026 | C33: Serviços Iniciais | E33: 0
A34: TABELA SINAPI DESONERADA FEVEREIRO 2026 | C34: Doação de Sangue - Serviços preliminares | E34: 0
A35: TABELA SINAPI DESONERADA FEVEREIRO 2026 | B35: CPU168938 | C35: 007 - LIGAÇÃO PROVISÓRIA DE ENERGIA, ÁGUA E ESGOTO | D35: CJ | E35: 1 | H35: =F35+G35 | I35: 26.05 | J35: =F35+(I35/100*F35) | K35: =G35+(I35/100*G35) | L35: =TRUNC(J35+K35,2) | M35: =TRUNC(IF((J35+K35), (J35/(J35+K35)*O35), 0),2) | N35: =TRUNC(IF((J35+K35), (K35/(J35+K35)*O35), 0),2) | O35: =TRUNC(L35*E35,2) | P35: =IF(O35<=(Referencial!O35*1.05),"PREÇO VÁLIDO","PREÇO INVÁLIDO") | Q35: =(O35/Referencial!O35)-1
A36: TABELA SINAPI DESONERADA FEVEREIRO 2026 | B36: 98459 | C36: TAPUME COM TELHA METÁLICA. AF_03/2024 | D36: M2 | E36: 86 | H36: =F36+G36 | I36: 26.05 | J36: =F36+(I36/100*F36) | K36: =G36+(I36/100*G36) | L36: =TRUNC(J36+K36,2) | M36: =TRUNC(IF((J36+K36), (J36/(J36+K36)*O36), 0),2) | N36: =TRUNC(IF((J36+K36), (K36/(J36+K36)*O36), 0),2) | O36: =TRUNC(L36*E36,2) | P36: =IF(O36<=(Referencial!O36*1.05),"PREÇO VÁLIDO","PREÇO INVÁLIDO") | Q36: =(O36/Referencial!O36)-1
A37: TABELA SINAPI DESONERADA FEVEREIRO 2026 | C37: Doação de Sangue - Demolições e retiradas | E37: 0
A38: TABELA SINAPI DESONERADA FEVEREIRO 2026 | B38: 97622 | C38: DEMOLIÇÃO DE ALVENARIA DE BLOCO FURADO, DE FORMA MANUAL, SEM REAPROVEITAMENTO. AF_09/2023 | D38: M3 | E38: 47.63 | H38: =F38+G38 | I38: 26.05 | J38: =F38+(I38/100*F38) | K38: =G38+(I38/100*G38) | L38: =TRUNC(J38+K38,2) | M38: =TRUNC(IF((J38+K38), (J38/(J38+K38)*O38), 0),2) | N38: =TRUNC(IF((J38+K38), (K38/(J38+K38)*O38), 0),2) | O38: =TRUNC(L38*E38,2) | P38: =IF(O38<=(Referencial!O38*1.05),"PREÇO VÁLIDO","PREÇO INVÁLIDO") | Q38: =(O38/Referencial!O38)-1
A39: TABELA SINAPI DESONERADA FEVEREIRO 2026 | B39: 97641 | C39: REMOÇÃO DE FORRO DE GESSO, DE FORMA MANUAL, SEM REAPROVEITAMENTO. AF_09/2023 | D39: M2 | E39: 48.1 | H39: =F39+G39 | I39: 26.05 | J39: =F39+(I39/100*F39) | K39: =G39+(I39/100*G39) | L39: =TRUNC(J39+K39,2) | M39: =TRUNC(IF((J39+K39), (J39/(J39+K39)*O39), 0),2) | N39: =TRUNC(IF((J39+K39), (K39/(J39+K39)*O39), 0),2) | O39: =TRUNC(L39*E39,2) | P39: =IF(O39<=(Referencial!O39*1.05),"PREÇO VÁLIDO","PREÇO INVÁLIDO") | Q39: =(O39/Referencial!O39)-1
A40: TABELA SINAPI DESONERADA FEVEREIRO 2026 | B40: 97629 | C40: DEMOLIÇÃO DE LAJES, EM CONCRETO ARMADO, DE FORMA MECANIZADA COM MARTELETE, SEM REAPROVEITAMENTO. AF_09/2023 | D40: M3 | E40: 12.75 | H40: =F40+G40 | I40: 26.05 | J40: =F40+(I40/100*F40) | K40: =G40+(I40/100*G40) | L40: =TRUNC(J40+K40,2) | M40: =TRUNC(IF((J40+K40), (J40/(J40+K40)*O40), 0),2) | N40: =TRUNC(IF((J40+K40), (K40/(J40+K40)*O40), 0),2) | O40: =TRUNC(L40*E40,2) | P40: =IF(O40<=(Referencial!O40*1.05),"PREÇO VÁLIDO","PREÇO INVÁLIDO") | Q40: =(O40/Referencial!O40)-1
A41: TABELA SINAPI DESONERADA FEVEREIRO 2026 | B41: 97634 | C41: DEMOLIÇÃO DE REVESTIMENTO CERÂMICO, DE FORMA MECANIZADA COM MARTELETE, SEM REAPROVEITAMENTO. AF_09/2023 | D41: M2 | E41: 230.79 | H41: =F41+G41 | I41: 26.05 | J41: =F41+(I41/100*F41) | K41: =G41+(I41/100*G41) | L41: =TRUNC(J41+K41,2) | M41: =TRUNC(IF((J41+K41), (J41/(J41+K41)*O41), 0),2) | N41: =TRUNC(IF((J41+K41), (K41/(J41+K41)*O41), 0),2) | O41: =TRUNC(L41*E41,2) | P41: =IF(O41<=(Referencial!O41*1.05),"PREÇO VÁLIDO","PREÇO INVÁLIDO") | Q41: =(O41/Referencial!O41)-1
A42: TABELA SINAPI DESONERADA FEVEREIRO 2026 | B42: CPU168940 | C42: 005 - RETIRADA DE PISO VINÍLICO | D42: M2 | E42: 97.95 | H42: =F42+G42 | I42: 26.05 | J42: =F42+(I42/100*F42) | K42: =G42+(I42/100*G42) | L42: =TRUNC(J42+K42,2) | M42: =TRUNC(IF((J42+K42), (J42/(J42+K42)*O42), 0),2) | N42: =TRUNC(IF((J42+K42), (K42/(J42+K42)*O42), 0),2) | O42: =TRUNC(L42*E42,2) | P42: =IF(O42<=(Referencial!O42*1.05),"PREÇO VÁLIDO","PREÇO INVÁLIDO") | Q42: =(O42/Referencial!O42)-1
A43: TABELA SINAPI DESONERADA FEVEREIRO 2026 | B43: CPU168941 | C43: 006 - RETIRADA DE PISO EM GRANITO | D43: M2 | E43: 60.32 | H43: =F43+G43 | I43: 26.05 | J43: =F43+(I43/100*F43) | K43: =G43+(I43/100*G43) | L43: =TRUNC(J43+K43,2) | M43: =TRUNC(IF((J43+K43), (J43/(J43+K43)*O43), 0),2) | N43: =TRUNC(IF((J43+K43), (K43/(J43+K43)*O43), 0),2) | O43: =TRUNC(L43*E43,2) | P43: =IF(O43<=(Referencial!O43*1.05),"PREÇO VÁLIDO","PREÇO INVÁLIDO") | Q43: =(O43/Referencial!O43)-1
A44: TABELA SINAPI DESONERADA FEVEREIRO 2026 | B44: CPU169634 | C44: 127 - DEMOLIÇÃO DE PAVIMENTO INTERTRAVADO, DE FORMA MANUAL, SEM REAPROVEITAMENTO | D44: M2 | E44: 216.87 | H44: =F44+G44 | I44: 26.05 | J44: =F44+(I44/100*F44) | K44: =G44+(I44/100*G44) | L44: =TRUNC(J44+K44,2) | M44: =TRUNC(IF((J44+K44), (J44/(J44+K44)*O44), 0),2) | N44: =TRUNC(IF((J44+K44), (K44/(J44+K44)*O44), 0),2) | O44: =TRUNC(L44*E44,2) | P44: =IF(O44<=(Referencial!O44*1.05),"PREÇO VÁLIDO","PREÇO INVÁLIDO") | Q44: =(O44/Referencial!O44)-1
A45: TABELA SINAPI DESONERADA FEVEREIRO 2026 | B45: 97644 | C45: REMOÇÃO DE PORTAS, DE FORMA MANUAL, SEM REAPROVEITAMENTO. AF_09/2023 | D45: M2 | E45: 41.16 | H45: =F45+G45 | I45: 26.05 | J45: =F45+(I45/100*F45) | K45: =G45+(I45/100*G45) | L45: =TRUNC(J45+K45,2) | M45: =TRUNC(IF((J45+K45), (J45/(J45+K45)*O45), 0),2) | N45: =TRUNC(IF((J45+K45), (K45/(J45+K45)*O45), 0),2) | O45: =TRUNC(L45*E45,2) | P45: =IF(O45<=(Referencial!O45*1.05),"PREÇO VÁLIDO","PREÇO INVÁLIDO") | Q45: =(O45/Referencial!O45)-1
A46: TABELA SINAPI DESONERADA FEVEREIRO 2026 | B46: 97645 | C46: REMOÇÃO DE JANELAS, DE FORMA MANUAL, SEM REAPROVEITAMENTO. AF_09/2023 | D46: M2 | E46: 7.08 | H46: =F46+G46 | I46: 26.05 | J46: =F46+(I46/100*F46) | K46: =G46+(I46/100*G46) | L46: =TRUNC(J46+K46,2) | M46: =TRUNC(IF((J46+K46), (J46/(J46+K46)*O46), 0),2) | N46: =TRUNC(IF((J46+K46), (K46/(J46+K46)*O46), 0),2) | O46: =TRUNC(L46*E46,2) | P46: =IF(O46<=(Referencial!O46*1.05),"PREÇO VÁLIDO","PREÇO INVÁLIDO") | Q46: =(O46/Referencial!O46)-1
A47: TABELA SINAPI DESONERADA FEVEREIRO 2026 | B47: 97663 | C47: REMOÇÃO DE LOUÇAS, DE FORMA MANUAL, SEM REAPROVEITAMENTO. AF_09/2023 | D47: UN | E47: 4 | H47: =F47+G47 | I47: 26.05 | J47: =F47+(I47/100*F47) | K47: =G47+(I47/100*G47) | L47: =TRUNC(J47+K47,2) | M47: =TRUNC(IF((J47+K47), (J47/(J47+K47)*O47), 0),2) | N47: =TRUNC(IF((J47+K47), (K47/(J47+K47)*O47), 0),2) | O47: =TRUNC(L47*E47,2) | P47: =IF(O47<=(Referencial!O47*1.05),"PREÇO VÁLIDO","PREÇO INVÁLIDO") | Q47: =(O47/Referencial!O47)-1
A48: TABELA SINAPI DESONERADA FEVEREIRO 2026 | B48: 97664 | C48: REMOÇÃO DE ACESSÓRIOS, DE FORMA MANUAL, SEM REAPROVEITAMENTO. AF_09/2023 | D48: UN | E48: 4 | H48: =F48+G48 | I48: 26.05 | J48: =F48+(I48/100*F48) | K48: =G48+(I48/100*G48) | L48: =TRUNC(J48+K48,2) | M48: =TRUNC(IF((J48+K48), (J48/(J48+K48)*O48), 0),2) | N48: =TRUNC(IF((J48+K48), (K48/(J48+K48)*O48), 0),2) | O48: =TRUNC(L48*E48,2) | P48: =IF(O48<=(Referencial!O48*1.05),"PREÇO VÁLIDO","PREÇO INVÁLIDO") | Q48: =(O48/Referencial!O48)-1
A49: TABELA SINAPI DESONERADA FEVEREIRO 2026 | B49: 97666 | C49: REMOÇÃO DE METAIS SANITÁRIOS, DE FORMA MANUAL, SEM REAPROVEITAMENTO. AF_09/2023 | D49: UN | E49: 8 | H49: =F49+G49 | I49: 26.05 | J49: =F49+(I49/100*F49) | K49: =G49+(I49/100*G49) | L49: =TRUNC(J49+K49,2) | M49: =TRUNC(IF((J49+K49), (J49/(J49+K49)*O49), 0),2) | N49: =TRUNC(IF((J49+K49), (K49/(J49+K49)*O49), 0),2) | O49: =TRUNC(L49*E49,2) | P49: =IF(O49<=(Referencial!O49*1.05),"PREÇO VÁLIDO","PREÇO INVÁLIDO") | Q49: =(O49/Referencial!O49)-1
...

Sheet Referencial
B2: ESTADO DE SANTA CATARINA
A4: PROPOSTA DAS LICITANTES
A6: Obra: | B6: Reforma da área de Doação de Sangue e Abrigo de Resíduos para HEMOSC - Florianópolis | H6: Data: ___ / ___ / ____
A7: Edital:
A8: Razão Social:
A9: CNPJ: | H9: Porcentagem de materiais (%) | I9: Porcentagem de mão de obra (%)
A10: BDI Administração Local (%): | D10: BDI Diferenciado Referencial (%) : | H10: =SUM(M:M)/O630 | I10: =SUM(N:N)/O630
A11: BDI Diferenciado Referencial (%) : | B11: 0.2605 | D11: BDI Diferenciado Referencial – Serviços Especializados (%) :
A13: Tabela de Origem | B13: 272 - TABELA SINAPI DESONERADA FEVEREIRO 2026
A17: 39 - Consultoria
A18: Tabela de Origem | B18: Cód Auxiliar | C18: Descrição do Serviço | D18: Unid. | E18: Quantidade | F18: Material / Outros (R$) | G18: Mão de Obra (R$) | H18: Custo Unit. (R$) | I18: BDI (%) | J18: Preço Unit Material (R$) | K18: Preço Unit MO (R$) | L18: Preço Unit. (R$) | M18: Preço MATERIAL (R$) | N18: Preço MO (R$) | O18: Preço Total (R$) | P18: Verificação $+5% | Q18: Proposta x Referência
A19: TABELA SINAPI DESONERADA FEVEREIRO 2026 | C19: Consultoria | E19: 0
A20: TABELA SINAPI DESONERADA FEVEREIRO 2026 | B20: CPU168929 | C20: 121 - ADMINISTRAÇÃO LOCAL | D20: UN | E20: 1 | F20: 89246.2 | G20: 13437.93 | H20: =F20+G20 | I20: 26.05 | J20: =F20+(I20/100*F20) | K20: =G20+(I20/100*G20) | L20: =TRUNC(J20+K20,2) | M20: =TRUNC(IF((J20+K20), (J20/(J20+K20)*O20), 0),2) | N20: =TRUNC(IF((J20+K20), (K20/(J20+K20)*O20), 0),2) | O20: =TRUNC(L20*E20,2) | P20: =IF(O20<=(Referencial!O20*1.05),"PREÇO VÁLIDO","PREÇO INVÁLIDO")
N21: Total do Grupo: | O21: =TRUNC(SUM(O17:O20),2)
A23: 9062 - Barraco Da Obra
A24: Tabela de Origem | B24: Cód Auxiliar | C24: Descrição do Serviço | D24: Unid. | E24: Quantidade | F24: Material / Outros (R$) | G24: Mão de Obra (R$) | H24: Custo Unit. (R$) | I24: BDI (%) | J24: Preço Unit Material (R$) | K24: Preço Unit MO (R$) | L24: Preço Unit. (R$) | M24: Preço MATERIAL (R$) | N24: Preço MO (R$) | O24: Preço Total (R$) | P24: Verificação $+5% | Q24: Proposta x Referência
A25: TABELA SINAPI DESONERADA FEVEREIRO 2026 | C25: Barraco Da Obra | E25: 0
A26: TABELA SINAPI DESONERADA FEVEREIRO 2026 | B26: 103689 | C26: FORNECIMENTO E INSTALAÇÃO DE PLACA DE OBRA COM CHAPA GALVANIZADA E ESTRUTURA DE MADEIRA. AF_03/2022_PS | D26: M2 | E26: 6.48 | F26: 418.34 | G26: 49.08 | H26: =F26+G26 | I26: 26.05 | J26: =F26+(I26/100*F26) | K26: =G26+(I26/100*G26) | L26: =TRUNC(J26+K26,2) | M26: =TRUNC(IF((J26+K26), (J26/(J26+K26)*O26), 0),2) | N26: =TRUNC(IF((J26+K26), (K26/(J26+K26)*O26), 0),2) | O26: =TRUNC(L26*E26,2) | P26: =IF(O26<=(Referencial!O26*1.05),"PREÇO VÁLIDO","PREÇO INVÁLIDO")
A27: TABELA SINAPI DESONERADA FEVEREIRO 2026 | B27: CPU168933 | C27: 090 - CONTAINER DEPÓSITO/ALMOXARIFADO | D27: MES | E27: 7 | F27: 1250 | G27: 0 | H27: =F27+G27 | I27: 26.05 | J27: =F27+(I27/100*F27) | K27: =G27+(I27/100*G27) | L27: =TRUNC(J27+K27,2) | M27: =TRUNC(IF((J27+K27), (J27/(J27+K27)*O27), 0),2) | N27: =TRUNC(IF((J27+K27), (K27/(J27+K27)*O27), 0),2) | O27: =TRUNC(L27*E27,2) | P27: =IF(O27<=(Referencial!O27*1.05),"PREÇO VÁLIDO","PREÇO INVÁLIDO")
A28: TABELA SINAPI DESONERADA FEVEREIRO 2026 | B28: CPU168936 | C28: 091 - CONTAINER SANITÁRIO/VESTIÁRIO | D28: MES | E28: 7 | F28: 1750 | G28: 0 | H28: =F28+G28 | I28: 26.05 | J28: =F28+(I28/100*F28) | K28: =G28+(I28/100*G28) | L28: =TRUNC(J28+K28,2) | M28: =TRUNC(IF((J28+K28), (J28/(J28+K28)*O28), 0),2) | N28: =TRUNC(IF((J28+K28), (K28/(J28+K28)*O28), 0),2) | O28: =TRUNC(L28*E28,2) | P28: =IF(O28<=(Referencial!O28*1.05),"PREÇO VÁLIDO","PREÇO INVÁLIDO")
N29: Total do Grupo: | O29: =TRUNC(SUM(O23:O28),2)
A31: 9051 - Serviços Iniciais
A32: Tabela de Origem | B32: Cód Auxiliar | C32: Descrição do Serviço | D32: Unid. | E32: Quantidade | F32: Material / Outros (R$) | G32: Mão de Obra (R$) | H32: Custo Unit. (R$) | I32: BDI (%) | J32: Preço Unit Material (R$) | K32: Preço Unit MO (R$) | L32: Preço Unit. (R$) | M32: Preço MATERIAL (R$) | N32: Preço MO (R$) | O32: Preço Total (R$) | P32: Verificação $+5% | Q32: Proposta x Referência
A33: TABELA SINAPI DESONERADA FEVEREIRO 2026 | C33: Serviços Iniciais | E33: 0
A34: TABELA SINAPI DESONERADA FEVEREIRO 2026 | C34: Doação de Sangue - Serviços preliminares | E34: 0
A35: TABELA SINAPI DESONERADA FEVEREIRO 2026 | B35: CPU168938 | C35: 007 - LIGAÇÃO PROVISÓRIA DE ENERGIA, ÁGUA E ESGOTO | D35: CJ | E35: 1 | F35: 1986.19 | G35: 0 | H35: =F35+G35 | I35: 26.05 | J35: =F35+(I35/100*F35) | K35: =G35+(I35/100*G35) | L35: =TRUNC(J35+K35,2) | M35: =TRUNC(IF((J35+K35), (J35/(J35+K35)*O35), 0),2) | N35: =TRUNC(IF((J35+K35), (K35/(J35+K35)*O35), 0),2) | O35: =TRUNC(L35*E35,2) | P35: =IF(O35<=(Referencial!O35*1.05),"PREÇO VÁLIDO","PREÇO INVÁLIDO")
A36: TABELA SINAPI DESONERADA FEVEREIRO 2026 | B36: 98459 | C36: TAPUME COM TELHA METÁLICA. AF_03/2024 | D36: M2 | E36: 86 | F36: 50.36 | G36: 41.08 | H36: =F36+G36 | I36: 26.05 | J36: =F36+(I36/100*F36) | K36: =G36+(I36/100*G36) | L36: =TRUNC(J36+K36,2) | M36: =TRUNC(IF((J36+K36), (J36/(J36+K36)*O36), 0),2) | N36: =TRUNC(IF((J36+K36), (K36/(J36+K36)*O36), 0),2) | O36: =TRUNC(L36*E36,2) | P36: =IF(O36<=(Referencial!O36*1.05),"PREÇO VÁLIDO","PREÇO INVÁLIDO")
A37: TABELA SINAPI DESONERADA FEVEREIRO 2026 | C37: Doação de Sangue - Demolições e retiradas | E37: 0
A38: TABELA SINAPI DESONERADA FEVEREIRO 2026 | B38: 97622 | C38: DEMOLIÇÃO DE ALVENARIA DE BLOCO FURADO, DE FORMA MANUAL, SEM REAPROVEITAMENTO. AF_09/2023 | D38: M3 | E38: 47.63 | F38: 0 | G38: 67.08 | H38: =F38+G38 | I38: 26.05 | J38: =F38+(I38/100*F38) | K38: =G38+(I38/100*G38) | L38: =TRUNC(J38+K38,2) | M38: =TRUNC(IF((J38+K38), (J38/(J38+K38)*O38), 0),2) | N38: =TRUNC(IF((J38+K38), (K38/(J38+K38)*O38), 0),2) | O38: =TRUNC(L38*E38,2) | P38: =IF(O38<=(Referencial!O38*1.05),"PREÇO VÁLIDO","PREÇO INVÁLIDO")
A39: TABELA SINAPI DESONERADA FEVEREIRO 2026 | B39: 97641 | C39: REMOÇÃO DE FORRO DE GESSO, DE FORMA MANUAL, SEM REAPROVEITAMENTO. AF_09/2023 | D39: M2 | E39: 48.1 | F39: 0 | G39: 3.5 | H39: =F39+G39 | I39: 26.05 | J39: =F39+(I39/100*F39) | K39: =G39+(I39/100*G39) | L39: =TRUNC(J39+K39,2) | M39: =TRUNC(IF((J39+K39), (J39/(J39+K39)*O39), 0),2) | N39: =TRUNC(IF((J39+K39), (K39/(J39+K39)*O39), 0),2) | O39: =TRUNC(L39*E39,2) | P39: =IF(O39<=(Referencial!O39*1.05),"PREÇO VÁLIDO","PREÇO INVÁLIDO")
A40: TABELA SINAPI DESONERADA FEVEREIRO 2026 | B40: 97629 | C40: DEMOLIÇÃO DE LAJES, EM CONCRETO ARMADO, DE FORMA MECANIZADA COM MARTELETE, SEM REAPROVEITAMENTO. AF_09/2023 | D40: M3 | E40: 12.75 | F40: 5.51 | G40: 96.07 | H40: =F40+G40 | I40: 26.05 | J40: =F40+(I40/100*F40) | K40: =G40+(I40/100*G40) | L40: =TRUNC(J40+K40,2) | M40: =TRUNC(IF((J40+K40), (J40/(J40+K40)*O40), 0),2) | N40: =TRUNC(IF((J40+K40), (K40/(J40+K40)*O40), 0),2) | O40: =TRUNC(L40*E40,2) | P40: =IF(O40<=(Referencial!O40*1.05),"PREÇO VÁLIDO","PREÇO INVÁLIDO")
A41: TABELA SINAPI DESONERADA FEVEREIRO 2026 | B41: 97634 | C41: DEMOLIÇÃO DE REVESTIMENTO CERÂMICO, DE FORMA MECANIZADA COM MARTELETE, SEM REAPROVEITAMENTO. AF_09/2023 | D41: M2 | E41: 230.79 | F41: 0.29 | G41: 7.84 | H41: =F41+G41 | I41: 26.05 | J41: =F41+(I41/100*F41) | K41: =G41+(I41/100*G41) | L41: =TRUNC(J41+K41,2) | M41: =TRUNC(IF((J41+K41), (J41/(J41+K41)*O41), 0),2) | N41: =TRUNC(IF((J41+K41), (K41/(J41+K41)*O41), 0),2) | O41: =TRUNC(L41*E41,2) | P41: =IF(O41<=(Referencial!O41*1.05),"PREÇO VÁLIDO","PREÇO INVÁLIDO")
A42: TABELA SINAPI DESONERADA FEVEREIRO 2026 | B42: CPU168940 | C42: 005 - RETIRADA DE PISO VINÍLICO | D42: M2 | E42: 97.95 | F42: 18.4 | G42: 0 | H42: =F42+G42 | I42: 26.05 | J42: =F42+(I42/100*F42) | K42: =G42+(I42/100*G42) | L42: =TRUNC(J42+K42,2) | M42: =TRUNC(IF((J42+K42), (J42/(J42+K42)*O42), 0),2) | N42: =TRUNC(IF((J42+K42), (K42/(J42+K42)*O42), 0),2) | O42: =TRUNC(L42*E42,2) | P42: =IF(O42<=(Referencial!O42*1.05),"PREÇO VÁLIDO","PREÇO INVÁLIDO")
A43: TABELA SINAPI DESONERADA FEVEREIRO 2026 | B43: CPU168941 | C43: 006 - RETIRADA DE PISO EM GRANITO | D43: M2 | E43: 60.32 | F43: 40.39 | G43: 0 | H43: =F43+G43 | I43: 26.05 | J43: =F43+(I43/100*F43) | K43: =G43+(I43/100*G43) | L43: =TRUNC(J43+K43,2) | M43: =TRUNC(IF((J43+K43), (J43/(J43+K43)*O43), 0),2) | N43: =TRUNC(IF((J43+K43), (K43/(J43+K43)*O43), 0),2) | O43: =TRUNC(L43*E43,2) | P43: =IF(O43<=(Referencial!O43*1.05),"PREÇO VÁLIDO","PREÇO INVÁLIDO")
A44: TABELA SINAPI DESONERADA FEVEREIRO 2026 | B44: CPU169634 | C44: 127 - DEMOLIÇÃO DE PAVIMENTO INTERTRAVADO, DE FORMA MANUAL, SEM REAPROVEITAMENTO | D44: M2 | E44: 216.87 | F44: 21.37 | G44: 0 | H44: =F44+G44 | I44: 26.05 | J44: =F44+(I44/100*F44) | K44: =G44+(I44/100*G44) | L44: =TRUNC(J44+K44,2) | M44: =TRUNC(IF((J44+K44), (J44/(J44+K44)*O44), 0),2) | N44: =TRUNC(IF((J44+K44), (K44/(J44+K44)*O44), 0),2) | O44: =TRUNC(L44*E44,2) | P44: =IF(O44<=(Referencial!O44*1.05),"PREÇO VÁLIDO","PREÇO INVÁLIDO")
A45: TABELA SINAPI DESONERADA FEVEREIRO 2026 | B45: 97644 | C45: REMOÇÃO DE PORTAS, DE FORMA MANUAL, SEM REAPROVEITAMENTO. AF_09/2023 | D45: M2 | E45: 41.16 | F45: 0 | G45: 11.39 | H45: =F45+G45 | I45: 26.05 | J45: =F45+(I45/100*F45) | K45: =G45+(I45/100*G45) | L45: =TRUNC(J45+K45,2) | M45: =TRUNC(IF((J45+K45), (J45/(J45+K45)*O45), 0),2) | N45: =TRUNC(IF((J45+K45), (K45/(J45+K45)*O45), 0),2) | O45: =TRUNC(L45*E45,2) | P45: =IF(O45<=(Referencial!O45*1.05),"PREÇO VÁLIDO","PREÇO INVÁLIDO")
A46: TABELA SINAPI DESONERADA FEVEREIRO 2026 | B46: 97645 | C46: REMOÇÃO DE JANELAS, DE FORMA MANUAL, SEM REAPROVEITAMENTO. AF_09/2023 | D46: M2 | E46: 7.08 | F46: 0 | G46: 29.41 | H46: =F46+G46 | I46: 26.05 | J46: =F46+(I46/100*F46) | K46: =G46+(I46/100*G46) | L46: =TRUNC(J46+K46,2) | M46: =TRUNC(IF((J46+K46), (J46/(J46+K46)*O46), 0),2) | N46: =TRUNC(IF((J46+K46), (K46/(J46+K46)*O46), 0),2) | O46: =TRUNC(L46*E46,2) | P46: =IF(O46<=(Referencial!O46*1.05),"PREÇO VÁLIDO","PREÇO INVÁLIDO")
A47: TABELA SINAPI DESONERADA FEVEREIRO 2026 | B47: 97663 | C47: REMOÇÃO DE LOUÇAS, DE FORMA MANUAL, SEM REAPROVEITAMENTO. AF_09/2023 | D47: UN | E47: 4 | F47: 0 | G47: 15.14 | H47: =F47+G47 | I47: 26.05 | J47: =F47+(I47/100*F47) | K47: =G47+(I47/100*G47) | L47: =TRUNC(J47+K47,2) | M47: =TRUNC(IF((J47+K47), (J47/(J47+K47)*O47), 0),2) | N47: =TRUNC(IF((J47+K47), (K47/(J47+K47)*O47), 0),2) | O47: =TRUNC(L47*E47,2) | P47: =IF(O47<=(Referencial!O47*1.05),"PREÇO VÁLIDO","PREÇO INVÁLIDO")
A48: TABELA SINAPI DESONERADA FEVEREIRO 2026 | B48: 97664 | C48: REMOÇÃO DE ACESSÓRIOS, DE FORMA MANUAL, SEM REAPROVEITAMENTO. AF_09/2023 | D48: UN | E48: 4 | F48: 0 | G48: 1.88 | H48: =F48+G48 | I48: 26.05 | J48: =F48+(I48/100*F48) | K48: =G48+(I48/100*G48) | L48: =TRUNC(J48+K48,2) | M48: =TRUNC(IF((J48+K48), (J48/(J48+K48)*O48), 0),2) | N48: =TRUNC(IF((J48+K48), (K48/(J48+K48)*O48), 0),2) | O48: =TRUNC(L48*E48,2) | P48: =IF(O48<=(Referencial!O48*1.05),"PREÇO VÁLIDO","PREÇO INVÁLIDO")
A49: TABELA SINAPI DESONERADA FEVEREIRO 2026 | B49: 97666 | C49: REMOÇÃO DE METAIS SANITÁRIOS, DE FORMA MANUAL, SEM REAPROVEITAMENTO. AF_09/2023 | D49: UN | E49: 8 | F49: 0 | G49: 11.04 | H49: =F49+G49 | I49: 26.05 | J49: =F49+(I49/100*F49) | K49: =G49+(I49/100*G49) | L49: =TRUNC(J49+K49,2) | M49: =TRUNC(IF((J49+K49), (J49/(J49+K49)*O49), 0),2) | N49: =TRUNC(IF((J49+K49), (K49/(J49+K49)*O49), 0),2) | O49: =TRUNC(L49*E49,2) | P49: =IF(O49<=(Referencial!O49*1.05),"PREÇO VÁLIDO","PREÇO INVÁLIDO")
...
