Workbook
Name _D3: {0;0;0;0;1;#N/A;0.5;0.5;0.75;0.75;2;TRUE;TRUE;FALSE;FALSE;FALSE;#N/A;1;#N/A;1;1;"&L&7 RAMIBD05\GROUPS\EMG\DESOUSA\BRAZIL\MACHADIB\MODEL\MODEL_12.XLS -- &D, &T -- Page &P of &N &7";"&L&F&A&RPage&P"}
Name _D4: {0;0;0;0;1;#N/A;0.5;0.5;0.75;0.75;2;TRUE;TRUE;FALSE;FALSE;FALSE;#N/A;1;#N/A;1;1;"&L&7 RAMIBD05\GROUPS\EMG\DESOUSA\BRAZIL\MACHADIB\MODEL\MODEL_12.XLS -- &D, &T -- Page &P of &N &7";"&L&F&A&RPage&P"}
Name _D5: {0;0;0;0;1;#N/A;0.5;0.5;0.75;0.75;2;TRUE;TRUE;FALSE;FALSE;FALSE;#N/A;1;#N/A;1;1;"&L&7 RAMIBD05\GROUPS\EMG\DESOUSA\BRAZIL\MACHADIB\MODEL\MODEL_12.XLS -- &D, &T -- Page &P of &N &7";"&L&F&A&RPage&P"}
Name _D6: {0;0;0;0;9;#N/A;0.75;0.75;1;1;1;FALSE;FALSE;FALSE;FALSE;FALSE;#N/A;1;100;#N/A;#N/A;"&A";"Page &P"}
Name _D7: {0;0;0;0;9;#N/A;0.75;0.75;1;1;1;FALSE;FALSE;FALSE;FALSE;FALSE;#N/A;1;100;#N/A;#N/A;"&A";"Page &P"}
Name _D8: {0;0;0;0;9;#N/A;0.75;0.75;1;1;1;FALSE;FALSE;FALSE;FALSE;FALSE;#N/A;1;100;#N/A;#N/A;"&A";"Page &P"}
Name _qe1: {0;0;0;0;1;#N/A;0.5;0.5;0.75;0.75;2;TRUE;TRUE;FALSE;FALSE;FALSE;#N/A;1;#N/A;1;1;"&L&7 RAMIBD05\GROUPS\EMG\DESOUSA\BRAZIL\MACHADIB\MODEL\MODEL_12.XLS -- &D, &T -- Page &P of &N &7";"&L&F&A&RPage&P"}
Name _qe10: {0;0;0;0;1;#N/A;0.5;0.5;0.75;0.75;2;TRUE;TRUE;FALSE;FALSE;FALSE;#N/A;1;#N/A;1;1;"&L&7 RAMIBD05\GROUPS\EMG\DESOUSA\BRAZIL\MACHADIB\MODEL\MODEL_12.XLS -- &D, &T -- Page &P of &N &7";"&L&F&A&RPage&P"}
Name _qe11: {0;0;0;0;9;#N/A;0.75;0.75;1;1;1;FALSE;FALSE;FALSE;FALSE;FALSE;#N/A;1;100;#N/A;#N/A;"&A";"Page &P"}
Name _qe2: {0;0;0;0;1;#N/A;0.5;0.5;0.75;0.75;2;TRUE;TRUE;FALSE;FALSE;FALSE;#N/A;1;#N/A;1;1;"&L&7 RAMIBD05\GROUPS\EMG\DESOUSA\BRAZIL\MACHADIB\MODEL\MODEL_12.XLS -- &D, &T -- Page &P of &N &7";"&L&F&A&RPage&P"}
Name _qe3: {0;0;0;0;1;#N/A;0.5;0.5;0.75;0.75;2;TRUE;TRUE;FALSE;FALSE;FALSE;#N/A;1;#N/A;1;1;"&L&7 RAMIBD05\GROUPS\EMG\DESOUSA\BRAZIL\MACHADIB\MODEL\MODEL_12.XLS -- &D, &T -- Page &P of &N &7";"&L&F&A&RPage&P"}
Name _qe4: {0;0;0;0;9;#N/A;0.75;0.75;1;1;1;FALSE;FALSE;FALSE;FALSE;FALSE;#N/A;1;100;#N/A;#N/A;"&A";"Page &P"}
Name _qe5: {0;0;0;0;9;#N/A;0.75;0.75;1;1;1;FALSE;FALSE;FALSE;FALSE;FALSE;#N/A;1;100;#N/A;#N/A;"&A";"Page &P"}
Name _qe6: {0;0;0;0;9;#N/A;0.75;0.75;1;1;1;FALSE;FALSE;FALSE;FALSE;FALSE;#N/A;1;100;#N/A;#N/A;"&A";"Page &P"}
Name _qe9: {0;0;0;0;258;#N/A;0.75;0.75;1;1;2;FALSE;FALSE;FALSE;FALSE;FALSE;#N/A;1;#N/A;1;1;"&A";"Page &P"}
Name _qw1: {0;0;0;0;1;#N/A;0.5;0.5;0.75;0.75;2;TRUE;TRUE;FALSE;FALSE;FALSE;#N/A;1;#N/A;1;1;"&L&7 RAMIBD05\GROUPS\EMG\DESOUSA\BRAZIL\MACHADIB\MODEL\MODEL_12.XLS -- &D, &T -- Page &P of &N &7";"&L&F&A&RPage&P"}
Name _qw2: {0;0;0;0;1;#N/A;0.5;0.5;0.75;0.75;2;TRUE;TRUE;FALSE;FALSE;FALSE;#N/A;1;#N/A;1;1;"&L&7 RAMIBD05\GROUPS\EMG\DESOUSA\BRAZIL\MACHADIB\MODEL\MODEL_12.XLS -- &D, &T -- Page &P of &N &7";"&L&F&A&RPage&P"}
Name _qw3: {0;0;0;0;1;#N/A;0.5;0.5;0.75;0.75;2;TRUE;TRUE;FALSE;FALSE;FALSE;#N/A;1;#N/A;1;1;"&L&7 RAMIBD05\GROUPS\EMG\DESOUSA\BRAZIL\MACHADIB\MODEL\MODEL_12.XLS -- &D, &T -- Page &P of &N &7";"&L&F&A&RPage&P"}
Name _Report: 0
Name _wq1: {0;0;0;0;1;#N/A;0.5;0.5;0.75;0.75;2;TRUE;TRUE;FALSE;FALSE;FALSE;#N/A;1;#N/A;1;1;"&L&7 RAMIBD05\GROUPS\EMG\DESOUSA\BRAZIL\MACHADIB\MODEL\MODEL_12.XLS -- &D, &T -- Page &P of &N &7";"&L&F&A&RPage&P"}
Name _wq10: {0;0;0;0;258;#N/A;0.75;0.75;1;1;2;FALSE;FALSE;FALSE;FALSE;FALSE;#N/A;1;#N/A;1;1;"&A";"Page &P"}
Name _wq11: {0;0;0;0;1;#N/A;0.5;0.5;0.75;0.75;2;TRUE;TRUE;FALSE;FALSE;FALSE;#N/A;1;#N/A;1;1;"&L&7 RAMIBD05\GROUPS\EMG\DESOUSA\BRAZIL\MACHADIB\MODEL\MODEL_12.XLS -- &D, &T -- Page &P of &N &7";"&L&F&A&RPage&P"}
Name _wq12: {0;0;0;0;9;#N/A;0.75;0.75;1;1;1;FALSE;FALSE;FALSE;FALSE;FALSE;#N/A;1;100;#N/A;#N/A;"&A";"Page &P"}
Name _wq2: {0;0;0;0;1;#N/A;0.5;0.5;0.75;0.75;2;TRUE;TRUE;FALSE;FALSE;FALSE;#N/A;1;#N/A;1;1;"&L&7 RAMIBD05\GROUPS\EMG\DESOUSA\BRAZIL\MACHADIB\MODEL\MODEL_12.XLS -- &D, &T -- Page &P of &N &7";"&L&F&A&RPage&P"}
Name _wq3: {0;0;0;0;1;#N/A;0.5;0.5;0.75;0.75;2;TRUE;TRUE;FALSE;FALSE;FALSE;#N/A;1;#N/A;1;1;"&L&7 RAMIBD05\GROUPS\EMG\DESOUSA\BRAZIL\MACHADIB\MODEL\MODEL_12.XLS -- &D, &T -- Page &P of &N &7";"&L&F&A&RPage&P"}
Name _wq4: {0;0;0;0;9;#N/A;0.75;0.75;1;1;1;FALSE;FALSE;FALSE;FALSE;FALSE;#N/A;1;100;#N/A;#N/A;"&A";"Page &P"}
Name _wq5: {0;0;0;0;9;#N/A;0.75;0.75;1;1;1;FALSE;FALSE;FALSE;FALSE;FALSE;#N/A;1;100;#N/A;#N/A;"&A";"Page &P"}
Name _wq6: {0;0;0;0;9;#N/A;0.75;0.75;1;1;1;FALSE;FALSE;FALSE;FALSE;FALSE;#N/A;1;100;#N/A;#N/A;"&A";"Page &P"}
Name _Z1srAssp: {0;0;0;0;1;#N/A;0.5;0.5;0.75;0.75;2;TRUE;TRUE;FALSE;FALSE;FALSE;#N/A;1;#N/A;1;1;"&L&7 RAMIBD05\GROUPS\EMG\DESOUSA\BRAZIL\MACHADIB\MODEL\MODEL_12.XLS -- &D, &T -- Page &P of &N &7";"&L&F&A&RPage&P"}
Name _Z2ndAssp: {0;0;0;0;1;#N/A;0.5;0.5;0.75;0.75;2;TRUE;TRUE;FALSE;FALSE;FALSE;#N/A;1;#N/A;1;1;"&L&7 RAMIBD05\GROUPS\EMG\DESOUSA\BRAZIL\MACHADIB\MODEL\MODEL_12.XLS -- &D, &T -- Page &P of &N &7";"&L&F&A&RPage&P"}
Name _Z2srAssp: {0;0;0;0;1;#N/A;0.5;0.5;0.75;0.75;2;TRUE;TRUE;FALSE;FALSE;FALSE;#N/A;1;#N/A;1;1;"&L&7 RAMIBD05\GROUPS\EMG\DESOUSA\BRAZIL\MACHADIB\MODEL\MODEL_12.XLS -- &D, &T -- Page &P of &N &7";"&L&F&A&RPage&P"}
Name _Z3rdassp: {0;0;0;0;1;#N/A;0.5;0.5;0.75;0.75;2;TRUE;TRUE;FALSE;FALSE;FALSE;#N/A;1;#N/A;1;1;"&L&7 RAMIBD05\GROUPS\EMG\DESOUSA\BRAZIL\MACHADIB\MODEL\MODEL_12.XLS -- &D, &T -- Page &P of &N &7";"&L&F&A&RPage&P"}
Name _Z3reAssp: {0;0;0;0;1;#N/A;0.5;0.5;0.75;0.75;2;TRUE;TRUE;FALSE;FALSE;FALSE;#N/A;1;#N/A;1;1;"&L&7 RAMIBD05\GROUPS\EMG\DESOUSA\BRAZIL\MACHADIB\MODEL\MODEL_12.XLS -- &D, &T -- Page &P of &N &7";"&L&F&A&RPage&P"}
Name _ZBalance: {0;0;0;0;9;#N/A;0.75;0.75;1;1;1;FALSE;FALSE;FALSE;FALSE;FALSE;#N/A;1;100;#N/A;#N/A;"&A";"Page &P"}
Name _ZCash: {0;0;0;0;9;#N/A;0.75;0.75;1;1;1;FALSE;FALSE;FALSE;FALSE;FALSE;#N/A;1;100;#N/A;#N/A;"&A";"Page &P"}
Name _ZDebt: {0;0;0;0;9;#N/A;0.75;0.75;1;1;1;FALSE;FALSE;FALSE;FALSE;FALSE;#N/A;1;100;#N/A;#N/A;"&A";"Page &P"}
Name _ZDeprec.: {0;0;0;0;258;#N/A;0.75;0.75;1;1;2;FALSE;FALSE;FALSE;FALSE;FALSE;#N/A;1;#N/A;1;1;"&A";"Page &P"}
Name ALÍQUOTAS_DE_PRESUNÇÃO_IR_CSLL: " "
Name Aumento_real: #REF!
Name Aumento_real: Inputs!$D$94
Name b: {0;0;0;0;9;#N/A;0.75;0.75;1;1;1;FALSE;FALSE;FALSE;FALSE;FALSE;#N/A;1;100;#N/A;#N/A;"&A";"Page &P"}
Name CAPEX_Live: #REF!
Name CAPEX_Live: Macro!#REF!
Name CAPEX_Paste: #REF!
Name CAPEX_Paste: Macro!#REF!
Name CAPEX_Sens: #REF!
Name CAPEX_Sens: Sensitivity!$F$15
Name CAPEX_start: Sensitivity!$E$7
Name Check: #REF!
Name Check: Macro!#REF!
Name Cons_end: #REF!
Name Cons_end: Inputs!#REF!
Name Cons_start: #REF!
Name Cons_start: Inputs!$E$26
Name CP: #REF!
Name CP: Inputs!$D$75
Name CP_Meta_macro: Macro!$F$16
Name CP_sens: Sensitivity!$E$6
Name DANIEL: {0;0;0;0;1;#N/A;0.5;0.5;0.75;0.75;2;TRUE;TRUE;FALSE;FALSE;FALSE;#N/A;1;#N/A;1;1;"&L&7 RAMIBD05\GROUPS\EMG\DESOUSA\BRAZIL\MACHADIB\MODEL\MODEL_12.XLS -- &D, &T -- Page &P of &N &7";"&L&F&A&RPage&P"}
Name DANIEL2: {0;0;0;0;1;#N/A;0.5;0.5;0.75;0.75;2;TRUE;TRUE;FALSE;FALSE;FALSE;#N/A;1;#N/A;1;1;"&L&7 RAMIBD05\GROUPS\EMG\DESOUSA\BRAZIL\MACHADIB\MODEL\MODEL_12.XLS -- &D, &T -- Page &P of &N &7";"&L&F&A&RPage&P"}

Sheet Disclaimer
C2: Modelagem Econômico-Financeira
C4: Disclaimer
C5: Note:
C6: O presente Modelo Econômico-Financeiro tem por objeto estabelecer as diretrizes para subsidiar os estudos de modelagem econômico-financeira, possuindo como respaldo também estudos de modelagem técnica e jurídica, com vistas à estruturação de concessão patrocinada dos serviços de manejo de resíduos sólidos e limpeza pública do município de Xanxerê.

Sheet Summary
A1: Summary
B3: Key Outputs
C5: Seleção de Cenário
C7: Cenário
C9: Real / Nominal
C11: Macro Check | D11: =IFRIC12_Check -> 0
C15: Financiamento Investimentos
C17: FONTES
C19: Fontes
C21: ='Usos e fontes'!B17 -> Receitas | D21: =E21/$E$27 -> 0.88634178 | E21: =SUM('Usos e fontes'!E17:AH17) -> 730478.12 | F21: $ 000s
C22: ='Usos e fontes'!B18 -> Equity | D22: =E22/$E$27 -> 0.051323517 | E22: =SUM('Usos e fontes'!E18:AH18) -> 42298.25 | F22: $ 000s
C23: ='Usos e fontes'!B19 -> Dívida Senior | D23: =E23/$E$27 -> 0.046579223 | E23: =SUM('Usos e fontes'!E19:AH19) -> 38388.243 | F23: $ 000s
C24: ='Usos e fontes'!B20 -> Saques Conta Reserva | D24: =E24/$E$27 -> 0.0037242273 | E24: =SUM('Usos e fontes'!E20:AH20) -> 3069.3201 | F24: $ 000s
C25: ='Usos e fontes'!B21 -> Receitas Financeiras | D25: =E25/$E$27 -> 0.012031253 | E25: =SUM('Usos e fontes'!E21:AH21) -> 9915.5511 | F25: $ 000s
C27: TOTAL FONTES | D27: =SUM(D21:D26) -> 1 | E27: =SUM(E21:E25) -> 824149.49 | F27: $ 000s
C30: USOS
C32: Usos
C34: ='Usos e fontes'!B5 -> Custos | D34: =E34/$E$46 -> 0.65241388 | E34: =-SUM('Usos e fontes'!E5:AH5) -> 537686.56 | F34: $ 000s
C35: ='Usos e fontes'!B6 -> Investimentos | D35: =E35/$E$46 -> 0.093158447 | E35: =-SUM('Usos e fontes'!E6:AH6) -> 76776.486 | F35: $ 000s
C36: ='Usos e fontes'!B7 -> Imposto de renda pago | D36: =E36/$E$46 -> 0.044235306 | E36: =-SUM('Usos e fontes'!E7:AH7) -> 36456.505 | F36: $ 000s
C37: ='Usos e fontes'!B8 -> Depósitos Conta Reserva | D37: =E37/$E$46 -> 0.0037242273 | E37: =-SUM('Usos e fontes'!E8:AH8) -> 3069.3201 | F37: $ 000s
C38: ='Usos e fontes'!B9 -> Pagamento de Juros | D38: =E38/$E$46 -> 0.026282454 | E38: =-SUM('Usos e fontes'!E9:AH9) -> 21660.671 | F38: $ 000s
C39: ='Usos e fontes'!B10 -> Pagamento de Principal | D39: =E39/$E$46 -> 0.046579223 | E39: =-SUM('Usos e fontes'!E10:AH10) -> 38388.243 | F39: $ 000s
C40: ='Usos e fontes'!B11 -> Fiança Bancária | D40: =E40/$E$46 -> 0.0020568796 | E40: =-SUM('Usos e fontes'!E11:AH11) -> 1695.1763 | F40: $ 000s
C41: ='Usos e fontes'!B12 -> Capital de Giro | D41: =E41/$E$46 -> 0 | E41: =-SUM('Usos e fontes'!E12:AH12) -> 0 | F41: $ 000s
C42: ='Usos e fontes'!B13 -> Dividendos | D42: =E42/$E$46 -> 0.088918582 | E42: =-SUM('Usos e fontes'!E13:AH13) -> 73282.204 | F42: $ 000s
C43: ='Usos e fontes'!B14 -> Aumento / Redução conta caixa | D43: =E43/$E$46 -> 0.042631004 | E43: =-SUM('Usos e fontes'!E14:AH14) -> 35134.32 | F43: $ 000s
C46: TOTAL USOS | D46: =SUM(D34:D45) -> 1 | E46: =SUM(E34:E44) -> 824149.49 | F46: $ 000s
C49: Retornos
C51: Project NPV | D51: =Project_NPV -> 0.44602649 | E51: R$
C52: Project IRR | D52: =Project_IRR -> 0.10790613 | E52: % Real
C53: ='NPV, TIR e Payback'!C35 -> Equity IRR | D53: =IF(Dividends=1,0,'NPV, TIR e Payback'!D35) -> 0.1375585 | E53: %
C54: ='NPV, TIR e Payback'!C74 -> Payback Descontado (Projeto) | D54: ='NPV, TIR e Payback'!E74 -> 29 | E54: Anos
C59: Indicadores contrato
C61: Prazo contrato | E61: =Inputs!E32 -> 30
C62: Contraprestação total | E62: =DFs!F16 -> 225809.86 | F62: R$
C63: Contraprestação anual | E63: =CP -> 6261.4 | F63: R$
C64: Contraprestação mensal | E64: =E63/12 -> 521.78333 | F64: R$
C65: ∑ VPL Contraprestações | E65: =Ops!G1030 -> 72437.324 | F65: R$
C66: Investimentos + ReInvest | E66: =-DFs!F49 -> 76776.486 | F66: R$

Sheet DFs
A1: DEMONSTRAÇÕES FINANCEIRAS | D1: Alerta | E1: Erro | F1: IRR | G1: NPV | H1: Macro
D2: =CHECKS!$F$9 -> 0 | E2: =CHECKS!$F$15 -> 0 | F2: =Project_IRR -> 0.10790613 | G2: =Project_NPV -> 0.44602649 | H2: =Master_Check -> 0
C5: =Flags!C4 -> Começo período | G5: =Flags!G4 -> 46388 | H5: =Flags!H4 -> 46753 | I5: =Flags!I4 -> 47119 | J5: =Flags!J4 -> 47484 | K5: =Flags!K4 -> 47849 | L5: =Flags!L4 -> 48214 | M5: =Flags!M4 -> 48580 | N5: =Flags!N4 -> 48945 | ... AM5: =Flags!AM4 -> 58076
C6: =Flags!C5 -> Fim período | G6: =Flags!G5 -> 46752 | H6: =Flags!H5 -> 47118 | I6: =Flags!I5 -> 47483 | J6: =Flags!J5 -> 47848 | K6: =Flags!K5 -> 48213 | L6: =Flags!L5 -> 48579 | M6: =Flags!M5 -> 48944 | N6: =Flags!N5 -> 49309 | ... AM6: =Flags!AM5 -> 58440
C7: Ano | G7: =YEAR(G6) -> 2027 | H7: =YEAR(H6) -> 2028 | I7: =YEAR(I6) -> 2029 | J7: =YEAR(J6) -> 2030 | K7: =YEAR(K6) -> 2031 | L7: =YEAR(L6) -> 2032 | M7: =YEAR(M6) -> 2033 | N7: =YEAR(N6) -> 2034 | ... AM7: =YEAR(AM6) -> 2059
C8: Ano de Concessão | G8: =Flags!G15 -> 1 | H8: =Flags!H15 -> 2 | I8: =Flags!I15 -> 3 | J8: =Flags!J15 -> 4 | K8: =Flags!K15 -> 5 | L8: =Flags!L15 -> 6 | M8: =Flags!M15 -> 7 | N8: =Flags!N15 -> 8 | ... AM8: =Flags!AM15 -> 33
C9: =Flags!C6 -> Timeline | G9: =Flags!G90 -> Ops | H9: =Flags!H90 -> Ops | I9: =Flags!I90 -> Ops | J9: =Flags!J90 -> Ops | K9: =Flags!K90 -> Ops | L9: =Flags!L90 -> Ops | M9: =Flags!M90 -> Ops | N9: =Flags!N90 -> Ops | ... AM9: =Flags!AM90 -> Post Ops.
D11: =Flags!D8 -> Inputs | E11: =Flags!E8 -> Units | F11: =Flags!F8 -> Total
C13: Fluxo de Caixa (Waterfall) R$
C15: Receita Líquida
C16: Contraprestação Pública Anual | E16: $ 000s | F16: =SUM(G16:AM16) -> 225809.86 | G16: =Ops!G127 -> 15451.717 | H16: =Ops!H127 -> 6334.3741 | I16: =Ops!I127 -> 6406.5075 | J16: =Ops!J127 -> 6477.8194 | K16: =Ops!K127 -> 6548.3282 | L16: =Ops!L127 -> 6618.0519 | M16: =Ops!M127 -> 6687.0077 | N16: =Ops!N127 -> 6755.2125 | ... AM16: =Ops!AM127 -> 0
C17: Receitas Tarifárias | E17: $ 000s | F17: =SUM(G17:AM17) -> 555333.94 | G17: =SUM(Ops!G167:G167) -> 0 | H17: =SUM(Ops!H167:H167) -> 11758.953 | I17: =SUM(Ops!I167:I167) -> 15920.763 | J17: =SUM(Ops!J167:J167) -> 16102.167 | K17: =SUM(Ops!K167:K167) -> 16283.572 | L17: =SUM(Ops!L167:L167) -> 16464.976 | M17: =SUM(Ops!M167:M167) -> 17728.395 | N17: =SUM(Ops!N167:N167) -> 17921.591 | ... AM17: =SUM(Ops!AM167:AM167) -> 0
C18: Deduções da Receita | E18: $ 000s | F18: =SUM(G18:AM18) -> -64644.805 | G18: =Ops!G198 -> 424.29065 | H18: =Ops!H198 -> -3041.9031 | I18: =Ops!I198 -> -2832.4535 | J18: =Ops!J198 -> -2404.4216 | K18: =Ops!K198 -> -2244.761 | L18: =Ops!L198 -> -1047.8131 | M18: =Ops!M198 -> -2183.0472 | N18: =Ops!N198 -> -1317.5386 | ... AM18: =Ops!AM198 -> 0
C19: Total | E19: $ 000s | F19: =SUM(G19:AM19) -> 716499 | G19: =SUM(G16:G18) -> 15876.008 | H19: =SUM(H16:H18) -> 15051.424 | I19: =SUM(I16:I18) -> 19494.817 | J19: =SUM(J16:J18) -> 20175.565 | K19: =SUM(K16:K18) -> 20587.139 | L19: =SUM(L16:L18) -> 22035.215 | M19: =SUM(M16:M18) -> 22232.356 | N19: =SUM(N16:N18) -> 23359.265 | ... AM19: =SUM(AM16:AM18) -> 0
C21: Custos e Despesas Operacionais
C22: =Ops!C335 -> Coleta Manual E Conteinerizada Resíduos Comuns | E22: $ 000s | F22: =SUM(G22:AM22) -> -119618.57 | G22: =-Ops!G314 -> -3802.4183 | H22: =-Ops!H314 -> -3802.4183 | I22: =-Ops!I314 -> -3832.3823 | J22: =-Ops!J314 -> -3862.3463 | K22: =-Ops!K314 -> -3862.3463 | L22: =-Ops!L314 -> -3862.3463 | M22: =-Ops!M314 -> -3862.3463 | N22: =-Ops!N314 -> -3862.3463 | ... AM22: =-Ops!AM314 -> 0
C23: =Ops!C336 -> Coleta Materias Recicláveis | E23: $ 000s | F23: =SUM(G23:AM23) -> -45195.222 | G23: =-Ops!G315 -> -1214.1572 | H23: =-Ops!H315 -> -1214.1572 | I23: =-Ops!I315 -> -1214.1572 | J23: =-Ops!J315 -> -1538.9907 | K23: =-Ops!K315 -> -1538.9907 | L23: =-Ops!L315 -> -1538.9907 | M23: =-Ops!M315 -> -1538.9907 | N23: =-Ops!N315 -> -1538.9907 | ... AM23: =-Ops!AM315 -> 0
C24: =Ops!C337 -> Transporte E Destinação - Resíduos Dos Pevs | E24: $ 000s | F24: =SUM(G24:AM24) -> -7369.9807 | G24: =-Ops!G316 -> 0 | H24: =-Ops!H316 -> 0 | I24: =-Ops!I316 -> -263.2136 | J24: =-Ops!J316 -> -263.2136 | K24: =-Ops!K316 -> -263.2136 | L24: =-Ops!L316 -> -263.2136 | M24: =-Ops!M316 -> -263.2136 | N24: =-Ops!N316 -> -263.2136 | ... AM24: =-Ops!AM316 -> 0
C25: =Ops!C338 -> Coleta Programada De Volumosos | E25: $ 000s | F25: =SUM(G25:AM25) -> -20103.28 | G25: =-Ops!G317 -> -670.10933 | H25: =-Ops!H317 -> -670.10933 | I25: =-Ops!I317 -> -670.10933 | J25: =-Ops!J317 -> -670.10933 | K25: =-Ops!K317 -> -670.10933 | L25: =-Ops!L317 -> -670.10933 | M25: =-Ops!M317 -> -670.10933 | N25: =-Ops!N317 -> -670.10933 | ... AM25: =-Ops!AM317 -> 0
C26: =Ops!C339 -> Varrição Manual | E26: $ 000s | F26: =SUM(G26:AM26) -> -33008.942 | G26: =-Ops!G318 -> -902.85759 | H26: =-Ops!H318 -> -1027.1445 | I26: =-Ops!I318 -> -1027.4156 | J26: =-Ops!J318 -> -1027.4156 | K26: =-Ops!K318 -> -1027.4156 | L26: =-Ops!L318 -> -1027.4156 | M26: =-Ops!M318 -> -1027.4156 | N26: =-Ops!N318 -> -1027.4156 | ... AM26: =-Ops!AM318 -> 0
C27: =Ops!C340 -> Serviços Gerais (Tipos I E II) | E27: $ 000s | F27: =SUM(G27:AM27) -> -74397.325 | G27: =-Ops!G319 -> -2479.9108 | H27: =-Ops!H319 -> -2479.9108 | I27: =-Ops!I319 -> -2479.9108 | J27: =-Ops!J319 -> -2479.9108 | K27: =-Ops!K319 -> -2479.9108 | L27: =-Ops!L319 -> -2479.9108 | M27: =-Ops!M319 -> -2479.9108 | N27: =-Ops!N319 -> -2479.9108 | ... AM27: =-Ops!AM319 -> 0
C28: =Ops!C341 -> Roçada | E28: $ 000s | F28: =SUM(G28:AM28) -> -42142.109 | G28: =-Ops!G320 -> -1404.737 | H28: =-Ops!H320 -> -1404.737 | I28: =-Ops!I320 -> -1404.737 | J28: =-Ops!J320 -> -1404.737 | K28: =-Ops!K320 -> -1404.737 | L28: =-Ops!L320 -> -1404.737 | M28: =-Ops!M320 -> -1404.737 | N28: =-Ops!N320 -> -1404.737 | ... AM28: =-Ops!AM320 -> 0
C29: =Ops!C342 -> Destinação Final | E29: $ 000s | F29: =SUM(G29:AM29) -> -131414.71 | G29: =-Ops!G321 -> -3730.344 | H29: =-Ops!H321 -> -3844.8985 | I29: =-Ops!I321 -> -3992.61 | J29: =-Ops!J321 -> -4036.0045 | K29: =-Ops!K321 -> -4084.313 | L29: =-Ops!L321 -> -4129.8043 | M29: =-Ops!M321 -> -5098.4926 | N29: =-Ops!N321 -> -4282.164 | ... AM29: =-Ops!AM321 -> 0
C30: =Ops!C343 -> Educaçao Ambiental | E30: $ 000s | F30: =SUM(G30:AM30) -> -6398.1914 | G30: =-Ops!G322 -> -266.27881 | H30: =-Ops!H322 -> -266.27881 | I30: =-Ops!I322 -> -266.27881 | J30: =-Ops!J322 -> -266.27881 | K30: =-Ops!K322 -> -266.27881 | L30: =-Ops!L322 -> -266.27881 | M30: =-Ops!M322 -> -200.02161 | N30: =-Ops!N322 -> -200.02161 | ... AM30: =-Ops!AM322 -> 0
C31: =Ops!C344 -> Relação Com O Usuário | E31: $ 000s | F31: =SUM(G31:AM31) -> -28189.119 | G31: =-Ops!G323 -> -405.37059 | H31: =-Ops!H323 -> -919.42288 | I31: =-Ops!I323 -> -922.18269 | J31: =-Ops!J323 -> -924.94251 | K31: =-Ops!K323 -> -927.70232 | L31: =-Ops!L323 -> -930.46214 | M31: =-Ops!M323 -> -933.22195 | N31: =-Ops!N323 -> -935.98176 | ... AM31: =-Ops!AM323 -> 0
C32: =Ops!C345 -> Administração Local | E32: $ 000s | F32: =SUM(G32:AM32) -> -24230.753 | G32: =-Ops!G324 -> -726.75658 | H32: =-Ops!H324 -> -727.20443 | I32: =-Ops!I324 -> -727.47503 | J32: =-Ops!J324 -> -728.15153 | K32: =-Ops!K324 -> -728.15153 | L32: =-Ops!L324 -> -728.15153 | M32: =-Ops!M324 -> -827.15576 | N32: =-Ops!N324 -> -827.15576 | ... AM32: =-Ops!AM324 -> 0
C33: =Ops!C347 -> Gerencialmento Contrato | E33: $ 000s | F33: =SUM(G33:AM33) -> -2303.2946 | G33: =-Ops!G326 -> -76.776486 | H33: =-Ops!H326 -> -76.776486 | I33: =-Ops!I326 -> -76.776486 | J33: =-Ops!J326 -> -76.776486 | K33: =-Ops!K326 -> -76.776486 | L33: =-Ops!L326 -> -76.776486 | M33: =-Ops!M326 -> -76.776486 | N33: =-Ops!N326 -> -76.776486 | ... AM33: =-Ops!AM326 -> 0
C34: =Ops!C348 -> Taxa de regulação ARIS | E34: $ 000s | F34: =SUM(G34:AM34) -> -2025.4495 | G34: =-Ops!G327 -> -57.75489 | H34: =-Ops!H327 -> -58.428 | I34: =-Ops!I327 -> -59.10111 | J34: =-Ops!J327 -> -59.77422 | K34: =-Ops!K327 -> -60.44733 | L34: =-Ops!L327 -> -61.12044 | M34: =-Ops!M327 -> -61.79355 | N34: =-Ops!N327 -> -62.46666 | ... AM34: =-Ops!AM327 -> 0
C35: =Ops!C349 -> Despesas com seguros multiriscos | E35: $ 000s | F35: =SUM(G35:AM35) -> -75 | G35: =-Ops!G328 -> -2.5 | H35: =-Ops!H328 -> -2.5 | I35: =-Ops!I328 -> -2.5 | J35: =-Ops!J328 -> -2.5 | K35: =-Ops!K328 -> -2.5 | L35: =-Ops!L328 -> -2.5 | M35: =-Ops!M328 -> -2.5 | N35: =-Ops!N328 -> -2.5 | ... AM35: =-Ops!AM328 -> 0
C36: =Ops!C350 -> Despesas com seguro de responsabilidade civil | E36: $ 000s | F36: =SUM(G36:AM36) -> -82.5 | G36: =-Ops!G329 -> -27.5 | H36: =-Ops!H329 -> -27.5 | I36: =-Ops!I329 -> -27.5 | J36: =-Ops!J329 -> 0 | K36: =-Ops!K329 -> 0 | L36: =-Ops!L329 -> 0 | M36: =-Ops!M329 -> 0 | N36: =-Ops!N329 -> 0 | ... AM36: =-Ops!AM329 -> 0
C37: =Ops!C351 -> Despesas com seguro garantia de execução | E37: $ 000s | F37: =SUM(G37:AM37) -> -863.73547 | G37: =-Ops!G330 -> -28.791182 | H37: =-Ops!H330 -> -28.791182 | I37: =-Ops!I330 -> -28.791182 | J37: =-Ops!J330 -> -28.791182 | K37: =-Ops!K330 -> -28.791182 | L37: =-Ops!L330 -> -28.791182 | M37: =-Ops!M330 -> -28.791182 | N37: =-Ops!N330 -> -28.791182 | ... AM37: =-Ops!AM330 -> 0
C38: =Ops!C352 -> Despesas com seguro de engenharia | E38: $ 000s | F38: =SUM(G38:AM38) -> -76.443649 | G38: =-Ops!G352 -> -1.2790065 | H38: =-Ops!H352 -> -4.9382424 | I38: =-Ops!I352 -> -1.3235913 | J38: =-Ops!J352 -> -0.17264465 | K38: =-Ops!K352 -> -0.17264465 | L38: =-Ops!L352 -> -42.703515 | M38: =-Ops!M352 -> -0.58909527 | N38: =-Ops!N352 -> -0.18214806 | ... AJ38: =-Ops!AJ352 -> -0.2219159
C39: Upfront fee | E39: $ 000s | F39: =SUM(G39:AM39) -> -191.94122 | G39: =-(Debt!G71) -> -26.937578 | H39: =-(Debt!H71) -> -3.6810895 | I39: =-(Debt!I71) -> -4.3586967 | J39: =-(Debt!J71) -> -0.9931606 | K39: =-(Debt!K71) -> -1.9078801 | L39: =-(Debt!L71) -> -30.763783 | M39: =-(Debt!M71) -> -0.60398733 | N39: =-(Debt!N71) -> -20.472957 | ... AM39: =-(Debt!AM71) -> 0
C40: Total Opex | E40: $ 000s | F40: =SUM(G40:AM40) -> -537686.56 | G40: =SUM(G22:G39) -> -15824.479 | H40: =SUM(H22:H39) -> -16558.897 | I40: =SUM(I22:I39) -> -17000.823 | J40: =SUM(J22:J39) -> -17371.108 | K40: =SUM(K22:K39) -> -17423.765 | L40: =SUM(L22:L39) -> -17544.076 | M40: =SUM(M22:M39) -> -18476.67 | N40: =SUM(N22:N39) -> -17683.236 | ... AM40: =SUM(AM22:AM39) -> 0
C42: Ajustes de Capital de Giro | E42: $ 000s | F42: =SUM(G42:AN42) -> -2.2737368e-13 | G42: =Ops!G391 -> -603.77923 | H42: =Ops!H391 -> 69.238522 | I42: =Ops!I391 -> -330.52969 | J42: =Ops!J391 -> -12.209749 | K42: =Ops!K391 -> -33.827984 | L42: =Ops!L391 -> -116.2054 | M42: =Ops!M391 -> -19.017917 | N42: =Ops!N391 -> -92.622665 | ... AM42: =Ops!AM391 -> 0
C44: Fluxo de Caixa Operacional | E44: $ 000s | F44: =SUM(G44:AM44) -> 178812.43 | G44: =G19+G40+G42 -> -552.25075 | H44: =H19+H40+H42 -> -1438.2344 | I44: =I19+I40+I42 -> 2163.4637 | J44: =J19+J40+J42 -> 2792.2469 | K44: =K19+K40+K42 -> 3129.5463 | L44: =L19+L40+L42 -> 4374.9341 | M44: =M19+M40+M42 -> 3736.6683 | N44: =N19+N40+N42 -> 5583.4063 | ... AM44: =AM19+AM40+AM42 -> 0
C46: Investimentos (Usos)
C47: =Ops!C412 -> CAPEX - Divisíveis | E47: $ 000s | F47: =SUM(G47:AM47) -> -73286.584 | G47: =-Ops!G412 -> -9009.4527 | H47: =-Ops!H412 -> -1410.9264 | I47: =-Ops!I412 -> -1743.4787 | J47: =-Ops!J412 -> -383.71704 | K47: =-Ops!K412 -> -763.15204 | L47: =-Ops!L412 -> -12231.004 | M47: =-Ops!M412 -> -217.17293 | N47: =-Ops!N412 -> -8189.1826 | ... AM47: =-Ops!AM412 -> 0
C48: =Ops!C413 -> CAPEX - Indivisíveis | E48: =Ops!E413 -> $ 000s | F48: =SUM(G48:AM48) -> -3489.902 | G48: =-Ops!G413 -> -1765.5784 | H48: =-Ops!H413 -> -61.50941 | I48: =-Ops!I413 -> 0 | J48: =-Ops!J413 -> -13.5472 | K48: =-Ops!K413 -> 0 | L48: =-Ops!L413 -> -74.5088 | M48: =-Ops!M413 -> -24.422 | N48: =-Ops!N413 -> 0 | ... AM48: =-Ops!AM413 -> 0
C49: CAPEX total | E49: $ 000s | F49: =SUM(G49:AM49) -> -76776.486 | G49: =SUM(G47:G48) -> -10775.031 | H49: =SUM(H47:H48) -> -1472.4358 | I49: =SUM(I47:I48) -> -1743.4787 | J49: =SUM(J47:J48) -> -397.26424 | K49: =SUM(K47:K48) -> -763.15204 | L49: =SUM(L47:L48) -> -12305.513 | M49: =SUM(M47:M48) -> -241.59493 | N49: =SUM(N47:N48) -> -8189.1826 | ... AM49: =SUM(AM47:AM48) -> 0
...

Sheet Usos e fontes
A1: Usos e fontes total
B3: Usos e Fontes | C3: Unit | D3: Total | E3: =DFs!G8 -> 1 | F3: =DFs!H8 -> 2 | G3: =DFs!I8 -> 3 | H3: =DFs!J8 -> 4 | I3: =DFs!K8 -> 5 | J3: =DFs!L8 -> 6 | K3: =DFs!M8 -> 7 | L3: =DFs!N8 -> 8 | ... AH3: =DFs!AJ8 -> 30
B5: Custos | C5: $ 000s | D5: =SUM(E5:AH5) -> -537686.56 | E5: =DFs!G40 -> -15824.479 | F5: =DFs!H40 -> -16558.897 | G5: =DFs!I40 -> -17000.823 | H5: =DFs!J40 -> -17371.108 | I5: =DFs!K40 -> -17423.765 | J5: =DFs!L40 -> -17544.076 | K5: =DFs!M40 -> -18476.67 | L5: =DFs!N40 -> -17683.236 | ... AH5: =DFs!AJ40 -> -18600.254
B6: Investimentos | C6: $ 000s | D6: =SUM(E6:AH6) -> -76776.486 | E6: =DFs!G49 -> -10775.031 | F6: =DFs!H49 -> -1472.4358 | G6: =DFs!I49 -> -1743.4787 | H6: =DFs!J49 -> -397.26424 | I6: =DFs!K49 -> -763.15204 | J6: =DFs!L49 -> -12305.513 | K6: =DFs!M49 -> -241.59493 | L6: =DFs!N49 -> -8189.1826 | ... AH6: =DFs!AJ49 -> -63.404542
B7: Imposto de renda pago | C7: $ 000s | D7: =SUM(E7:AH7) -> -36456.505 | E7: =DFs!G60 -> 0 | F7: =DFs!H60 -> 0 | G7: =DFs!I60 -> -22.884311 | H7: =DFs!J60 -> -72.053827 | I7: =DFs!K60 -> -139.53091 | J7: =DFs!L60 -> -594.61205 | K7: =DFs!M60 -> -408.23945 | L7: =DFs!N60 -> -513.92216 | ... AH7: =DFs!AJ60 -> -2241.3367
B8: =DFs!C72 -> Depósitos Conta Reserva | C8: $ 000s | D8: =SUM(E8:AH8) -> -3069.3201 | E8: =DFs!G72 -> 0 | F8: =DFs!H72 -> -423.05955 | G8: =DFs!I72 -> 0 | H8: =DFs!J72 -> -5.7087338 | I8: =DFs!K72 -> -392.0006 | J8: =DFs!L72 -> 0 | K8: =DFs!M72 -> -260.78678 | L8: =DFs!N72 -> 0 | ... AH8: =DFs!AJ72 -> 0
B9: =DFs!C65 -> Pagamento de Juros | C9: $ 000s | D9: =SUM(E9:AH9) -> -21660.671 | E9: =DFs!G65 -> -592.62671 | F9: =DFs!H65 -> -673.61068 | G9: =DFs!I65 -> -769.50201 | H9: =DFs!J65 -> -736.38711 | I9: =DFs!K65 -> -721.71531 | J9: =DFs!L65 -> -1338.3756 | K9: =DFs!M65 -> -1229.9928 | L9: =DFs!N65 -> -1557.3986 | ... AH9: =DFs!AJ65 -> -347.14569
B10: =DFs!C66 -> Pagamento de Principal | C10: $ 000s | D10: =SUM(E10:AH10) -> -38388.243 | E10: =DFs!G66 -> 0 | F10: =DFs!H66 -> 0 | G10: =DFs!I66 -> -499.67663 | H10: =DFs!J66 -> -514.95602 | I10: =DFs!K66 -> -546.75403 | J10: =DFs!L66 -> -1106.0955 | K10: =DFs!M66 -> -1118.1753 | L10: =DFs!N66 -> -1573.1299 | ... AH10: =DFs!AJ66 -> -3155.8699
B11: =DFs!C79 -> Fiança Bancária | C11: $ 000s | D11: =SUM(E11:AH11) -> -1695.1763 | E11: =DFs!G79 -> -107.75031 | F11: =DFs!H79 -> -122.47467 | G11: =DFs!I79 -> -129.91592 | H11: =DFs!J79 -> -123.58945 | I11: =DFs!K79 -> -120.28589 | J11: =DFs!L79 -> -221.21911 | K11: =DFs!M79 -> -201.27155 | L11: =DFs!N79 -> -251.70078 | ... AH11: =DFs!AJ79 -> 0
B12: Capital de Giro | C12: $ 000s | D12: =SUM(E12:AH12) -> 0 | E12: =DFs!G42 -> -603.77923 | F12: =DFs!H42 -> 69.238522 | G12: =DFs!I42 -> -330.52969 | H12: =DFs!J42 -> -12.209749 | I12: =DFs!K42 -> -33.827984 | J12: =DFs!L42 -> -116.2054 | K12: =DFs!M42 -> -19.017917 | L12: =DFs!N42 -> -92.622665 | ... AH12: =DFs!AJ42 -> 1467.776
B13: =DFs!C83 -> Dividendos | C13: $ 000s | D13: =SUM(E13:AH13) -> -73282.204 | E13: =DFs!G83 -> 0 | F13: =DFs!H83 -> 0 | G13: =DFs!I83 -> 0 | H13: =DFs!J83 -> -51.336648 | I13: =DFs!K83 -> -1873.2707 | J13: =DFs!L83 -> -2238.7353 | K13: =DFs!M83 -> -1156.0627 | L13: =DFs!N83 -> -5007.8027 | ... AH13: =DFs!AJ83 -> 0
B14: Aumento / Redução conta caixa | C14: $ 000s | D14: =SUM(E14:AH14) -> -35134.32 | E14: =-DFs!G170+DFs!F170 -> 0 | F14: =-DFs!H170+DFs!G170 -> 0 | G14: =-DFs!I170+DFs!H170 -> -747.42996 | H14: =-DFs!J170+DFs!I170 -> -1351.7467 | I14: =-DFs!K170+DFs!J170 -> 485.58107 | J14: =-DFs!L170+DFs!K170 -> 954.84684 | K14: =-DFs!M170+DFs!L170 -> 581.8666 | L14: =-DFs!N170+DFs!M170 -> -221.90806 | ... AH14: =-DFs!AJ170+DFs!AI170 -> -8065.2305
B15: Usos totais do projeto | C15: $ 000s | D15: =SUM(E15:AH15) -> -824149.49 | E15: =SUM(E5:E14) -> -27903.667 | F15: =SUM(F5:F14) -> -19181.239 | G15: =SUM(G5:G14) -> -21244.241 | H15: =SUM(H5:H14) -> -20636.361 | I15: =SUM(I5:I14) -> -21528.721 | J15: =SUM(J5:J14) -> -34509.985 | K15: =SUM(K5:K14) -> -22529.944 | L15: =SUM(L5:L14) -> -35090.903 | ... AH15: =SUM(AH5:AH14) -> -31005.465 | AL15: =SUM(AL10:AL14) -> 0 | AM15: =SUM(AM10:AM14) -> 0
B17: Receitas | C17: $ 000s | D17: =SUM(E17:AH17) -> 730478.12 | E17: =DFs!G19+DFs!G156 -> 15876.008 | F17: =DFs!H19+DFs!H156 -> 15051.424 | G17: =DFs!I19+DFs!I156 -> 19494.817 | H17: =DFs!J19+DFs!J156 -> 20175.565 | I17: =DFs!K19+DFs!K156 -> 20587.139 | J17: =DFs!L19+DFs!L156 -> 22035.215 | K17: =DFs!M19+DFs!M156 -> 22232.356 | L17: =DFs!N19+DFs!N156 -> 26839.204 | ... AH17: =DFs!AJ19+DFs!AJ156 -> 27473.516
B18: Equity | C18: $ 000s | D18: =SUM(E18:AH18) -> 42298.25 | E18: =DFs!G52+Ops!G1063 -> 6640.1433 | F18: =DFs!H52+Ops!H1063 -> 3393.5972 | G18: =DFs!I52+Ops!I1063 -> 871.73935 | H18: =DFs!J52+Ops!J1063 -> 198.63212 | I18: =DFs!K52+Ops!K1063 -> 381.57602 | J18: =DFs!L52+Ops!L1063 -> 6152.7566 | K18: =DFs!M52+Ops!M1063 -> 120.79747 | L18: =DFs!N52+Ops!N1063 -> 4094.5913 | ... AH18: =DFs!AJ52+Ops!AJ1063 -> 31.702271
B19: Dívida Senior | C19: $ 000s | D19: =SUM(E19:AH19) -> 38388.243 | E19: =DFs!G53 -> 5387.5156 | F19: =DFs!H53 -> 736.2179 | G19: =DFs!I53 -> 871.73935 | H19: =DFs!J53 -> 198.63212 | I19: =DFs!K53 -> 381.57602 | J19: =DFs!L53 -> 6152.7566 | K19: =DFs!M53 -> 120.79747 | L19: =DFs!N53 -> 4094.5913 | ... AH19: =DFs!AJ53 -> 31.702271
B20: =DFs!C73 -> Saques Conta Reserva | C20: $ 000s | D20: =SUM(E20:AH20) -> 3069.3201 | E20: =DFs!G73 -> 0 | F20: =DFs!H73 -> 0 | G20: =DFs!I73 -> 5.9451673 | H20: =DFs!J73 -> 0 | I20: =DFs!K73 -> 0 | J20: =DFs!L73 -> 32.101013 | K20: =DFs!M73 -> 0 | L20: =DFs!N73 -> 55.981417 | ... AH20: =DFs!AJ73 -> 1167.6719
B21: =DFs!C78 -> Receitas Financeiras | C21: $ 000s | D21: =SUM(E21:AH21) -> 9915.5511 | E21: =DFs!G78 -> 0 | F21: =DFs!H78 -> 0 | G21: =DFs!I78 -> 0 | H21: =DFs!J78 -> 63.531546 | I21: =DFs!K78 -> 178.43002 | J21: =DFs!L78 -> 137.15562 | K21: =DFs!M78 -> 55.993643 | L21: =DFs!N78 -> 6.5349826 | ... AH21: =DFs!AJ78 -> 2300.8726
B22: Fontes totais do projeto | C22: $ 000s | D22: =SUM(E22:AH22) -> 824149.49 | E22: =SUM(E17:E21) -> 27903.667 | F22: =SUM(F17:F21) -> 19181.239 | G22: =SUM(G17:G21) -> 21244.241 | H22: =SUM(H17:H21) -> 20636.361 | I22: =SUM(I17:I21) -> 21528.721 | J22: =SUM(J17:J21) -> 34509.985 | K22: =SUM(K17:K21) -> 22529.944 | L22: =SUM(L17:L21) -> 35090.903 | ... AH22: =SUM(AH17:AH21) -> 31005.465
B24: Check | D24: =D18/-D6 -> 0.55092714 | E24: =SUM(E17:E21)+SUM(E5:E14) -> 0 | F24: =SUM(F17:F21)+SUM(F5:F14) -> 0 | G24: =SUM(G17:G21)+SUM(G5:G14) -> 0 | H24: =SUM(H17:H21)+SUM(H5:H14) -> 0 | I24: =SUM(I17:I21)+SUM(I5:I14) -> 0 | J24: =SUM(J17:J21)+SUM(J5:J14) -> 0 | K24: =SUM(K17:K21)+SUM(K5:K14) -> 0 | L24: =SUM(L17:L21)+SUM(L5:L14) -> 0 | ... AH24: =SUM(AH17:AH21)+SUM(AH5:AH14) -> 0

Sheet Inputs
A1: INPUTS
C3: SCENARIO SELECTION
C6: Premissas Modelo
C8: Modelo começa? | D8: Data | E8: 46388
C10: Meses no ano | E10: 12
C12: Cenários
C13: Cenário Base | E13: 1
C14: Investimentos Antecipados
C15: Cenário 2
C16: Cenário 3
C18: Real / Nominal
C19: Nominal | E19: 2 | F19: {=INDEX(C19:C20,E19)} -> Real
C20: Real
C23: Premissas Temporais
E25: Início
C26: Começo de Investimentos | E26: =Model_Start -> 46388
E28: Data Inicial
C29: Financial Close date | E29: =E26 -> 46388
E31: Prazo
C32: Concessão | E32: 30 | F32: Years
C34: Investimentos (CAPEX)
C36: CAPEX Investimento
C38: Sensibilidade CAPEX | D38: =CAPEX_Sens -> 0 | E38: %
C40: CAPEX segregado
C41: CAPEX de Investimento | D41: 1 | E41: =D41+1 -> 2 | F41: =E41+1 -> 3 | G41: =F41+1 -> 4 | H41: =G41+1 -> 5 | I41: =H41+1 -> 6 | J41: =I41+1 -> 7 | K41: =J41+1 -> 8 | L41: =K41+1 -> 9 | ... AL41: =AK41+1 -> 35
C42: Coleta Manual E Conteinerizada Rsc | D42: =CAPEX!C9*(1+$D$38) -> 4510.7924 | E42: =CAPEX!D9*(1+$D$38) -> 0 | F42: =CAPEX!E9*(1+$D$38) -> 713.825 | G42: =CAPEX!F9*(1+$D$38) -> 0 | H42: =CAPEX!G9*(1+$D$38) -> 713.825 | I42: =CAPEX!H9*(1+$D$38) -> 30 | J42: =CAPEX!I9*(1+$D$38) -> 0 | K42: =CAPEX!J9*(1+$D$38) -> 4459.6324 | ... AG42: =CAPEX!AF9*(1+$D$38) -> 0 | AM42: =SUM(D42:AL42) -> 28252.242
C43: Coleta De Materiais Recicláveis | D43: =CAPEX!C31*(1+$D$38) -> 1772.8062 | E43: =CAPEX!D31*(1+$D$38) -> 0 | F43: =CAPEX!E31*(1+$D$38) -> 0 | G43: =CAPEX!F31*(1+$D$38) -> 285.53 | H43: =CAPEX!G31*(1+$D$38) -> 0 | I43: =CAPEX!H31*(1+$D$38) -> 0 | J43: =CAPEX!I31*(1+$D$38) -> 0 | K43: =CAPEX!J31*(1+$D$38) -> 1772.8062 | ... AG43: =CAPEX!AF31*(1+$D$38) -> 0 | AM43: =SUM(D43:AL43) -> 10006.151
C44: Transporte E Destinação Final - Resíduos Pevs | D44: =CAPEX!C44*(1+$D$38) -> 0 | E44: =CAPEX!D44*(1+$D$38) -> 0 | F44: =CAPEX!E44*(1+$D$38) -> 651.48476 | G44: =CAPEX!F44*(1+$D$38) -> 0 | H44: =CAPEX!G44*(1+$D$38) -> 0 | I44: =CAPEX!H44*(1+$D$38) -> 0 | J44: =CAPEX!I44*(1+$D$38) -> 0 | K44: =CAPEX!J44*(1+$D$38) -> 0 | ... AG44: =CAPEX!AF44*(1+$D$38) -> 0 | AM44: =SUM(D44:AL44) -> 1954.4543
C45: Coleta Programada De Volumosos | D45: =CAPEX!C53*(1+$D$38) -> 1904.7017 | E45: =CAPEX!D53*(1+$D$38) -> 0 | F45: =CAPEX!E53*(1+$D$38) -> 0 | G45: =CAPEX!F53*(1+$D$38) -> 0 | H45: =CAPEX!G53*(1+$D$38) -> 0 | I45: =CAPEX!H53*(1+$D$38) -> 0 | J45: =CAPEX!I53*(1+$D$38) -> 0 | K45: =CAPEX!J53*(1+$D$38) -> 1904.7017 | ... AG45: =CAPEX!AF53*(1+$D$38) -> 0 | AM45: =SUM(D45:AL45) -> 9523.5085
C46: Varrição Manual | D46: =CAPEX!C62*(1+$D$38) -> 47.4866 | E46: =CAPEX!D62*(1+$D$38) -> 0 | F46: =CAPEX!E62*(1+$D$38) -> 0 | G46: =CAPEX!F62*(1+$D$38) -> 3.0772 | H46: =CAPEX!G62*(1+$D$38) -> 0 | I46: =CAPEX!H62*(1+$D$38) -> 23.2494 | J46: =CAPEX!I62*(1+$D$38) -> 3.0772 | K46: =CAPEX!J62*(1+$D$38) -> 0 | ... AG46: =CAPEX!AF62*(1+$D$38) -> 0 | AM46: =SUM(D46:AL46) -> 236.6058
C47: Serviços Gerais | D47: =CAPEX!C75*(1+$D$38) -> 415.933 | E47: =CAPEX!D75*(1+$D$38) -> 0 | F47: =CAPEX!E75*(1+$D$38) -> 0 | G47: =CAPEX!F75*(1+$D$38) -> 10.47 | H47: =CAPEX!G75*(1+$D$38) -> 0 | I47: =CAPEX!H75*(1+$D$38) -> 0 | J47: =CAPEX!I75*(1+$D$38) -> 10.47 | K47: =CAPEX!J75*(1+$D$38) -> 0 | ... AG47: =CAPEX!AF75*(1+$D$38) -> 0 | AM47: =SUM(D47:AL47) -> 1321.089
C48: Roçada | D48: =CAPEX!C92*(1+$D$38) -> 455.722 | E48: =CAPEX!D92*(1+$D$38) -> 0 | F48: =CAPEX!E92*(1+$D$38) -> 0 | G48: =CAPEX!F92*(1+$D$38) -> 48.86 | H48: =CAPEX!G92*(1+$D$38) -> 0 | I48: =CAPEX!H92*(1+$D$38) -> 0 | J48: =CAPEX!I92*(1+$D$38) -> 48.86 | K48: =CAPEX!J92*(1+$D$38) -> 0 | ... AG48: =CAPEX!AF92*(1+$D$38) -> 0 | AM48: =SUM(D48:AL48) -> 1709.186
C49: Investimentos Destinação Final | D49: =CAPEX!C108*(1+$D$38) -> 365.43042 | E49: =CAPEX!D108*(1+$D$38) -> 1410.9264 | F49: =CAPEX!E108*(1+$D$38) -> 378.16894 | G49: =CAPEX!F108*(1+$D$38) -> 49.327042 | H49: =CAPEX!G108*(1+$D$38) -> 49.327042 | I49: =CAPEX!H108*(1+$D$38) -> 12201.004 | J49: =CAPEX!I108*(1+$D$38) -> 168.31293 | K49: =CAPEX!J108*(1+$D$38) -> 52.042302 | ... AG49: =CAPEX!AF108*(1+$D$38) -> 63.404542 | AM49: =SUM(D49:AL49) -> 21841.042
C50: Educação Ambiental | D50: =CAPEX!C183*(1+$D$38) -> 0 | E50: =CAPEX!D183*(1+$D$38) -> 0 | F50: =CAPEX!E183*(1+$D$38) -> 0 | G50: =CAPEX!F183*(1+$D$38) -> 0 | H50: =CAPEX!G183*(1+$D$38) -> 0 | I50: =CAPEX!H183*(1+$D$38) -> 0 | J50: =CAPEX!I183*(1+$D$38) -> 0 | K50: =CAPEX!J183*(1+$D$38) -> 0 | ... AG50: =CAPEX!AF183*(1+$D$38) -> 0 | AM50: =SUM(D50:AL50) -> 0
C51: Relação Com O Usuário | D51: =CAPEX!C189*(1+$D$38) -> 175.2099 | E51: =CAPEX!D189*(1+$D$38) -> 61.50941 | F51: =CAPEX!E189*(1+$D$38) -> 0 | G51: =CAPEX!F189*(1+$D$38) -> 0 | H51: =CAPEX!G189*(1+$D$38) -> 0 | I51: =CAPEX!H189*(1+$D$38) -> 25.2099 | J51: =CAPEX!I189*(1+$D$38) -> 10.8748 | K51: =CAPEX!J189*(1+$D$38) -> 0 | ... AG51: =CAPEX!AF189*(1+$D$38) -> 0 | AM51: =SUM(D51:AL51) -> 473.21203
C52: Administração Local | D52: =CAPEX!C210*(1+$D$38) -> 126.94889 | E52: =CAPEX!D210*(1+$D$38) -> 0 | F52: =CAPEX!E210*(1+$D$38) -> 0 | G52: =CAPEX!F210*(1+$D$38) -> 0 | H52: =CAPEX!G210*(1+$D$38) -> 0 | I52: =CAPEX!H210*(1+$D$38) -> 26.0495 | J52: =CAPEX!I210*(1+$D$38) -> 0 | K52: =CAPEX!J210*(1+$D$38) -> 0 | ... AG52: =CAPEX!AF210*(1+$D$38) -> 0 | AM52: =SUM(D52:AL52) -> 458.99517
C53: Reembolso Do PMI | D53: =CAPEX!C219*(1+$D$38) -> 1000 | E53: =CAPEX!D219*(1+$D$38) -> 0 | F53: =CAPEX!E219*(1+$D$38) -> 0 | G53: =CAPEX!F219*(1+$D$38) -> 0 | H53: =CAPEX!G219*(1+$D$38) -> 0 | I53: =CAPEX!H219*(1+$D$38) -> 0 | J53: =CAPEX!I219*(1+$D$38) -> 0 | K53: =CAPEX!J219*(1+$D$38) -> 0 | ... AG53: =CAPEX!AF219*(1+$D$38) -> 0 | AM53: =SUM(D53:AL53) -> 1000
C55: Investimentos divisíveis e indivisíveis
C56: CAPEX de Investimento | D56: #
C57: Coleta Manual E Conteinerizada Rsc | D57: Divisivel | F57: Divisivel
...

Sheet Ops
A1: OPERAÇÕES | D1: Alerta | E1: Erro | F1: IRR | G1: NPV | H1: Macro
D2: =CHECKS!$F$9 -> 0 | E2: =CHECKS!$F$15 -> 0 | F2: =Project_IRR -> 0.10790613 | G2: =Project_NPV -> 0.44602649 | H2: =Master_Check -> 0
C4: =Flags!C4 -> Começo período | G4: =Flags!G4 -> 46388 | H4: =Flags!H4 -> 46753 | I4: =Flags!I4 -> 47119 | J4: =Flags!J4 -> 47484 | K4: =Flags!K4 -> 47849 | L4: =Flags!L4 -> 48214 | M4: =Flags!M4 -> 48580 | N4: =Flags!N4 -> 48945 | ... AN4: =Flags!AN4 -> 58441
C5: =Flags!C5 -> Fim período | G5: =Flags!G5 -> 46752 | H5: =Flags!H5 -> 47118 | I5: =Flags!I5 -> 47483 | J5: =Flags!J5 -> 47848 | K5: =Flags!K5 -> 48213 | L5: =Flags!L5 -> 48579 | M5: =Flags!M5 -> 48944 | N5: =Flags!N5 -> 49309 | ... AN5: =Flags!AN5 -> 58806
C6: Ano | G6: =YEAR(G5) -> 2027 | H6: =YEAR(H5) -> 2028 | I6: =YEAR(I5) -> 2029 | J6: =YEAR(J5) -> 2030 | K6: =YEAR(K5) -> 2031 | L6: =YEAR(L5) -> 2032 | M6: =YEAR(M5) -> 2033 | N6: =YEAR(N5) -> 2034 | ... AN6: =YEAR(AN5) -> 2060
C7: Ano de Concessão | G7: =Flags!G15 -> 1 | H7: =Flags!H15 -> 2 | I7: =Flags!I15 -> 3 | J7: =Flags!J15 -> 4 | K7: =Flags!K15 -> 5 | L7: =Flags!L15 -> 6 | M7: =Flags!M15 -> 7 | N7: =Flags!N15 -> 8 | ... AN7: =Flags!AN15 -> 34
C8: =Flags!C6 -> Timeline | G8: =Flags!G90 -> Ops | H8: =Flags!H90 -> Ops | I8: =Flags!I90 -> Ops | J8: =Flags!J90 -> Ops | K8: =Flags!K90 -> Ops | L8: =Flags!L90 -> Ops | M8: =Flags!M90 -> Ops | N8: =Flags!N90 -> Ops | ... AN8: =Flags!AN90 -> Post Ops.
D10: =Flags!D8 -> Inputs | E10: =Flags!E8 -> Units | F10: =Flags!F8 -> Total
C12: Correção Monetária
C14: Ano de Operação | E14: Ano | G14: =YEAR(G$5) -> 2027 | H14: =YEAR(H$5) -> 2028 | I14: =YEAR(I$5) -> 2029 | J14: =YEAR(J$5) -> 2030 | K14: =YEAR(K$5) -> 2031 | L14: =YEAR(L$5) -> 2032 | M14: =YEAR(M$5) -> 2033 | N14: =YEAR(N$5) -> 2034 | ... AN14: =YEAR(AN$5) -> 2060
C15: Dias no período | E15: Dias | G15: =Flags!H$26 -> 366 | H15: =Flags!I$26 -> 365 | I15: =Flags!J$26 -> 365 | J15: =Flags!K$26 -> 365 | K15: =Flags!L$26 -> 366 | L15: =Flags!M$26 -> 365 | M15: =Flags!N$26 -> 365 | N15: =Flags!O$26 -> 365 | ... AN15: =Flags!AO$26 -> 0
C16: Dias no ano | E16: Dias | G16: =SUMIF($G$14:$AN$14,G14,$G$15:$AN$15) -> 366 | H16: =SUMIF($G$14:$AN$14,H14,$G$15:$AN$15) -> 365 | I16: =SUMIF($G$14:$AN$14,I14,$G$15:$AN$15) -> 365 | J16: =SUMIF($G$14:$AN$14,J14,$G$15:$AN$15) -> 365 | K16: =SUMIF($G$14:$AN$14,K14,$G$15:$AN$15) -> 366 | L16: =SUMIF($G$14:$AN$14,L14,$G$15:$AN$15) -> 365 | M16: =SUMIF($G$14:$AN$14,M14,$G$15:$AN$15) -> 365 | N16: =SUMIF($G$14:$AN$14,N14,$G$15:$AN$15) -> 365 | ... AN16: =SUMIF($G$14:$AN$14,AN14,$G$15:$AN$15) -> 0
C18: Correção
C19: % p.a
C20: =Inputs!C337 -> None | E20: % p.a | G20: =LOOKUP(G$14,Inputs!$G$336:$K$336,Inputs!$G337:$K337) -> 0 | H20: =LOOKUP(H$14,Inputs!$G$336:$K$336,Inputs!$G337:$K337) -> 0 | I20: =LOOKUP(I$14,Inputs!$G$336:$K$336,Inputs!$G337:$K337) -> 0 | J20: =LOOKUP(J$14,Inputs!$G$336:$K$336,Inputs!$G337:$K337) -> 0 | K20: =LOOKUP(K$14,Inputs!$G$336:$K$336,Inputs!$G337:$K337) -> 0 | L20: =LOOKUP(L$14,Inputs!$G$336:$K$336,Inputs!$G337:$K337) -> 0 | M20: =LOOKUP(M$14,Inputs!$G$336:$K$336,Inputs!$G337:$K337) -> 0 | N20: =LOOKUP(N$14,Inputs!$G$336:$K$336,Inputs!$G337:$K337) -> 0 | ... AN20: =LOOKUP(AN$14,Inputs!$G$336:$K$336,Inputs!$G337:$K337) -> 0
C21: =Inputs!C338 -> IPG-M | E21: % p.a | G21: =LOOKUP(G$14,Inputs!$G$336:$K$336,Inputs!$G338:$K338) -> 0.038 | H21: =LOOKUP(H$14,Inputs!$G$336:$K$336,Inputs!$G338:$K338) -> 0.038 | I21: =LOOKUP(I$14,Inputs!$G$336:$K$336,Inputs!$G338:$K338) -> 0.038 | J21: =LOOKUP(J$14,Inputs!$G$336:$K$336,Inputs!$G338:$K338) -> 0.038 | K21: =LOOKUP(K$14,Inputs!$G$336:$K$336,Inputs!$G338:$K338) -> 0.038 | L21: =LOOKUP(L$14,Inputs!$G$336:$K$336,Inputs!$G338:$K338) -> 0.038 | M21: =LOOKUP(M$14,Inputs!$G$336:$K$336,Inputs!$G338:$K338) -> 0.038 | N21: =LOOKUP(N$14,Inputs!$G$336:$K$336,Inputs!$G338:$K338) -> 0.038 | ... AN21: =LOOKUP(AN$14,Inputs!$G$336:$K$336,Inputs!$G338:$K338) -> 0.038
C22: =Inputs!C339 -> PIB | E22: % p.a | G22: =LOOKUP(G$14,Inputs!$G$336:$K$336,Inputs!$G339:$K339) -> 0.02 | H22: =LOOKUP(H$14,Inputs!$G$336:$K$336,Inputs!$G339:$K339) -> 0.02 | I22: =LOOKUP(I$14,Inputs!$G$336:$K$336,Inputs!$G339:$K339) -> 0.02 | J22: =LOOKUP(J$14,Inputs!$G$336:$K$336,Inputs!$G339:$K339) -> 0.02 | K22: =LOOKUP(K$14,Inputs!$G$336:$K$336,Inputs!$G339:$K339) -> 0.02 | L22: =LOOKUP(L$14,Inputs!$G$336:$K$336,Inputs!$G339:$K339) -> 0.02 | M22: =LOOKUP(M$14,Inputs!$G$336:$K$336,Inputs!$G339:$K339) -> 0.02 | N22: =LOOKUP(N$14,Inputs!$G$336:$K$336,Inputs!$G339:$K339) -> 0.02 | ... AN22: =LOOKUP(AN$14,Inputs!$G$336:$K$336,Inputs!$G339:$K339) -> 0.02
C23: =Inputs!C340 -> PIB Serviços | E23: % p.a | G23: =LOOKUP(G$14,Inputs!$G$336:$K$336,Inputs!$G340:$K340) -> 0.025 | H23: =LOOKUP(H$14,Inputs!$G$336:$K$336,Inputs!$G340:$K340) -> 0.025 | I23: =LOOKUP(I$14,Inputs!$G$336:$K$336,Inputs!$G340:$K340) -> 0.025 | J23: =LOOKUP(J$14,Inputs!$G$336:$K$336,Inputs!$G340:$K340) -> 0.025 | K23: =LOOKUP(K$14,Inputs!$G$336:$K$336,Inputs!$G340:$K340) -> 0.025 | L23: =LOOKUP(L$14,Inputs!$G$336:$K$336,Inputs!$G340:$K340) -> 0.025 | M23: =LOOKUP(M$14,Inputs!$G$336:$K$336,Inputs!$G340:$K340) -> 0.025 | N23: =LOOKUP(N$14,Inputs!$G$336:$K$336,Inputs!$G340:$K340) -> 0.025 | ... AN23: =LOOKUP(AN$14,Inputs!$G$336:$K$336,Inputs!$G340:$K340) -> 0.025
C24: =Inputs!C341 -> CPI US | E24: % p.a | G24: =LOOKUP(G$14,Inputs!$G$336:$K$336,Inputs!$G341:$K341) -> 0.031 | H24: =LOOKUP(H$14,Inputs!$G$336:$K$336,Inputs!$G341:$K341) -> 0.031 | I24: =LOOKUP(I$14,Inputs!$G$336:$K$336,Inputs!$G341:$K341) -> 0.031 | J24: =LOOKUP(J$14,Inputs!$G$336:$K$336,Inputs!$G341:$K341) -> 0.031 | K24: =LOOKUP(K$14,Inputs!$G$336:$K$336,Inputs!$G341:$K341) -> 0.031 | L24: =LOOKUP(L$14,Inputs!$G$336:$K$336,Inputs!$G341:$K341) -> 0.031 | M24: =LOOKUP(M$14,Inputs!$G$336:$K$336,Inputs!$G341:$K341) -> 0.031 | N24: =LOOKUP(N$14,Inputs!$G$336:$K$336,Inputs!$G341:$K341) -> 0.031 | ... AN24: =LOOKUP(AN$14,Inputs!$G$336:$K$336,Inputs!$G341:$K341) -> 0.031
C25: =Inputs!C342 -> SELIC | E25: % p.a | G25: =LOOKUP(G$14,Inputs!$G$336:$K$336,Inputs!$G342:$K342) -> 0.085 | H25: =LOOKUP(H$14,Inputs!$G$336:$K$336,Inputs!$G342:$K342) -> 0.085 | I25: =LOOKUP(I$14,Inputs!$G$336:$K$336,Inputs!$G342:$K342) -> 0.085 | J25: =LOOKUP(J$14,Inputs!$G$336:$K$336,Inputs!$G342:$K342) -> 0.085 | K25: =LOOKUP(K$14,Inputs!$G$336:$K$336,Inputs!$G342:$K342) -> 0.085 | L25: =LOOKUP(L$14,Inputs!$G$336:$K$336,Inputs!$G342:$K342) -> 0.085 | M25: =LOOKUP(M$14,Inputs!$G$336:$K$336,Inputs!$G342:$K342) -> 0.085 | N25: =LOOKUP(N$14,Inputs!$G$336:$K$336,Inputs!$G342:$K342) -> 0.085 | ... AN25: =LOOKUP(AN$14,Inputs!$G$336:$K$336,Inputs!$G342:$K342) -> 0.085
C26: =Inputs!C343 -> CDI | E26: % p.a | G26: =LOOKUP(G$14,Inputs!$G$336:$K$336,Inputs!$G343:$K343) -> 0.085 | H26: =LOOKUP(H$14,Inputs!$G$336:$K$336,Inputs!$G343:$K343) -> 0.085 | I26: =LOOKUP(I$14,Inputs!$G$336:$K$336,Inputs!$G343:$K343) -> 0.085 | J26: =LOOKUP(J$14,Inputs!$G$336:$K$336,Inputs!$G343:$K343) -> 0.085 | K26: =LOOKUP(K$14,Inputs!$G$336:$K$336,Inputs!$G343:$K343) -> 0.085 | L26: =LOOKUP(L$14,Inputs!$G$336:$K$336,Inputs!$G343:$K343) -> 0.085 | M26: =LOOKUP(M$14,Inputs!$G$336:$K$336,Inputs!$G343:$K343) -> 0.085 | N26: =LOOKUP(N$14,Inputs!$G$336:$K$336,Inputs!$G343:$K343) -> 0.085 | ... AN26: =LOOKUP(AN$14,Inputs!$G$336:$K$336,Inputs!$G343:$K343) -> 0.085
C27: =Inputs!C344 -> TLP | E27: % p.a | G27: =LOOKUP(G$14,Inputs!$G$336:$K$336,Inputs!$G344:$K344) -> 0.0898 | H27: =LOOKUP(H$14,Inputs!$G$336:$K$336,Inputs!$G344:$K344) -> 0.0898 | I27: =LOOKUP(I$14,Inputs!$G$336:$K$336,Inputs!$G344:$K344) -> 0.0898 | J27: =LOOKUP(J$14,Inputs!$G$336:$K$336,Inputs!$G344:$K344) -> 0.0898 | K27: =LOOKUP(K$14,Inputs!$G$336:$K$336,Inputs!$G344:$K344) -> 0.0898 | L27: =LOOKUP(L$14,Inputs!$G$336:$K$336,Inputs!$G344:$K344) -> 0.0898 | M27: =LOOKUP(M$14,Inputs!$G$336:$K$336,Inputs!$G344:$K344) -> 0.0898 | N27: =LOOKUP(N$14,Inputs!$G$336:$K$336,Inputs!$G344:$K344) -> 0.0898 | ... AN27: =LOOKUP(AN$14,Inputs!$G$336:$K$336,Inputs!$G344:$K344) -> 0.0898
C28: =Inputs!C345 -> IPCA | E28: % p.a | G28: =LOOKUP(G$14,Inputs!$G$336:$K$336,Inputs!$G345:$K345) -> 0.035 | H28: =LOOKUP(H$14,Inputs!$G$336:$K$336,Inputs!$G345:$K345) -> 0.035 | I28: =LOOKUP(I$14,Inputs!$G$336:$K$336,Inputs!$G345:$K345) -> 0.035 | J28: =LOOKUP(J$14,Inputs!$G$336:$K$336,Inputs!$G345:$K345) -> 0.035 | K28: =LOOKUP(K$14,Inputs!$G$336:$K$336,Inputs!$G345:$K345) -> 0.035 | L28: =LOOKUP(L$14,Inputs!$G$336:$K$336,Inputs!$G345:$K345) -> 0.035 | M28: =LOOKUP(M$14,Inputs!$G$336:$K$336,Inputs!$G345:$K345) -> 0.035 | N28: =LOOKUP(N$14,Inputs!$G$336:$K$336,Inputs!$G345:$K345) -> 0.035 | ... AN28: =LOOKUP(AN$14,Inputs!$G$336:$K$336,Inputs!$G345:$K345) -> 0.035
C30: Index
C31: =C20 -> None | F31: =Inputs!E337 -> 1 | G31: =IFERROR(F31*(1+G20)^(G$15/G$16),1) -> 1 | H31: =IFERROR(G31*(1+H20)^(H$15/H$16),1) -> 1 | I31: =IFERROR(H31*(1+I20)^(I$15/I$16),1) -> 1 | J31: =IFERROR(I31*(1+J20)^(J$15/J$16),1) -> 1 | K31: =IFERROR(J31*(1+K20)^(K$15/K$16),1) -> 1 | L31: =IFERROR(K31*(1+L20)^(L$15/L$16),1) -> 1 | M31: =IFERROR(L31*(1+M20)^(M$15/M$16),1) -> 1 | N31: =IFERROR(M31*(1+N20)^(N$15/N$16),1) -> 1 | ... AN31: =IFERROR(AM31*(1+AN20)^(AN$15/AN$16),1) -> 1
C32: =C21 -> IPG-M | F32: =Inputs!E338 -> 1 | G32: =IFERROR(F32*(1+G21)^(G$15/G$16),1) -> 1.038 | H32: =IFERROR(G32*(1+H21)^(H$15/H$16),1) -> 1.077444 | I32: =IFERROR(H32*(1+I21)^(I$15/I$16),1) -> 1.1183869 | J32: =IFERROR(I32*(1+J21)^(J$15/J$16),1) -> 1.1608856 | K32: =IFERROR(J32*(1+K21)^(K$15/K$16),1) -> 1.2049992 | L32: =IFERROR(K32*(1+L21)^(L$15/L$16),1) -> 1.2507892 | M32: =IFERROR(L32*(1+M21)^(M$15/M$16),1) -> 1.2983192 | N32: =IFERROR(M32*(1+N21)^(N$15/N$16),1) -> 1.3476553 | ... AN32: =IFERROR(AM32*(1+AN21)^(AN$15/AN$16),1) -> 1
C33: =C22 -> PIB | F33: =Inputs!E339 -> 1 | G33: =IFERROR(F33*(1+G22)^(G$15/G$16),1) -> 1.02 | H33: =IFERROR(G33*(1+H22)^(H$15/H$16),1) -> 1.0404 | I33: =IFERROR(H33*(1+I22)^(I$15/I$16),1) -> 1.061208 | J33: =IFERROR(I33*(1+J22)^(J$15/J$16),1) -> 1.0824322 | K33: =IFERROR(J33*(1+K22)^(K$15/K$16),1) -> 1.1040808 | L33: =IFERROR(K33*(1+L22)^(L$15/L$16),1) -> 1.1261624 | M33: =IFERROR(L33*(1+M22)^(M$15/M$16),1) -> 1.1486857 | N33: =IFERROR(M33*(1+N22)^(N$15/N$16),1) -> 1.1716594 | ... AN33: =IFERROR(AM33*(1+AN22)^(AN$15/AN$16),1) -> 1
C34: =C23 -> PIB Serviços | F34: =Inputs!E340 -> 1 | G34: =IFERROR(F34*(1+G23)^(G$15/G$16),1) -> 1.025 | H34: =IFERROR(G34*(1+H23)^(H$15/H$16),1) -> 1.050625 | I34: =IFERROR(H34*(1+I23)^(I$15/I$16),1) -> 1.0768906 | J34: =IFERROR(I34*(1+J23)^(J$15/J$16),1) -> 1.1038129 | K34: =IFERROR(J34*(1+K23)^(K$15/K$16),1) -> 1.1314082 | L34: =IFERROR(K34*(1+L23)^(L$15/L$16),1) -> 1.1596934 | M34: =IFERROR(L34*(1+M23)^(M$15/M$16),1) -> 1.1886858 | N34: =IFERROR(M34*(1+N23)^(N$15/N$16),1) -> 1.2184029 | ... AN34: =IFERROR(AM34*(1+AN23)^(AN$15/AN$16),1) -> 1
C35: =C24 -> CPI US | F35: =Inputs!E341 -> 1 | G35: =IFERROR(F35*(1+G24)^(G$15/G$16),1) -> 1.031 | H35: =IFERROR(G35*(1+H24)^(H$15/H$16),1) -> 1.062961 | I35: =IFERROR(H35*(1+I24)^(I$15/I$16),1) -> 1.0959128 | J35: =IFERROR(I35*(1+J24)^(J$15/J$16),1) -> 1.1298861 | K35: =IFERROR(J35*(1+K24)^(K$15/K$16),1) -> 1.1649126 | L35: =IFERROR(K35*(1+L24)^(L$15/L$16),1) -> 1.2010248 | M35: =IFERROR(L35*(1+M24)^(M$15/M$16),1) -> 1.2382566 | N35: =IFERROR(M35*(1+N24)^(N$15/N$16),1) -> 1.2766426 | ... AN35: =IFERROR(AM35*(1+AN24)^(AN$15/AN$16),1) -> 1
C36: =C25 -> SELIC | F36: =Inputs!E342 -> 1 | G36: =IFERROR(F36*(1+G25)^(G$15/G$16),1) -> 1.085 | H36: =IFERROR(G36*(1+H25)^(H$15/H$16),1) -> 1.177225 | I36: =IFERROR(H36*(1+I25)^(I$15/I$16),1) -> 1.2772891 | J36: =IFERROR(I36*(1+J25)^(J$15/J$16),1) -> 1.3858587 | K36: =IFERROR(J36*(1+K25)^(K$15/K$16),1) -> 1.5036567 | L36: =IFERROR(K36*(1+L25)^(L$15/L$16),1) -> 1.6314675 | M36: =IFERROR(L36*(1+M25)^(M$15/M$16),1) -> 1.7701422 | N36: =IFERROR(M36*(1+N25)^(N$15/N$16),1) -> 1.9206043 | ... AN36: =IFERROR(AM36*(1+AN25)^(AN$15/AN$16),1) -> 1
C37: =C26 -> CDI | F37: =Inputs!E343 -> 1 | G37: =IFERROR(F37*(1+G26)^(G$15/G$16),1) -> 1.085 | H37: =IFERROR(G37*(1+H26)^(H$15/H$16),1) -> 1.177225 | I37: =IFERROR(H37*(1+I26)^(I$15/I$16),1) -> 1.2772891 | J37: =IFERROR(I37*(1+J26)^(J$15/J$16),1) -> 1.3858587 | K37: =IFERROR(J37*(1+K26)^(K$15/K$16),1) -> 1.5036567 | L37: =IFERROR(K37*(1+L26)^(L$15/L$16),1) -> 1.6314675 | M37: =IFERROR(L37*(1+M26)^(M$15/M$16),1) -> 1.7701422 | N37: =IFERROR(M37*(1+N26)^(N$15/N$16),1) -> 1.9206043 | ... AN37: =IFERROR(AM37*(1+AN26)^(AN$15/AN$16),1) -> 1
C38: =C27 -> TLP | F38: =Inputs!E344 -> 1 | G38: =IFERROR(F38*(1+G27)^(G$15/G$16),1) -> 1.0898 | H38: =IFERROR(G38*(1+H27)^(H$15/H$16),1) -> 1.187664 | I38: =IFERROR(H38*(1+I27)^(I$15/I$16),1) -> 1.2943163 | J38: =IFERROR(I38*(1+J27)^(J$15/J$16),1) -> 1.4105459 | K38: =IFERROR(J38*(1+K27)^(K$15/K$16),1) -> 1.5372129 | L38: =IFERROR(K38*(1+L27)^(L$15/L$16),1) -> 1.6752546 | M38: =IFERROR(L38*(1+M27)^(M$15/M$16),1) -> 1.8256925 | N38: =IFERROR(M38*(1+N27)^(N$15/N$16),1) -> 1.9896397 | ... AN38: =IFERROR(AM38*(1+AN27)^(AN$15/AN$16),1) -> 1
C39: =C28 -> IPCA | F39: =Inputs!E345 -> 1 | G39: =IFERROR(F39*(1+G28)^(G$15/G$16),1) -> 1.035 | H39: =IFERROR(G39*(1+H28)^(H$15/H$16),1) -> 1.071225 | I39: =IFERROR(H39*(1+I28)^(I$15/I$16),1) -> 1.1087179 | J39: =IFERROR(I39*(1+J28)^(J$15/J$16),1) -> 1.147523 | K39: =IFERROR(J39*(1+K28)^(K$15/K$16),1) -> 1.1876863 | L39: =IFERROR(K39*(1+L28)^(L$15/L$16),1) -> 1.2292553 | M39: =IFERROR(L39*(1+M28)^(M$15/M$16),1) -> 1.2722793 | N39: =IFERROR(M39*(1+N28)^(N$15/N$16),1) -> 1.316809 | ... AN39: =IFERROR(AM39*(1+AN28)^(AN$15/AN$16),1) -> 1
C42: Receitas e Deduções
C44: Contraprestação Pública Mensal
C46: Contraprestação mensal máxima (CMM)
C48: 𝐶𝑀𝐴 = CONTRAPRESTAÇÃO MENSAL MÁXIMA
D50: =CP -> 6261.4 | E50: R$
D51: 0 | E51: %
D52: 1 | E52: %
...

Sheet Debt
A1: DÍVIDA E CONTA RESERVA | D1: Alerta | E1: Erro | F1: IRR | G1: NPV | H1: Macro
D2: =CHECKS!$F$9 -> 0 | E2: =CHECKS!$F$15 -> 0 | F2: =Project_IRR -> 0.10790613 | G2: =Project_NPV -> 0.44602649 | H2: =Master_Check -> 0
C4: =Flags!C4 -> Começo período | G4: =Flags!G4 -> 46388 | H4: =Flags!H4 -> 46753 | I4: =Flags!I4 -> 47119 | J4: =Flags!J4 -> 47484 | K4: =Flags!K4 -> 47849 | L4: =Flags!L4 -> 48214 | M4: =Flags!M4 -> 48580 | N4: =Flags!N4 -> 48945 | ... AN4: =Flags!AN4 -> 58441
C5: =Flags!C5 -> Fim período | G5: =Flags!G5 -> 46752 | H5: =Flags!H5 -> 47118 | I5: =Flags!I5 -> 47483 | J5: =Flags!J5 -> 47848 | K5: =Flags!K5 -> 48213 | L5: =Flags!L5 -> 48579 | M5: =Flags!M5 -> 48944 | N5: =Flags!N5 -> 49309 | ... AN5: =Flags!AN5 -> 58806
C6: Ano | G6: =YEAR(G5) -> 2027 | H6: =YEAR(H5) -> 2028 | I6: =YEAR(I5) -> 2029 | J6: =YEAR(J5) -> 2030 | K6: =YEAR(K5) -> 2031 | L6: =YEAR(L5) -> 2032 | M6: =YEAR(M5) -> 2033 | N6: =YEAR(N5) -> 2034 | ... AN6: =YEAR(AN5) -> 2060
C7: =Flags!C6 -> Timeline | G7: =Flags!G90 -> Ops | H7: =Flags!H90 -> Ops | I7: =Flags!I90 -> Ops | J7: =Flags!J90 -> Ops | K7: =Flags!K90 -> Ops | L7: =Flags!L90 -> Ops | M7: =Flags!M90 -> Ops | N7: =Flags!N90 -> Ops | ... AN7: =Flags!AN90 -> Post Ops.
D9: =Flags!D8 -> Inputs | E9: =Flags!E8 -> Units | F9: =Flags!F8 -> Total
C11: Correção Monetária
C13: Ano de Operação | E13: Ano | G13: =YEAR(G$5) -> 2027 | H13: =YEAR(H$5) -> 2028 | I13: =YEAR(I$5) -> 2029 | J13: =YEAR(J$5) -> 2030 | K13: =YEAR(K$5) -> 2031 | L13: =YEAR(L$5) -> 2032 | M13: =YEAR(M$5) -> 2033 | N13: =YEAR(N$5) -> 2034 | ... AN13: =YEAR(AN$5) -> 2060
C14: Dias no período | E14: Dias | G14: =Flags!H$26 -> 366 | H14: =Flags!I$26 -> 365 | I14: =Flags!J$26 -> 365 | J14: =Flags!K$26 -> 365 | K14: =Flags!L$26 -> 366 | L14: =Flags!M$26 -> 365 | M14: =Flags!N$26 -> 365 | N14: =Flags!O$26 -> 365 | ... AN14: =Flags!AO$26 -> 0
C15: Dias no ano | E15: Dias | G15: =SUMIF($G$13:$AN$13,G13,$G$14:$AN$14) -> 366 | H15: =SUMIF($G$13:$AN$13,H13,$G$14:$AN$14) -> 365 | I15: =SUMIF($G$13:$AN$13,I13,$G$14:$AN$14) -> 365 | J15: =SUMIF($G$13:$AN$13,J13,$G$14:$AN$14) -> 365 | K15: =SUMIF($G$13:$AN$13,K13,$G$14:$AN$14) -> 366 | L15: =SUMIF($G$13:$AN$13,L13,$G$14:$AN$14) -> 365 | M15: =SUMIF($G$13:$AN$13,M13,$G$14:$AN$14) -> 365 | N15: =SUMIF($G$13:$AN$13,N13,$G$14:$AN$14) -> 365 | ... AN15: =SUMIF($G$13:$AN$13,AN13,$G$14:$AN$14) -> 0
C17: Correção
C18: % p.a
C19: =Inputs!C337 -> None | E19: % p.a | G19: =LOOKUP(G$13,Inputs!$G$336:$K$336,Inputs!$G337:$K337) -> 0 | H19: =LOOKUP(H$13,Inputs!$G$336:$K$336,Inputs!$G337:$K337) -> 0 | I19: =LOOKUP(I$13,Inputs!$G$336:$K$336,Inputs!$G337:$K337) -> 0 | J19: =LOOKUP(J$13,Inputs!$G$336:$K$336,Inputs!$G337:$K337) -> 0 | K19: =LOOKUP(K$13,Inputs!$G$336:$K$336,Inputs!$G337:$K337) -> 0 | L19: =LOOKUP(L$13,Inputs!$G$336:$K$336,Inputs!$G337:$K337) -> 0 | M19: =LOOKUP(M$13,Inputs!$G$336:$K$336,Inputs!$G337:$K337) -> 0 | N19: =LOOKUP(N$13,Inputs!$G$336:$K$336,Inputs!$G337:$K337) -> 0 | ... AN19: =LOOKUP(AN$13,Inputs!$G$336:$K$336,Inputs!$G337:$K337) -> 0
C20: =Inputs!C338 -> IPG-M | E20: % p.a | G20: =LOOKUP(G$13,Inputs!$G$336:$K$336,Inputs!$G338:$K338) -> 0.038 | H20: =LOOKUP(H$13,Inputs!$G$336:$K$336,Inputs!$G338:$K338) -> 0.038 | I20: =LOOKUP(I$13,Inputs!$G$336:$K$336,Inputs!$G338:$K338) -> 0.038 | J20: =LOOKUP(J$13,Inputs!$G$336:$K$336,Inputs!$G338:$K338) -> 0.038 | K20: =LOOKUP(K$13,Inputs!$G$336:$K$336,Inputs!$G338:$K338) -> 0.038 | L20: =LOOKUP(L$13,Inputs!$G$336:$K$336,Inputs!$G338:$K338) -> 0.038 | M20: =LOOKUP(M$13,Inputs!$G$336:$K$336,Inputs!$G338:$K338) -> 0.038 | N20: =LOOKUP(N$13,Inputs!$G$336:$K$336,Inputs!$G338:$K338) -> 0.038 | ... AN20: =LOOKUP(AN$13,Inputs!$G$336:$K$336,Inputs!$G338:$K338) -> 0.038
C21: =Inputs!C339 -> PIB | E21: % p.a | G21: =LOOKUP(G$13,Inputs!$G$336:$K$336,Inputs!$G339:$K339) -> 0.02 | H21: =LOOKUP(H$13,Inputs!$G$336:$K$336,Inputs!$G339:$K339) -> 0.02 | I21: =LOOKUP(I$13,Inputs!$G$336:$K$336,Inputs!$G339:$K339) -> 0.02 | J21: =LOOKUP(J$13,Inputs!$G$336:$K$336,Inputs!$G339:$K339) -> 0.02 | K21: =LOOKUP(K$13,Inputs!$G$336:$K$336,Inputs!$G339:$K339) -> 0.02 | L21: =LOOKUP(L$13,Inputs!$G$336:$K$336,Inputs!$G339:$K339) -> 0.02 | M21: =LOOKUP(M$13,Inputs!$G$336:$K$336,Inputs!$G339:$K339) -> 0.02 | N21: =LOOKUP(N$13,Inputs!$G$336:$K$336,Inputs!$G339:$K339) -> 0.02 | ... AN21: =LOOKUP(AN$13,Inputs!$G$336:$K$336,Inputs!$G339:$K339) -> 0.02
C22: =Inputs!C340 -> PIB Serviços | E22: % p.a | G22: =LOOKUP(G$13,Inputs!$G$336:$K$336,Inputs!$G340:$K340) -> 0.025 | H22: =LOOKUP(H$13,Inputs!$G$336:$K$336,Inputs!$G340:$K340) -> 0.025 | I22: =LOOKUP(I$13,Inputs!$G$336:$K$336,Inputs!$G340:$K340) -> 0.025 | J22: =LOOKUP(J$13,Inputs!$G$336:$K$336,Inputs!$G340:$K340) -> 0.025 | K22: =LOOKUP(K$13,Inputs!$G$336:$K$336,Inputs!$G340:$K340) -> 0.025 | L22: =LOOKUP(L$13,Inputs!$G$336:$K$336,Inputs!$G340:$K340) -> 0.025 | M22: =LOOKUP(M$13,Inputs!$G$336:$K$336,Inputs!$G340:$K340) -> 0.025 | N22: =LOOKUP(N$13,Inputs!$G$336:$K$336,Inputs!$G340:$K340) -> 0.025 | ... AN22: =LOOKUP(AN$13,Inputs!$G$336:$K$336,Inputs!$G340:$K340) -> 0.025
C23: =Inputs!C341 -> CPI US | E23: % p.a | G23: =LOOKUP(G$13,Inputs!$G$336:$K$336,Inputs!$G341:$K341) -> 0.031 | H23: =LOOKUP(H$13,Inputs!$G$336:$K$336,Inputs!$G341:$K341) -> 0.031 | I23: =LOOKUP(I$13,Inputs!$G$336:$K$336,Inputs!$G341:$K341) -> 0.031 | J23: =LOOKUP(J$13,Inputs!$G$336:$K$336,Inputs!$G341:$K341) -> 0.031 | K23: =LOOKUP(K$13,Inputs!$G$336:$K$336,Inputs!$G341:$K341) -> 0.031 | L23: =LOOKUP(L$13,Inputs!$G$336:$K$336,Inputs!$G341:$K341) -> 0.031 | M23: =LOOKUP(M$13,Inputs!$G$336:$K$336,Inputs!$G341:$K341) -> 0.031 | N23: =LOOKUP(N$13,Inputs!$G$336:$K$336,Inputs!$G341:$K341) -> 0.031 | ... AN23: =LOOKUP(AN$13,Inputs!$G$336:$K$336,Inputs!$G341:$K341) -> 0.031
C24: =Inputs!C342 -> SELIC | E24: % p.a | G24: =LOOKUP(G$13,Inputs!$G$336:$K$336,Inputs!$G342:$K342) -> 0.085 | H24: =LOOKUP(H$13,Inputs!$G$336:$K$336,Inputs!$G342:$K342) -> 0.085 | I24: =LOOKUP(I$13,Inputs!$G$336:$K$336,Inputs!$G342:$K342) -> 0.085 | J24: =LOOKUP(J$13,Inputs!$G$336:$K$336,Inputs!$G342:$K342) -> 0.085 | K24: =LOOKUP(K$13,Inputs!$G$336:$K$336,Inputs!$G342:$K342) -> 0.085 | L24: =LOOKUP(L$13,Inputs!$G$336:$K$336,Inputs!$G342:$K342) -> 0.085 | M24: =LOOKUP(M$13,Inputs!$G$336:$K$336,Inputs!$G342:$K342) -> 0.085 | N24: =LOOKUP(N$13,Inputs!$G$336:$K$336,Inputs!$G342:$K342) -> 0.085 | ... AN24: =LOOKUP(AN$13,Inputs!$G$336:$K$336,Inputs!$G342:$K342) -> 0.085
C25: =Inputs!C343 -> CDI | E25: % p.a | G25: =LOOKUP(G$13,Inputs!$G$336:$K$336,Inputs!$G343:$K343) -> 0.085 | H25: =LOOKUP(H$13,Inputs!$G$336:$K$336,Inputs!$G343:$K343) -> 0.085 | I25: =LOOKUP(I$13,Inputs!$G$336:$K$336,Inputs!$G343:$K343) -> 0.085 | J25: =LOOKUP(J$13,Inputs!$G$336:$K$336,Inputs!$G343:$K343) -> 0.085 | K25: =LOOKUP(K$13,Inputs!$G$336:$K$336,Inputs!$G343:$K343) -> 0.085 | L25: =LOOKUP(L$13,Inputs!$G$336:$K$336,Inputs!$G343:$K343) -> 0.085 | M25: =LOOKUP(M$13,Inputs!$G$336:$K$336,Inputs!$G343:$K343) -> 0.085 | N25: =LOOKUP(N$13,Inputs!$G$336:$K$336,Inputs!$G343:$K343) -> 0.085 | ... AN25: =LOOKUP(AN$13,Inputs!$G$336:$K$336,Inputs!$G343:$K343) -> 0.085
C26: =Inputs!C344 -> TLP | E26: % p.a | G26: =LOOKUP(G$13,Inputs!$G$336:$K$336,Inputs!$G344:$K344) -> 0.0898 | H26: =LOOKUP(H$13,Inputs!$G$336:$K$336,Inputs!$G344:$K344) -> 0.0898 | I26: =LOOKUP(I$13,Inputs!$G$336:$K$336,Inputs!$G344:$K344) -> 0.0898 | J26: =LOOKUP(J$13,Inputs!$G$336:$K$336,Inputs!$G344:$K344) -> 0.0898 | K26: =LOOKUP(K$13,Inputs!$G$336:$K$336,Inputs!$G344:$K344) -> 0.0898 | L26: =LOOKUP(L$13,Inputs!$G$336:$K$336,Inputs!$G344:$K344) -> 0.0898 | M26: =LOOKUP(M$13,Inputs!$G$336:$K$336,Inputs!$G344:$K344) -> 0.0898 | N26: =LOOKUP(N$13,Inputs!$G$336:$K$336,Inputs!$G344:$K344) -> 0.0898 | ... AN26: =LOOKUP(AN$13,Inputs!$G$336:$K$336,Inputs!$G344:$K344) -> 0.0898
C27: =Inputs!C345 -> IPCA | E27: % p.a | G27: =LOOKUP(G$13,Inputs!$G$336:$K$336,Inputs!$G345:$K345) -> 0.035 | H27: =LOOKUP(H$13,Inputs!$G$336:$K$336,Inputs!$G345:$K345) -> 0.035 | I27: =LOOKUP(I$13,Inputs!$G$336:$K$336,Inputs!$G345:$K345) -> 0.035 | J27: =LOOKUP(J$13,Inputs!$G$336:$K$336,Inputs!$G345:$K345) -> 0.035 | K27: =LOOKUP(K$13,Inputs!$G$336:$K$336,Inputs!$G345:$K345) -> 0.035 | L27: =LOOKUP(L$13,Inputs!$G$336:$K$336,Inputs!$G345:$K345) -> 0.035 | M27: =LOOKUP(M$13,Inputs!$G$336:$K$336,Inputs!$G345:$K345) -> 0.035 | N27: =LOOKUP(N$13,Inputs!$G$336:$K$336,Inputs!$G345:$K345) -> 0.035 | ... AN27: =LOOKUP(AN$13,Inputs!$G$336:$K$336,Inputs!$G345:$K345) -> 0.035
C29: Index
C30: =C19 -> None | F30: =Inputs!E337 -> 1 | G30: =IFERROR(F30*(1+G19)^(G$14/G$15),1) -> 1 | H30: =IFERROR(G30*(1+H19)^(H$14/H$15),1) -> 1 | I30: =IFERROR(H30*(1+I19)^(I$14/I$15),1) -> 1 | J30: =IFERROR(I30*(1+J19)^(J$14/J$15),1) -> 1 | K30: =IFERROR(J30*(1+K19)^(K$14/K$15),1) -> 1 | L30: =IFERROR(K30*(1+L19)^(L$14/L$15),1) -> 1 | M30: =IFERROR(L30*(1+M19)^(M$14/M$15),1) -> 1 | N30: =IFERROR(M30*(1+N19)^(N$14/N$15),1) -> 1 | ... AN30: =IFERROR(AM30*(1+AN19)^(AN$14/AN$15),1) -> 1
C31: =C20 -> IPG-M | F31: =Inputs!E338 -> 1 | G31: =IFERROR(F31*(1+G20)^(G$14/G$15),1) -> 1.038 | H31: =IFERROR(G31*(1+H20)^(H$14/H$15),1) -> 1.077444 | I31: =IFERROR(H31*(1+I20)^(I$14/I$15),1) -> 1.1183869 | J31: =IFERROR(I31*(1+J20)^(J$14/J$15),1) -> 1.1608856 | K31: =IFERROR(J31*(1+K20)^(K$14/K$15),1) -> 1.2049992 | L31: =IFERROR(K31*(1+L20)^(L$14/L$15),1) -> 1.2507892 | M31: =IFERROR(L31*(1+M20)^(M$14/M$15),1) -> 1.2983192 | N31: =IFERROR(M31*(1+N20)^(N$14/N$15),1) -> 1.3476553 | ... AN31: =IFERROR(AM31*(1+AN20)^(AN$14/AN$15),1) -> 1
C32: =C21 -> PIB | F32: =Inputs!E339 -> 1 | G32: =IFERROR(F32*(1+G21)^(G$14/G$15),1) -> 1.02 | H32: =IFERROR(G32*(1+H21)^(H$14/H$15),1) -> 1.0404 | I32: =IFERROR(H32*(1+I21)^(I$14/I$15),1) -> 1.061208 | J32: =IFERROR(I32*(1+J21)^(J$14/J$15),1) -> 1.0824322 | K32: =IFERROR(J32*(1+K21)^(K$14/K$15),1) -> 1.1040808 | L32: =IFERROR(K32*(1+L21)^(L$14/L$15),1) -> 1.1261624 | M32: =IFERROR(L32*(1+M21)^(M$14/M$15),1) -> 1.1486857 | N32: =IFERROR(M32*(1+N21)^(N$14/N$15),1) -> 1.1716594 | ... AN32: =IFERROR(AM32*(1+AN21)^(AN$14/AN$15),1) -> 1
C33: =C22 -> PIB Serviços | F33: =Inputs!E340 -> 1 | G33: =IFERROR(F33*(1+G22)^(G$14/G$15),1) -> 1.025 | H33: =IFERROR(G33*(1+H22)^(H$14/H$15),1) -> 1.050625 | I33: =IFERROR(H33*(1+I22)^(I$14/I$15),1) -> 1.0768906 | J33: =IFERROR(I33*(1+J22)^(J$14/J$15),1) -> 1.1038129 | K33: =IFERROR(J33*(1+K22)^(K$14/K$15),1) -> 1.1314082 | L33: =IFERROR(K33*(1+L22)^(L$14/L$15),1) -> 1.1596934 | M33: =IFERROR(L33*(1+M22)^(M$14/M$15),1) -> 1.1886858 | N33: =IFERROR(M33*(1+N22)^(N$14/N$15),1) -> 1.2184029 | ... AN33: =IFERROR(AM33*(1+AN22)^(AN$14/AN$15),1) -> 1
