Workbook

Sheet Orçamento
B1: PREENCHER "EMPRESA", "CNPJ", "FONE", "BDI", OS PREÇOS UNITÁRIOS, "CIDADE" E, OPCIONALMENTE, A DATA.
B2: ORÇAMENTO
B3: OBRA: | E3: REFORMA CENTRO COMUNITÁRIO COLATTO | F3: EMPRESA:
B4: LOCAL: | E4: RUA QUILOMBO, 22E - EFAPI - CHAPECÓ/SC | F4: CNPJ:
B5: ÁREA: | E5: 1210,6 m2 | F5: FONE:
B6: PREÇO: | E6: =SUBTOTAL(9, $K$8:$K$409) -> 713114.81 | F6: BDI:
B7: ITEM | C7: FONTE | D7: CÓDIGO | E7: DESCRIÇÃO DOS SERVIÇOS | F7: UN | G7: QTD | H7: PREÇO SEM BDI | I7: BDI | J7: PREÇO UNIT | K7: TOTAL | L7: %
A8: Nível 1 | B8: 1 | E8: SERVIÇOS PRELIMINARES | K8: =SUBTOTAL(9, $K$9:$K$84) -> 62368.99 | L8: =ROUND($K$8/$E$6,3) -> 0.087 | M8: 0
A9: Serviço | B9: 1.1 | C9: SINAPI | D9: 103689 | E9: FORNECIMENTO E INSTALAÇÃO DE PLACA DE OBRA COM CHAPA GALVANIZADA E ESTRUTURA DE MADEIRA. AF_03/2022_PS | F9: M2 | G9: 2 | H9: 502.41 | I9: BDI 1 | J9: 613.54 | K9: =ROUND($G$9*$M$9,2) -> 1227.08 | L9: =ROUND($K$9/$E$6,3) -> 0.002 | M9: =ROUND($J$9,2) -> 613.54
A10: Serviço | B10: 1.2 | C10: COMPOSIÇÃO | D10: 1028 | E10: RECOMPOSIÇÃO DA ESTRUTURA E TAPUME COM TELHA METÁLICA | F10: M2 | G10: 76 | H10: 36.19 | I10: BDI 1 | J10: 44.2 | K10: =ROUND($G$10*$M$10,2) -> 3359.2 | L10: =ROUND($K$10/$E$6,3) -> 0.005 | M10: =ROUND($J$10,2) -> 44.2
A11: Nível 2 | B11: 1.1 | E11: PROJETOS | K11: =SUBTOTAL(9, $K$12:$K$19) -> 10050.07 | L11: =ROUND($K$11/$E$6,3) -> 0.014 | M11: 0
A12: Nível 3 | B12: 1.1.1 | E12: PROJETO DE REFORÇO METÁLICO DA ESTRUTURA DE CONCRETO PRÉ-MOLDADO | K12: =SUBTOTAL(9, $K$13:$K$13) -> 1957.25 | L12: =ROUND($K$12/$E$6,3) -> 0.003 | M12: 0
A13: Serviço | B13: 1.1.1.1 | C13: EMBASA | D13: B540000057 | E13: ENGENHEIRO MECANICO | F13: MÊS | G13: 0.12 | H13: 13356.03 | I13: BDI 1 | J13: 16310.38 | K13: =ROUND($G$13*$M$13,2) -> 1957.25 | L13: =ROUND($K$13/$E$6,3) -> 0.003 | M13: =ROUND($J$13,2) -> 16310.38
A14: Nível 3 | B14: 1.1.2 | E14: PROJETO DA ESTRUTURA METÁLICA PARA COBERTURA DA CHURRASQUEIRA, DEPÓSITO E HALL | K14: =SUBTOTAL(9, $K$15:$K$15) -> 2935.87 | L14: =ROUND($K$14/$E$6,3) -> 0.004 | M14: 0
A15: Serviço | B15: 1.1.2.1 | C15: EMBASA | D15: B540000057 | E15: ENGENHEIRO MECANICO | F15: MÊS | G15: 0.18 | H15: 13356.03 | I15: BDI 1 | J15: 16310.38 | K15: =ROUND($G$15*$M$15,2) -> 2935.87 | L15: =ROUND($K$15/$E$6,3) -> 0.004 | M15: =ROUND($J$15,2) -> 16310.38
A16: Nível 3 | B16: 1.1.3 | E16: PROJETO PARA ADEQUAÇÃO DAS LIGAÇÕES HIDROSSANITÁRIA E TESTE DE VENTILAÇÃO DE ESGOTO | K16: =SUBTOTAL(9, $K$17:$K$17) -> 2221.08 | L16: =ROUND($K$16/$E$6,3) -> 0.003 | M16: 0
A17: Serviço | B17: 1.1.3.1 | C17: SINAPI-I | D17: 2707 | E17: ENGENHEIRO CIVIL DE OBRA PLENO (HORISTA) | F17: H | G17: 12 | H17: 151.56 | I17: BDI 1 | J17: 185.09 | K17: =ROUND($G$17*$M$17,2) -> 2221.08 | L17: =ROUND($K$17/$E$6,3) -> 0.003 | M17: =ROUND($J$17,2) -> 185.09
A18: Nível 3 | B18: 1.1.4 | E18: ELABORAÇÃO DE PROJETO ELÉTRICO | K18: =SUBTOTAL(9, $K$19:$K$19) -> 2935.87 | L18: =ROUND($K$18/$E$6,3) -> 0.004 | M18: 0
A19: Serviço | B19: 1.1.4.1 | C19: EMBASA | D19: B540000060 | E19: ENGENHEIRO ELETRICISTA | F19: MÊS | G19: 0.18 | H19: 13356.03 | I19: BDI 1 | J19: 16310.38 | K19: =ROUND($G$19*$M$19,2) -> 2935.87 | L19: =ROUND($K$19/$E$6,3) -> 0.004 | M19: =ROUND($J$19,2) -> 16310.38
A20: Nível 2 | B20: 1.2 | E20: DEMOLIÇÕES | K20: =SUBTOTAL(9, $K$21:$K$25) -> 476.52 | L20: =ROUND($K$20/$E$6,3) -> 0.001 | M20: 0
A21: Nível 3 | B21: 1.2.1 | E21: REVESTIMENTO DE PAREDE DA COPA 2 | K21: =SUBTOTAL(9, $K$22:$K$22) -> 373.12 | L21: =ROUND($K$21/$E$6,3) -> 0.001 | M21: 0
A22: Serviço | B22: 1.2.1.1 | C22: SINAPI | D22: 97634 | E22: DEMOLIÇÃO DE REVESTIMENTO CERÂMICO, DE FORMA MECANIZADA COM MARTELETE, SEM REAPROVEITAMENTO. AF_09/2023 | F22: M2 | G22: 35.2 | H22: 8.68 | I22: BDI 1 | J22: 10.6 | K22: =ROUND($G$22*$M$22,2) -> 373.12 | L22: =ROUND($K$22/$E$6,3) -> 0.001 | M22: =ROUND($J$22,2) -> 10.6
A23: Nível 3 | B23: 1.2.2 | E23: SANITÁRIO FEMININO PAVTO SUPERIOR | K23: =SUBTOTAL(9, $K$24:$K$25) -> 103.4 | L23: =ROUND($K$23/$E$6,3) -> 0 | M23: 0
A24: Serviço | B24: 1.2.2.1 | C24: SINAPI | D24: 97622 | E24: DEMOLIÇÃO DE ALVENARIA DE BLOCO FURADO, DE FORMA MANUAL, SEM REAPROVEITAMENTO. AF_09/2023 | F24: M3 | G24: 0.65 | H24: 71.51 | I24: BDI 1 | J24: 87.33 | K24: =ROUND($G$24*$M$24,2) -> 56.76 | L24: =ROUND($K$24/$E$6,3) -> 0 | M24: =ROUND($J$24,2) -> 87.33
A25: Serviço | B25: 1.2.2.2 | C25: SINAPI | D25: 97634 | E25: DEMOLIÇÃO DE REVESTIMENTO CERÂMICO, DE FORMA MECANIZADA COM MARTELETE, SEM REAPROVEITAMENTO. AF_09/2023 | F25: M2 | G25: 4.4 | H25: 8.68 | I25: BDI 1 | J25: 10.6 | K25: =ROUND($G$25*$M$25,2) -> 46.64 | L25: =ROUND($K$25/$E$6,3) -> 0 | M25: =ROUND($J$25,2) -> 10.6
A26: Nível 2 | B26: 1.3 | E26: REVISÃO | K26: =SUBTOTAL(9, $K$27:$K$84) -> 47256.12 | L26: =ROUND($K$26/$E$6,3) -> 0.066 | M26: 0
A27: Nível 3 | B27: 1.3.1 | E27: RECUPERAÇÃO DE FERRAGEM EXPOSTA E RECOMPOSIÇÃO DAS VIGOTAS DA LAJE | K27: =SUBTOTAL(9, $K$28:$K$31) -> 593.44 | L27: =ROUND($K$27/$E$6,3) -> 0.001 | M27: 0
A28: Serviço | B28: 1.3.1.1 | C28: SINAPI | D28: 99814 | E28: LIMPEZA DE SUPERFÍCIE PISO OU PAREDE COM JATO DE ALTA PRESSÃO. AF_10/2025 | F28: M2 | G28: 2 | H28: 1.86 | I28: BDI 1 | J28: 2.27 | K28: =ROUND($G$28*$M$28,2) -> 4.54 | L28: =ROUND($K$28/$E$6,3) -> 0 | M28: =ROUND($J$28,2) -> 2.27
A29: Serviço | B29: 1.3.1.2 | C29: COMPOSIÇÃO | D29: 1026 | E29: LIXAMENTO DA FERRAGEM EXPOSTA E CORROIDA DE VIGOTA COM ESCOVA DE AÇO | F29: M | G29: 10 | H29: 5.33 | I29: BDI 1 | J29: 6.51 | K29: =ROUND($G$29*$M$29,2) -> 65.1 | L29: =ROUND($K$29/$E$6,3) -> 0 | M29: =ROUND($J$29,2) -> 6.51
A30: Serviço | B30: 1.3.1.3 | C30: COMPOSIÇÃO | D30: 1025 | E30: APLICAÇÃO DE CONVERTEDOR DE FERRUGEM (PCF) E FERRAGEM DE VIGOTA | F30: M | G30: 10 | H30: 8.16 | I30: BDI 1 | J30: 9.96 | K30: =ROUND($G$30*$M$30,2) -> 99.6 | L30: =ROUND($K$30/$E$6,3) -> 0 | M30: =ROUND($J$30,2) -> 9.96
A31: Serviço | B31: 1.3.1.4 | C31: COMPOSIÇÃO | D31: 1024 | E31: APLICAÇÃO DE ARGAMASSA POLIMÉRICA DE REPARO ESTRUTURAL, ESPESSURA ATÉ 40 MM - INCLUSO ARGAMASSA E MÃO DE OBRA | F31: M | G31: 10 | H31: 34.74 | I31: BDI 1 | J31: 42.42 | K31: =ROUND($G$31*$M$31,2) -> 424.2 | L31: =ROUND($K$31/$E$6,3) -> 0.001 | M31: =ROUND($J$31,2) -> 42.42
A32: Nível 3 | B32: 1.3.2 | E32: APOIO/REFORÇO METÁLICO DOS CONSOLES DA ESTRUTURA PRÉ-MOLDADA EM CONCRETO (4 UN) | K32: =SUBTOTAL(9, $K$33:$K$39) -> 3149.96 | L32: =ROUND($K$32/$E$6,3) -> 0.004 | M32: 0
A33: Serviço | B33: 1.3.2.1 | C33: SINAPI-I | D33: 1334 | E33: CHAPA DE ACO GROSSA, ASTM A36, E = 5/8" (15,88 MM) 124,49 KG/M2 | F33: KG | G33: 67.5 | H33: 9.9 | I33: BDI 1 | J33: 12.09 | K33: =ROUND($G$33*$M$33,2) -> 816.08 | L33: =ROUND($K$33/$E$6,3) -> 0.001 | M33: =ROUND($J$33,2) -> 12.09
A34: Serviço | B34: 1.3.2.2 | C34: SINAPI-I | D34: 1333 | E34: CHAPA DE ACO GROSSA, ASTM A36, E = 1/2" (12,70 MM) 99,59 KG/M2 | F34: KG | G34: 20 | H34: 8.79 | I34: BDI 1 | J34: 10.73 | K34: =ROUND($G$34*$M$34,2) -> 214.6 | L34: =ROUND($K$34/$E$6,3) -> 0 | M34: =ROUND($J$34,2) -> 10.73
A35: Serviço | B35: 1.3.2.3 | C35: SINAPI-I | D35: 13279 | E35: CHUMBADOR DE ACO TIPO PARABOLT, * 5/8" X 200* MM, COM PORCA E ARRUELA | F35: KG | G35: 16 | H35: 25.06 | I35: BDI 1 | J35: 30.6 | K35: =ROUND($G$35*$M$35,2) -> 489.6 | L35: =ROUND($K$35/$E$6,3) -> 0.001 | M35: =ROUND($J$35,2) -> 30.6
A36: Serviço | B36: 1.3.2.4 | C36: EMBASA | D36: 09.30.25 | E36: SOLDAGEM COM ELETRODO REVESTIDO EM ESTRUTURA METÁLICA | F36: M | G36: 6.6 | H36: 12.04 | I36: BDI 1 | J36: 14.7 | K36: =ROUND($G$36*$M$36,2) -> 97.02 | L36: =ROUND($K$36/$E$6,3) -> 0 | M36: =ROUND($J$36,2) -> 14.7
A37: Serviço | B37: 1.3.2.5 | C37: SICRO | D37: 1416142 | E37: Corte de chapas de aço com espessura de 16,0 mm com maçarico oxiacetileno | F37: m | G37: 16.6 | H37: 5.6 | I37: BDI 1 | J37: 6.84 | K37: =ROUND($G$37*$M$37,2) -> 113.54 | L37: =ROUND($K$37/$E$6,3) -> 0 | M37: =ROUND($J$37,2) -> 6.84
A38: Serviço | B38: 1.3.2.6 | C38: SINAPI | D38: 88315 | E38: SERRALHEIRO COM ENCARGOS COMPLEMENTARES | F38: H | G38: 18 | H38: 35.93 | I38: BDI 1 | J38: 43.88 | K38: =ROUND($G$38*$M$38,2) -> 789.84 | L38: =ROUND($K$38/$E$6,3) -> 0.001 | M38: =ROUND($J$38,2) -> 43.88
A39: Serviço | B39: 1.3.2.7 | C39: SINAPI | D39: 88251 | E39: AUXILIAR DE SERRALHEIRO COM ENCARGOS COMPLEMENTARES | F39: H | G39: 18 | H39: 28.63 | I39: BDI 1 | J39: 34.96 | K39: =ROUND($G$39*$M$39,2) -> 629.28 | L39: =ROUND($K$39/$E$6,3) -> 0.001 | M39: =ROUND($J$39,2) -> 34.96
A40: Nível 3 | B40: 1.3.3 | E40: RECOMPOSIÇÃO DE VIGA, COM ESCORAMENTO E CONCRETAGEM | K40: =SUBTOTAL(9, $K$41:$K$50) -> 4962.72 | L40: =ROUND($K$40/$E$6,3) -> 0.007 | M40: 0
...

Sheet Cronograma
A1: NÃO É NECESSÁRIO ALTERAR O CRONOGRAMA, PORÉM, É POSSÍVEL EDITAR AS PORCENTAGENS NAS CÉLULAS AMARELAS.
A2: CRONOGRAMA FÍSICO-FINANCEIRO
A3: Obra: REFORMA CENTRO COMUNITÁRIO COLATTO
A4: Local: RUA QUILOMBO, 22E - EFAPI - CHAPECÓ/SC
A5: Área: 1210,6 m2
A7: ITEM | B7: DESCRIÇÃO | C7: PREÇO | D7: % | E7: 1 | G7: 2 | I7: 3 | K7: 4 | M7: 5 | O7: 6 | Q7: 7 | S7: 8 | U7: 9 | W7: 10 | Y7: 11 | AA7: 12 | AC7: 13 | AE7: 14 | AG7: 15 | AI7: 16 | AK7: 17 | AM7: 18 | AO7: 19 | AQ7: 20 | AS7: 21 | AU7: 22 | AW7: 23 | AY7: 24 | BA7: 25 | BC7: 26 | BE7: 27 | BG7: 28 | BI7: 29 | BK7: 30 | BM7: 31 | BO7: 32 | BQ7: 33 | BS7: 34 | BU7: 35 | BW7: 36 | BY7: 37 | CA7: 38 | CC7: 39 | CE7: 40 | CG7: 41 | CI7: 42 | CK7: 43 | CM7: 44 | CO7: 45 | CQ7: 46 | CS7: 47 | CU7: 48 | CW7: 49 | CY7: 50 | DA7: 51 | DC7: 52 | DE7: 53 | DG7: 54 | DI7: 55 | DK7: 56 | DM7: 57 | DO7: 58 | DQ7: 59 | DS7: 60
E8: % | F8: R$ | G8: % | H8: R$ | I8: % | J8: R$ | K8: % | L8: R$ | M8: % | N8: R$ | O8: % | P8: R$ | Q8: % | R8: R$ | S8: % | T8: R$ | U8: % | V8: R$ | W8: % | X8: R$ | Y8: % | Z8: R$ | AA8: % | AB8: R$ | AC8: % | AD8: R$ | AE8: % | AF8: R$ | AG8: % | AH8: R$ | AI8: % | AJ8: R$ | AK8: % | AL8: R$ | AM8: % | AN8: R$ | AO8: % | AP8: R$ | AQ8: % | AR8: R$ | AS8: % | AT8: R$ | AU8: % | AV8: R$ | AW8: % | AX8: R$ | AY8: % | AZ8: R$ | BA8: % | BB8: R$ | BC8: % | BD8: R$ | BE8: % | BF8: R$ | BG8: % | BH8: R$ | BI8: % | BJ8: R$ | BK8: % | BL8: R$ | BM8: % | BN8: R$ | BO8: % | BP8: R$ | BQ8: % | BR8: R$ | BS8: % | BT8: R$ | BU8: % | BV8: R$ | BW8: % | BX8: R$ | BY8: % | BZ8: R$ | CA8: % | CB8: R$ | CC8: % | CD8: R$ | CE8: % | CF8: R$ | CG8: % | CH8: R$ | CI8: % | CJ8: R$ | CK8: % | CL8: R$ | CM8: % | CN8: R$ | CO8: % | CP8: R$ | CQ8: % | CR8: R$ | CS8: % | CT8: R$ | CU8: % | CV8: R$ | CW8: % | CX8: R$ | CY8: % | CZ8: R$ | DA8: % | DB8: R$ | DC8: % | DD8: R$ | DE8: % | DF8: R$ | DG8: % | DH8: R$ | DI8: % | DJ8: R$ | DK8: % | DL8: R$ | DM8: % | DN8: R$ | DO8: % | DP8: R$ | DQ8: % | DR8: R$ | DS8: % | DT8: R$
A9: 1 | B9: SERVIÇOS PRELIMINARES | C9: =Orçamento!$K$8 -> 62368.99 | D9: =ROUND($C$9/$C$15,5) -> 0.08746 | E9: 1 | F9: =E9*$C9 -> 62368.99 | H9: =G9*$C9 -> 0 | J9: =I9*$C9 -> 0 | L9: =K9*$C9 -> 0 | N9: =M9*$C9 -> 0 | P9: =O9*$C9 -> 0 | R9: =Q9*$C9 -> 0 | T9: =S9*$C9 -> 0 | V9: =U9*$C9 -> 0 | X9: =W9*$C9 -> 0 | Z9: =Y9*$C9 -> 0 | AB9: =AA9*$C9 -> 0 | AD9: =AC9*$C9 -> 0 | AF9: =AE9*$C9 -> 0 | AH9: =AG9*$C9 -> 0 | AJ9: =AI9*$C9 -> 0 | AL9: =AK9*$C9 -> 0 | AN9: =AM9*$C9 -> 0 | AP9: =AO9*$C9 -> 0 | AR9: =AQ9*$C9 -> 0 | AT9: =AS9*$C9 -> 0 | AV9: =AU9*$C9 -> 0 | AX9: =AW9*$C9 -> 0 | AZ9: =AY9*$C9 -> 0 | BB9: =BA9*$C9 -> 0 | BD9: =BC9*$C9 -> 0 | BF9: =BE9*$C9 -> 0 | BH9: =BG9*$C9 -> 0 | BJ9: =BI9*$C9 -> 0 | BL9: =BK9*$C9 -> 0 | BN9: =BM9*$C9 -> 0 | BP9: =BO9*$C9 -> 0 | BR9: =BQ9*$C9 -> 0 | BT9: =BS9*$C9 -> 0 | BV9: =BU9*$C9 -> 0 | BX9: =BW9*$C9 -> 0 | BZ9: =BY9*$C9 -> 0 | CB9: =CA9*$C9 -> 0 | CD9: =CC9*$C9 -> 0 | CF9: =CE9*$C9 -> 0 | CH9: =CG9*$C9 -> 0 | CJ9: =CI9*$C9 -> 0 | CL9: =CK9*$C9 -> 0 | CN9: =CM9*$C9 -> 0 | CP9: =CO9*$C9 -> 0 | CR9: =CQ9*$C9 -> 0 | CT9: =CS9*$C9 -> 0 | CV9: =CU9*$C9 -> 0 | CX9: =CW9*$C9 -> 0 | CZ9: =CY9*$C9 -> 0 | DB9: =DA9*$C9 -> 0 | DD9: =DC9*$C9 -> 0 | DF9: =DE9*$C9 -> 0 | DH9: =DG9*$C9 -> 0 | DJ9: =DI9*$C9 -> 0 | DL9: =DK9*$C9 -> 0 | DN9: =DM9*$C9 -> 0 | DP9: =DO9*$C9 -> 0 | DR9: =DQ9*$C9 -> 0 | DT9: =DS9*$C9 -> 0
A10: 2 | B10: PAVIMENTO INFERIOR | C10: =Orçamento!$K$85 -> 260360.35 | D10: =ROUND($C$10/$C$15,5) -> 0.3651 | E10: 0.1 | F10: =E10*$C10 -> 26036.035 | G10: 0.2 | H10: =G10*$C10 -> 52072.07 | I10: 0.2 | J10: =I10*$C10 -> 52072.07 | K10: 0.2 | L10: =K10*$C10 -> 52072.07 | M10: 0.2 | N10: =M10*$C10 -> 52072.07 | O10: 0.1 | P10: =O10*$C10 -> 26036.035 | R10: =Q10*$C10 -> 0 | T10: =S10*$C10 -> 0 | V10: =U10*$C10 -> 0 | X10: =W10*$C10 -> 0 | Z10: =Y10*$C10 -> 0 | AB10: =AA10*$C10 -> 0 | AD10: =AC10*$C10 -> 0 | AF10: =AE10*$C10 -> 0 | AH10: =AG10*$C10 -> 0 | AJ10: =AI10*$C10 -> 0 | AL10: =AK10*$C10 -> 0 | AN10: =AM10*$C10 -> 0 | AP10: =AO10*$C10 -> 0 | AR10: =AQ10*$C10 -> 0 | AT10: =AS10*$C10 -> 0 | AV10: =AU10*$C10 -> 0 | AX10: =AW10*$C10 -> 0 | AZ10: =AY10*$C10 -> 0 | BB10: =BA10*$C10 -> 0 | BD10: =BC10*$C10 -> 0 | BF10: =BE10*$C10 -> 0 | BH10: =BG10*$C10 -> 0 | BJ10: =BI10*$C10 -> 0 | BL10: =BK10*$C10 -> 0 | BN10: =BM10*$C10 -> 0 | BP10: =BO10*$C10 -> 0 | BR10: =BQ10*$C10 -> 0 | BT10: =BS10*$C10 -> 0 | BV10: =BU10*$C10 -> 0 | BX10: =BW10*$C10 -> 0 | BZ10: =BY10*$C10 -> 0 | CB10: =CA10*$C10 -> 0 | CD10: =CC10*$C10 -> 0 | CF10: =CE10*$C10 -> 0 | CH10: =CG10*$C10 -> 0 | CJ10: =CI10*$C10 -> 0 | CL10: =CK10*$C10 -> 0 | CN10: =CM10*$C10 -> 0 | CP10: =CO10*$C10 -> 0 | CR10: =CQ10*$C10 -> 0 | CT10: =CS10*$C10 -> 0 | CV10: =CU10*$C10 -> 0 | CX10: =CW10*$C10 -> 0 | CZ10: =CY10*$C10 -> 0 | DB10: =DA10*$C10 -> 0 | DD10: =DC10*$C10 -> 0 | DF10: =DE10*$C10 -> 0 | DH10: =DG10*$C10 -> 0 | DJ10: =DI10*$C10 -> 0 | DL10: =DK10*$C10 -> 0 | DN10: =DM10*$C10 -> 0 | DP10: =DO10*$C10 -> 0 | DR10: =DQ10*$C10 -> 0 | DT10: =DS10*$C10 -> 0
A11: 3 | B11: PAVIMENTO SUPERIOR | C11: =Orçamento!$K$168 -> 372262.25 | D11: =ROUND($C$11/$C$15,5) -> 0.52202 | F11: =E11*$C11 -> 0 | G11: 0.15 | H11: =G11*$C11 -> 55839.337 | I11: 0.25 | J11: =I11*$C11 -> 93065.562 | K11: 0.25 | L11: =K11*$C11 -> 93065.562 | M11: 0.25 | N11: =M11*$C11 -> 93065.562 | O11: 0.1 | P11: =O11*$C11 -> 37226.225 | R11: =Q11*$C11 -> 0 | T11: =S11*$C11 -> 0 | V11: =U11*$C11 -> 0 | X11: =W11*$C11 -> 0 | Z11: =Y11*$C11 -> 0 | AB11: =AA11*$C11 -> 0 | AD11: =AC11*$C11 -> 0 | AF11: =AE11*$C11 -> 0 | AH11: =AG11*$C11 -> 0 | AJ11: =AI11*$C11 -> 0 | AL11: =AK11*$C11 -> 0 | AN11: =AM11*$C11 -> 0 | AP11: =AO11*$C11 -> 0 | AR11: =AQ11*$C11 -> 0 | AT11: =AS11*$C11 -> 0 | AV11: =AU11*$C11 -> 0 | AX11: =AW11*$C11 -> 0 | AZ11: =AY11*$C11 -> 0 | BB11: =BA11*$C11 -> 0 | BD11: =BC11*$C11 -> 0 | BF11: =BE11*$C11 -> 0 | BH11: =BG11*$C11 -> 0 | BJ11: =BI11*$C11 -> 0 | BL11: =BK11*$C11 -> 0 | BN11: =BM11*$C11 -> 0 | BP11: =BO11*$C11 -> 0 | BR11: =BQ11*$C11 -> 0 | BT11: =BS11*$C11 -> 0 | BV11: =BU11*$C11 -> 0 | BX11: =BW11*$C11 -> 0 | BZ11: =BY11*$C11 -> 0 | CB11: =CA11*$C11 -> 0 | CD11: =CC11*$C11 -> 0 | CF11: =CE11*$C11 -> 0 | CH11: =CG11*$C11 -> 0 | CJ11: =CI11*$C11 -> 0 | CL11: =CK11*$C11 -> 0 | CN11: =CM11*$C11 -> 0 | CP11: =CO11*$C11 -> 0 | CR11: =CQ11*$C11 -> 0 | CT11: =CS11*$C11 -> 0 | CV11: =CU11*$C11 -> 0 | CX11: =CW11*$C11 -> 0 | CZ11: =CY11*$C11 -> 0 | DB11: =DA11*$C11 -> 0 | DD11: =DC11*$C11 -> 0 | DF11: =DE11*$C11 -> 0 | DH11: =DG11*$C11 -> 0 | DJ11: =DI11*$C11 -> 0 | DL11: =DK11*$C11 -> 0 | DN11: =DM11*$C11 -> 0 | DP11: =DO11*$C11 -> 0 | DR11: =DQ11*$C11 -> 0 | DT11: =DS11*$C11 -> 0
A12: 4 | B12: HIDROSSANITÁRIO | C12: =Orçamento!$K$365 -> 6961.49 | D12: =ROUND($C$12/$C$15,5) -> 0.00976 | F12: =E12*$C12 -> 0 | G12: 0.2 | H12: =G12*$C12 -> 1392.298 | I12: 0.2 | J12: =I12*$C12 -> 1392.298 | K12: 0.2 | L12: =K12*$C12 -> 1392.298 | M12: 0.2 | N12: =M12*$C12 -> 1392.298 | O12: 0.2 | P12: =O12*$C12 -> 1392.298 | R12: =Q12*$C12 -> 0 | T12: =S12*$C12 -> 0 | V12: =U12*$C12 -> 0 | X12: =W12*$C12 -> 0 | Z12: =Y12*$C12 -> 0 | AB12: =AA12*$C12 -> 0 | AD12: =AC12*$C12 -> 0 | AF12: =AE12*$C12 -> 0 | AH12: =AG12*$C12 -> 0 | AJ12: =AI12*$C12 -> 0 | AL12: =AK12*$C12 -> 0 | AN12: =AM12*$C12 -> 0 | AP12: =AO12*$C12 -> 0 | AR12: =AQ12*$C12 -> 0 | AT12: =AS12*$C12 -> 0 | AV12: =AU12*$C12 -> 0 | AX12: =AW12*$C12 -> 0 | AZ12: =AY12*$C12 -> 0 | BB12: =BA12*$C12 -> 0 | BD12: =BC12*$C12 -> 0 | BF12: =BE12*$C12 -> 0 | BH12: =BG12*$C12 -> 0 | BJ12: =BI12*$C12 -> 0 | BL12: =BK12*$C12 -> 0 | BN12: =BM12*$C12 -> 0 | BP12: =BO12*$C12 -> 0 | BR12: =BQ12*$C12 -> 0 | BT12: =BS12*$C12 -> 0 | BV12: =BU12*$C12 -> 0 | BX12: =BW12*$C12 -> 0 | BZ12: =BY12*$C12 -> 0 | CB12: =CA12*$C12 -> 0 | CD12: =CC12*$C12 -> 0 | CF12: =CE12*$C12 -> 0 | CH12: =CG12*$C12 -> 0 | CJ12: =CI12*$C12 -> 0 | CL12: =CK12*$C12 -> 0 | CN12: =CM12*$C12 -> 0 | CP12: =CO12*$C12 -> 0 | CR12: =CQ12*$C12 -> 0 | CT12: =CS12*$C12 -> 0 | CV12: =CU12*$C12 -> 0 | CX12: =CW12*$C12 -> 0 | CZ12: =CY12*$C12 -> 0 | DB12: =DA12*$C12 -> 0 | DD12: =DC12*$C12 -> 0 | DF12: =DE12*$C12 -> 0 | DH12: =DG12*$C12 -> 0 | DJ12: =DI12*$C12 -> 0 | DL12: =DK12*$C12 -> 0 | DN12: =DM12*$C12 -> 0 | DP12: =DO12*$C12 -> 0 | DR12: =DQ12*$C12 -> 0 | DT12: =DS12*$C12 -> 0
A13: 5 | B13: SERVIÇOS COMPLEMENTARES | C13: =Orçamento!$K$408 -> 11161.73 | D13: =ROUND($C$13/$C$15,5) -> 0.01565 | F13: =E13*$C13 -> 0 | H13: =G13*$C13 -> 0 | J13: =I13*$C13 -> 0 | L13: =K13*$C13 -> 0 | N13: =M13*$C13 -> 0 | O13: 1 | P13: =O13*$C13 -> 11161.73 | R13: =Q13*$C13 -> 0 | T13: =S13*$C13 -> 0 | V13: =U13*$C13 -> 0 | X13: =W13*$C13 -> 0 | Z13: =Y13*$C13 -> 0 | AB13: =AA13*$C13 -> 0 | AD13: =AC13*$C13 -> 0 | AF13: =AE13*$C13 -> 0 | AH13: =AG13*$C13 -> 0 | AJ13: =AI13*$C13 -> 0 | AL13: =AK13*$C13 -> 0 | AN13: =AM13*$C13 -> 0 | AP13: =AO13*$C13 -> 0 | AR13: =AQ13*$C13 -> 0 | AT13: =AS13*$C13 -> 0 | AV13: =AU13*$C13 -> 0 | AX13: =AW13*$C13 -> 0 | AZ13: =AY13*$C13 -> 0 | BB13: =BA13*$C13 -> 0 | BD13: =BC13*$C13 -> 0 | BF13: =BE13*$C13 -> 0 | BH13: =BG13*$C13 -> 0 | BJ13: =BI13*$C13 -> 0 | BL13: =BK13*$C13 -> 0 | BN13: =BM13*$C13 -> 0 | BP13: =BO13*$C13 -> 0 | BR13: =BQ13*$C13 -> 0 | BT13: =BS13*$C13 -> 0 | BV13: =BU13*$C13 -> 0 | BX13: =BW13*$C13 -> 0 | BZ13: =BY13*$C13 -> 0 | CB13: =CA13*$C13 -> 0 | CD13: =CC13*$C13 -> 0 | CF13: =CE13*$C13 -> 0 | CH13: =CG13*$C13 -> 0 | CJ13: =CI13*$C13 -> 0 | CL13: =CK13*$C13 -> 0 | CN13: =CM13*$C13 -> 0 | CP13: =CO13*$C13 -> 0 | CR13: =CQ13*$C13 -> 0 | CT13: =CS13*$C13 -> 0 | CV13: =CU13*$C13 -> 0 | CX13: =CW13*$C13 -> 0 | CZ13: =CY13*$C13 -> 0 | DB13: =DA13*$C13 -> 0 | DD13: =DC13*$C13 -> 0 | DF13: =DE13*$C13 -> 0 | DH13: =DG13*$C13 -> 0 | DJ13: =DI13*$C13 -> 0 | DL13: =DK13*$C13 -> 0 | DN13: =DM13*$C13 -> 0 | DP13: =DO13*$C13 -> 0 | DR13: =DQ13*$C13 -> 0 | DT13: =DS13*$C13 -> 0
B14: Período | E14: =F14/$C15 -> 0.12397026 | F14: =SUM(F$9:F$13) -> 88405.025 | G14: =H14/$C15 -> 0.15327645 | H14: =SUM(H$9:H$13) -> 109303.71 | I14: =J14/$C15 -> 0.20547874 | J14: =SUM(J$9:J$13) -> 146529.93 | K14: =L14/$C15 -> 0.20547874 | L14: =SUM(L$9:L$13) -> 146529.93 | M14: =N14/$C15 -> 0.20547874 | N14: =SUM(N$9:N$13) -> 146529.93 | O14: =P14/$C15 -> 0.10631709 | P14: =SUM(P$9:P$13) -> 75816.288 | Q14: =R14/$C15 -> 0 | R14: =SUM(R$9:R$13) -> 0 | S14: =T14/$C15 -> 0 | T14: =SUM(T$9:T$13) -> 0 | U14: =V14/$C15 -> 0 | V14: =SUM(V$9:V$13) -> 0 | W14: =X14/$C15 -> 0 | X14: =SUM(X$9:X$13) -> 0 | Y14: =Z14/$C15 -> 0 | Z14: =SUM(Z$9:Z$13) -> 0 | AA14: =AB14/$C15 -> 0 | AB14: =SUM(AB$9:AB$13) -> 0 | AC14: =AD14/$C15 -> 0 | AD14: =SUM(AD$9:AD$13) -> 0 | AE14: =AF14/$C15 -> 0 | AF14: =SUM(AF$9:AF$13) -> 0 | AG14: =AH14/$C15 -> 0 | AH14: =SUM(AH$9:AH$13) -> 0 | AI14: =AJ14/$C15 -> 0 | AJ14: =SUM(AJ$9:AJ$13) -> 0 | AK14: =AL14/$C15 -> 0 | AL14: =SUM(AL$9:AL$13) -> 0 | AM14: =AN14/$C15 -> 0 | AN14: =SUM(AN$9:AN$13) -> 0 | AO14: =AP14/$C15 -> 0 | AP14: =SUM(AP$9:AP$13) -> 0 | AQ14: =AR14/$C15 -> 0 | AR14: =SUM(AR$9:AR$13) -> 0 | AS14: =AT14/$C15 -> 0 | AT14: =SUM(AT$9:AT$13) -> 0 | AU14: =AV14/$C15 -> 0 | AV14: =SUM(AV$9:AV$13) -> 0 | AW14: =AX14/$C15 -> 0 | AX14: =SUM(AX$9:AX$13) -> 0 | AY14: =AZ14/$C15 -> 0 | AZ14: =SUM(AZ$9:AZ$13) -> 0 | BA14: =BB14/$C15 -> 0 | BB14: =SUM(BB$9:BB$13) -> 0 | BC14: =BD14/$C15 -> 0 | BD14: =SUM(BD$9:BD$13) -> 0 | BE14: =BF14/$C15 -> 0 | BF14: =SUM(BF$9:BF$13) -> 0 | BG14: =BH14/$C15 -> 0 | BH14: =SUM(BH$9:BH$13) -> 0 | BI14: =BJ14/$C15 -> 0 | BJ14: =SUM(BJ$9:BJ$13) -> 0 | BK14: =BL14/$C15 -> 0 | BL14: =SUM(BL$9:BL$13) -> 0 | BM14: =BN14/$C15 -> 0 | BN14: =SUM(BN$9:BN$13) -> 0 | BO14: =BP14/$C15 -> 0 | BP14: =SUM(BP$9:BP$13) -> 0 | BQ14: =BR14/$C15 -> 0 | BR14: =SUM(BR$9:BR$13) -> 0 | BS14: =BT14/$C15 -> 0 | BT14: =SUM(BT$9:BT$13) -> 0 | BU14: =BV14/$C15 -> 0 | BV14: =SUM(BV$9:BV$13) -> 0 | BW14: =BX14/$C15 -> 0 | BX14: =SUM(BX$9:BX$13) -> 0 | BY14: =BZ14/$C15 -> 0 | BZ14: =SUM(BZ$9:BZ$13) -> 0 | CA14: =CB14/$C15 -> 0 | CB14: =SUM(CB$9:CB$13) -> 0 | CC14: =CD14/$C15 -> 0 | CD14: =SUM(CD$9:CD$13) -> 0 | CE14: =CF14/$C15 -> 0 | CF14: =SUM(CF$9:CF$13) -> 0 | CG14: =CH14/$C15 -> 0 | CH14: =SUM(CH$9:CH$13) -> 0 | CI14: =CJ14/$C15 -> 0 | CJ14: =SUM(CJ$9:CJ$13) -> 0 | CK14: =CL14/$C15 -> 0 | CL14: =SUM(CL$9:CL$13) -> 0 | CM14: =CN14/$C15 -> 0 | CN14: =SUM(CN$9:CN$13) -> 0 | CO14: =CP14/$C15 -> 0 | CP14: =SUM(CP$9:CP$13) -> 0 | CQ14: =CR14/$C15 -> 0 | CR14: =SUM(CR$9:CR$13) -> 0 | CS14: =CT14/$C15 -> 0 | CT14: =SUM(CT$9:CT$13) -> 0 | CU14: =CV14/$C15 -> 0 | CV14: =SUM(CV$9:CV$13) -> 0 | CW14: =CX14/$C15 -> 0 | CX14: =SUM(CX$9:CX$13) -> 0 | CY14: =CZ14/$C15 -> 0 | CZ14: =SUM(CZ$9:CZ$13) -> 0 | DA14: =DB14/$C15 -> 0 | DB14: =SUM(DB$9:DB$13) -> 0 | DC14: =DD14/$C15 -> 0 | DD14: =SUM(DD$9:DD$13) -> 0 | DE14: =DF14/$C15 -> 0 | DF14: =SUM(DF$9:DF$13) -> 0 | DG14: =DH14/$C15 -> 0 | DH14: =SUM(DH$9:DH$13) -> 0 | DI14: =DJ14/$C15 -> 0 | DJ14: =SUM(DJ$9:DJ$13) -> 0 | DK14: =DL14/$C15 -> 0 | DL14: =SUM(DL$9:DL$13) -> 0 | DM14: =DN14/$C15 -> 0 | DN14: =SUM(DN$9:DN$13) -> 0 | DO14: =DP14/$C15 -> 0 | DP14: =SUM(DP$9:DP$13) -> 0 | DQ14: =DR14/$C15 -> 0 | DR14: =SUM(DR$9:DR$13) -> 0 | DS14: =DT14/$C15 -> 0 | DT14: =SUM(DT$9:DT$13) -> 0
B15: Acumulado | C15: =SUM(C$9:C$13) -> 713114.81 | D15: =SUM(D$9:D$13) -> 0.99999 | E15: =E14 -> 0.12397026 | F15: =F14 -> 88405.025 | G15: =G14+E15 -> 0.2772467 | H15: =H14+F15 -> 197708.73 | I15: =I14+G15 -> 0.48272544 | J15: =J14+H15 -> 344238.66 | K15: =K14+I15 -> 0.68820418 | L15: =L14+J15 -> 490768.59 | M15: =M14+K15 -> 0.89368291 | N15: =N14+L15 -> 637298.52 | ... DT15: =DT14+DR15 -> 713114.81
