Workbook

Sheet Quadro resumo
A2: ANEXO “C” PLANILHA DE COMPOSIÇÃO DE CUSTOS
A3: Apresentação de proposta comecial para processo licitatório
A4: Pregão Eletrônico 36/2025
A5: Objeto: | B5: Cessão de mão de obra terceirizada para os serviços de servente braçal, borracheiro, mecânico, motorista de veículo pesado e operador de equipamentos
A6: Razão Social da empresa:
A7: CNPJ:
A8: Telefone de contato:
A9: E-mail para contato:
A10: Data da proposta:
A12: VALOR POR POSTO DE TRABALHO
A13: Função | B13: Valor Mensal por Posto de Trabalho | C13: Valor Anual por posto de trabalho
A14: Servente Braçal | B14: ='Servente braçal'!I123 -> 5654.16 | C14: =B14*12 -> 67849.92
A15: Borracheiro | B15: =Borracheiro!I123 -> 5593.03 | C15: =B15*12 -> 67116.36
A16: Mecânico Linha Pesada | B16: ='Mecânico linha pesada'!I122 -> 6006.26 | C16: =B16*12 -> 72075.12
A17: Motorista de veículos pesdos | B17: ='Motorista de veículos pesados'!I122 -> 8435.84 | C17: =B17*12 -> 101230.08
A18: Operador de Equipamentos | B18: ='Operador de Equipamento'!I122 -> 9415.46 | C18: =B18*12 -> 112985.52
A20: VALOR TOTAL DA LICITAÇÃO
A21: Função | B21: Quantidade total (estimada) de postos de trabalho da licitação | C21: Valor total estimado mensal | D21: Valor total estimado anual
A22: Servente Braçal | B22: 34 | C22: =B22*B14 -> 192241.44 | D22: =C22*12 -> 2306897.3
A23: Borracheiro | B23: 2 | C23: =B23*B15 -> 11186.06 | D23: =C23*12 -> 134232.72
A24: Mecânico Linha Pesada | B24: 4 | C24: =B24*B16 -> 24025.04 | D24: =C24*12 -> 288300.48
A25: Motorista de veículos pesdos | B25: 21 | C25: =B25*B17 -> 177152.64 | D25: =C25*12 -> 2125831.7
A26: Operador de Equipamentos | B26: 17 | C26: =B26*B18 -> 160062.82 | D26: =C26*12 -> 1920753.8
C27: =SUM(C22:C26) -> 564668 | D27: =SUM(D22:D26) -> 6776016
A29: Horas extras - projeção de valor (*) | C29: 1669500
A30: Observação (*): Esse item não deve sofrer acrescimos ou reduções de valores no momento da elaboração da proposta comercial, uma vez que, o mesmo se trata de uma provisão de valores a serem pagos a título de hora extra, servindo como item disponível para futuros empenhos. As horas extras somente poderão se realizadas com a autorização do fiscal do contrato, e serão pagas apenas aquelas que não puderem ser compensadas. Para fins de pagamento, a contratada deverá comprovar a realização, a composição dos valores, e a autorização para a realização destes, antes da emissão da nota fiscal.
A31: Valor final da proposta comercial: | B31: =C29+D27 -> 8445516
A32: Valor por extenso: | B32: oito milhões, quatrocentos e quarenta e cinco mil, quinhentos e dezesseis reais
A34: DETALHAMENTO CONFORME ITEM 3 DO EDITAL:
A36: Postos de trabalho com contratação IMEDIATA
A37: Função | B37: Quantidade Posto de trabalho para Contratação Imediata | C37: Valor mensal por posto de trabalho: | D37: Valor mensal dos postos de contratação imediata | E37: Valor anual dos postos de contratação imediata
A38: Servente Braçal | B38: 24 | C38: =B14 -> 5654.16 | D38: =C38*B38 -> 135699.84 | E38: =D38*12 -> 1628398.1
A39: Borracheiro | B39: 1 | C39: =B15 -> 5593.03 | D39: =C39*B39 -> 5593.03 | E39: =D39*12 -> 67116.36
A40: Mecânico Linha Pesada | B40: 2 | C40: =B16 -> 6006.26 | D40: =C40*B40 -> 12012.52 | E40: =D40*12 -> 144150.24
A41: Motorista de veículos pesados | B41: 11 | C41: =B17 -> 8435.84 | D41: =C41*B41 -> 92794.24 | E41: =D41*12 -> 1113530.9
A42: Operador de Equipamentos | B42: 7 | C42: =B18 -> 9415.46 | D42: =C42*B42 -> 65908.22 | E42: =D42*12 -> 790898.64
D43: =SUM(D38:D42) -> 312007.85 | E43: =SUM(E38:E42) -> 3744094.2
A45: Postos de trabalho com contratação ESTIMADA
A46: Função | B46: Quantidade Posto de trabalho para Contratação Estimada | C46: Valor mensal por posto de trabalho: | D46: Valor mensal dos postos de contratação estimada: | E46: Valor anual dos postos de contratação estimada:
A47: Servente Braçal | B47: =B22-B38 -> 10 | C47: =B14 -> 5654.16 | D47: =C47*B47 -> 56541.6 | E47: =D47*12 -> 678499.2
...

Sheet Servente braçal
A2: Observação: preencher os campos em amarelo
A3: Categoria profissional: SERVENTE BRAÇAL - Salário com base na CCT
A4: Discriminação dos Serviços
A5: A | B5: Data de apresentação da proposta
A6: B | B6: Sindicato | H6: SIND DOS EMPRG DE EMP DE ASSEIO E CONSERVACAO DO EST SC, CNPJ n. 81.532.095/0001-96
A7: C | B7: Ano do Acordo, Convenção ou Dissídio Coletivo | H7: SC000014/2025
A8: D | B8: Nº de meses de execução contratual | H8: 12
A9: E | B9: Função contratada: | H9: Serviços gerais
A11: Dados para composição dos custos referentes à mão-de-obra
A12: 1 | B12: Salário Nominativo da Categoria Profissional | H12: 1653.63
A13: 2 | B13: Data base da categoria (dia/mês/ano) | H13: 45658
A15: MÓDULO 1 - COMPOSIÇÃO DA REMUNERAÇÃO
A16: 1 | B16: COMPOSIÇÃO DA REMUNERAÇÃO | H16: % | I16: VALOR (R$)
A17: A | B17: Salário Base | I17: 1653.63
A18: B | B18: Adicional Periculosidade | I18: 0
A19: C | B19: Adicional Insalubridade - Conforme CCT | H19: 0.2 | I19: =I17*20% -> 330.726
A20: D | B20: Adicional Noturno | I20: 0
A21: E | B21: Adicional de Hora Noturna Reduzida | I21: 0
A22: F | B22: Outros (especificar) | I22: 0
A23: TOTAL DO MÓDULO 1 | I23: =SUM(I17:I22) -> 1984.356
A25: MÓDULO 2 – ENCARGOS E BENEFÍCIOS ANUAIS, MENSAIS E DIÁRIOS
A26: Submódulo 2.1 - 13º Salário, Férias e Adicional de Férias | H26: % | I26: VALOR (R$)
A27: A | B27: 13 (Décimo-terceiro) salário (Percentual obrigatório conforme Anexo XII - IN 5/17) | H27: 0.083333 | I27: =TRUNC($I$23*H27,2) -> 165.36
A28: B | B28: Férias e Adicional de Férias (Percentual obrigatório conforme Anexo XII - IN 5/17) | H28: 0.121 | I28: =TRUNC($I$23*H28,2) -> 240.1
A29: TOTAL SUBMÓDULO 2.1 | H29: =SUM(H27:H28) -> 0.204333 | I29: =SUM(I27:I28) -> 405.46
A31: Submódulo 2.2 - GPS, FGTS e Outras Contribuições | H31: % | I31: VALOR (R$)
A32: A | B32: INSS | H32: 0.2 | I32: =TRUNC(($I$23+$I$29)*$H$32,2) -> 477.96
A33: B | B33: Salário Educação | H33: 0.025 | I33: =TRUNC(($I$23+$I$29)*$H$33,2) -> 59.74 | K33: Detalhamento VT
A34: C | B34: SAT (Seguro Acidente de Trabalho) | H34: 0.03 | I34: =TRUNC(($I$23+$I$29)*$H$34,2) -> 71.69 | K34: Vale transporte - Valor unitário | L34: 1.5
A35: D | B35: SESC ou SESI | H35: 0.015 | I35: =TRUNC(($I$23+$I$29)*$H$35,2) -> 35.84 | K35: Valor transporte diário (2) | L35: =L34*2 -> 3
A36: E | B36: SENAI - SENAC | H36: 0.01 | I36: =TRUNC(($I$23+$I$29)*$H$36,2) -> 23.89 | K36: Vale transporte mensal (22 dias) | L36: =L35*22 -> 66
A37: F | B37: SEBRAE | H37: 0.006 | I37: =TRUNC(($I$23+$I$29)*$H$37,2) -> 14.33 | K37: Cálculo de 6% sobre o salário | L37: =I17*6% -> 99.2178
A38: G | B38: INCRA | H38: 0.002 | I38: =TRUNC(($I$23+$I$29)*$H$38,2) -> 4.77 | K38: O desconto o VT na folha de pagamento dos funcionários será de 66,00, e portanto, a empresa não terá custos com o fornecimento de vale transporte (Art. 4º, § único, do Decreto nº 95.247/1987:)
A39: H | B39: FGTS | H39: 0.08 | I39: =TRUNC(($I$23+$I$29)*$H$39,2) -> 191.18
A40: TOTAL SUBMÓDULO 2.2 | H40: =SUM(H32:H39) -> 0.368 | I40: =SUM(I32:I39) -> 879.4
A42: Submódulo 2.3 - Benefícios Mensais e Diários | I42: VALOR (R$)
A43: A | B43: Transporte (R$ 1,50 x 2 x 22 - 6% x SalBase) | H43: - | I43: 0
A44: B | B44: Auxílio Alimentação [(R$ 27,97 x 22) - 1%] - Conforme CCT SC000014/2025 - Segunda à Sexta | H44: - | I44: =(27.97*22)-((27.97*22)*1%) -> 609.1866
A45: B | B45: Auxílio Alimentação [(R$ 17,06 x 4) - 1%] - Conforme CCT SC000014/2025 - Sábado | H45: - | I45: =(17.06*4)-((17.06*4)*1%) -> 67.5576
A46: C | B46: Assiduidade - Conforme CCT SC000014/2025 | H46: - | I46: =I23*7% -> 138.90492
...

Sheet Borracheiro
A2: Observação: preencher os campos em amarelo
A3: Categoria profissional: BORRACHEIRO - Salário com base na CCT
A4: Discriminação dos Serviços
A5: A | B5: Data de apresentação da proposta
A6: B | B6: Sindicato | H6: SIND DOS EMPRG DE EMP DE ASSEIO E CONSERVACAO DO EST SC, CNPJ n. 81.532.095/0001-96
A7: C | B7: Ano do Acordo, Convenção ou Dissídio Coletivo | H7: SC000014/2025
A8: D | B8: Nº de meses de execução contratual | H8: 12
A9: E | B9: Função contratada: | H9: Borracheio
A11: Dados para composição dos custos referentes à mão-de-obra
A12: 1 | B12: Salário Nominativo da Categoria Profissional | H12: 1653.63
A13: 2 | B13: Data base da categoria (dia/mês/ano) | H13: 45658
A15: MÓDULO 1 - COMPOSIÇÃO DA REMUNERAÇÃO
A16: 1 | B16: COMPOSIÇÃO DA REMUNERAÇÃO | H16: % | I16: VALOR (R$)
A17: A | B17: Salário Base | I17: 1653.63
A18: B | B18: Adicional Periculosidade | I18: 0
A19: C | B19: Adicional Insalubridade - Salário Mínimo | H19: 0.2 | I19: =1518*20% -> 303.6
A20: D | B20: Adicional Noturno | I20: 0
A21: E | B21: Adicional de Hora Noturna Reduzida | I21: 0
A22: F | B22: Outros (especificar) | I22: 0
A23: TOTAL DO MÓDULO 1 | I23: =SUM(I17:I22) -> 1957.23
A25: MÓDULO 2 – ENCARGOS E BENEFÍCIOS ANUAIS, MENSAIS E DIÁRIOS
A26: Submódulo 2.1 - 13º Salário, Férias e Adicional de Férias | H26: % | I26: VALOR (R$)
A27: A | B27: 13 (Décimo-terceiro) salário (Percentual obrigatório conforme Anexo XII - IN 5/17) | H27: 0.083333 | I27: =TRUNC($I$23*H27,2) -> 163.1
A28: B | B28: Férias e Adicional de Férias (Percentual obrigatório conforme Anexo XII - IN 5/17) | H28: 0.121 | I28: =TRUNC($I$23*H28,2) -> 236.82
A29: TOTAL SUBMÓDULO 2.1 | H29: =SUM(H27:H28) -> 0.204333 | I29: =SUM(I27:I28) -> 399.92
A31: Submódulo 2.2 - GPS, FGTS e Outras Contribuições | H31: % | I31: VALOR (R$)
A32: A | B32: INSS | H32: 0.2 | I32: =TRUNC(($I$23+$I$29)*$H$32,2) -> 471.43
A33: B | B33: Salário Educação | H33: 0.025 | I33: =TRUNC(($I$23+$I$29)*$H$33,2) -> 58.92 | K33: Detalhamento VT
A34: C | B34: SAT (Seguro Acidente de Trabalho) | H34: 0.03 | I34: =TRUNC(($I$23+$I$29)*$H$34,2) -> 70.71 | K34: Vale transporte - Valor unitário | L34: 1.5
A35: D | B35: SESC ou SESI | H35: 0.015 | I35: =TRUNC(($I$23+$I$29)*$H$35,2) -> 35.35 | K35: Valor transporte diário (2) | L35: =L34*2 -> 3
A36: E | B36: SENAI - SENAC | H36: 0.01 | I36: =TRUNC(($I$23+$I$29)*$H$36,2) -> 23.57 | K36: Vale transporte mensal (22 dias) | L36: =L35*22 -> 66
A37: F | B37: SEBRAE | H37: 0.006 | I37: =TRUNC(($I$23+$I$29)*$H$37,2) -> 14.14 | K37: Cálculo de 6% sobre o salário | L37: =I17*6% -> 99.2178
A38: G | B38: INCRA | H38: 0.002 | I38: =TRUNC(($I$23+$I$29)*$H$38,2) -> 4.71 | K38: O desconto o VT na folha de pagamento dos funcionários será de 66,00, e portanto, a empresa não terá custos com o fornecimento de vale transporte (Art. 4º, § único, do Decreto nº 95.247/1987:)
A39: H | B39: FGTS | H39: 0.08 | I39: =TRUNC(($I$23+$I$29)*$H$39,2) -> 188.57
A40: TOTAL SUBMÓDULO 2.2 | H40: =SUM(H32:H39) -> 0.368 | I40: =SUM(I32:I39) -> 867.4
A42: Submódulo 2.3 - Benefícios Mensais e Diários | I42: VALOR (R$)
A43: A | B43: Transporte (R$ 1,50 x 2 x 22 - 6% x SalBase) | H43: - | I43: 0
A44: B | B44: Auxílio Alimentação [(R$ 27,97 x 22) - 1%] - Conforme CCT SC000014/2025 - Segunda à Sexta | H44: - | I44: =(27.97*22)-((27.97*22)*1%) -> 609.1866
A45: B | B45: Auxílio Alimentação [(R$ 17,06 x 4) - 1%] - Conforme CCT SC000014/2025 - Sábado | H45: - | I45: =(17.06*4)-((17.06*4)*1%) -> 67.5576
A46: C | B46: Assiduidade - Conforme CCT SC000014/2025 | H46: - | I46: =I23*7% -> 137.0061
...

Sheet Mecânico linha pesada
A2: Observação: preencher os campos em amarelo
A3: Categoria profissional: MECÂNICO - Salário conforme CCT
A4: Discriminação dos Serviços
A5: A | B5: Data de apresentação da proposta
A6: B | B6: Sindicato | H6: SIND DOS EMPRG DE EMP DE ASSEIO E CONSERVACAO DO EST SC, CNPJ n. 81.532.095/0001-96
A7: C | B7: Ano do Acordo, Convenção ou Dissídio Coletivo | H7: SC000014/2025
A8: D | B8: Nº de meses de execução contratual | H8: 12
A9: E | B9: Função contratada: | H9: Mecânico
A11: Dados para composição dos custos referentes à mão-de-obra
A12: 1 | B12: Salário Nominativo da Categoria Profissional | H12: 1865.78
A13: 2 | B13: Data base da categoria (dia/mês/ano) | H13: 45658
A15: MÓDULO 1 - COMPOSIÇÃO DA REMUNERAÇÃO
A16: 1 | B16: COMPOSIÇÃO DA REMUNERAÇÃO | H16: % | I16: VALOR (R$)
A17: A | B17: Salário Base | I17: =H12 -> 1865.78
A18: B | B18: Adicional Periculosidade | I18: 0
A19: C | B19: Adicional Insalubridade - Salário Mínimo | H19: 0.2 | I19: =1518*H19 -> 303.6
A20: D | B20: Adicional Noturno | I20: 0
A21: E | B21: Adicional de Hora Noturna Reduzida | I21: 0
A22: F | B22: Outros (especificar) | I22: 0
A23: TOTAL DO MÓDULO 1 | I23: =SUM(I17:I22) -> 2169.38
A25: MÓDULO 2 – ENCARGOS E BENEFÍCIOS ANUAIS, MENSAIS E DIÁRIOS
A26: Submódulo 2.1 - 13º Salário, Férias e Adicional de Férias | H26: % | I26: VALOR (R$)
A27: A | B27: 13 (Décimo-terceiro) salário (Percentual obrigatório conforme Anexo XII - IN 5/17) | H27: 0.083333 | I27: =TRUNC($I$23*H27,2) -> 180.78
A28: B | B28: Férias e Adicional de Férias (Percentual obrigatório conforme Anexo XII - IN 5/17) | H28: 0.121 | I28: =TRUNC($I$23*H28,2) -> 262.49
A29: TOTAL SUBMÓDULO 2.1 | H29: =SUM(H27:H28) -> 0.204333 | I29: =SUM(I27:I28) -> 443.27
A31: Submódulo 2.2 - GPS, FGTS e Outras Contribuições | H31: % | I31: VALOR (R$)
A32: A | B32: INSS | H32: 0.2 | I32: =TRUNC(($I$23+$I$29)*$H$32,2) -> 522.53 | K32: Detalhamento VT
A33: B | B33: Salário Educação | H33: 0.025 | I33: =TRUNC(($I$23+$I$29)*$H$33,2) -> 65.31 | K33: Vale transporte - Valor unitário | L33: 1.5
A34: C | B34: SAT (Seguro Acidente de Trabalho) | H34: 0.03 | I34: =TRUNC(($I$23+$I$29)*$H$34,2) -> 78.37 | K34: Valor transporte diário (2) | L34: =L33*2 -> 3
A35: D | B35: SESC ou SESI | H35: 0.015 | I35: =TRUNC(($I$23+$I$29)*$H$35,2) -> 39.18 | K35: Vale transporte mensal (22 dias) | L35: =L34*22 -> 66
A36: E | B36: SENAI - SENAC | H36: 0.01 | I36: =TRUNC(($I$23+$I$29)*$H$36,2) -> 26.12 | K36: Cálculo de 6% sobre o salário | L36: =I17*6% -> 111.9468
A37: F | B37: SEBRAE | H37: 0.006 | I37: =TRUNC(($I$23+$I$29)*$H$37,2) -> 15.67 | K37: O desconto o VT na folha de pagamento dos funcionários será de 66,00, e portanto, a empresa não terá custos com o fornecimento de vale transporte (Art. 4º, § único, do Decreto nº 95.247/1987:)
A38: G | B38: INCRA | H38: 0.002 | I38: =TRUNC(($I$23+$I$29)*$H$38,2) -> 5.22
A39: H | B39: FGTS | H39: 0.08 | I39: =TRUNC(($I$23+$I$29)*$H$39,2) -> 209.01
A40: TOTAL SUBMÓDULO 2.2 | H40: =SUM(H32:H39) -> 0.368 | I40: =SUM(I32:I39) -> 961.41
A42: Submódulo 2.3 - Benefícios Mensais e Diários | I42: VALOR (R$)
A43: A | B43: Transporte (R$ 1,50 x 2 x 22 - 6% x SalBase) | H43: - | I43: 0
A44: B | B44: Auxílio Alimentação [(R$ 27,97 x 22) - 1%] - Conforme CCT SC000014/2025 - Segunda à Sexta | H44: - | I44: =(27.97*22)-((27.97*22)*1%) -> 609.1866
A45: B | B45: Auxílio Alimentação [(R$ 17,06 x 4) - 1%] - Conforme CCT SC000014/2025 - Sábado | H45: - | I45: =(17.06*4)-((17.06*4)*1%) -> 67.5576
A46: C | B46: Assiduidade - Conforme CCT SC000014/2025 | H46: - | I46: =I23*7% -> 151.8566
...

Sheet Motorista de veículos pesados
A2: Observação: preencher os campos em amarelo
A3: Categoria profissional: MOTORISTA DE CAMINHÃO - Salário base definido em ETP
A4: Discriminação dos Serviços
A5: A | B5: Data de apresentação da proposta
A6: B | B6: Município | H6: Concórdia/SC
A7: C | B7: Ano do Acordo, Convenção ou Dissídio Coletivo
A8: D | B8: Nº de meses de execução contratual | H8: 12
A9: E | B9: Função contratada | G9: Mecânico | H9: Motorista veículos pesados
A11: Dados para composição dos custos referentes à mão-de-obra
A12: 1 | B12: Salário base a ser pago conforme definido em estudo técnico preliminar | H12: 3416.49
A13: 2 | B13: Data base da categoria (dia/mês/ano)
A15: MÓDULO 1 - COMPOSIÇÃO DA REMUNERAÇÃO
A16: 1 | B16: COMPOSIÇÃO DA REMUNERAÇÃO | H16: % | I16: VALOR (R$)
A17: A | B17: Salário Base | H17: - | I17: =H12 -> 3416.49
A18: B | B18: Adicional Periculosidade | H18: 0 | I18: 0
A19: C | B19: Adicional Insalubridade | H19: 0 | I19: 0
A20: D | B20: Adicional Noturno | H20: 0 | I20: 0
A21: E | B21: Adicional de Hora Noturna Reduzida | H21: 0 | I21: 0
A22: F | B22: Outros (especificar) | H22: 0 | I22: 0
A23: TOTAL DO MÓDULO 1 | I23: =SUM(I17:I22) -> 3416.49
A25: MÓDULO 2 – ENCARGOS E BENEFÍCIOS ANUAIS, MENSAIS E DIÁRIOS
A26: Submódulo 2.1 - 13º Salário, Férias e Adicional de Férias | H26: % | I26: VALOR (R$)
A27: A | B27: 13 (Décimo-terceiro) salário (Percentual obrigatório conforme Anexo XII - IN 5/17) | H27: 0.083333 | I27: =TRUNC($I$23*H27,2) -> 284.7
A28: B | B28: Férias e Adicional de Férias (Percentual obrigatório conforme Anexo XII - IN 5/17) | H28: 0.121 | I28: =TRUNC($I$23*H28,2) -> 413.39
A29: TOTAL SUBMÓDULO 2.1 | H29: =SUM(H27:H28) -> 0.204333 | I29: =SUM(I27:I28) -> 698.09
A31: Submódulo 2.2 - GPS, FGTS e Outras Contribuições | H31: % | I31: VALOR (R$)
A32: A | B32: INSS | H32: 0.2 | I32: =TRUNC(($I$23+$I$29)*$H$32,2) -> 822.91
A33: B | B33: Salário Educação | H33: 0.025 | I33: =TRUNC(($I$23+$I$29)*$H$33,2) -> 102.86
A34: C | B34: SAT (Seguro Acidente de Trabalho) | H34: 0.03 | I34: =TRUNC(($I$23+$I$29)*$H$34,2) -> 123.43
A35: D | B35: SESC ou SESI | H35: 0.015 | I35: =TRUNC(($I$23+$I$29)*$H$35,2) -> 61.71
A36: E | B36: SENAI - SENAC | H36: 0.01 | I36: =TRUNC(($I$23+$I$29)*$H$36,2) -> 41.14
A37: F | B37: SEBRAE | H37: 0.006 | I37: =TRUNC(($I$23+$I$29)*$H$37,2) -> 24.68
A38: G | B38: INCRA | H38: 0.002 | I38: =TRUNC(($I$23+$I$29)*$H$38,2) -> 8.22 | K38: Detalhamento VT
A39: H | B39: FGTS | H39: 0.08 | I39: =TRUNC(($I$23+$I$29)*$H$39,2) -> 329.16 | K39: Vale transporte - Valor unitário | L39: 1.5
A40: TOTAL SUBMÓDULO 2.2 | H40: =SUM(H32:H39) -> 0.368 | I40: =SUM(I32:I39) -> 1514.11 | K40: Valor transporte diário (2) | L40: =L39*2 -> 3
K41: Vale transporte mensal (22 dias) | L41: =L40*22 -> 66
A42: Submódulo 2.3 - Benefícios Mensais e Diários | I42: VALOR (R$) | K42: Cálculo de 6% sobre o salário | L42: =I17*6% -> 204.9894
A43: A | B43: Transporte (R$ 1,50 x 2 x 22 - 6% x SalBase) | H43: - | I43: 0 | K43: O desconto o VT na folha de pagamento dos funcionários será de 66,00, e portanto, a empresa não terá custos com o fornecimento de vale transporte (Art. 4º, § único, do Decreto nº 95.247/1987:)
A44: B | B44: Auxílio Alimentação [(R$ 27,97 x 22) - 1%] - Seguindo os parâmetros da CCT SC000014/2025 - conforme ETP- Segunda à Sexta | H44: - | I44: =(27.97*22)-((27.97*22)*1%) -> 609.1866
A45: B | B45: Auxílio Alimentação [(R$ 17,06 x 4) - 1%] - Seguindo os parâmetros da CCT SC000014/2025 - conforme ETP - Sábado | H45: - | I45: =(17.06*4)-((17.06*4)*1%) -> 67.5576
...

Sheet Operador de Equipamento
A2: Observação: preencher os campos em amarelo
A3: Categoria profissional: OPERADOR DE EQUIPAMENTO (rolo, retroescavadeira e patrola) - Salário base definido em ETP
A4: Discriminação dos Serviços
A5: A | B5: Data de apresentação da proposta
A6: B | B6: Município | H6: Concórdia/SC
A7: C | B7: Ano do Acordo, Convenção ou Dissídio Coletivo
A8: D | B8: Nº de meses de execução contratual | H8: 12
A9: E | B9: Função contratada | G9: Mecânico | H9: Operador de equipamentos
A11: Dados para composição dos custos referentes à mão-de-obra
A12: 1 | B12: Salário base a ser pago conforme definido em estudo técnico preliminar | H12: 3901.86
A13: 2 | B13: Data base da categoria (dia/mês/ano)
A15: MÓDULO 1 - COMPOSIÇÃO DA REMUNERAÇÃO
A16: 1 | B16: COMPOSIÇÃO DA REMUNERAÇÃO | H16: % | I16: VALOR (R$)
A17: A | B17: Salário Base | H17: - | I17: =H12 -> 3901.86
A18: B | B18: Adicional Periculosidade | H18: 0 | I18: 0
A19: C | B19: Adicional Insalubridade | H19: 0 | I19: 0
A20: D | B20: Adicional Noturno | H20: 0 | I20: 0
A21: E | B21: Adicional de Hora Noturna Reduzida | H21: 0 | I21: 0
A22: F | B22: Outros (especificar) | H22: 0 | I22: 0
A23: TOTAL DO MÓDULO 1 | I23: =SUM(I17:I22) -> 3901.86
A25: MÓDULO 2 – ENCARGOS E BENEFÍCIOS ANUAIS, MENSAIS E DIÁRIOS
A26: Submódulo 2.1 - 13º Salário, Férias e Adicional de Férias | H26: % | I26: VALOR (R$)
A27: A | B27: 13 (Décimo-terceiro) salário (Percentual obrigatório conforme Anexo XII - IN 5/17) | H27: 0.083333 | I27: =TRUNC($I$23*H27,2) -> 325.15
A28: B | B28: Férias e Adicional de Férias (Percentual obrigatório conforme Anexo XII - IN 5/17) | H28: 0.121 | I28: =TRUNC($I$23*H28,2) -> 472.12
A29: TOTAL SUBMÓDULO 2.1 | H29: =SUM(H27:H28) -> 0.204333 | I29: =SUM(I27:I28) -> 797.27
A31: Submódulo 2.2 - GPS, FGTS e Outras Contribuições | H31: % | I31: VALOR (R$)
A32: A | B32: INSS | H32: 0.2 | I32: =TRUNC(($I$23+$I$29)*$H$32,2) -> 939.82
A33: B | B33: Salário Educação | H33: 0.025 | I33: =TRUNC(($I$23+$I$29)*$H$33,2) -> 117.47
A34: C | B34: SAT (Seguro Acidente de Trabalho) | H34: 0.03 | I34: =TRUNC(($I$23+$I$29)*$H$34,2) -> 140.97
A35: D | B35: SESC ou SESI | H35: 0.015 | I35: =TRUNC(($I$23+$I$29)*$H$35,2) -> 70.48
A36: E | B36: SENAI - SENAC | H36: 0.01 | I36: =TRUNC(($I$23+$I$29)*$H$36,2) -> 46.99
A37: F | B37: SEBRAE | H37: 0.006 | I37: =TRUNC(($I$23+$I$29)*$H$37,2) -> 28.19
A38: G | B38: INCRA | H38: 0.002 | I38: =TRUNC(($I$23+$I$29)*$H$38,2) -> 9.39
A39: H | B39: FGTS | H39: 0.08 | I39: =TRUNC(($I$23+$I$29)*$H$39,2) -> 375.93 | K39: Detalhamento VT
A40: TOTAL SUBMÓDULO 2.2 | H40: =SUM(H32:H39) -> 0.368 | I40: =SUM(I32:I39) -> 1729.24 | K40: Vale transporte - Valor unitário | L40: 1.5
K41: Valor transporte diário (2) | L41: =L40*2 -> 3
A42: Submódulo 2.3 - Benefícios Mensais e Diários | I42: VALOR (R$) | K42: Vale transporte mensal (22 dias) | L42: =L41*22 -> 66
A43: A | B43: Transporte (R$ 1,50 x 2 x 22 - 6% x SalBase) | H43: - | I43: 0 | K43: Cálculo de 6% sobre o salário | L43: =I17*6% -> 234.1116
A44: B | B44: Auxílio Alimentação [(R$ 27,97 x 22) - 1%] - Seguindo os parâmetros da CCT SC000014/2025 - conforme ETP- Segunda à Sexta | H44: - | I44: =(27.97*22)-((27.97*22)*1%) -> 609.1866 | K44: O desconto o VT na folha de pagamento dos funcionários será de 66,00, e portanto, a empresa não terá custos com o fornecimento de vale transporte (Art. 4º, § único, do Decreto nº 95.247/1987:)
A45: B | B45: Auxílio Alimentação [(R$ 17,06 x 4) - 1%] - Seguindo os parâmetros da CCT SC000014/2025 - conforme ETP - Sábado | H45: - | I45: =(17.06*4)-((17.06*4)*1%) -> 67.5576
...
