Workbook
Name ____xlnm.Print_Area_2: #REF!
Name ____xlnm.Print_Area_3: #REF!
Name ____xlnm.Print_Area_3_1: #REF!
Name ____xlnm.Print_Titles_2: #REF!
Name ____xlnm.Print_Titles_3: #REF!
Name ___xlnm.Print_Area_2: #REF!
Name ___xlnm.Print_Area_3: #REF!
Name ___xlnm.Print_Area_3_1: #REF!
Name ___xlnm.Print_Titles_2: #REF!
Name ___xlnm.Print_Titles_3: #REF!
Name __Anonymous_Sheet_DB__0: #REF!
Name __xlnm.Print_Area_1: #REF!
Name __xlnm.Print_Area_2: #REF!
Name __xlnm.Print_Area_3: #REF!
Name __xlnm.Print_Area_3_1: #REF!
Name __xlnm.Print_Titles_1: #REF!
Name __xlnm.Print_Titles_2: #REF!
Name __xlnm.Print_Titles_3: #REF!
Name _R10P: #REF!
Name _R10R: #REF!
Name _R11P: #REF!
Name _R11R: #REF!
Name _R12P: #REF!
Name _R12R: #REF!
Name _R13P: #REF!
Name _R13R: #REF!
Name _R14P: #REF!
Name _R14R: #REF!
Name _R15P: #REF!
Name _R15R: #REF!
Name _R16P: #REF!
Name _R16R: #REF!
Name _R17P: #REF!
Name _R17R: #REF!
Name _R18P: #REF!
Name _R18R: #REF!
Name _R19P: #REF!
Name _R19R: #REF!
Name _R1P: #REF!
Name _R1R: #REF!
Name _R20P: #REF!
Name _R20R: #REF!
Name _R21P: #REF!
Name _R21R: #REF!
Name _R22P: #REF!
Name _R22R: #REF!
Name _R23P: #REF!
Name _R23R: #REF!
Name _R24P: #REF!
Name _R24R: #REF!
Name _R2P: #REF!
Name _R2R: #REF!
Name _R3P: #REF!
Name _R3R: #REF!
Name _R4P: #REF!
Name _R4R: #REF!
Name _R5P: #REF!
Name _R5R: #REF!
Name _R6P: #REF!
Name _R6R: #REF!

Sheet RESUMO
D3: RESUMO GRANDES ITENS
C5: ENDEREÇO: | D5: Estrada Vicinal, Linha Benedetti, Videira - SC | G5: DATA: | H5: =TODAY() -> 45364
C6: MUNICÍPIO: | D6: Município de Videira | G6: RESP. TÉCNICO: | H6: Jonathan K. Freitas
C7: OBRA: | D7: Construção de obra de arte em concreto armado | G7: BDI: | H7: 0.2739
B9: ITEM | C9: DESCRIÇÃO | F9: MATERIAL | G9: MÃO DE OBRA | H9: TOTAL | I9: %
B11: 1 | C11: =ORÇAMENTO!B11 -> SERVIÇOS PRELIMINARES | F11: =ORÇAMENTO!G11 -> 22349.83 | G11: =ORÇAMENTO!I11 -> 13926.78 | H11: =ORÇAMENTO!K11 -> 36276.61 | I11: =H11/$H$23 -> 0.0594
B12: 2 | C12: =ORÇAMENTO!B20 -> INFRAESTRUTURA (CHUMBADORES, SAPATAS e ARRANQUES) | F12: =ORÇAMENTO!G20 -> 23207.98 | G12: =ORÇAMENTO!I20 -> 27757.74 | H12: =ORÇAMENTO!K20 -> 50965.72 | I12: =H12/$H$23 -> 0.0835
B13: 3 | C13: =ORÇAMENTO!B27 -> MESOESTRUTURA (BALDRAMES, PILARES, CORTINAS DE CONCRETO CICLÓPICO E VIGAS TRAVESSEIRO) | F13: =ORÇAMENTO!G27 -> 110862.84 | G13: =ORÇAMENTO!I27 -> 28388.5 | H13: =ORÇAMENTO!K27 -> 139251.34 | I13: =H13/$H$23 -> 0.2281
B14: 4 | C14: =ORÇAMENTO!B34 -> SUPRAESTRUTURA (VIGAS PRÉ-MOLDADAS, TABULEIRO E ELEMENTOS PRÉ-MOLDADOS) | F14: =ORÇAMENTO!G34 -> 250060.74 | G14: =ORÇAMENTO!I34 -> 124541.37 | H14: =ORÇAMENTO!K34 -> 374602.11 | I14: =H14/$H$23 -> 0.6136
B15: 5 | C15: =ORÇAMENTO!B49 -> REGULARIZAÇÃO DO ACESSO | F15: =ORÇAMENTO!G49 -> 0 | G15: =ORÇAMENTO!I49 -> 9412.14 | H15: =ORÇAMENTO!K49 -> 9412.14 | I15: =H15/$H$23 -> 0.0154
C20: =IF($B20<>"",VLOOKUP($B20,#REF!,3,0),"") | H20: =IF($B20<>"",VLOOKUP($B20,#REF!,10,0),"") | I20: =IF($B20<>"",IF(OR($B20="",#REF!=0),0,#REF!/#REF!),"")
C21: =IF($B21<>"",VLOOKUP($B21,#REF!,3,0),"") | H21: =IF($B21<>"",VLOOKUP($B21,#REF!,10,0),"") | I21: =IF($B21<>"",IF(OR($B21="",#REF!=0),0,#REF!/#REF!),"")
C22: =IF($B22<>"",VLOOKUP($B22,#REF!,3,0),"") | H22: =IF($B22<>"",VLOOKUP($B22,#REF!,10,0),"") | I22: =IF($B22<>"",IF(OR($B22="",#REF!=0),0,#REF!/#REF!),"")
B23: TOTAL (R$) GERAL DA OBRA | F23: =SUMIF(F11:F22,">0",F11:F22) -> 406481.39 | G23: =SUMIF(G11:G22,">0",G11:G22) -> 204026.53 | H23: =SUMIF(H11:H22,">0",H11:H22) -> 610507.92 | I23: =SUM(I11:I22) -> 1
B24: PERCENTAGEM (%) | F24: =IF(H23=0,0,F23/$H$23) -> 0.6658 | G24: =IF(H23=0,0,G23/$H$23) -> 0.3342 | H24: =F24+G24 -> 1 | I24: -
B26: PRAZO DE EXECUÇÃO (DIAS CORRIDOS):
H30: Jonathan Kozikoski Freitas
H31: Responsável Técnico

Sheet ORÇAMENTO
A1: ORÇAMENTO DISCRIMINATIVO
A2: Endereço: | B2: =RESUMO!D5 -> Estrada Vicinal, Linha Benedetti, Videira - SC | I2: Data: | J2: =TODAY() -> 45364
A3: Município | B3: =RESUMO!D6 -> Município de Videira | I3: Resp. Técnico: | J3: =RESUMO!H6 -> Jonathan K. Freitas
A4: Obra: | B4: =RESUMO!D7 -> Construção de obra de arte em concreto armado | I4: BDI: | J4: 0.2739
A5: Referenciais utilizados como base: | D5: Referencial | E5: Data Técnica
D6: SINAPI 12/23 | E6: 45345
D7: SICRO 10/23 | E7: 45315
A9: ITEM | D9: Descrição | E9: Quant. | F9: Unid | G9: Material | I9: Mão de obra | K9: Valor total
A10: Sub item | B10: REFERENCIAL | C10: CÓDIGO | G10: Unitário | H10: Total | I10: Unitário | J10: Total
A11: 1 | B11: SERVIÇOS PRELIMINARES | E11: SUBTOTAL | G11: =SUM(H12:H18) -> 22349.83 | I11: =SUM(J12:J18) -> 13926.78 | K11: =SUM(K12:K18) -> 36276.61
A12: 1.1 | B12: COMPOSIÇÃO | C12: COMP 01 | D12: PLACA DE OBRA EM CHAPA GALVANIZADA, INCLUSIVE ESTRUTURA (1,20x2,00M) | E12: 2.4 | F12: M2 | G12: 391.92 | H12: =E12*G12 -> 940.61 | I12: 104.41 | J12: =E12*I12 -> 250.58 | K12: =H12+J12 -> 1191.19
A13: 1.2 | B13: SINAPI | C13: 97627 | D13: Demolição de pilares e vigas em concreto armado, de forma mecanizada com martelete, sem reaproveitamento. AF_12/2017 | E13: 45.57 | F13: M3 | G13: 41.25 | H13: =E13*G13 -> 1879.76 | I13: 192.97 | J13: =E13*I13 -> 8793.64 | K13: =H13+J13 -> 10673.4
A14: 1.3 | B14: SINAPI | C14: 101233 | D14: Escavação vertical para infraestrutura, com carga, descarga e transporte de solo de 1ª categoria, com escavadeira hidráulica (caçamba: 1,2 m³ / 155 hp), frota de 3 caminhões basculantes de 18 m³, DMT até 1 km e velocidade média14 km/h. Af_05/2020 | E14: 458.96 | F14: M3 | G14: 9.73 | H14: =E14*G14 -> 4465.68 | I14: 1.44 | J14: =E14*I14 -> 660.9 | K14: =H14+J14 -> 5126.58
A15: 1.4 | B15: SINAPI | C15: 99058 | D15: Locação de ponto para referência topográfica. AF_10/2018 | E15: 108 | F15: UN | G15: 2.18 | H15: =E15*G15 -> 235.44 | I15: 9.71 | J15: =E15*I15 -> 1048.68 | K15: =H15+J15 -> 1284.12
A16: 1.5 | B16: SINAPI | C16: 101505 | D16: Entrada de energia elétrica, aérea, trifásica, com caixa de sobrepor, cabo de 10 mm2 e disjuntor DIN 50a (não incluso o poste de concreto). AF_07/2020_PS | E16: 1 | F16: UN | G16: 1691.06 | H16: =E16*G16 -> 1691.06 | I16: 681.32 | J16: =E16*I16 -> 681.32 | K16: =H16+J16 -> 2372.38
A17: 1.6 | B17: SINAPI | C17: 93584 | D17: Execução de depósito em canteiro de obra em chapa de madeira compensada, não incluso mobiliário. AF_04/2016 | E17: 6 | F17: M2 | G17: 1498.48 | H17: =E17*G17 -> 8990.88 | I17: 267.66 | J17: =E17*I17 -> 1605.96 | K17: =H17+J17 -> 10596.84
A18: 1.7 | B18: SINAPI | C18: 93582 | D18: Execução de central de armadura em canteiro de obra, não incluso mobiliário e equipamentos. Af_04/2016 | E18: 10 | F18: M2 | G18: 414.64 | H18: =E18*G18 -> 4146.4 | I18: 88.57 | J18: =E18*I18 -> 885.7 | K18: =H18+J18 -> 5032.1
A20: 2 | B20: INFRAESTRUTURA (CHUMBADORES, SAPATAS e ARRANQUES) | E20: SUBTOTAL | G20: =SUM(H21:H25) -> 23207.98 | I20: =SUM(J21:J25) -> 27757.74 | K20: =SUM(K21:K25) -> 50965.72
A21: 2.1 | B21: SICRO | C21: 1505879 | D21: Enrocamento de pedra arrumada manualmente - pedra de mão comercial - fornecimento e assentamento | E21: 20 | F21: M3 | G21: 187.97 | H21: =E21*G21 -> 3759.4 | I21: 156.56 | J21: =E21*I21 -> 3131.2 | K21: =H21+J21 -> 6890.6
A22: 2.2 | B22: SICRO | C22: 5605798 | D22: Chumbador de aço CA-50 - D = 20 mm - ancorado na rocha com cartucho de cimento - fornecimento, perfuração e instalação | E22: 84 | F22: M | G22: 78.12 | H22: =E22*G22 -> 6562.08 | I22: 30.22 | J22: =E22*I22 -> 2538.48 | K22: =H22+J22 -> 9100.56
A23: 2.3 | B23: SICRO | C23: 3108004 | D23: Fôrmas de compensado resinado 14 mm - uso geral - utilização de 2 vezes - confecção, instalação e retirada | E23: 47.82 | F23: M2 | G23: 99.5 | H23: =E23*G23 -> 4758.09 | I23: 47.03 | J23: =E23*I23 -> 2248.97 | K23: =H23+J23 -> 7007.06
A24: 2.4 | B24: SICRO | C24: 407819 | D24: Armação em aço CA-50 - fornecimento, preparo e colocação | E24: 845.69 | F24: KG | G24: 8.94 | H24: =E24*G24 -> 7560.47 | I24: 6.42 | J24: =E24*I24 -> 5429.33 | K24: =H24+J24 -> 12989.8
A25: 2.5 | B25: SINAPI | C25: 96558 | D25: CONCRETAGEM DE SAPATAS, FCK 30 MPA, COM USO DE BOMBA LANÇAMENTO, ADENSAMENTO E ACABAMENTO. AF_11/2016 | E25: 16.51 | F25: M3 | G25: 34.4 | H25: =E25*G25 -> 567.94 | I25: 872.79 | J25: =E25*I25 -> 14409.76 | K25: =H25+J25 -> 14977.7
A27: 3 | B27: MESOESTRUTURA (BALDRAMES, PILARES, CORTINAS DE CONCRETO CICLÓPICO E VIGAS TRAVESSEIRO) | E27: SUBTOTAL | G27: =SUM(H28:H32) -> 110862.84 | I27: =SUM(J28:J32) -> 28388.5 | K27: =SUM(K28:K32) -> 139251.34
A28: 3.1 | B28: SICRO | C28: 3108003 | D28: Fôrmas de compensado resinado 14 mm - uso geral - utilização de 1 vez - confecção, instalação e retirada | E28: 302.52 | F28: M2 | G28: 122.59 | H28: =E28*G28 -> 37085.93 | I28: 45.93 | J28: =E28*I28 -> 13894.74 | K28: =H28+J28 -> 50980.67
A29: 3.2 | B29: SICRO | C29: 407819 | D29: Armação em aço CA-50 - fornecimento, preparo e colocação | E29: 1959.21 | F29: KG | G29: 8.94 | H29: =E29*G29 -> 17515.34 | I29: 6.42 | J29: =E29*I29 -> 12578.13 | K29: =H29+J29 -> 30093.47
A30: 3.3 | B30: SINAPI | C30: 96557 | D30: CONCRETAGEM DE BLOCOS DE COROAMENTO E VIGAS BALDRAMES, FCK 30 MPA, COM USO DE BOMBA LANÇAMENTO, ADENSAMENTO E ACABAMENTO. AF_06/2017 | E30: 5.29 | F30: M3 | G30: 871.05 | H30: =E30*G30 -> 4607.85 | I30: 25.29 | J30: =E30*I30 -> 133.78 | K30: =H30+J30 -> 4741.63
A31: 3.4 | B31: SINAPI | C31: 100349 | D31: CONCRETAGEM DE CORTINA DE CONTENÇÃO, ATRAVÉS DE BOMBA LANÇAMENTO, ADENSAMENTO E ACABAMENTO. AF_07/2019 | E31: 21.92 | F31: M3 | G31: 836.74 | H31: =E31*G31 -> 18341.34 | I31: 36.97 | J31: =E31*I31 -> 810.38 | K31: =H31+J31 -> 19151.72
A32: 3.5 | B32: SICRO | C32: 1106165 | D32: Concreto ciclópico fck = 20 MPa - confecção em betoneira e lançamento manual - areia, brita e pedra de mão comerciais | E32: 68.85 | F32: M3 | G32: 483.84 | H32: =E32*G32 -> 33312.38 | I32: 14.11 | J32: =E32*I32 -> 971.47 | K32: =H32+J32 -> 34283.85
A34: 4 | B34: SUPRAESTRUTURA (VIGAS PRÉ-MOLDADAS, TABULEIRO E ELEMENTOS PRÉ-MOLDADOS) | E34: SUBTOTAL | G34: =G35+G40+G44 -> 250060.74 | I34: =I35+I40+I44 -> 124541.37 | K34: =K35+K40+K44 -> 374602.11
A35: 4.1 | B35: Vigas pré-moldadas | E35: SUBTOTAL | G35: =SUM(H36:H39) -> 169220.35 | I35: =SUM(J36:J39) -> 93578.3 | K35: =SUM(K36:K39) -> 262798.65
A36: 4.1.1 | B36: SICRO | C36: 3108016 | D36: Fôrmas de compensado plastificado 14 mm - uso geral - utilização de 2 vezes - confecção, instalação e retirada | E36: 520.3 | F36: M2 | G36: 79.39 | H36: =E36*G36 -> 41306.62 | I36: 47.03 | J36: =E36*I36 -> 24469.71 | K36: =H36+J36 -> 65776.33
A37: 4.1.2 | B37: SICRO | C37: 407819 | D37: Armação em aço CA-50 - fornecimento, preparo e colocação | E37: 10150.72 | F37: KG | G37: 8.94 | H37: =E37*G37 -> 90747.44 | I37: 6.42 | J37: =E37*I37 -> 65167.62 | K37: =H37+J37 -> 155915.06
A38: 4.1.3 | B38: SINAPI | C38: 103674 | D38: CONCRETAGEM DE VIGAS E LAJES, FCK=25 MPA, PARA LAJES PREMOLDADAS COM USO DE BOMBA - LANÇAMENTO, ADENSAMENTO E ACABAMENTO. AF_02/2022_PS | E38: 33.81 | F38: M3 | G38: 819.21 | H38: =E38*G38 -> 27697.49 | I38: 72.8 | J38: =E38*I38 -> 2461.37 | K38: =H38+J38 -> 30158.86
A39: 4.1.4 | B39: SINAPI | C39: 89272 | D39: Guindaste hidráulico autopropelido, com lança telescópica 28,80 m, capacidade máxima 30 T, potência 97 kW, tração 4 x 4 - CHP diurno. AF_11/2014 | E39: 40 | F39: CHP | G39: 236.72 | H39: =E39*G39 -> 9468.8 | I39: 36.99 | J39: =E39*I39 -> 1479.6 | K39: =H39+J39 -> 10948.4
A40: 4.2 | B40: Tabuleiro | E40: SUBTOTAL | G40: =SUM(H41:H43) -> 54845.44 | I40: =SUM(J41:J43) -> 17331.53 | K40: =SUM(K41:K43) -> 72176.97
A41: 4.2.1 | B41: SICRO | C41: 3107999 | D41: Fôrmas de compensado resinado 12 mm - uso geral - utilização de 1 vez - confecção, instalação e retirada | E41: 43.94 | F41: M2 | G41: 116.77 | H41: =E41*G41 -> 5130.87 | I41: 45.93 | J41: =E41*I41 -> 2018.16 | K41: =H41+J41 -> 7149.03
A42: 4.2.2 | B42: SICRO | C42: 407819 | D42: Armação em aço CA-50 - fornecimento, preparo e colocação | E42: 1936.78 | F42: KG | G42: 8.94 | H42: =E42*G42 -> 17314.81 | I42: 6.42 | J42: =E42*I42 -> 12434.13 | K42: =H42+J42 -> 29748.94
A43: 4.2.3 | B43: SINAPI | C43: 103674 | D43: CONCRETAGEM DE VIGAS E LAJES, FCK=25 MPA, PARA LAJES PREMOLDADAS COM USO DE BOMBA - LANÇAMENTO, ADENSAMENTO E ACABAMENTO. AF_02/2022_PS | E43: 39.55 | F43: M3 | G43: 819.21 | H43: =E43*G43 -> 32399.76 | I43: 72.8 | J43: =E43*I43 -> 2879.24 | K43: =H43+J43 -> 35279
A44: 4.3 | B44: Elementos pré-moldados | E44: SUBTOTAL | G44: =SUM(H45:H47) -> 25994.95 | I44: =SUM(J45:J47) -> 13631.54 | K44: =SUM(K45:K47) -> 39626.49
...

Sheet CRONOGRAMA
B2: CRONOGRAMA FÍSICO FINANCEIRO
B4: ENDEREÇO: | C4: =RESUMO!D5 -> Estrada Vicinal, Linha Benedetti, Videira - SC | K4: DATA: | L4: =TODAY() -> 45364
B5: MUNICÍPIO: | C5: =RESUMO!D6 -> Município de Videira | K5: RESP. TÉCNICO: | L5: =RESUMO!H6 -> Jonathan K. Freitas
B6: OBRA: | C6: =RESUMO!D7 -> Construção de obra de arte em concreto armado | K6: BDI: | L6: 0.2739
B7: SERVIÇOS | D7: 30 | E7: % NO PERIODO | F7: 60 | G7: % NO PERIODO | H7: 90 | I7: % NO PERIODO | J7: 120 | K7: % NO PERIODO | L7: 150 | M7: % NO PERIODO | N7: 180 | O7: % NO PERIODO | P7: VALOR | Q7: VALOR
A8: ITEM | C8: ÍNDICE | P8: SERVIÇO | Q8: PLANILHA
P9: C/ BDI | Q9: S/ BDI
A10: 1 | B10: SERVIÇOS PRELIMINARES | C10: =IFERROR(P10/$P$23,0) -> 0.0594 | D10: =IF(B10<>"",E10*P10," ") -> 46212.77 | E10: 1 | F10: =IF(B10<>"",G10*P10," ") -> 0 | H10: =IF(B10<>"",I10*P10," ") -> 0 | J10: =IF(B10<>"",K10*P10," ") -> 0 | L10: =IF(B10<>"",M10*P10," ") -> 0 | N10: =IF(B10<>"",O10*P10," ") -> 0 | P10: =Q10*(1+$L$6) -> 46212.77 | Q10: =RESUMO!H11 -> 36276.61
A11: 2 | B11: INFRAESTRUTURA (CHUMBADORES, SAPATAS e ARRANQUES) | C11: =IFERROR(P11/$P$23,0) -> 0.0835 | D11: =IF(B11<>"",E11*P11," ") -> 38955.14 | E11: 0.6 | F11: =IF(B11<>"",G11*P11," ") -> 25970.09 | G11: 0.4 | H11: =IF(B11<>"",I11*P11," ") -> 0 | J11: =IF(B11<>"",K11*P11," ") -> 0 | L11: =IF(B11<>"",M11*P11," ") -> 0 | N11: =IF(B11<>"",O11*P11," ") -> 0 | P11: =Q11*(1+$L$6) -> 64925.23 | Q11: =RESUMO!H12 -> 50965.72
A12: 3 | B12: MESOESTRUTURA (BALDRAMES, PILARES, CORTINAS DE CONCRETO CICLÓPICO E VIGAS TRAVESSEIRO) | C12: =IFERROR(P12/$P$23,0) -> 0.2281 | D12: =IF(B12<>"",E12*P12," ") -> 0 | F12: =IF(B12<>"",G12*P12," ") -> 97565.75 | G12: 0.55 | H12: =IF(B12<>"",I12*P12," ") -> 79826.53 | I12: 0.45 | J12: =IF(B12<>"",K12*P12," ") -> 0 | L12: =IF(B12<>"",M12*P12," ") -> 0 | N12: =IF(B12<>"",O12*P12," ") -> 0 | P12: =Q12*(1+$L$6) -> 177392.28 | Q12: =RESUMO!H13 -> 139251.34
A13: 4 | B13: SUPRAESTRUTURA (VIGAS PRÉ-MOLDADAS, TABULEIRO E ELEMENTOS PRÉ-MOLDADOS) | C13: =IFERROR(P13/$P$23,0) -> 0.6136 | D13: =IF(B13<>"",E13*P13," ") -> 0 | F13: =IF(B13<>"",G13*P13," ") -> 0 | H13: =IF(B13<>"",I13*P13," ") -> 71580.84 | I13: 0.15 | J13: =IF(B13<>"",K13*P13," ") -> 167021.97 | K13: 0.35 | L13: =IF(B13<>"",M13*P13," ") -> 143161.69 | M13: 0.3 | N13: =IF(B13<>"",O13*P13," ") -> 95441.13 | O13: 0.2 | P13: =Q13*(1+$L$6) -> 477205.63 | Q13: =RESUMO!H14 -> 374602.11
A14: 5 | B14: REGULARIZAÇÃO DO ACESSO | C14: =IFERROR(P14/$P$23,0) -> 0.0154 | D14: =IF(B14<>"",E14*P14," ") -> 0 | F14: =IF(B14<>"",G14*P14," ") -> 0 | H14: =IF(B14<>"",I14*P14," ") -> 0 | J14: =IF(B14<>"",K14*P14," ") -> 0 | L14: =IF(B14<>"",M14*P14," ") -> 0 | N14: =IF(B14<>"",O14*P14," ") -> 11990.13 | O14: 1 | P14: =Q14*(1+$L$6) -> 11990.13 | Q14: =RESUMO!H15 -> 9412.14
A15: 6 | C15: =IFERROR(P15/$P$23,0) -> 0 | D15: =IF(B15<>"",E15*P15," ") | F15: =IF(B15<>"",G15*P15," ") | H15: =IF(B15<>"",I15*P15," ") | J15: =IF(B15<>"",K15*P15," ") | L15: =IF(B15<>"",M15*P15," ") | N15: =IF(B15<>"",O15*P15," ") | Q15: =RESUMO!H16 -> 0
A16: 7 | C16: =IFERROR(P16/$P$23,0) -> 0 | D16: =IF(B16<>"",E16*P16," ") | F16: =IF(B16<>"",G16*P16," ") | H16: =IF(B16<>"",I16*P16," ") | J16: =IF(B16<>"",K16*P16," ") | L16: =IF(B16<>"",M16*P16," ") | N16: =IF(B16<>"",O16*P16," ") | Q16: =RESUMO!H17 -> 0
A17: 8 | C17: =IFERROR(P17/$P$23,0) -> 0 | D17: =IF(B17<>"",E17*P17," ") | F17: =IF(B17<>"",G17*P17," ") | H17: =IF(B17<>"",I17*P17," ") | J17: =IF(B17<>"",K17*P17," ") | L17: =IF(B17<>"",M17*P17," ") | N17: =IF(B17<>"",O17*P17," ") | Q17: =RESUMO!H18 -> 0
A18: 9 | C18: =IFERROR(P18/$P$23,0) -> 0 | D18: =IF(B18<>"",E18*P18," ") | F18: =IF(B18<>"",G18*P18," ") | H18: =IF(B18<>"",I18*P18," ") | J18: =IF(B18<>"",K18*P18," ") | L18: =IF(B18<>"",M18*P18," ") | N18: =IF(B18<>"",O18*P18," ")
A19: 10 | B19: =RESUMO!C20 | C19: =IFERROR(P19/$P$23,0) -> 0 | D19: =IF(B19<>"",E19*P19," ") | F19: =IF(B19<>"",G19*P19," ") | H19: =IF(B19<>"",I19*P19," ") | J19: =IF(B19<>"",K19*P19," ") | L19: =IF(B19<>"",M19*P19," ") | N19: =IF(B19<>"",O19*P19," ")
A20: 11 | B20: =RESUMO!C21 | C20: =IFERROR(P20/$P$23,0) -> 0 | D20: =IF(B20<>"",E20*P20," ") | F20: =IF(B20<>"",G20*P20," ") | H20: =IF(B20<>"",I20*P20," ") | J20: =IF(B20<>"",K20*P20," ") | L20: =IF(B20<>"",M20*P20," ") | N20: =IF(B20<>"",O20*P20," ")
A21: 12
A22: 20 | B22: =RESUMO!C22 | C22: =IFERROR(P22/$P$23,0) -> 0 | D22: =IF(B22<>"",E22*P22," ") | F22: =IF(B22<>"",G22*P22," ") | H22: =IF(B22<>"",I22*P22," ") | J22: =IF(B22<>"",K22*P22," ") | L22: =IF(B22<>"",M22*P22," ") | N22: =IF(B22<>"",O22*P22," ")
A23: VALOR DA PARCELA DETERMINADA COM BASE NO PREÇO MÁXIMO | C23: =SUMIF(C10:C22,">0",C10:C22) -> 1 | D23: =SUMIF(D10:D22,">0",D10:D22) -> 85167.91 | E23: =IF($P$23=0,0,D23/$P$23) -> 0.1095 | F23: =SUMIF(F10:F22,">0",F10:F22) -> 123535.84 | G23: =IF($P$23=0,0,F23/$P$23) -> 0.1588 | H23: =SUMIF(H10:H22,">0",H10:H22) -> 151407.37 | I23: =IF($P$23=0,0,H23/$P$23) -> 0.1947 | J23: =SUMIF(J10:J22,">0",J10:J22) -> 167021.97 | K23: =IF($P$23=0,0,J23/$P$23) -> 0.2148 | L23: =SUMIF(L10:L22,">0",L10:L22) -> 143161.69 | M23: =IF($P$23=0,0,L23/$P$23) -> 0.1841 | N23: =SUMIF(N10:N22,">0",N10:N22) -> 107431.26 | O23: =IF($P$23=0,0,N23/$P$23) -> 0.1381 | P23: =SUMIF(P10:P22,">0",P10:P22) -> 777726.04 | Q23: =SUMIF(Q10:Q22,">0",Q10:Q22) -> 610507.92
A24: VALOR PROPOSTO | D24: =IF($C$24<>"",(1-$C$25)*D$23," ") | E24: =E23 -> 0.1095 | F24: =IF($C$24<>"",(1-$C$25)*F$23," ") | G24: =G23 -> 0.1588 | H24: =IF($C$24<>"",(1-$C$25)*H$23," ") | I24: =I23 -> 0.1947 | J24: =IF($C$24<>"",(1-$C$25)*J$23," ") | K24: =K23 -> 0.2148 | L24: =IF($C$24<>"",(1-$C$25)*L$23," ") | M24: =M23 -> 0.1841 | N24: =IF($C$24<>"",(1-$C$25)*N$23," ") | O24: =O23 -> 0.1381 | P24: =IF(C24<>"",D24+F24+H24+J24+L24+N24," ")
A25: DESCONTO PROPOSTO / VALOR DAS PARCELAS | C25: =IF(C24<>"",(1-(C24/P23))," ")
A26: TOTAL ACUMULADO COM O DESCONTO PROPOSTO | D26: =IF(C24<>"",D24,D23) -> 85167.91 | E26: =E24 -> 0.1095 | F26: =IF(C24<>"",F24+D26,D26+F23) -> 208703.75 | G26: =G24+E26 -> 0.2683 | H26: =IF(C24<>"",F26+H24,F26+H23) -> 360111.12 | I26: =I24+G26 -> 0.463 | J26: =IF(C24<>"",H26+J24,H26+J23) -> 527133.09 | K26: =K24+I26 -> 0.6778 | L26: =IF(C24<>"",J26+L24,J26+L23) -> 670294.78 | M26: =M24+K26 -> 0.8619 | N26: =IF(C24<>"",L26+N24,L26+N23) -> 777726.04 | O26: =O24+M26 -> 1
M33: Jonathan Kozikoski Freitas
M34: Responsável Técnico
