Workbook
Name Print_Titles: 'PLANILHA ORÇAMENTÁRIA'!$12:$13

Sheet PLANILHA ORÇAMENTÁRIA
B2: ESTADO DE SANTA CATARINA - PREFEITURA MUNICIPAL DE VIDEIRA | K2: BDI 1 - REFERENCIAL: | L2: 0.2265
B3: SECRETARIA DE OBRAS E PROJETOS
B4: PLANILHA DE ORÇAMENTO DISCRIMINADA
B5: OBRA: REFORMA DO QUARTEL DA POLÍCIA MILITAR EM VIDEIRA, INCLUINDO MATERIAL E MÃO DE OBRA
B6: PRAZO DE EXECUÇÃO: 90 DIAS
B7: REFERENCIAIS UTILIZADOS COMO BASE: | F7: SINAPI 02/2026 - DATA TÉCNICA 23/03/2026 (SEM DESONERAÇÃO)
F8: ORSE - DATA BASE 03/2026
B12: BDI | C12: Item | E12: Sub | F12: Discriminação | G12: Quant. | H12: Und. | I12: Material | K12: Mão de Obra | M12: Valor Total
E13: Item | I13: Unit. | J13: Total | K13: Unit. | L13: Total
B15: BDI | C15: REFERENCIAL | D15: CÓDIGO | E15: 1 | F15: ADMINISTRAÇÃO LOCAL
B16: BDI-1 | C16: SINAPI | D16: 90778 | E16: 1.1 | F16: ENGENHEIRO CIVIL DE OBRA PLENO COM ENCARGOS COMPLEMENTARES | G16: 72 | H16: H | I16: 0 | J16: =I16*G16 -> 0 | K16: 192 | L16: =K16*G16 -> 13824 | M16: =J16+L16 -> 13824
B17: BDI-1 | C17: SINAPI | D17: 93572 | E17: 1.2 | F17: ENCARREGADO GERAL DE OBRAS COM ENCARGOS COMPLEMENTARES | G17: 3 | H17: MES | I17: 0 | J17: =I17*G17 -> 0 | K17: 8698.35 | L17: =K17*G17 -> 26095.05 | M17: =J17+L17 -> 26095.05
F19: SUB-TOTAL | J19: =SUM(J15:J18) -> 0 | L19: =SUM(L15:L18) -> 39919.05 | M19: =SUM(M15:M18) -> 39919.05
B21: BDI | C21: REFERENCIAL | D21: CÓDIGO | E21: 2 | F21: SERVIÇOS PRELIMINARES
B22: BDI-1 | C22: SINAPI | D22: 103689 | E22: 2.1 | F22: FORNECIMENTO E INSTALAÇÃO DE PLACA DE OBRA COM CHAPA GALVANIZADA E ESTRUTURA DE MADEIRA. AF_03/2022_PS | G22: 2.4 | H22: M2 | I22: 513.07 | J22: =I22*G22 -> 1231.37 | K22: 64.26 | L22: =K22*G22 -> 154.22 | M22: =J22+L22 -> 1385.59
B23: BDI-1 | C23: SINAPI | D23: 97644 | E23: 2.2 | F23: REMOÇÃO DE PORTAS, DE FORMA MANUAL, SEM REAPROVEITAMENTO. AF_09/2023 | G23: 29.4 | H23: M2 | I23: 0 | J23: =I23*G23 -> 0 | K23: 14.89 | L23: =K23*G23 -> 437.77 | M23: =J23+L23 -> 437.77
B24: BDI-1 | C24: SINAPI | D24: 97645 | E24: 2.3 | F24: REMOÇÃO DE JANELAS, DE FORMA MANUAL, SEM REAPROVEITAMENTO. AF_09/2023 | G24: 29.43 | H24: M2 | I24: 0 | J24: =I24*G24 -> 0 | K24: 38.48 | L24: =K24*G24 -> 1132.47 | M24: =J24+L24 -> 1132.47
B25: BDI-1 | C25: SINAPI | D25: 97663 | E25: 2.4 | F25: REMOÇÃO DE LOUÇAS, DE FORMA MANUAL, SEM REAPROVEITAMENTO. AF_09/2023 | G25: 4 | H25: UN | I25: 0 | J25: =I25*G25 -> 0 | K25: 19.82 | L25: =K25*G25 -> 79.28 | M25: =J25+L25 -> 79.28
B26: BDI-1 | C26: SINAPI | D26: 97666 | E26: 2.5 | F26: REMOÇÃO DE METAIS SANITÁRIOS, DE FORMA MANUAL, SEM REAPROVEITAMENTO. AF_09/2023 | G26: 8 | H26: UN | I26: 0 | J26: =I26*G26 -> 0 | K26: 14.45 | L26: =K26*G26 -> 115.6 | M26: =J26+L26 -> 115.6
B27: BDI-1 | C27: SINAPI | D27: 97640 | E27: 2.6 | F27: REMOÇÃO DE FORROS DE DRYWALL, PVC E FIBROMINERAL, DE FORMA MANUAL, SEM REAPROVEITAMENTO. AF_09/2023 | G27: 95.51 | H27: M2 | I27: 0 | J27: =I27*G27 -> 0 | K27: 3.07 | L27: =K27*G27 -> 293.22 | M27: =J27+L27 -> 293.22
B28: BDI-1 | C28: SINAPI | D28: 97642 | E28: 2.7 | F28: REMOÇÃO DE TRAMA METÁLICA OU DE MADEIRA PARA FORRO, DE FORMA MANUAL, SEM REAPROVEITAMENTO. AF_09/2023 | G28: 95.51 | H28: M2 | I28: 0 | J28: =I28*G28 -> 0 | K28: 4.4 | L28: =K28*G28 -> 420.24 | M28: =J28+L28 -> 420.24
B29: BDI-1 | C29: ORSE | D29: 11390 | E29: 2.8 | F29: DEMOLIÇÃO DE DIVISÓRIAS TIPO NAVAL | G29: 18.02 | H29: M2 | I29: 3.2 | J29: =I29*G29 -> 57.66 | K29: 18.34 | L29: =K29*G29 -> 330.49 | M29: =J29+L29 -> 388.15
B30: BDI-1 | C30: SINAPI | D30: 104803 | E30: 2.9 | F30: REMOÇÃO CALHAS E RUFOS, DE FORMA MANUAL, SEM REAPROVEITAMENTO. AF_09/2023 | G30: 12.75 | H30: M | I30: 0 | J30: =I30*G30 -> 0 | K30: 7.42 | L30: =K30*G30 -> 94.61 | M30: =J30+L30 -> 94.61
B31: BDI-1 | C31: SINAPI | D31: 97649 | E31: 2.10 | F31: REMOÇÃO DE TELHAS DE FIBROCIMENTO, METÁLICA E CERÂMICA, DE FORMA MECANIZADA, COM USO DE GUINDASTE, SEM REAPROVEITAMENTO. AF_09/2023 | G31: 54.9 | H31: M2 | I31: 0.81 | J31: =I31*G31 -> 44.47 | K31: 6.14 | L31: =K31*G31 -> 337.09 | M31: =J31+L31 -> 381.56
B32: BDI-1 | C32: ORSE | D32: 4977 | E32: 2.11 | F32: DEMOLIÇÃO DE MADEIRAMENTO EM COBERTURAS COM TELHAS DE FIBROCIMENTO 4 A 8 MM | G32: 54.9 | H32: M2 | I32: 3.7 | J32: =I32*G32 -> 203.13 | K32: 15.14 | L32: =K32*G32 -> 831.19 | M32: =J32+L32 -> 1034.32
B33: BDI-1 | C33: SINAPI | D33: 97627 | E33: 2.12 | F33: DEMOLIÇÃO DE PILARES E VIGAS EM CONCRETO ARMADO, DE FORMA MECANIZADA COM MARTELETE, SEM REAPROVEITAMENTO. AF_09/2023 | G33: 4.34 | H33: M3 | I33: 14.5 | J33: =I33*G33 -> 62.93 | K33: 270.77 | L33: =K33*G33 -> 1175.14 | M33: =J33+L33 -> 1238.07
... B43: BDI-1 | C43: SINAPI | D43: 95875 | E43: 2.22 | F43: TRANSPORTE COM CAMINHÃO BASCULANTE DE 10 M³, EM VIA URBANA PAVIMENTADA, DMT ATÉ 30 KM (UNIDADE: M3XKM). AF_02/2026 | G43: 500 | H43: M3XKM | I43: 2.7 | J43: =I43*G43 -> 1350 | K43: 0.6 | L43: =K43*G43 -> 300 | M43: =J43+L43 -> 1650
F45: SUB-TOTAL | J45: =SUM(J21:J44) -> 8002.65 | L45: =SUM(L21:L44) -> 25950.2 | M45: =SUM(M21:M44) -> 33952.85
B47: BDI | C47: REFERENCIAL | D47: CÓDIGO | E47: 3 | F47: FUNDAÇÕES
B48: BDI-1 | C48: SINAPI | D48: 96616 | E48: 3.1 | F48: LASTRO DE CONCRETO MAGRO, APLICADO EM BLOCOS DE COROAMENTO OU SAPATAS. AF_01/2024 | G48: 0.24 | H48: M3 | I48: 647.11 | J48: =I48*G48 -> 155.31 | K48: 561.31 | L48: =K48*G48 -> 134.71 | M48: =J48+L48 -> 290.02
B49: BDI-1 | C49: SINAPI | D49: 96541 | E49: 3.2 | F49: FABRICAÇÃO, MONTAGEM E DESMONTAGEM DE FÔRMA PARA SAPATA, EM CHAPA DE MADEIRA COMPENSADA RESINADA, E=17 MM, 4 UTILIZAÇÕES. AF_01/2024 | G49: 16.55 | H49: M2 | I49: 51.16 | J49: =I49*G49 -> 846.7 | K49: 219.8 | L49: =K49*G49 -> 3637.69 | M49: =J49+L49 -> 4484.39
B50: BDI-1 | C50: SINAPI | D50: 96542 | E50: 3.3 | F50: FABRICAÇÃO, MONTAGEM E DESMONTAGEM DE FÔRMA PARA VIGA BALDRAME, EM CHAPA DE MADEIRA COMPENSADA RESINADA, E=17 MM, 4 UTILIZAÇÕES. AF_01/2024 | G50: 29.8 | H50: M2 | I50: 35.57 | J50: =I50*G50 -> 1059.99 | K50: 108.18 | L50: =K50*G50 -> 3223.76 | M50: =J50+L50 -> 4283.75
B51: BDI-1 | C51: SINAPI | D51: 104916 | E51: 3.4 | F51: ARMAÇÃO DE SAPATA ISOLADA, VIGA BALDRAME E SAPATA CORRIDA UTILIZANDO AÇO CA-60 DE 5 MM - MONTAGEM. AF_01/2024 | G51: 26.29 | H51: KG | I51: 10.17 | J51: =I51*G51 -> 267.37 | K51: 12.44 | L51: =K51*G51 -> 327.05 | M51: =J51+L51 -> 594.42
B52: BDI-1 | C52: SINAPI | D52: 104918 | E52: 3.5 | F52: ARMAÇÃO DE SAPATA ISOLADA, VIGA BALDRAME E SAPATA CORRIDA UTILIZANDO AÇO CA-50 DE 8 MM - MONTAGEM. AF_01/2024 | G52: 21.39 | H52: KG | I52: 11.58 | J52: =I52*G52 -> 247.7 | K52: 6.65 | L52: =K52*G52 -> 142.24 | M52: =J52+L52 -> 389.94
B53: BDI-1 | C53: SINAPI | D53: 104919 | E53: 3.6 | F53: ARMAÇÃO DE SAPATA ISOLADA, VIGA BALDRAME E SAPATA CORRIDA UTILIZANDO AÇO CA-50 DE 10 MM - MONTAGEM. AF_01/2024 | G53: 112.16 | H53: KG | I53: 10.94 | J53: =I53*G53 -> 1227.03 | K53: 5.08 | L53: =K53*G53 -> 569.77 | M53: =J53+L53 -> 1796.8
B54: BDI-1 | C54: COMPOSIÇÃO | D54: 1 | E54: 3.7 | F54: CONCRETAGEM DE SAPATA, FCK 25 MPA, COM USO DE BOMBA - LANÇAMENTO, ADENSAMENTO E ACABAMENTO (REF.: SINAPI 96558) | G54: 2.37 | H54: M3 | I54: 981.54 | J54: =I54*G54 -> 2326.25 | K54: 54.93 | L54: =K54*G54 -> 130.18 | M54: =J54+L54 -> 2456.43
B55: BDI-1 | C55: COMPOSIÇÃO | D55: 2 | E55: 3.8 | F55: CONCRETAGEM DE BLOCO DE COROAMENTO OU VIGA BALDRAME, FCK 25 MPA, COM USO DE BOMBA - LANÇAMENTO, ADENSAMENTO E ACABAMENTO (REF.: SINAPI 96557) | G55: 1.87 | H55: M3 | I55: 958.02 | J55: =I55*G55 -> 1791.5 | K55: 31.26 | L55: =K55*G55 -> 58.46 | M55: =J55+L55 -> 1849.96
B56: BDI-1 | C56: SINAPI | D56: 100324 | E56: 3.9 | F56: LASTRO COM MATERIAL GRANULAR (PEDRA BRITADA N.1 E PEDRA BRITADA N.2), APLICADO EM PISOS OU LAJES SOBRE SOLO, ESPESSURA DE *10 CM*. AF_01/2024 | G56: 5.11 | H56: M3 | I56: 164.19 | J56: =I56*G56 -> 839.01 | K56: 90.92 | L56: =K56*G56 -> 464.6 | M56: =J56+L56 -> 1303.61
B57: BDI-1 | C57: SINAPI | D57: 92768 | E57: 3.10 | F57: ARMAÇÃO DE LAJE DE ESTRUTURA CONVENCIONAL DE CONCRETO ARMADO UTILIZANDO AÇO CA-60 DE 5,0 MM - MONTAGEM. AF_06/2022 | G57: 24.87 | H57: KG | I57: 10.5 | J57: =I57*G57 -> 261.14 | K57: 7.03 | L57: =K57*G57 -> 174.84 | M57: =J57+L57 -> 435.98
B58: BDI-1 | C58: SINAPI | D58: 92770 | E58: 3.11 | F58: ARMAÇÃO DE LAJE DE ESTRUTURA CONVENCIONAL DE CONCRETO ARMADO UTILIZANDO AÇO CA-50 DE 8,0 MM - MONTAGEM. AF_06/2022 | G58: 246.26 | H58: KG | I58: 11.64 | J58: =I58*G58 -> 2866.47 | K58: 2.78 | L58: =K58*G58 -> 684.6 | M58: =J58+L58 -> 3551.07
B59: BDI-1 | C59: SINAPI | D59: 103675 | E59: 3.12 | F59: CONCRETAGEM DE VIGAS E LAJES, FCK=25 MPA, PARA LAJES MACIÇAS OU NERVURADAS COM USO DE BOMBA - LANÇAMENTO, ADENSAMENTO E ACABAMENTO. AF_02/2022_PS | G59: 5.91 | H59: M3 | I59: 859.21 | J59: =I59*G59 -> 5077.93 | K59: 66.27 | L59: =K59*G59 -> 391.66 | M59: =J59+L59 -> 5469.59
B60: BDI-1 | C60: SINAPI | D60: 98557 | E60: 3.13 | F60: IMPERMEABILIZAÇÃO DE SUPERFÍCIE COM EMULSÃO ASFÁLTICA, 2 DEMÃOS. AF_09/2023 | G60: 34.22 | H60: M2 | I60: 44.87 | J60: =I60*G60 -> 1535.45 | K60: 22.42 | L60: =K60*G60 -> 767.21 | M60: =J60+L60 -> 2302.66
F62: SUB-TOTAL | J62: =SUM(J47:J61) -> 18501.85 | L62: =SUM(L47:L61) -> 10706.77 | M62: =SUM(M47:M61) -> 29208.62
B64: BDI | C64: REFERENCIAL | D64: CÓDIGO | E64: 4 | F64: SUPRAESTRUTURA
B65: BDI-1 | C65: SINAPI | D65: 92419 | E65: 4.1 | F65: MONTAGEM E DESMONTAGEM DE FÔRMA DE PILARES RETANGULARES E ESTRUTURAS SIMILARES, PÉ-DIREITO SIMPLES, EM CHAPA DE MADEIRA COMPENSADA RESINADA, 4 UTILIZAÇÕES. AF_09/2020 | G65: 16.83 | H65: M2 | I65: 81.48 | J65: =I65*G65 -> 1371.31 | K65: 66.29 | L65: =K65*G65 -> 1115.66 | M65: =J65+L65 -> 2486.97
B66: BDI-1 | C66: SINAPI | D66: 92456 | E66: 4.2 | F66: MONTAGEM E DESMONTAGEM DE FÔRMA DE VIGA, ESCORAMENTO METÁLICO, PÉ-DIREITO SIMPLES, EM CHAPA DE MADEIRA RESINADA, 4 UTILIZAÇÕES. AF_09/2020 | G66: 24.88 | H66: M2 | I66: 159.2 | J66: =I66*G66 -> 3960.9 | K66: 112.14 | L66: =K66*G66 -> 2790.04 | M66: =J66+L66 -> 6750.94
B67: BDI-1 | C67: SINAPI | D67: 92759 | E67: 4.3 | F67: ARMAÇÃO DE PILAR OU VIGA DE ESTRUTURA CONVENCIONAL DE CONCRETO ARMADO UTILIZANDO AÇO CA-60 DE 5,0 MM - MONTAGEM. AF_06/2022 | G67: 21.92 | H67: KG | I67: 10.25 | J67: =I67*G67 -> 224.68 | K67: 8.21 | L67: =K67*G67 -> 179.96 | M67: =J67+L67 -> 404.64
B68: BDI-1 | C68: SINAPI | D68: 92761 | E68: 4.4 | F68: ARMAÇÃO DE PILAR OU VIGA DE ESTRUTURA CONVENCIONAL DE CONCRETO ARMADO UTILIZANDO AÇO CA-50 DE 8,0 MM - MONTAGEM. AF_06/2022 | G68: 26.12 | H68: KG | I68: 11.64 | J68: =I68*G68 -> 304.04 | K68: 3.58 | L68: =K68*G68 -> 93.51 | M68: =J68+L68 -> 397.55
B69: BDI-1 | C69: SINAPI | D69: 92762 | E69: 4.5 | F69: ARMAÇÃO DE PILAR OU VIGA DE ESTRUTURA CONVENCIONAL DE CONCRETO ARMADO UTILIZANDO AÇO CA-50 DE 10,0 MM - MONTAGEM. AF_06/2022 | G69: 52.3 | H69: KG | I69: 10.98 | J69: =I69*G69 -> 574.25 | K69: 2.37 | L69: =K69*G69 -> 123.95 | M69: =J69+L69 -> 698.2
B70: BDI-1 | C70: SINAPI | D70: 103672 | E70: 4.6 | F70: CONCRETAGEM DE PILARES, FCK = 25 MPA, COM USO DE BOMBA - LANÇAMENTO, ADENSAMENTO E ACABAMENTO. AF_02/2022_PS | G70: 1.01 | H70: M3 | I70: 859.16 | J70: =I70*G70 -> 867.75 | K70: 64.37 | L70: =K70*G70 -> 65.01 | M70: =J70+L70 -> 932.76
B71: BDI-1 | C71: SINAPI | D71: 103675 | E71: 4.7 | F71: CONCRETAGEM DE VIGAS E LAJES, FCK=25 MPA, PARA LAJES MACIÇAS OU NERVURADAS COM USO DE BOMBA - LANÇAMENTO, ADENSAMENTO E ACABAMENTO. AF_02/2022_PS | G71: 1.56 | H71: M3 | I71: 859.21 | J71: =I71*G71 -> 1340.37 | K71: 66.27 | L71: =K71*G71 -> 103.38 | M71: =J71+L71 -> 1443.75
F73: SUB-TOTAL | J73: =SUM(J64:J72) -> 8643.3 | L73: =SUM(L64:L72) -> 4471.51 | M73: =SUM(M64:M72) -> 13114.81
B75: BDI | C75: REFERENCIAL | D75: CÓDIGO | E75: 5 | F75: COBERTURA
B76: BDI-1 | C76: SINAPI | D76: 92602 | E76: 5.1 | F76: FABRICAÇÃO E INSTALAÇÃO DE TESOURA INTEIRA EM AÇO, VÃO DE 3 M, PARA TELHA ONDULADA DE FIBROCIMENTO, METÁLICA, PLÁSTICA OU TERMOACÚSTICA, INCLUSO IÇAMENTO, EXCLUSIVE PINTURA. AF_10/2025 | G76: 1 | H76: UN | I76: 536.9 | J76: =I76*G76 -> 536.9 | K76: 293.45 | L76: =K76*G76 -> 293.45 | M76: =J76+L76 -> 830.35
B77: BDI-1 | C77: SINAPI | D77: 92604 | E77: 5.2 | F77: FABRICAÇÃO E INSTALAÇÃO DE TESOURA INTEIRA EM AÇO, VÃO DE 4 M, PARA TELHA ONDULADA DE FIBROCIMENTO, METÁLICA, PLÁSTICA OU TERMOACÚSTICA, INCLUSO IÇAMENTO, EXCLUSIVE PINTURA. AF_10/2025 | G77: 3 | H77: UN | I77: 677.41 | J77: =I77*G77 -> 2032.23 | K77: 293.51 | L77: =K77*G77 -> 880.53 | M77: =J77+L77 -> 2912.76
B78: BDI-1 | C78: SINAPI | D78: 92606 | E78: 5.3 | F78: FABRICAÇÃO E INSTALAÇÃO DE TESOURA INTEIRA EM AÇO, VÃO DE 5 M, PARA TELHA ONDULADA DE FIBROCIMENTO, METÁLICA, PLÁSTICA OU TERMOACÚSTICA, INCLUSO IÇAMENTO, EXCLUSIVE PINTURA. AF_10/2025 | G78: 1 | H78: UN | I78: 818.84 | J78: =I78*G78 -> 818.84 | K78: 293.42 | L78: =K78*G78 -> 293.42 | M78: =J78+L78 -> 1112.26
B79: BDI-1 | C79: SINAPI | D79: 92580 | E79: 5.4 | F79: TRAMA DE AÇO COMPOSTA POR TERÇAS PARA TELHADOS DE ATÉ 2 ÁGUAS PARA TELHA ONDULADA DE FIBROCIMENTO, METÁLICA, PLÁSTICA OU TERMOACÚSTICA, INCLUSO TRANSPORTE VERTICAL, EXCLUSIVE PINTURA. AF_10/2025_PS | G79: 56.69 | H79: M2 | I79: 47.94 | J79: =I79*G79 -> 2717.72 | K79: 16.05 | L79: =K79*G79 -> 909.87 | M79: =J79+L79 -> 3627.59
B80: BDI-1 | C80: SINAPI | D80: 94213 | E80: 5.5 | F80: TELHAMENTO COM TELHA DE AÇO/ALUMÍNIO E = 0,5 MM, COM ATÉ 2 ÁGUAS, INCLUSO IÇAMENTO. AF_07/2019 | G80: 56.69 | H80: M2 | I80: 77.09 | J80: =I80*G80 -> 4370.23 | K80: 7.43 | L80: =K80*G80 -> 421.21 | M80: =J80+L80 -> 4791.44
B81: BDI-1 | C81: SINAPI | D81: 94228 | E81: 5.6 | F81: CALHA EM CHAPA DE AÇO GALVANIZADO NÚMERO 24, DESENVOLVIMENTO DE 50 CM, INCLUSO TRANSPORTE VERTICAL. AF_07/2019 | G81: 14.66 | H81: M | I81: 77.15 | J81: =I81*G81 -> 1131.02 | K81: 26.37 | L81: =K81*G81 -> 386.58 | M81: =J81+L81 -> 1517.6
B82: BDI-1 | C82: SINAPI | D82: 94231 | E82: 5.7 | F82: RUFO EM CHAPA DE AÇO GALVANIZADO NÚMERO 24, CORTE DE 25 CM, INCLUSO TRANSPORTE VERTICAL. AF_07/2019 | G82: 16.98 | H82: M | I82: 46.8 | J82: =I82*G82 -> 794.66 | K82: 13.45 | L82: =K82*G82 -> 228.38 | M82: =J82+L82 -> 1023.04
F84: SUB-TOTAL | J84: =SUM(J75:J83) -> 12401.6 | L84: =SUM(L75:L83) -> 3413.44 | M84: =SUM(M75:M83) -> 15815.04
B86: BDI | C86: REFERENCIAL | D86: CÓDIGO | E86: 6 | F86: ALVENARIAS, FECHAMENTOS E VEDAÇÕES
B87: BDI-1 | C87: SINAPI | D87: 103330 | E87: 6.1 | F87: ALVENARIA DE VEDAÇÃO DE BLOCOS CERÂMICOS FURADOS NA HORIZONTAL DE 11,5X19X19 CM (ESPESSURA 11,5 CM) E ARGAMASSA DE ASSENTAMENTO COM PREPARO EM BETONEIRA. AF_12/2021 | G87: 119.66 | H87: M2 | I87: 51.3 | J87: =I87*G87 -> 6138.56 | K87: 74.99 | L87: =K87*G87 -> 8973.3 | M87: =J87+L87 -> 15111.86
B88: BDI-1 | C88: SINAPI | D88: 105023 | E88: 6.2 | F88: VERGA MOLDADA IN LOCO EM CONCRETO, ESPESSURA DE *15* CM. AF_03/2024 | G88: 34.4 | H88: M | I88: 68.97 | J88: =I88*G88 -> 2372.57 | K88: 42 | L88: =K88*G88 -> 1444.8 | M88: =J88+L88 -> 3817.37
B89: BDI-1 | C89: SINAPI | D89: 105029 | E89: 6.3 | F89: CONTRAVERGA MOLDADA IN LOCO EM CONCRETO, ESPESSURA DE *15* CM. AF_03/2024 | G89: 22.9 | H89: M | I89: 56.64 | J89: =I89*G89 -> 1297.06 | K89: 26.6 | L89: =K89*G89 -> 609.14 | M89: =J89+L89 -> 1906.2
B90: BDI-1 | C90: SINAPI | D90: 90447 | E90: 6.4 | F90: RASGO LINEAR MANUAL EM ALVENARIA, PARA ELETRODUTOS, DIÂMETROS MENORES OU IGUAIS A 40 MM. AF_09/2023 | G90: 28.9 | H90: M | I90: 0 | J90: =I90*G90 -> 0 | K90: 15.8 | L90: =K90*G90 -> 456.62 | M90: =J90+L90 -> 456.62
B91: BDI-1 | C91: SINAPI | D91: 104766 | E91: 6.5 | F91: CHUMBAMENTO LINEAR EM ALVENARIA PARA ELETRODUTOS COM DIÂMETROS MENORES OU IGUAIS A 40 MM. AF_09/2023 | G91: 28.9 | H91: M | I91: 3.62 | J91: =I91*G91 -> 104.62 | K91: 25.28 | L91: =K91*G91 -> 730.59 | M91: =J91+L91 -> 835.21
B92: BDI-1 | C92: SINAPI | D92: 90443 | E92: 6.6 | F92: RASGO LINEAR MANUAL EM ALVENARIA, PARA RAMAIS/ DISTRIBUIÇÃO DE INSTALAÇÕES HIDRÁULICAS, DIÂMETROS MENORES OU IGUAIS A 40 MM. AF_09/2023 | G92: 16.02 | H92: M | I92: 0 | J92: =I92*G92 -> 0 | K92: 12.66 | L92: =K92*G92 -> 202.81 | M92: =J92+L92 -> 202.81
B93: BDI-1 | C93: SINAPI | D93: 90446 | E93: 6.7 | F93: RASGO LINEAR MECANIZADO EM CONTRAPISO, PARA RAMAIS/ DISTRIBUIÇÃO DE INSTALAÇÕES HIDRÁULICAS, DIÂMETROS MAIORES QUE 75 MM E MENORES OU IGUAIS A 100 MM. AF_09/2023_PS | G93: 16.02 | H93: M | I93: 0.71 | J93: =I93*G93 -> 11.37 | K93: 34.93 | L93: =K93*G93 -> 559.58 | M93: =J93+L93 -> 570.95
B94: BDI-1 | C94: SINAPI | D94: 91222 | E94: 6.8 | F94: RASGO LINEAR MANUAL EM ALVENARIA, PARA RAMAIS/ DISTRIBUIÇÃO DE INSTALAÇÕES HIDRÁULICAS, DIÂMETROS MAIORES QUE 40 MM E MENORES OU IGUAIS A 75 MM. AF_09/2023 | G94: 1.5 | H94: M | I94: 0 | J94: =I94*G94 -> 0 | K94: 14.08 | L94: =K94*G94 -> 21.12 | M94: =J94+L94 -> 21.12
B95: BDI-1 | C95: SINAPI | D95: 90467 | E95: 6.9 | F95: CHUMBAMENTO LINEAR EM ALVENARIA PARA RAMAIS/DISTRIBUIÇÃO DE INSTALAÇÕES HIDRÁULICAS COM DIÂMETROS MAIORES QUE 40 MM E MENORES OU IGUAIS A 75 MM. AF_09/2023 | G95: 1.5 | H95: M | I95: 5.59 | J95: =I95*G95 -> 8.39 | K95: 30.54 | L95: =K95*G95 -> 45.81 | M95: =J95+L95 -> 54.2
B96: BDI-1 | C96: SINAPI | D96: 96358 | E96: 6.10 | F96: PAREDE COM SISTEMA EM CHAPAS DE GESSO PARA DRYWALL, USO INTERNO, COM DUAS FACES SIMPLES E ESTRUTURA METÁLICA COM GUIAS SIMPLES, SEM VÃOS. AF_07/2023_PS | G96: 13.65 | H96: M2 | I96: 97.9 | J96: =I96*G96 -> 1336.34 | K96: 27.55 | L96: =K96*G96 -> 376.06 | M96: =J96+L96 -> 1712.4
B97: BDI-1 | C97: SINAPI | D97: 96359 | E97: 6.11 | F97: PAREDE COM SISTEMA EM CHAPAS DE GESSO PARA DRYWALL, USO INTERNO, COM DUAS FACES SIMPLES E ESTRUTURA METÁLICA COM GUIAS SIMPLES PARA PAREDES COM ÁREA LÍQUIDA MAIOR OU IGUAL A 6 M2, COM VÃOS. AF_07/2023_PS | G97: 9.71 | H97: M2 | I97: 109.17 | J97: =I97*G97 -> 1060.04 | K97: 31.4 | L97: =K97*G97 -> 304.89 | M97: =J97+L97 -> 1364.93
F99: SUB-TOTAL | J99: =SUM(J86:J98) -> 12328.95 | L99: =SUM(L86:L98) -> 13724.72 | M99: =SUM(M86:M98) -> 26053.67
B101: BDI | C101: REFERENCIAL | D101: CÓDIGO | E101: 7 | F101: FORROS
B102: BDI-1 | C102: SINAPI | D102: 96486 | E102: 7.1 | F102: FORRO EM RÉGUAS DE PVC, LISO, PARA AMBIENTES COMERCIAIS, INCLUSIVE ESTRUTURA BIDIRECIONAL DE FIXAÇÃO. AF_08/2023_PS | G102: 52.53 | H102: M2 | I102: 71.31 | J102: =I102*G102 -> 3745.91 | K102: 25.22 | L102: =K102*G102 -> 1324.81 | M102: =J102+L102 -> 5070.72
B103: BDI-1 | C103: SINAPI | D103: 96121 | E103: 7.2 | F103: ACABAMENTOS PARA FORRO (RODA-FORRO EM PERFIL METÁLICO E PLÁSTICO). AF_08/2023 | G103: 88.15 | H103: M | I103: 7.71 | J103: =I103*G103 -> 679.64 | K103: 8.88 | L103: =K103*G103 -> 782.77 | M103: =J103+L103 -> 1462.41
B104: BDI-1 | C104: SINAPI | D104: 96113 | E104: 7.3 | F104: FORRO EM PLACAS DE GESSO, PARA AMBIENTES COMERCIAIS. AF_08/2023_PS | G104: 63.82 | H104: M2 | I104: 19.76 | J104: =I104*G104 -> 1261.08 | K104: 49.19 | L104: =K104*G104 -> 3139.31 | M104: =J104+L104 -> 4400.39
B105: BDI-1 | C105: SINAPI | D105: 99054 | E105: 7.4 | F105: ACABAMENTOS PARA FORRO (SANCA DE GESSO, MONTADA NA OBRA). AF_08/2023_PS | G105: 56.2 | H105: M2 | I105: 19.84 | J105: =I105*G105 -> 1115.01 | K105: 68.51 | L105: =K105*G105 -> 3850.26 | M105: =J105+L105 -> 4965.27
F107: SUB-TOTAL | J107: =SUM(J101:J106) -> 6801.64 | L107: =SUM(L101:L106) -> 9097.15 | M107: =SUM(M101:M106) -> 15898.79
B109: BDI | C109: REFERENCIAL | D109: CÓDIGO | E109: 8 | F109: ESQUADRIAS
B110: BDI-1 | C110: SINAPI | D110: 90843 | E110: 8.1 | F110: KIT DE PORTA DE MADEIRA PARA PINTURA, SEMI-OCA (LEVE OU MÉDIA), PADRÃO MÉDIO, 80X210CM, ESPESSURA DE 3,5CM, ITENS INCLUSOS: DOBRADIÇAS, MONTAGEM E INSTALAÇÃO DO BATENTE, FECHADURA COM EXECUÇÃO DO FURO - FORNECIMENTO E INSTALAÇÃO. AF_10/2025 | G110: 3 | H110: UN | I110: 1016.14 | J110: =I110*G110 -> 3048.42 | K110: 575.56 | L110: =K110*G110 -> 1726.68 | M110: =J110+L110 -> 4775.1
B111: BDI-1 | C111: SINAPI | D111: 90844 | E111: 8.2 | F111: KIT DE PORTA DE MADEIRA PARA PINTURA, SEMI-OCA (LEVE OU MÉDIA), PADRÃO MÉDIO, 90X210CM, ESPESSURA DE 3,5CM, ITENS INCLUSOS: DOBRADIÇAS, MONTAGEM E INSTALAÇÃO DO BATENTE, FECHADURA COM EXECUÇÃO DO FURO - FORNECIMENTO E INSTALAÇÃO. AF_10/2025 | G111: 4 | H111: UN | I111: 1107.66 | J111: =I111*G111 -> 4430.64 | K111: 586.52 | L111: =K111*G111 -> 2346.08 | M111: =J111+L111 -> 6776.72
B112: BDI-1 | C112: SINAPI | D112: 90846 | E112: 8.3 | F112: KIT DE PORTA DE MADEIRA PARA PINTURA, MACIÇA (PESADA OU SUPERPESADA), PADRÃO MÉDIO, 90X210CM, ESPESSURA DE 3,5CM, ITENS INCLUSOS: DOBRADIÇAS, MONTAGEM E INSTALAÇÃO DO BATENTE, FECHADURA COM EXECUÇÃO DO FURO - FORNECIMENTO E INSTALAÇÃO. AF_10/2025 | G112: 5 | H112: UN | I112: 1381.96 | J112: =I112*G112 -> 6909.8 | K112: 636.68 | L112: =K112*G112 -> 3183.4 | M112: =J112+L112 -> 10093.2
B113: BDI-1 | C113: SINAPI | D113: 94588 | E113: 8.4 | F113: CONTRAMARCO DE AÇO, FIXAÇÃO COM PARAFUSO - FORNECIMENTO E INSTALAÇÃO. AF_11/2024 | G113: 118.4 | H113: M | I113: 49.82 | J113: =I113*G113 -> 5898.69 | K113: 53.72 | L113: =K113*G113 -> 6360.45 | M113: =J113+L113 -> 12259.14
B114: BDI-1 | C114: SINAPI | D114: 102184 | E114: 8.5 | F114: PORTA DE ABRIR COM MOLA HIDRÁULICA, EM VIDRO TEMPERADO, 90X210 CM, ESPESSURA 10 MM, INCLUSIVE ACESSÓRIOS. AF_11/2025 | G114: 1 | H114: UN | I114: 2257.94 | J114: =I114*G114 -> 2257.94 | K114: 201.16 | L114: =K114*G114 -> 201.16 | M114: =J114+L114 -> 2459.1
B115: BDI-1 | C115: ORSE | D115: 14051 | E115: 8.6 | F115: PORTA DE CORRER EM VIDRO TEMPERADO INCOLOR 10 MM, INCLUSIVE FECHADURA, PUXADOR, TRILHOS E ROLDANAS | G115: 6.72 | H115: M2 | I115: 1146.36 | J115: =I115*G115 -> 7703.54 | K115: 19.11 | L115: =K115*G115 -> 128.42 | M115: =J115+L115 -> 7831.96
B116: BDI-1 | C116: ORSE | D116: 13399 | E116: 8.7 | F116: FORNECIMENTO E INSTALAÇÃO DE JANELA EM VIDRO TEMPERADO FUMÊ 8 MM, INLCUSIVE PERFIS E FERRAGENS | G116: 37.83 | H116: M2 | I116: 674.58 | J116: =I116*G116 -> 25519.36 | K116: 0 | L116: =K116*G116 -> 0 | M116: =J116+L116 -> 25519.36
B117: BDI-1 | C117: ORSE | D117: 12476 | E117: 8.8 | F117: BOX PARA BANHEIRO EM VIDRO TEMPERADO 8 MM, LISO, INCOLOR, DE CORRER, EM ALUMÍNIO BRANCO, INCLUSIVE FERRAGENS - FORNECIMENTO E INSTALAÇÃO - REV. 02_10/2011 | G117: 7.69 | H117: M2 | I117: 429.28 | J117: =I117*G117 -> 3301.16 | K117: 0 | L117: =K117*G117 -> 0 | M117: =J117+L117 -> 3301.16
F119: SUB-TOTAL | J119: =SUM(J109:J118) -> 59069.55 | L119: =SUM(L109:L118) -> 13946.19 | M119: =SUM(M109:M118) -> 73015.74
B121: BDI | C121: REFERENCIAL | D121: CÓDIGO | E121: 9 | F121: PISOS
B122: BDI-1 | C122: SINAPI | D122: 87620 | E122: 9.1 | F122: CONTRAPISO EM ARGAMASSA TRAÇO 1:4 (CIMENTO E AREIA), PREPARO MECÂNICO COM BETONEIRA 400 L, APLICADO EM ÁREAS SECAS SOBRE LAJE, ADERIDO, ACABAMENTO NÃO REFORÇADO, ESPESSURA 2CM. AF_07/2021 | G122: 473.6 | H122: M2 | I122: 28.69 | J122: =I122*G122 -> 13587.58 | K122: 19.92 | L122: =K122*G122 -> 9434.11 | M122: =J122+L122 -> 23021.69
B123: BDI-1 | C123: SINAPI | D123: 87735 | E123: 9.2 | F123: CONTRAPISO EM ARGAMASSA TRAÇO 1:4 (CIMENTO E AREIA), PREPARO MECÂNICO COM BETONEIRA 400 L, APLICADO EM ÁREAS MOLHADAS SOBRE LAJE, ADERIDO, ACABAMENTO NÃO REFORÇADO, ESPESSURA 2CM. AF_07/2021 | G123: 37.48 | H123: M2 | I123: 28.69 | J123: =I123*G123 -> 1075.3 | K123: 39.09 | L123: =K123*G123 -> 1465.09 | M123: =J123+L123 -> 2540.39
B124: BDI-1 | C124: SINAPI | D124: 98679 | E124: 9.3 | F124: PISO CIMENTADO, TRAÇO 1:5 (CIMENTO E AREIA), ACABAMENTO LISO, ESPESSURA 2,0 CM, PREPARO MECÂNICO DA ARGAMASSA. AF_02/2026 | G124: 256.53 | H124: M2 | I124: 23.38 | J124: =I124*G124 -> 5997.67 | K124: 29.34 | L124: =K124*G124 -> 7526.59 | M124: =J124+L124 -> 13524.26
B125: BDI-1 | C125: SINAPI | D125: 90445 | E125: 9.4 | F125: RASGO LINEAR MECANIZADO EM CONTRAPISO, PARA RAMAIS/ DISTRIBUIÇÃO DE INSTALAÇÕES HIDRÁULICAS, DIÂMETROS MAIORES QUE 40 MM E MENORES OU IGUAIS A 75 MM. AF_09/2023_PS | G125: 10.24 | H125: M | I125: 0.54 | J125: =I125*G125 -> 5.53 | K125: 26.31 | L125: =K125*G125 -> 269.41 | M125: =J125+L125 -> 274.94
B126: BDI-1 | C126: SINAPI | D126: 90469 | E126: 9.5 | F126: CHUMBAMENTO LINEAR EM CONTRAPISO PARA RAMAIS/DISTRIBUIÇÃO DE INSTALAÇÕES HIDRÁULICAS COM DIÂMETROS MAIORES QUE 40 MM E MENORES OU IGUAIS A 75 MM. AF_09/2023 | G126: 10.24 | H126: M | I126: 5.59 | J126: =I126*G126 -> 57.24 | K126: 12.12 | L126: =K126*G126 -> 124.11 | M126: =J126+L126 -> 181.35
B127: BDI-1 | C127: SINAPI | D127: 90446 | E127: 9.6 | F127: RASGO LINEAR MECANIZADO EM CONTRAPISO, PARA RAMAIS/ DISTRIBUIÇÃO DE INSTALAÇÕES HIDRÁULICAS, DIÂMETROS MAIORES QUE 75 MM E MENORES OU IGUAIS A 100 MM. AF_09/2023_PS | G127: 6.55 | H127: M | I127: 0.71 | J127: =I127*G127 -> 4.65 | K127: 34.93 | L127: =K127*G127 -> 228.79 | M127: =J127+L127 -> 233.44
B128: BDI-1 | C128: SINAPI | D128: 90470 | E128: 9.7 | F128: CHUMBAMENTO LINEAR EM CONTRAPISO PARA RAMAIS/DISTRIBUIÇÃO DE INSTALAÇÕES HIDRÁULICAS COM DIÂMETROS MAIORES QUE 75 MM E MENORES OU IGUAIS A 100 MM. AF_09/2023 | G128: 6.55 | H128: M | I128: 8 | J128: =I128*G128 -> 52.4 | K128: 15.48 | L128: =K128*G128 -> 101.39 | M128: =J128+L128 -> 153.79
B129: BDI-1 | C129: SINAPI | D129: 98555 | E129: 9.8 | F129: IMPERMEABILIZAÇÃO DE SUPERFÍCIE COM ARGAMASSA POLIMÉRICA / MEMBRANA ACRÍLICA, 3 DEMÃOS. AF_09/2023 | G129: 37.48 | H129: M2 | I129: 10.56 | J129: =I129*G129 -> 395.79 | K129: 31.5 | L129: =K129*G129 -> 1180.62 | M129: =J129+L129 -> 1576.41
B130: BDI-1 | C130: SINAPI | D130: 87255 | E130: 9.9 | F130: REVESTIMENTO CERÂMICO PARA PISO COM PLACAS TIPO ESMALTADA DE DIMENSÕES 60X60 CM APLICADA EM AMBIENTES DE ÁREA MENOR QUE 5 M2. AF_02/2023_PE | G130: 10.96 | H130: M2 | I130: 58.27 | J130: =I130*G130 -> 638.64 | K130: 46.1 | L130: =K130*G130 -> 505.26 | M130: =J130+L130 -> 1143.9
...

Sheet CRONOGRAMA
B2: OBRA: REFORMA DO QUARTEL DA POLÍCIA MILITAR EM VIDEIRA, INCLUINDO MATERIAL E MÃO DE OBRA
B4: PRAZO DE EXECUÇÃO: 90 DIAS
B5: ITEM | C5: DISCRIMINAÇÃO | D5: VALOR TOTAL | E5: MÊS 01 - 30 DIAS | G5: MÊS 02 - 60 DIAS | I5: MÊS 03 - 90 DIAS | L5: ACUMULADO
E6: % | F6: R$ | G6: % | H6: R$ | I6: % | J6: R$ | L6: % | M6: R$
B8: 1 | C8: ADMINISTRAÇÃO LOCAL | D8: ='PLANILHA ORÇAMENTÁRIA'!M19 -> 39919.05 | E8: 0.35 | F8: =E8*$D8 -> 13971.67 | G8: 0.35 | H8: =ROUNDDOWN(G8*$D8,2) -> 13971.66 | I8: 0.3 | J8: =I8*$D8 -> 11975.72 | L8: =IF(D8,M8/D8*100,0) -> 100 | M8: =SUM(F8,H8,J8) -> 39919.05
B9: 2 | C9: SERVIÇOS PRELIMINARES | D9: ='PLANILHA ORÇAMENTÁRIA'!M45 -> 33952.85 | E9: 1 | F9: =E9*$D9 -> 33952.85 | H9: =G9*$D9 -> 0 | J9: =I9*$D9 -> 0 | L9: =IF(D9,M9/D9*100,0) -> 100 | M9: =SUM(F9,H9,J9) -> 33952.85
B10: 3 | C10: FUNDAÇÕES | D10: ='PLANILHA ORÇAMENTÁRIA'!M62 -> 29208.62 | E10: 1 | F10: =E10*$D10 -> 29208.62 | H10: =G10*$D10 -> 0 | J10: =I10*$D10 -> 0 | L10: =IF(D10,M10/D10*100,0) -> 100 | M10: =SUM(F10,H10,J10) -> 29208.62
B11: 4 | C11: SUPRAESTRUTURA | D11: ='PLANILHA ORÇAMENTÁRIA'!M73 -> 13114.81 | E11: 1 | F11: =E11*$D11 -> 13114.81 | H11: =G11*$D11 -> 0 | J11: =I11*$D11 -> 0 | L11: =IF(D11,M11/D11*100,0) -> 100 | M11: =SUM(F11,H11,J11) -> 13114.81
B12: 5 | C12: COBERTURA | D12: ='PLANILHA ORÇAMENTÁRIA'!M84 -> 15815.04 | F12: =E12*$D12 -> 0 | G12: 1 | H12: =G12*$D12 -> 15815.04 | J12: =I12*$D12 -> 0 | L12: =IF(D12,M12/D12*100,0) -> 100 | M12: =SUM(F12,H12,J12) -> 15815.04
B13: 6 | C13: ALVENARIAS, FECHAMENTOS E VEDAÇÕES | D13: ='PLANILHA ORÇAMENTÁRIA'!M99 -> 26053.67 | F13: =E13*$D13 -> 0 | G13: 1 | H13: =G13*$D13 -> 26053.67 | J13: =I13*$D13 -> 0 | L13: =IF(D13,M13/D13*100,0) -> 100 | M13: =SUM(F13,H13,J13) -> 26053.67
B14: 7 | C14: FORROS | D14: ='PLANILHA ORÇAMENTÁRIA'!M107 -> 15898.79 | F14: =E14*$D14 -> 0 | G14: 1 | H14: =G14*$D14 -> 15898.79 | J14: =I14*$D14 -> 0 | L14: =IF(D14,M14/D14*100,0) -> 100 | M14: =SUM(F14,H14,J14) -> 15898.79
B15: 8 | C15: ESQUADRIAS | D15: ='PLANILHA ORÇAMENTÁRIA'!M119 -> 73015.74 | F15: =E15*$D15 -> 0 | H15: =G15*$D15 -> 0 | I15: 1 | J15: =I15*$D15 -> 73015.74 | L15: =IF(D15,M15/D15*100,0) -> 100 | M15: =SUM(F15,H15,J15) -> 73015.74
B16: 9 | C16: PISOS | D16: ='PLANILHA ORÇAMENTÁRIA'!M138 -> 128427.97 | E16: 0.5 | F16: =E16*$D16 -> 64213.99 | G16: 0.25 | H16: =G16*$D16 -> 32106.99 | I16: 0.25 | J16: =I16*$D16 -> 32106.99 | L16: =IF(D16,M16/D16*100,0) -> 100 | M16: =SUM(F16,H16,J16) -> 128427.97
B17: 10 | C17: REVESTIMENTO DE PAREDE | D17: ='PLANILHA ORÇAMENTÁRIA'!M148 -> 22071.81 | F17: =E17*$D17 -> 0 | G17: 1 | H17: =G17*$D17 -> 22071.81 | J17: =I17*$D17 -> 0 | L17: =IF(D17,M17/D17*100,0) -> 100 | M17: =SUM(F17,H17,J17) -> 22071.81
B18: 11 | C18: PINTURA | D18: ='PLANILHA ORÇAMENTÁRIA'!M165 -> 79696.76 | F18: =E18*$D18 -> 0 | G18: 0.5 | H18: =G18*$D18 -> 39848.38 | I18: 0.5 | J18: =I18*$D18 -> 39848.38 | L18: =IF(D18,M18/D18*100,0) -> 100 | M18: =SUM(F18,H18,J18) -> 79696.76
B19: 12 | C19: INSTALAÇÕES ELÉTRICAS | D19: ='PLANILHA ORÇAMENTÁRIA'!M205 -> 26434.25 | E19: 0.5 | F19: =E19*$D19 -> 13217.13 | G19: 0.5 | H19: =ROUNDDOWN(G19*$D19,2) -> 13217.12 | J19: =I19*$D19 -> 0 | L19: =IF(D19,M19/D19*100,0) -> 100 | M19: =SUM(F19,H19,J19) -> 26434.25
B20: 13 | C20: ÁGUA FRIA | D20: ='PLANILHA ORÇAMENTÁRIA'!M216 -> 1613.36 | E20: 0.5 | F20: =E20*$D20 -> 806.68 | G20: 0.5 | H20: =G20*$D20 -> 806.68 | J20: =I20*$D20 -> 0 | L20: =IF(D20,M20/D20*100,0) -> 100 | M20: =SUM(F20,H20,J20) -> 1613.36
B21: 14 | C21: ESGOTO E VENTILAÇÃO | D21: ='PLANILHA ORÇAMENTÁRIA'!M236 -> 4009.93 | E21: 0.5 | F21: =E21*$D21 -> 2004.97 | G21: 0.5 | H21: =ROUNDDOWN(G21*$D21,2) -> 2004.96 | J21: =I21*$D21 -> 0 | L21: =IF(D21,M21/D21*100,0) -> 100 | M21: =SUM(F21,H21,J21) -> 4009.93
B22: 15 | C22: PLUVIAL | D22: ='PLANILHA ORÇAMENTÁRIA'!M248 -> 4160.56 | F22: =E22*$D22 -> 0 | G22: 0.5 | H22: =G22*$D22 -> 2080.28 | I22: 0.5 | J22: =I22*$D22 -> 2080.28 | L22: =IF(D22,M22/D22*100,0) -> 100 | M22: =SUM(F22,H22,J22) -> 4160.56
B23: 16 | C23: LOUÇAS E METAIS | D23: ='PLANILHA ORÇAMENTÁRIA'!M263 -> 6392.97 | F23: =E23*$D23 -> 0 | H23: =G23*$D23 -> 0 | I23: 1 | J23: =I23*$D23 -> 6392.97 | L23: =IF(D23,M23/D23*100,0) -> 100 | M23: =SUM(F23,H23,J23) -> 6392.97
B24: 17 | C24: SERVIÇOS COMPLEMENTARES | D24: ='PLANILHA ORÇAMENTÁRIA'!M269 -> 5553.35 | F24: =E24*$D24 -> 0 | H24: =G24*$D24 -> 0 | I24: 1 | J24: =I24*$D24 -> 5553.35 | L24: =IF(D24,M24/D24*100,0) -> 100 | M24: =SUM(F24,H24,J24) -> 5553.35
B25: 18 | C25: SERVIÇOS FINAIS | D25: ='PLANILHA ORÇAMENTÁRIA'!M274 -> 2639.7 | F25: =E25*$D25 -> 0 | H25: =G25*$D25 -> 0 | I25: 1 | J25: =I25*$D25 -> 2639.7 | L25: =IF(D25,M25/D25*100,0) -> 100 | M25: =SUM(F25,H25,J25) -> 2639.7
C27: TOTAL | D27: =SUMIF(D8:D25,">0") -> 527979.23 | E27: =IF(D27,F27/$D$27,0) -> 0.3229 | F27: =SUMIF(F7:F26,">0") -> 170490.72 | G27: =IF(D27,H27/$D$27,0) -> 0.3483 | H27: =SUMIF(H7:H26,">0") -> 183875.38 | I27: =IF(F27,J27/$D$27,0) -> 0.3288 | J27: =SUMIF(J7:J26,">0") -> 173613.13 | L27: TOTAL | M27: VALOR TOTAL
D28: ACUMULADO | E28: =E27 -> 0.3229 | F28: =F27 -> 170490.72 | G28: =G27+E28 -> 0.6712 | H28: =H27+F28 -> 354366.1 | I28: =I27+G28 -> 1 | J28: =J27+H28 -> 527979.23 | L28: =IF(D27,M28/D27,0) -> 1 | M28: =SUMIF(M8:M25,">0") -> 527979.23
C38: _________________________________________
C39: FELIPE BOGONI
C40: ENGENHEIRO CIVIL
C41: CREA/SC 223.655-5
