Workbook
Name Print_Titles: 'PLANILHA ORÇAMENTÁRIA'!$12:$13

Sheet PLANILHA ORÇAMENTÁRIA
B2: ESTADO DE SANTA CATARINA - PREFEITURA MUNICIPAL DE VIDEIRA | K2: BDI 1 - REFERENCIAL: | L2: 0.2265
B3: SECRETARIA DE OBRAS E PROJETOS
B4: PLANILHA DE ORÇAMENTO DISCRIMINADA
B5: OBRA: REFORMA DO QUARTEL DA POLÍCIA MILITAR EM VIDEIRA, INCLUINDO MATERIAL E MÃO DE OBRA
B6: PRAZO DE EXECUÇÃO: 90 DIAS
B7: REFERENCIAIS UTILIZADOS COMO BASE: | F7: SINAPI 02/2026 - DATA TÉCNICA 23/03/2026 (SEM DESONERAÇÃO)
F8: ORSE - DATA BASE 03/2026
B12: BDI | C12: Item | E12: Sub | F12: Discriminação | G12: Quant. | H12: Und. | I12: Material | K12: Mão de Obra | M12: Valor Total
E13: Item | I13: Unit. | J13: Total | K13: Unit. | L13: Total
B15: BDI | C15: REFERENCIAL | D15: CÓDIGO | E15: 1 | F15: ADMINISTRAÇÃO LOCAL
B16: BDI-1 | C16: SINAPI | D16: 90778 | E16: 1.1 | F16: ENGENHEIRO CIVIL DE OBRA PLENO COM ENCARGOS COMPLEMENTARES | G16: 72 | H16: H | I16: 0 | J16: =I16*G16 -> 0 | K16: 192 | L16: =K16*G16 -> 13824 | M16: =J16+L16 -> 13824
B17: BDI-1 | C17: SINAPI | D17: 93572 | E17: 1.2 | F17: ENCARREGADO GERAL DE OBRAS COM ENCARGOS COMPLEMENTARES | G17: 3 | H17: MES | I17: 0 | J17: =I17*G17 -> 0 | K17: 8698.35 | L17: =K17*G17 -> 26095.05 | M17: =J17+L17 -> 26095.05
F19: SUB-TOTAL | J19: =SUM(J15:J18) -> 0 | L19: =SUM(L15:L18) -> 39919.05 | M19: =SUM(M15:M18) -> 39919.05
B21: BDI | C21: REFERENCIAL | D21: CÓDIGO | E21: 2 | F21: SERVIÇOS PRELIMINARES
B22: BDI-1 | C22: SINAPI | D22: 103689 | E22: 2.1 | F22: FORNECIMENTO E INSTALAÇÃO DE PLACA DE OBRA COM CHAPA GALVANIZADA E ESTRUTURA DE MADEIRA. AF_03/2022_PS | G22: 2.4 | H22: M2 | I22: 513.07 | J22: =I22*G22 -> 1231.37 | K22: 64.26 | L22: =K22*G22 -> 154.22 | M22: =J22+L22 -> 1385.59
B23: BDI-1 | C23: SINAPI | D23: 97644 | E23: 2.2 | F23: REMOÇÃO DE PORTAS, DE FORMA MANUAL, SEM REAPROVEITAMENTO. AF_09/2023 | G23: 29.4 | H23: M2 | I23: 0 | J23: =I23*G23 -> 0 | K23: 14.89 | L23: =K23*G23 -> 437.77 | M23: =J23+L23 -> 437.77
B24: BDI-1 | C24: SINAPI | D24: 97645 | E24: 2.3 | F24: REMOÇÃO DE JANELAS, DE FORMA MANUAL, SEM REAPROVEITAMENTO. AF_09/2023 | G24: 29.43 | H24: M2 | I24: 0 | J24: =I24*G24 -> 0 | K24: 38.48 | L24: =K24*G24 -> 1132.47 | M24: =J24+L24 -> 1132.47
B25: BDI-1 | C25: SINAPI | D25: 97663 | E25: 2.4 | F25: REMOÇÃO DE LOUÇAS, DE FORMA MANUAL, SEM REAPROVEITAMENTO. AF_09/2023 | G25: 4 | H25: UN | I25: 0 | J25: =I25*G25 -> 0 | K25: 19.82 | L25: =K25*G25 -> 79.28 | M25: =J25+L25 -> 79.28
B26: BDI-1 | C26: SINAPI | D26: 97666 | E26: 2.5 | F26: REMOÇÃO DE METAIS SANITÁRIOS, DE FORMA MANUAL, SEM REAPROVEITAMENTO. AF_09/2023 | G26: 8 | H26: UN | I26: 0 | J26: =I26*G26 -> 0 | K26: 14.45 | L26: =K26*G26 -> 115.6 | M26: =J26+L26 -> 115.6
B27: BDI-1 | C27: SINAPI | D27: 97640 | E27: 2.6 | F27: REMOÇÃO DE FORROS DE DRYWALL, PVC E FIBROMINERAL, DE FORMA MANUAL, SEM REAPROVEITAMENTO. AF_09/2023 | G27: 95.51 | H27: M2 | I27: 0 | J27: =I27*G27 -> 0 | K27: 3.07 | L27: =K27*G27 -> 293.22 | M27: =J27+L27 -> 293.22
B28: BDI-1 | C28: SINAPI | D28: 97642 | E28: 2.7 | F28: REMOÇÃO DE TRAMA METÁLICA OU DE MADEIRA PARA FORRO, DE FORMA MANUAL, SEM REAPROVEITAMENTO. AF_09/2023 | G28: 95.51 | H28: M2 | I28: 0 | J28: =I28*G28 -> 0 | K28: 4.4 | L28: =K28*G28 -> 420.24 | M28: =J28+L28 -> 420.24
B29: BDI-1 | C29: ORSE | D29: 11390 | E29: 2.8 | F29: DEMOLIÇÃO DE DIVISÓRIAS TIPO NAVAL | G29: 18.02 | H29: M2 | I29: 3.2 | J29: =I29*G29 -> 57.66 | K29: 18.34 | L29: =K29*G29 -> 330.49 | M29: =J29+L29 -> 388.15
B30: BDI-1 | C30: SINAPI | D30: 104803 | E30: 2.9 | F30: REMOÇÃO CALHAS E RUFOS, DE FORMA MANUAL, SEM REAPROVEITAMENTO. AF_09/2023 | G30: 12.75 | H30: M | I30: 0 | J30: =I30*G30 -> 0 | K30: 7.42 | L30: =K30*G30 -> 94.61 | M30: =J30+L30 -> 94.61
B31: BDI-1 | C31: SINAPI | D31: 97649 | E31: 2.10 | F31: REMOÇÃO DE TELHAS DE FIBROCIMENTO, METÁLICA E CERÂMICA, DE FORMA MECANIZADA, COM USO DE GUINDASTE, SEM REAPROVEITAMENTO. AF_09/2023 | G31: 54.9 | H31: M2 | I31: 0.81 | J31: =I31*G31 -> 44.47 | K31: 6.14 | L31: =K31*G31 -> 337.09 | M31: =J31+L31 -> 381.56
B32: BDI-1 | C32: ORSE | D32: 4977 | E32: 2.11 | F32: DEMOLIÇÃO DE MADEIRAMENTO EM COBERTURAS COM TELHAS DE FIBROCIMENTO 4 A 8 MM | G32: 54.9 | H32: M2 | I32: 3.7 | J32: =I32*G32 -> 203.13 | K32: 15.14 | L32: =K32*G32 -> 831.19 | M32: =J32+L32 -> 1034.32
B33: BDI-1 | C33: SINAPI | D33: 97627 | E33: 2.12 | F33: DEMOLIÇÃO DE PILARES E VIGAS EM CONCRETO ARMADO, DE FORMA MECANIZADA COM MARTELETE, SEM REAPROVEITAMENTO. AF_09/2023 | G33: 4.34 | H33: M3 | I33: 14.5 | J33: =I33*G33 -> 62.93 | K33: 270.77 | L33: =K33*G33 -> 1175.14 | M33: =J33+L33 -> 1238.07
... B43: BDI-1 | C43: SINAPI | D43: 95875 | E43: 2.22 | F43: TRANSPORTE COM CAMINHÃO BASCULANTE DE 10 M³, EM VIA URBANA PAVIMENTADA, DMT ATÉ 30 KM (UNIDADE: M3XKM). AF_02/2026 | G43: 500 | H43: M3XKM | I43: 2.7 | J43: =I43*G43 -> 1350 | K43: 0.6 | L43: =K43*G43 -> 300 | M43: =J43+L43 -> 1650
F45: SUB-TOTAL | J45: =SUM(J21:J44) -> 8002.65 | L45: =SUM(L21:L44) -> 25950.2 | M45: =SUM(M21:M44) -> 33952.85
B47: BDI | C47: REFERENCIAL | D47: CÓDIGO | E47: 3 | F47: FUNDAÇÕES
B48: BDI-1 | C48: SINAPI | D48: 96616 | E48: 3.1 | F48: LASTRO DE CONCRETO MAGRO, APLICADO EM BLOCOS DE COROAMENTO OU SAPATAS. AF_01/2024 | G48: 0.24 | H48: M3 | I48: 647.11 | J48: =I48*G48 -> 155.31 | K48: 561.31 | L48: =K48*G48 -> 134.71 | M48: =J48+L48 -> 290.02
B49: BDI-1 | C49: SINAPI | D49: 96541 | E49: 3.2 | F49: FABRICAÇÃO, MONTAGEM E DESMONTAGEM DE FÔRMA PARA SAPATA, EM CHAPA DE MADEIRA COMPENSADA RESINADA, E=17 MM, 4 UTILIZAÇÕES. AF_01/2024 | G49: 16.55 | H49: M2 | I49: 51.16 | J49: =I49*G49 -> 846.7 | K49: 219.8 | L49: =K49*G49 -> 3637.69 | M49: =J49+L49 -> 4484.39
B50: BDI-1 | C50: SINAPI | D50: 96542 | E50: 3.3 | F50: FABRICAÇÃO, MONTAGEM E DESMONTAGEM DE FÔRMA PARA VIGA BALDRAME, EM CHAPA DE MADEIRA COMPENSADA RESINADA, E=17 MM, 4 UTILIZAÇÕES. AF_01/2024 | G50: 29.8 | H50: M2 | I50: 35.57 | J50: =I50*G50 -> 1059.99 | K50: 108.18 | L50: =K50*G50 -> 3223.76 | M50: =J50+L50 -> 4283.75
B51: BDI-1 | C51: SINAPI | D51: 104916 | E51: 3.4 | F51: ARMAÇÃO DE SAPATA ISOLADA, VIGA BALDRAME E SAPATA CORRIDA UTILIZANDO AÇO CA-60 DE 5 MM - MONTAGEM. AF_01/2024 | G51: 26.29 | H51: KG | I51: 10.17 | J51: =I51*G51 -> 267.37 | K51: 12.44 | L51: =K51*G51 -> 327.05 | M51: =J51+L51 -> 594.42
B52: BDI-1 | C52: SINAPI | D52: 104918 | E52: 3.5 | F52: ARMAÇÃO DE SAPATA ISOLADA, VIGA BALDRAME E SAPATA CORRIDA UTILIZANDO AÇO CA-50 DE 8 MM - MONTAGEM. AF_01/2024 | G52: 21.39 | H52: KG | I52: 11.58 | J52: =I52*G52 -> 247.7 | K52: 6.65 | L52: =K52*G52 -> 142.24 | M52: =J52+L52 -> 389.94
B53: BDI-1 | C53: SINAPI | D53: 104919 | E53: 3.6 | F53: ARMAÇÃO DE SAPATA ISOLADA, VIGA BALDRAME E SAPATA CORRIDA UTILIZANDO AÇO CA-50 DE 10 MM - MONTAGEM. AF_01/2024 | G53: 112.16 | H53: KG | I53: 10.94 | J53: =I53*G53 -> 1227.03 | K53: 5.08 | L53: =K53*G53 -> 569.77 | M53: =J53+L53 -> 1796.8
B54: BDI-1 | C54: COMPOSIÇÃO | D54: 1 | E54: 3.7 | F54: CONCRETAGEM DE SAPATA, FCK 25 MPA, COM USO DE BOMBA - LANÇAMENTO, ADENSAMENTO E ACABAMENTO (REF.: SINAPI 96558) | G54: 2.37 | H54: M3 | I54: 981.54 | J54: =I54*G54 -> 2326.25 | K54: 54.93 | L54: =K54*G54 -> 130.18 | M54: =J54+L54 -> 2456.43
B55: BDI-1 | C55: COMPOSIÇÃO | D55: 2 | E55: 3.8 | F55: CONCRETAGEM DE BLOCO DE COROAMENTO OU VIGA BALDRAME, FCK 25 MPA, COM USO DE BOMBA - LANÇAMENTO, ADENSAMENTO E ACABAMENTO (REF.: SINAPI 96557) | G55: 1.87 | H55: M3 | I55: 958.02 | J55: =I55*G55 -> 1791.5 | K55: 31.26 | L55: =K55*G55 -> 58.46 | M55: =J55+L55 -> 1849.96
B56: BDI-1 | C56: SINAPI | D56: 100324 | E56: 3.9 | F56: LASTRO COM MATERIAL GRANULAR (PEDRA BRITADA N.1 E PEDRA BRITADA N.2), APLICADO EM PISOS OU LAJES SOBRE SOLO, ESPESSURA DE *10 CM*. AF_01/2024 | G56: 5.11 | H56: M3 | I56: 164.19 | J56: =I56*G56 -> 839.01 | K56: 90.92 | L56: =K56*G56 -> 464.6 | M56: =J56+L56 -> 1303.61
B57: BDI-1 | C57: SINAPI | D57: 92768 | E57: 3.10 | F57: ARMAÇÃO DE LAJE DE ESTRUTURA CONVENCIONAL DE CONCRETO ARMADO UTILIZANDO AÇO CA-60 DE 5,0 MM - MONTAGEM. AF_06/2022 | G57: 24.87 | H57: KG | I57: 10.5 | J57: =I57*G57 -> 261.14 | K57: 7.03 | L57: =K57*G57 -> 174.84 | M57: =J57+L57 -> 435.98
B58: BDI-1 | C58: SINAPI | D58: 92770 | E58: 3.11 | F58: ARMAÇÃO DE LAJE DE ESTRUTURA CONVENCIONAL DE CONCRETO ARMADO UTILIZANDO AÇO CA-50 DE 8,0 MM - MONTAGEM. AF_06/2022 | G58: 246.26 | H58: KG | I58: 11.64 | J58: =I58*G58 -> 2866.47 | K58: 2.78 | L58: =K58*G58 -> 684.6 | M58: =J58+L58 -> 3551.07
...

Sheet CRONOGRAMA
B2: OBRA: REFORMA DO QUARTEL DA POLÍCIA MILITAR EM VIDEIRA, INCLUINDO MATERIAL E MÃO DE OBRA
B4: PRAZO DE EXECUÇÃO: 90 DIAS
B5: ITEM | C5: DISCRIMINAÇÃO | D5: VALOR TOTAL | E5: MÊS 01 - 30 DIAS | G5: MÊS 02 - 60 DIAS | I5: MÊS 03 - 90 DIAS | L5: ACUMULADO
E6: % | F6: R$ | G6: % | H6: R$ | I6: % | J6: R$ | L6: % | M6: R$
B8: 1 | C8: ADMINISTRAÇÃO LOCAL | D8: ='PLANILHA ORÇAMENTÁRIA'!M19 -> 39919.05 | E8: 0.35 | F8: =E8*$D8 -> 13971.67 | G8: 0.35 | H8: =ROUNDDOWN(G8*$D8,2) -> 13971.66 | I8: 0.3 | J8: =I8*$D8 -> 11975.72 | L8: =IF(D8,M8/D8*100,0) -> 100 | M8: =SUM(F8,H8,J8) -> 39919.05
B9: 2 | C9: SERVIÇOS PRELIMINARES | D9: ='PLANILHA ORÇAMENTÁRIA'!M45 -> 33952.85 | E9: 1 | F9: =E9*$D9 -> 33952.85 | H9: =G9*$D9 -> 0 | J9: =I9*$D9 -> 0 | L9: =IF(D9,M9/D9*100,0) -> 100 | M9: =SUM(F9,H9,J9) -> 33952.85
B10: 3 | C10: FUNDAÇÕES | D10: ='PLANILHA ORÇAMENTÁRIA'!M62 -> 29208.62 | E10: 1 | F10: =E10*$D10 -> 29208.62 | H10: =G10*$D10 -> 0 | J10: =I10*$D10 -> 0 | L10: =IF(D10,M10/D10*100,0) -> 100 | M10: =SUM(F10,H10,J10) -> 29208.62
B11: 4 | C11: SUPRAESTRUTURA | D11: ='PLANILHA ORÇAMENTÁRIA'!M73 -> 13114.81 | E11: 1 | F11: =E11*$D11 -> 13114.81 | H11: =G11*$D11 -> 0 | J11: =I11*$D11 -> 0 | L11: =IF(D11,M11/D11*100,0) -> 100 | M11: =SUM(F11,H11,J11) -> 13114.81
B12: 5 | C12: COBERTURA | D12: ='PLANILHA ORÇAMENTÁRIA'!M84 -> 15815.04 | F12: =E12*$D12 -> 0 | G12: 1 | H12: =G12*$D12 -> 15815.04 | J12: =I12*$D12 -> 0 | L12: =IF(D12,M12/D12*100,0) -> 100 | M12: =SUM(F12,H12,J12) -> 15815.04
B13: 6 | C13: ALVENARIAS, FECHAMENTOS E VEDAÇÕES | D13: ='PLANILHA ORÇAMENTÁRIA'!M99 -> 26053.67 | F13: =E13*$D13 -> 0 | G13: 1 | H13: =G13*$D13 -> 26053.67 | J13: =I13*$D13 -> 0 | L13: =IF(D13,M13/D13*100,0) -> 100 | M13: =SUM(F13,H13,J13) -> 26053.67
B14: 7 | C14: FORROS | D14: ='PLANILHA ORÇAMENTÁRIA'!M107 -> 15898.79 | F14: =E14*$D14 -> 0 | G14: 1 | H14: =G14*$D14 -> 15898.79 | J14: =I14*$D14 -> 0 | L14: =IF(D14,M14/D14*100,0) -> 100 | M14: =SUM(F14,H14,J14) -> 15898.79
B15: 8 | C15: ESQUADRIAS | D15: ='PLANILHA ORÇAMENTÁRIA'!M119 -> 73015.74 | F15: =E15*$D15 -> 0 | H15: =G15*$D15 -> 0 | I15: 1 | J15: =I15*$D15 -> 73015.74 | L15: =IF(D15,M15/D15*100,0) -> 100 | M15: =SUM(F15,H15,J15) -> 73015.74
B16: 9 | C16: PISOS | D16: ='PLANILHA ORÇAMENTÁRIA'!M138 -> 128427.97 | E16: 0.5 | F16: =E16*$D16 -> 64213.99 | G16: 0.25 | H16: =G16*$D16 -> 32106.99 | I16: 0.25 | J16: =I16*$D16 -> 32106.99 | L16: =IF(D16,M16/D16*100,0) -> 100 | M16: =SUM(F16,H16,J16) -> 128427.97
B17: 10 | C17: REVESTIMENTO DE PAREDE | D17: ='PLANILHA ORÇAMENTÁRIA'!M148 -> 22071.81 | F17: =E17*$D17 -> 0 | G17: 1 | H17: =G17*$D17 -> 22071.81 | J17: =I17*$D17 -> 0 | L17: =IF(D17,M17/D17*100,0) -> 100 | M17: =SUM(F17,H17,J17) -> 22071.81
B18: 11 | C18: PINTURA | D18: ='PLANILHA ORÇAMENTÁRIA'!M165 -> 79696.76 | F18: =E18*$D18 -> 0 | G18: 0.5 | H18: =G18*$D18 -> 39848.38 | I18: 0.5 | J18: =I18*$D18 -> 39848.38 | L18: =IF(D18,M18/D18*100,0) -> 100 | M18: =SUM(F18,H18,J18) -> 79696.76
B19: 12 | C19: INSTALAÇÕES ELÉTRICAS | D19: ='PLANILHA ORÇAMENTÁRIA'!M205 -> 26434.25 | E19: 0.5 | F19: =E19*$D19 -> 13217.13 | G19: 0.5 | H19: =ROUNDDOWN(G19*$D19,2) -> 13217.12 | J19: =I19*$D19 -> 0 | L19: =IF(D19,M19/D19*100,0) -> 100 | M19: =SUM(F19,H19,J19) -> 26434.25
B20: 13 | C20: ÁGUA FRIA | D20: ='PLANILHA ORÇAMENTÁRIA'!M216 -> 1613.36 | E20: 0.5 | F20: =E20*$D20 -> 806.68 | G20: 0.5 | H20: =G20*$D20 -> 806.68 | J20: =I20*$D20 -> 0 | L20: =IF(D20,M20/D20*100,0) -> 100 | M20: =SUM(F20,H20,J20) -> 1613.36
B21: 14 | C21: ESGOTO E VENTILAÇÃO | D21: ='PLANILHA ORÇAMENTÁRIA'!M236 -> 4009.93 | E21: 0.5 | F21: =E21*$D21 -> 2004.97 | G21: 0.5 | H21: =ROUNDDOWN(G21*$D21,2) -> 2004.96 | J21: =I21*$D21 -> 0 | L21: =IF(D21,M21/D21*100,0) -> 100 | M21: =SUM(F21,H21,J21) -> 4009.93
B22: 15 | C22: PLUVIAL | D22: ='PLANILHA ORÇAMENTÁRIA'!M248 -> 4160.56 | F22: =E22*$D22 -> 0 | G22: 0.5 | H22: =G22*$D22 -> 2080.28 | I22: 0.5 | J22: =I22*$D22 -> 2080.28 | L22: =IF(D22,M22/D22*100,0) -> 100 | M22: =SUM(F22,H22,J22) -> 4160.56
B23: 16 | C23: LOUÇAS E METAIS | D23: ='PLANILHA ORÇAMENTÁRIA'!M263 -> 6392.97 | F23: =E23*$D23 -> 0 | H23: =G23*$D23 -> 0 | I23: 1 | J23: =I23*$D23 -> 6392.97 | L23: =IF(D23,M23/D23*100,0) -> 100 | M23: =SUM(F23,H23,J23) -> 6392.97
B24: 17 | C24: SERVIÇOS COMPLEMENTARES | D24: ='PLANILHA ORÇAMENTÁRIA'!M269 -> 5553.35 | F24: =E24*$D24 -> 0 | H24: =G24*$D24 -> 0 | I24: 1 | J24: =I24*$D24 -> 5553.35 | L24: =IF(D24,M24/D24*100,0) -> 100 | M24: =SUM(F24,H24,J24) -> 5553.35
B25: 18 | C25: SERVIÇOS FINAIS | D25: ='PLANILHA ORÇAMENTÁRIA'!M274 -> 2639.7 | F25: =E25*$D25 -> 0 | H25: =G25*$D25 -> 0 | I25: 1 | J25: =I25*$D25 -> 2639.7 | L25: =IF(D25,M25/D25*100,0) -> 100 | M25: =SUM(F25,H25,J25) -> 2639.7
C27: TOTAL | D27: =SUMIF(D8:D25,">0") -> 527979.23 | E27: =IF(D27,F27/$D$27,0) -> 0.3229 | F27: =SUMIF(F7:F26,">0") -> 170490.72 | G27: =IF(D27,H27/$D$27,0) -> 0.3483 | H27: =SUMIF(H7:H26,">0") -> 183875.38 | I27: =IF(F27,J27/$D$27,0) -> 0.3288 | J27: =SUMIF(J7:J26,">0") -> 173613.13 | L27: TOTAL | M27: VALOR TOTAL
D28: ACUMULADO | E28: =E27 -> 0.3229 | F28: =F27 -> 170490.72 | G28: =G27+E28 -> 0.6712 | H28: =H27+F28 -> 354366.1 | I28: =I27+G28 -> 1 | J28: =J27+H28 -> 527979.23 | L28: =IF(D27,M28/D27,0) -> 1 | M28: =SUMIF(M8:M25,">0") -> 527979.23
C38: _________________________________________
C39: FELIPE BOGONI
C40: ENGENHEIRO CIVIL
C41: CREA/SC 223.655-5
