Workbook

Sheet PROJETOS
A1: PREFEITURA MUNICIPAL DE POMERODE SECRETARIA DE PLANEJAMENTO E MEIO AMBIENTE Rua 15 de Novembro, 525, Centro 89107-000 – Pomerode – Santa Catarina
A3: OBJETO: ELABORAÇÃO DE ESTUDOS E PROJETOS BÁSICO E EXECUTIVO DE ENGENHARIA VIÁRIA
A4: PRAZO DE EXECUÇÃO CONTRATUAL: 329 DIAS | I4: PRAZO DE VIGÊNCIA DA CONTRATAÇÃO: 390 DIAS
A6: GRUPO DE PROJETOS
A7: RUA | B7: COORDENADAS | C7: EXTENSÃO (m) | D7: GABARITO OFICIAL (m) | E7: ÁREA (m²) | F7: GABARITO CONSOLIDADO (m) | G7: SUPRESSÃO DE VEGETAÇÃO? | H7: OBRAS DE CONTENÇÃO? | I7: CONTAGEM DE TRÁFEGO?
A8: GRUPO DE PROJETOS 01
A9: PONTE RUA ALWIN JANDRE | B9: -26.697805, -49.161579 | C9: 25 | D9: 12 | E9: =C9*D9 -> 300 | F9: 12 | G9: NÃO | H9: SIM | I9: SIM
A10: REVISÃO DO PROJETO LIGAÇÃO PROGRESSO X TESTO ALTO (COM OAE) | B10: -26.705759, -49.168840 | C10: 347 | D10: 14 | E10: =C10*D10 -> 4858 | F10: 15 | I10: NÃO
A11: RUA CAMPO GRANDE | B11: -26.742210, -49.165476 | C11: 110 | D11: 9 | E11: =C11*D11 -> 990 | F11: 9 | G11: NÃO | H11: NÃO | I11: NÃO
A12: RUA PEDRO KNOPF | B12: -26.750695, -49.186412 | C12: 150 | D12: 12 | E12: =C12*D12 -> 1800 | F12: 10 | G12: NÃO | H12: TALVEZ | I12: SIM
A13: RUA VICTOR WEEGE | B13: -26.716828, -49.167205 | C13: 182 | D13: 9 | E13: =C13*D13 -> 1638 | F13: 9 | G13: NÃO | H13: NÃO | I13: NÃO
A14: AVENIDA 21 DE JANEIRO | B14: -26.731229, -49.179208 | C14: 480 | D14: 20 | E14: =C14*D14 -> 9600 | F14: 20 | G14: NÃO | H14: NÃO | I14: SIM
A15: RUA EMIL HORNBURG | B15: -26.691662, -49.173647 | C15: 277 | D15: 10 | E15: =C15*D15 -> 2770 | F15: 10 | G15: NÃO | H15: NÃO | I15: NÃO
A16: RUA RUDOLFO KREHNKE | B16: -26.721468, -49.148303 | C16: 315 | D16: 12 | E16: =C16*D16 -> 3780 | F16: 9 | G16: NÃO | H16: NÃO | I16: SIM
A17: RUA JERUSALÉM | B17: -26.739070, -49.163316 | C17: 1000 | D17: 12 | E17: =C17*D17 -> 12000 | F17: 12 | G17: SIM | H17: SIM | I17: SIM
A19: GRUPO DE PROJETOS 02
A20: RUA NOVA TRENTO | B20: -26.727789, -49.175644 | C20: 50 | D20: 9 | E20: =C20*D20 -> 450 | F20: 6 | G20: NÃO | H20: NÃO | I20: NÃO
A21: RUA PROJETADA 01 (INDAIAL) (COM OAE) | B21: -26.722763, -49.168581 | C21: 120 | D21: 14 | E21: =C21*D21 -> 1680 | F21: 0 | G21: SIM | H21: SIM | I21: NÃO
A22: BECO LEOPOLDO EHMKE | B22: -26.709820, -49.163588 | C22: 150 | D22: 7 | E22: =C22*D22 -> 1050 | F22: 7 | G22: NÃO | H22: NÃO | I22: NÃO
A23: RUA ERWIN SCHRUBBE | B23: -26.722200, -49.142297 | C23: 184.9 | D23: 12 | E23: =C23*D23 -> 2218.8 | F23: 7 | G23: SIM | H23: SIM | I23: NÃO
A24: RUA CARLOS ZEPLIN | B24: -26.722763, -49.168581 | C24: 280 | D24: 10 | E24: =C24*D24 -> 2800 | F24: 10 | G24: SIM | H24: SIM | I24: SIM
A25: RUA ESPANHA | B25: -26.737465, -49.162972 | C25: 340 | D25: 12 | E25: =C25*D25 -> 4080 | F25: 7 | G25: SIM | H25: SIM | I25: NÃO
A26: RUA OSCAR DORN | B26: -26.715019, -49.158721 | C26: 494 | D26: 12 | E26: =C26*D26 -> 5928 | F26: 7 | G26: SIM | H26: SIM | I26: SIM
A27: RUA GUSTAV RAUH | B27: -26.688959, -49.156384 | C27: 900 | D27: 12 | E27: =C27*D27 -> 10800 | F27: 12 | G27: SIM | H27: TALVEZ | I27: SIM
A29: GRUPO DE PROJETOS 03
A30: RUA ARNO ROMIG | B30: -26.726054, -49.170709 | C30: 85 | D30: 9 | E30: =C30*D30 -> 765 | F30: 7 | G30: NÃO | H30: NÃO | I30: NÃO
A31: RUA CARLOS BORCK | B31: -26.714049, -49.159342 | C31: 140 | D31: 10 | E31: =C31*D31 -> 1400 | F31: 10 | G31: SIM | H31: NÃO | I31: NÃO
A32: RUA VICTOR PASSOLD | B32: -26.684986, -49.160527 | C32: 152 | D32: 12 | E32: =C32*D32 -> 1824 | F32: 12 | G32: NÃO | H32: SIM | I32: NÃO
A33: RUA ARNO KRUEGER | B33: -26.689877, -49.158408 | C33: 193.78 | D33: 8 | E33: =C33*D33 -> 1550.24 | F33: 8 | G33: NÃO | H33: SIM | I33: NÃO
A34: RUA PEDRO ALVES DA CUNHA (COM OAE) | B34: -26.714039, -49.159056 | C34: 400 | D34: 9 | E34: =C34*D34 -> 3600 | F34: 5 | G34: NÃO | H34: SIM | I34: SIM
A35: RUA LOTHAR VOIGTLAENDER | B35: -26.738892, -49.163435 | C35: 500 | D35: 12 | E35: =C35*D35 -> 6000 | F35: 8 | G35: SIM | H35: SIM | I35: SIM
A36: RUA JULIO WOLLICK | B36: -26.756111, -49.181678 | C36: 740 | D36: 12 | E36: =C36*D36 -> 8880 | F36: 12 | G36: SIM | H36: NÃO | I36: SIM
A38: GRUPO DE PROJETOS 04
A39: RUA ERICH ZEPLIN | B39: -26.717915, -49.157594 | C39: 410 | D39: 12 | E39: =C39*D39 -> 4920 | F39: 12 | G39: NÃO | H39: TALVEZ | I39: NÃO
A40: RUA MARCILIO LEOPOLDINO DE OLIVEIRA | B40: -26.725439, -49.158956 | C40: 112.6 | D40: 10 | E40: =C40*D40 -> 1126 | F40: 10 | G40: NÃO | H40: SIM | I40: NÃO
A41: RUA JOHANNES ROEDEL | B41: -26.726667, -49.173195 | C41: 120 | D41: 10 | E41: =C41*D41 -> 1200 | F41: 10 | G41: NÃO | H41: NÃO | I41: NÃO
A42: RUA JULIO DALLMANN | B42: -26.722452, -49.173670 | C42: 163 | D42: 12 | E42: =C42*D42 -> 1956 | F42: 12 | G42: NÃO | H42: NÃO | I42: NÃO
A43: RUA DOS ATIRADORES - TRECHO 08 | B43: -26.820186, -49.158516 | C43: 700 | D43: 13 | E43: =C43*D43 -> 9100 | F43: 12 | G43: SIM | H43: SIM | I43: SIM
A44: RUA FLORIANÓPOLIS | B44: -26.723922, -49.168444 | C44: 210 | D44: 9 | E44: =C44*D44 -> 1890 | F44: 9 | G44: SIM | H44: NÃO | I44: SIM
A45: RUA RICARDO EISCHTAEDT | B45: -26.715806, -49.170247 | C45: 300 | D45: 9 | E45: =C45*D45 -> 2700 | F45: 8 | G45: SIM | H45: SIM | I45: NÃO
...

Sheet CRONOGRAMA
A1: CRONOGRAMA FÍSICO-FINANCEIRO
A2: ITEM | B2: NOME DA TAREFA | C2: DURAÇÃO (DIAS) | D2: VALOR DOS PAGAMENTOS | F2: MÊS 01 | J2: MÊS 02 | N2: MÊS 03 | R2: MÊS 04 | V2: MÊS 05 | Z2: MÊS 06 | AD2: MÊS 07 | AH2: MÊS 08 | AL2: MÊS 09 | AP2: MÊS 10 | AT2: MÊS 11 | AX2: MÊS 12
D3: % | E3: R$
A4: 1 | B4: ESTUDOS PRELIMINARES | C4: 49 | D4: =E4/ORÇAMENTO!$K$125 -> 0.12576317 | E4: =O253+O254+O255+O256+O257-0.01 -> 177995.82
A5: 1.1 | B5: ESTUDO DE TRÁFEGO | C5: =SUM(C6:C8) -> 28 | D5: =E5/ORÇAMENTO!$K$125 -> 0.01631414 | E5: =O253 -> 23089.817
A6: 1.1.1 | B6: PROJETISTA: entrega estudo de tráfego | C6: 21
A7: 1.1.2 | B7: PREFEITURA: análise | C7: 5
A8: 1.1.3 | B8: PREFEITURA: emissão de ofício de aceite | C8: 2
A9: 1.2 | B9: ESTUDOS TOPOGRÁFICOS | C9: =SUM(C10:C12) -> 35 | D9: =E9/ORÇAMENTO!$K$125 -> 0.024777462 | E9: =O254 -> 35068.173
A10: 1.2.1 | B10: PROJETISTA: entrega levantamento topográfico | C10: 28
A11: 1.2.2 | B11: PREFEITURA: análise | C11: 5
A12: 1.2.3 | B12: PREFEITURA: emissão de ofício de aceite | C12: 2
A13: 1.3 | B13: ENSAIOS GEOTÉCNICOS | C13: 28 | D13: =E13/ORÇAMENTO!$K$125 -> 0.062938336 | E13: =O255+O256 -> 89078.229
A14: 1.3.1 | B14: Pavimentação | C14: =SUM(C15:C17) -> 35 | D14: =E14/ORÇAMENTO!$K$125 -> 0.031240083 | E14: =O255 -> 44214.885
A15: 1.3.1.1 | B15: PROJETISTA: entrega estudos geotécnicos para pavimentação | C15: 28
A16: 1.3.1.2 | B16: PREFEITURA: análise | C16: 5
A17: 1.3.1.3 | B17: PREFEITURA: emissão de ofício de aceite | C17: 2
A18: 1.3.2 | B18: OAEs | C18: =SUM(C19:C21) -> 35 | D18: =E18/ORÇAMENTO!$K$125 -> 0.031698253 | E18: =O256 -> 44863.344
A19: 1.3.2.1 | B19: PROJETISTA: entrega estudos geotécnicos para OAE | C19: 28
A20: 1.3.2.2 | B20: PREFEITURA: análise | C20: 5
A21: 1.3.2.3 | B21: PREFEITURA: emissão de ofício de aceite | C21: 2
A22: 1.4 | B22: ESTUDO HIDROLÓGICO | C22: =SUM(C23:C25) -> 28 | D22: =E22/ORÇAMENTO!$K$125 -> 0.021733244 | E22: =O257 -> 30759.614
A23: 1.4.1 | B23: PROJETISTA: entrega estudo hidrológico | C23: 21
A24: 1.4.2 | B24: PREFEITURA: análise | C24: 5
A25: 1.4.3 | B25: PREFEITURA: emissão de ofício de aceite | C25: 2
A26: 2 | B26: PROJETOS | C26: 301 | D26: =E26/ORÇAMENTO!$K$125 -> 0.87423682 | E26: =O258+O259+O260+O261+O262+O263+O264+O265+O266+O267+O268 -> 1237329.6
A27: 2.1 | B27: GRUPO 01 | C27: 77 | D27: =E27/ORÇAMENTO!$K$125 -> 0.194333 | E27: =SUM(E28:E64) -> 275044.44
A28: 2.1.1 | B28: PROJETO GEOMÉTRICO | C28: =SUM(C29:C31) -> 28 | D28: =E28/ORÇAMENTO!$K$125 -> 0.032153091 | E28: =C29*$O$258/$M$258 -> 45507.089
A29: 2.1.1.1 | B29: PROJETISTA: entrega projeto geométrico | C29: 21
A30: 2.1.1.2 | B30: PREFEITURA: análise | C30: 5
A31: 2.1.1.3 | B31: PREFEITURA: emissão de ofício de aceite | C31: 2
A32: 2.1.2 | B32: PROJETO DE TERRAPLANGEM | C32: =SUM(C33:C35) -> 8 | D32: =E32/ORÇAMENTO!$K$125 -> 0.0075105854 | E32: =C33*$O$259/$M$259 -> 10629.923
A33: 2.1.2.1 | B33: PROJETISTA: entrega projeto de terraplanagem | C33: 5
A34: 2.1.2.2 | B34: PREFEITURA: análise | C34: 2
A35: 2.1.2.3 | B35: PREFEITURA: emissão de ofício de aceite | C35: 1
A36: 2.1.3 | B36: PROJETO DE DRENAGEM | C36: =SUM(C37:C39) -> 21 | D36: =E36/ORÇAMENTO!$K$125 -> 0.021029643 | E36: =C37*$O$260/$M$260 -> 29763.788
A37: 2.1.3.1 | B37: PROJETISTA: entrega projeto de drenagem | C37: 14
A38: 2.1.3.2 | B38: PREFEITURA: análise | C38: 5
A39: 2.1.3.3 | B39: PREFEITURA: emissão de ofício de aceite | C39: 2
A40: 2.1.4 | B40: PROJETO DE PAVIMENTAÇÃO | C40: =SUM(C41:C43) -> 8 | D40: =E40/ORÇAMENTO!$K$125 -> 0.0075105856 | E40: =C41*$O$261/$M$261 -> 10629.923
...

Sheet ORÇAMENTO
A1: PREFEITURA MUNICIPAL DE POMERODE SECRETARIA DE PLANEJAMENTO E MEIO AMBIENTE Rua 15 de Novembro, 525, Centro 89107-000 – Pomerode – Santa Catarina
A3: OBJETO: ELABORAÇÃO DE ESTUDOS E PROJETOS BÁSICO E EXECUTIVO DE ENGENHARIA VIÁRIA
A4: PRAZO DE EXECUÇÃO CONTRATUAL: 329 DIAS | K4: PRAZO DE VIGÊNCIA DA CONTRATAÇÃO: 390 DIAS
A5: DATA BASE DO ORÇAMENTO: ABR/2026
A7: ITEM | B7: REF. | C7: TIPO | D7: CÓD. | E7: DESCRIÇÃO | F7: QUANT. MENSAL | G7: PARTICIPAÇÃO MENSAL (%) | H7: MESES | I7: QUANT. TOTAL | J7: PREÇO UNIT. (R$/MÊS) | K7: PREÇO TOTAL (R$)
A8: 1 | E8: ESTUDO DE TRÁFEGO
A9: 1.1 | B9: DNIT | C9: T. CONS. | D9: P8147 | E9: Técnico - Chefe de posto | F9: 1 | G9: 0.5 | H9: =SUMIF(CRONOGRAMA!B:B,"PROJETISTA: entrega estudo de tráfego",CRONOGRAMA!C:C)/30 -> 0.7 | I9: =F9*G9*H9 -> 0.35 | J9: 7296.64 | K9: =TRUNC(I9*J9,2) -> 2553.82
A10: 1.2 | B10: DNIT | C10: T. CONS. | D10: P8025 | E10: Auxiliar - Pesquisador | F10: 1 | G10: 0.5 | H10: =SUMIF(CRONOGRAMA!B:B,"PROJETISTA: entrega estudo de tráfego",CRONOGRAMA!C:C)/30 -> 0.7 | I10: =F10*G10*H10 -> 0.35 | J10: 4501.3 | K10: =TRUNC(I10*J10,2) -> 1575.45
A11: 1.3 | B11: DNIT | C11: T. CONS. | D11: P8065 | E11: Engenheiro de projetos júnior | F11: 1 | G11: 0.5 | H11: =SUMIF(CRONOGRAMA!B:B,"PROJETISTA: entrega estudo de tráfego",CRONOGRAMA!C:C)/30 -> 0.7 | I11: =F11*G11*H11 -> 0.35 | J11: 23009.54 | K11: =TRUNC(I11*J11,2) -> 8053.33
A12: 1.4 | B12: DNIT | C12: T. CONS. | D12: P8147 | E12: Técnico - Auxiliar de Engenharia | F12: 1 | G12: 0.5 | H12: =SUMIF(CRONOGRAMA!B:B,"PROJETISTA: entrega estudo de tráfego",CRONOGRAMA!C:C)/30 -> 0.7 | I12: =F12*G12*H12 -> 0.35 | J12: 7296.64 | K12: =TRUNC(I12*J12,2) -> 2553.82
A13: 1.5 | B13: DNIT | C13: T. CONS. | D13: E8889 | E13: Veículo leve - 53 kW (sem motorista) | F13: 1 | G13: =G9 -> 0.5 | H13: =H9 -> 0.7 | I13: =F13*G13*H13 -> 0.35 | J13: =66*39.77+116.49*6.61 -> 3394.8189 | K13: =TRUNC(I13*J13,2) -> 1188.18
J14: SUBTOTAL | K14: =SUM(K9:K13) -> 15924.6
A16: 2 | E16: ESTUDOS TOPOGRÁFICOS
A17: 2.1 | B17: DNIT | C17: T. CONS. | D17: P8163 | E17: Topógrafo | F17: 1 | G17: 0.5 | H17: =SUMIF(CRONOGRAMA!B:B,"PROJETISTA: entrega levantamento topográfico",CRONOGRAMA!C:C)/30 -> 0.93333333 | I17: =F17*G17*H17 -> 0.46666667 | J17: 6095.68 | K17: =TRUNC(I17*J17,2) -> 2844.65
A18: 2.2 | B18: DNIT | C18: T. CONS. | D18: P8028 | E18: Auxiliar de topografia | F18: 1 | G18: 0.5 | H18: =SUMIF(CRONOGRAMA!B:B,"PROJETISTA: entrega levantamento topográfico",CRONOGRAMA!C:C)/30 -> 0.93333333 | I18: =F18*G18*H18 -> 0.46666667 | J18: 4492.8 | K18: =TRUNC(I18*J18,2) -> 2096.64
A19: 2.3 | B19: DNIT | C19: T. CONS. | D19: P8065 | E19: Engenheiro de projetos júnior | F19: 1 | G19: 0.5 | H19: =SUMIF(CRONOGRAMA!B:B,"PROJETISTA: entrega levantamento topográfico",CRONOGRAMA!C:C)/30 -> 0.93333333 | I19: =F19*G19*H19 -> 0.46666667 | J19: 23009.54 | K19: =TRUNC(I19*J19,2) -> 10737.78
A20: 2.4 | B20: DNIT | C20: T. CONS. | D20: P8025 | E20: Auxiliar - Desenhista projetos | F20: 1 | G20: 0.5 | H20: =SUMIF(CRONOGRAMA!B:B,"PROJETISTA: entrega levantamento topográfico",CRONOGRAMA!C:C)/30 -> 0.93333333 | I20: =F20*G20*H20 -> 0.46666667 | J20: 4501.3 | K20: =TRUNC(I20*J20,2) -> 2100.6
A21: 2.5 | B21: DNIT | C21: T. CONS. | D21: E8887 | E21: Veículo tipo van furgão com capacidade de 1,38 t - 100 kW (sem motorista) | F21: 1 | G21: =G17 -> 0.5 | H21: =H17 -> 0.93333333 | I21: =F21*G21*H21 -> 0.46666667 | J21: =66*66.07+116.49*20.28 -> 6723.0372 | K21: =TRUNC(I21*J21,2) -> 3137.41
A22: 16.5 | B22: DNIT | C22: T. CONS. | D22: B8958 | E22: Topografia | F22: 1 | G22: =G17 -> 0.5 | H22: =H17 -> 0.93333333 | I22: =F22*G22*H22 -> 0.46666667 | J22: 6145.87 | K22: =TRUNC(I22*J22,2) -> 2868.07
A23: 16.6 | B23: DNIT | C23: T. CONS. | D23: B8961 | E23: Topografia por VANT | F23: 1 | G23: =G19 -> 0.5 | H23: =H19 -> 0.93333333 | I23: =F23*G23*H23 -> 0.46666667 | J23: 858.63 | K23: =TRUNC(I23*J23,2) -> 400.69
J24: SUBTOTAL | K24: =SUM(K17:K23) -> 24185.84
A26: 3 | E26: ENSAIOS GEOTÉCNICOS E GEOLÓGICOS
A27: 3.1 | E27: Pavimentação
A28: 3.1.1 | B28: DNIT | C28: T. CONS. | D28: P8065 | E28: Engenheiro de projetos júnior | F28: 1 | G28: 0.5 | H28: =SUMIF(CRONOGRAMA!B:B,"PROJETISTA: entrega estudos geotécnicos para pavimentação",CRONOGRAMA!C:C)/30 -> 0.93333333 | I28: =F28*G28*H28 -> 0.46666667 | J28: 23009.54 | K28: =TRUNC(I28*J28,2) -> 10737.78
A29: 3.1.2 | B29: DNIT | C29: T. CONS. | D29: P8147 | E29: Técnico - Inspetor de Campo | F29: 1 | G29: 0.5 | H29: =SUMIF(CRONOGRAMA!B:B,"PROJETISTA: entrega estudos geotécnicos para pavimentação",CRONOGRAMA!C:C)/30 -> 0.93333333 | I29: =F29*G29*H29 -> 0.46666667 | J29: 7296.64 | K29: =TRUNC(I29*J29,2) -> 3405.09
A30: 3.1.3 | B30: DNIT | C30: T. CONS. | D30: P8098 | E30: Laboratorista | F30: 1 | G30: 0.5 | H30: =SUMIF(CRONOGRAMA!B:B,"PROJETISTA: entrega estudos geotécnicos para pavimentação",CRONOGRAMA!C:C)/30 -> 0.93333333 | I30: =F30*G30*H30 -> 0.46666667 | J30: 5942.7 | K30: =TRUNC(I30*J30,2) -> 2773.26
A31: 3.1.4 | B31: DNIT | C31: T. CONS. | D31: P8027 | E31: Auxiliar de Laboratório | F31: 1 | G31: 0.5 | H31: =SUMIF(CRONOGRAMA!B:B,"PROJETISTA: entrega estudos geotécnicos para pavimentação",CRONOGRAMA!C:C)/30 -> 0.93333333 | I31: =F31*G31*H31 -> 0.46666667 | J31: 4826.63 | K31: =TRUNC(I31*J31,2) -> 2252.42
A32: 3.1.5 | B32: DNIT | C32: T. CONS. | D32: P8139 | E32: Sondador | F32: 1 | G32: 0.5 | H32: =SUMIF(CRONOGRAMA!B:B,"PROJETISTA: entrega estudos geotécnicos para pavimentação",CRONOGRAMA!C:C)/30 -> 0.93333333 | I32: =F32*G32*H32 -> 0.46666667 | J32: 5442.71 | K32: =TRUNC(I32*J32,2) -> 2539.93
A33: 3.1.6 | B33: DNIT | C33: T. CONS. | D33: P8025 | E33: Auxiliar (sondagem) | F33: 1 | G33: 0.5 | H33: =SUMIF(CRONOGRAMA!B:B,"PROJETISTA: entrega estudos geotécnicos para pavimentação",CRONOGRAMA!C:C)/30 -> 0.93333333 | I33: =F33*G33*H33 -> 0.46666667 | J33: 4826.63 | K33: =TRUNC(I33*J33,2) -> 2252.42
A34: 3.1.7 | B34: DNIT | C34: T. CONS. | D34: B8957 | E34: Laboratório de Solos | F34: 1 | G34: =G30 -> 0.5 | H34: =H30 -> 0.93333333 | I34: =F34*G34*H34 -> 0.46666667 | J34: 3882.01 | K34: =TRUNC(I34*J34,2) -> 1811.6
A35: 3.1.8 | B35: DNIT | C35: T. CONS. | D35: E8889 | E35: Veículo leve - 53 kW (sem motorista) | F35: 1 | G35: =G29 -> 0.5 | H35: =H29 -> 0.93333333 | I35: =F35*G35*H35 -> 0.46666667 | J35: =66*39.77+116.49*6.61 -> 3394.8189 | K35: =TRUNC(I35*J35,2) -> 1584.24
A36: 3.1.9 | B36: DNIT | C36: T. CONS. | D36: E8887 | E36: Veículo tipo van furgão com capacidade de 1,38 t - 100 kW (sem motorista) | F36: 1 | G36: =G32 -> 0.5 | H36: =H32 -> 0.93333333 | I36: =F36*G36*H36 -> 0.46666667 | J36: =66*66.07+116.49*20.28 -> 6723.0372 | K36: =TRUNC(I36*J36,2) -> 3137.41
J37: SUBTOTAL | K37: =SUM(K28:K36) -> 30494.15
A39: 3.2 | E39: OAEs
A40: 3.2.1 | B40: DNIT | C40: T. CONS. | D40: P8066 | E40: Engenheiro de projetos pleno | F40: 1 | G40: 0.5 | H40: =SUMIF(CRONOGRAMA!B:B,"PROJETISTA: entrega estudos geotécnicos para OAE",CRONOGRAMA!C:C)/30 -> 0.93333333 | I40: =F40*G40*H40 -> 0.46666667 | J40: 27362.69 | K40: =TRUNC(I40*J40,2) -> 12769.25
A41: 3.2.2 | B41: DNIT | C41: T. CONS. | D41: P8147 | E41: Técnico - Inspetor de Campo | F41: 1 | G41: 0.5 | H41: =SUMIF(CRONOGRAMA!B:B,"PROJETISTA: entrega estudos geotécnicos para OAE",CRONOGRAMA!C:C)/30 -> 0.93333333 | I41: =F41*G41*H41 -> 0.46666667 | J41: 7296.64 | K41: =TRUNC(I41*J41,2) -> 3405.09
A42: 3.2.3 | B42: DNIT | C42: T. CONS. | D42: P8139 | E42: Sondador | F42: 1 | G42: 0.5 | H42: =SUMIF(CRONOGRAMA!B:B,"PROJETISTA: entrega estudos geotécnicos para OAE",CRONOGRAMA!C:C)/30 -> 0.93333333 | I42: =F42*G42*H42 -> 0.46666667 | J42: 5442.71 | K42: =TRUNC(I42*J42,2) -> 2539.93
A43: 3.2.4 | B43: DNIT | C43: T. CONS. | D43: P8025 | E43: Auxiliar (sondagem) | F43: 1 | G43: 0.5 | H43: =SUMIF(CRONOGRAMA!B:B,"PROJETISTA: entrega estudos geotécnicos para OAE",CRONOGRAMA!C:C)/30 -> 0.93333333 | I43: =F43*G43*H43 -> 0.46666667 | J43: 4826.63 | K43: =TRUNC(I43*J43,2) -> 2252.42
A44: 3.2.5 | B44: DNIT | C44: T. CONS. | D44: P8098 | E44: Laboratorista | F44: 1 | G44: 0.5 | H44: =SUMIF(CRONOGRAMA!B:B,"PROJETISTA: entrega estudos geotécnicos para OAE",CRONOGRAMA!C:C)/30 -> 0.93333333 | I44: =F44*G44*H44 -> 0.46666667 | J44: 5942.7 | K44: =TRUNC(I44*J44,2) -> 2773.26
A45: 3.2.6 | B45: DNIT | C45: T. CONS. | D45: P8027 | E45: Auxiliar de Laboratório | F45: 1 | G45: 0.5 | H45: =SUMIF(CRONOGRAMA!B:B,"PROJETISTA: entrega estudos geotécnicos para OAE",CRONOGRAMA!C:C)/30 -> 0.93333333 | I45: =F45*G45*H45 -> 0.46666667 | J45: 4826.63 | K45: =TRUNC(I45*J45,2) -> 2252.42
...

Sheet BDI
A1: PREFEITURA MUNICIPAL DE POMERODE SECRETARIA DE PLANEJAMENTO E MEIO AMBIENTE Rua 15 de Novembro, 525, Centro 89107-000 – Pomerode – Santa Catarina
A3: OBJETO: ELABORAÇÃO DE ESTUDOS E PROJETOS BÁSICO E EXECUTIVO DE ENGENHARIA VIÁRIA
A5: TABELA DE PREÇOS DE CONSULTORIA Benefícios e Despesas Indiretas - BDI
A6: Valores de referência para as taxas de BDI
A7: Descrição das Parcelas | C7: Valores
A8: Despesas Indiretas | C8: % sobre PV | D8: % sobre CD
A9: Administração Central | B9: Variável - f (CD) | C9: =D9/(1+D$22/100) -> 6.8968064 | D9: 10
A10: Despesas Financeiras | B10: 1.1 | C10: =D10/(1+D$22/100) -> 1.0089622 | D10: =D22-(D9+D11+D12+D15+D18+D19+D20) -> 1.4629411
A11: Riscos | B11: 0,50% do PV | C11: 0.5 | D11: =C11*(1+D$22/100) -> 0.72497323
A12: Seguros e Garantias Contratuais | B12: 0,10% do PV | C12: 0.1 | D12: =C12*(1+D$22/100) -> 0.14499465
B13: Subtotal 1 | C13: =SUM(C9:C12) -> 8.5057685 | D13: =SUM(D9:D12) -> 12.332909
A14: Benefícios | C14: % sobre PV | D14: % sobre CD
A15: Lucro | B15: Variável - f (CD) | C15: =D15/(1+D$22/100) -> 8.2761677 | D15: 12
B16: Subtotal 2 | C16: =C15 -> 8.2761677 | D16: =D15 -> 12
A17: Tributos | C17: % sobre PV | D17: % sobre CD
A18: PIS | B18: 1,65% do PV | C18: 1.65 | D18: =C18*(1+D$22/100) -> 2.3924117
A19: COFINS | B19: 7,60% do PV | C19: 7.6 | D19: =C19*(1+D$22/100) -> 11.019593
A20: ISSQN* | B20: 5,00% do PV | C20: 5 | D20: =C20*(1+D$22/100) -> 7.2497323
B21: Subtotal 3 | C21: =SUM(C18:C20) -> 14.25 | D21: =SUM(D18:D20) -> 20.661737
A22: Total - BDI (%) | C22: =C13+C16+C21 -> 31.031936 | D22: =((1+(D9/100+D15/100-($B10/100*D15/100)))/(1-($B10/100+C12/100+C11/100+C18/100+C19/100+C20/100))-1)*100 -> 44.994646
A23: Observação: (*) Limite máximo adotado de 5%, valor variável em função da legislação do município de Pomerode. As empresas licitantes deverão adotar as alíquotas pertinentes.
A25: PV = Preço de Venda
A26: CD = Custo Direto
A27: SELIC (agosto/2026) = 14,00% a.a.
A28: DF = [(1+SELIC)^(1/12)-1] sobre (PV - Lucro), o que resulta em DF = 1,10% sobre (PV - Lucro)
