Workbook

Sheet Orçamento
A1: MELIM Engenharia e Construtora Ltda.
A2: Av.: Jardim Panorama, 357 - Sumaré - Fone:(47)999886066
A3: 89.165-726 - Rio do Sul - S.C. - CREA/SC nº 062.634-6
A4: CNPJ nº05.309.557/0001-22 I.E. nº 254.468.250
A5: e-mail:melimconstrutora@gmail.com
A8: Propritário: PREFEITURA MUNICIPAL DE VIDAL RAMOS
A9: Obra:CONSTRUÇÃO DO CENTRO DE CONVIVENCIA DO IDOSO | G9: Data: 22/12/25 | K9: B.D.I.
A10: Endereço: RODOVIA SC 110 - VIDAL RAMOS/SC | G10: B.D.I.: 23,31% | K10: 1.2331
A13: ORÇAMENTO
A14: ITEM | B14: SINAPI | C14: SERVIÇO/INSUMO | D14: UNID. | E14: QUANT. | F14: PREÇO UNIT. S/ BDI | G14: PREÇO UNIT. C/ BDI | H14: PREÇO TOTAL
A15: 1 | C15: SERVIÇOS INICIAIS | H15: =SUM(H16:H21) -> 32357.65
A16: 1.1 | B16: 103689 | C16: FORNECIMENTO E INSTALAÇÃO DE PLACA DE OBRA COM CHAPA GALVANIZADA E ESTRUTURA DE MADEIRA. AF_03/2022_PS | D16: m² | E16: =1.8*3.6 -> 6.48 | F16: 463.33 | G16: =ROUND(F16*L16,2) -> 571.33 | H16: =ROUND(G16*E16,2) -> 3702.22 | L16: =K10 -> 1.2331
A17: 1.2 | B17: 98459 | C17: TAPUME COM TELHA METÁLICA. AF_03/2024 | D17: m² | E17: =2.4*(19+4+25+4) -> 124.8 | F17: 87.72 | G17: =ROUND(F17*L17,2) -> 108.17 | H17: =ROUND(G17*E17,2) -> 13499.62 | L17: =L16 -> 1.2331
A18: 1.3 | B18: 98525 | C18: LIMPEZA MECANIZADA DE CAMADA VEGETAL, VEGETAÇÃO E PEQUENAS ÁRVORES (DIÂMETRO DE TRONCO MENOR QUE 0,20 M), COM TRATOR DE ESTEIRAS. AF_03/2024 | D18: m² | E18: =(19+4)*(25+4) -> 667 | F18: 0.66 | G18: =ROUND(F18*L18,2) -> 0.81 | H18: =ROUND(G18*E18,2) -> 540.27 | L18: =L17 -> 1.2331
A19: 1.4 | B19: 104738 | C19: ATERRO MECANIZADO DE VALA COM MINICARREGADEIRA, COM SOLO ARGILO-ARENOSO. AF_08/2023 | D19: m³ | E19: =475*0.15 -> 71.25 | F19: 83.19 | G19: =ROUND(F19*L19,2) -> 102.58 | H19: =ROUND(G19*E19,2) -> 7308.83 | L19: =L18 -> 1.2331
A20: 1.5 | B20: 96525 | C20: ESCAVAÇÃO MECANIZADA PARA VIGA BALDRAME COM MINI-ESCAVADEIRA (INCLUINDO ESCAVAÇÃO PARA COLOCAÇÃO DE FÔRMAS). AF_01/2024 | D20: m³ | E20: =0.4*0.2*(25*3+4.2*6+3*2+2*4) -> 9.136 | F20: 58.1 | G20: =ROUND(F20*L20,2) -> 71.64 | H20: =ROUND(G20*E20,2) -> 654.5 | L20: =L19 -> 1.2331
A21: 1.6 | B21: 96520 | C21: ESCAVAÇÃO MECANIZADA PARA BLOCO DE COROAMENTO OU SAPATA COM RETROESCAVADEIRA (SEM ESCAVAÇÃO PARA COLOCAÇÃO DE FÔRMAS). AF_01/2024 | D21: m³ | E21: =(1.1*1.1*31*1.5) -> 56.265 | F21: 95.88 | G21: =ROUND(F21*L21,2) -> 118.23 | H21: =ROUND(G21*E21,2) -> 6652.21 | L21: =L18 -> 1.2331
A22: 2 | C22: INFRAESTRUTURA | H22: =SUM(H23:H28) -> 38903.76 | L22: =L21 -> 1.2331
A23: 2.1 | B23: 101174 | C23: ESTACA BROCA DE CONCRETO, DIÂMETRO DE 25CM, ESCAVAÇÃO MANUAL COM TRADO CONCHA, COM | D23: m | E23: =31*2*2 -> 124 | F23: 92.41 | G23: =ROUND(F23*L23,2) -> 113.95 | H23: =ROUND(G23*E23,2) -> 14129.8 | L23: =L22 -> 1.2331
A24: 2.2 | B24: 96535 | C24: ARMADURA DE ARRANQUE. AF_05/2020 | D24: m² | E24: =(20.98+4.44+18.36+10.66+9.65)/4 -> 16.0225 | F24: 142.93 | G24: =ROUND(F24*L24,2) -> 176.25 | H24: =ROUND(G24*E24,2) -> 2823.97 | L24: =L23 -> 1.2331
A25: 2.3 | B25: 104916 | C25: ARMAÇÃO DE SAPATA ISOLADA, VIGA BALDRAME E SAPATA CORRIDA UTILIZANDO AÇO CA-60 DE 5 MM - MONTAGEM. AF_01/2024 | D25: kg | E25: =22.6+4+14.5+9.9+7.9 -> 58.9 | F25: 16.9 | G25: =ROUND(F25*L25,2) -> 20.84 | H25: =ROUND(G25*E25,2) -> 1227.48 | L25: =L23 -> 1.2331
A26: 2.4 | B26: 104919 | C26: ARMAÇÃO DE SAPATA ISOLADA, VIGA BALDRAME E SAPATA CORRIDA UTILIZANDO AÇO CA-50 DE 10 MM - MONTAGEM. AF_01/2024 | D26: kg | E26: =156.1+31.5+149.6+73.7+73.2 -> 484.1 | F26: 12.22 | G26: =ROUND(F26*L26,2) -> 15.07 | H26: =ROUND(G26*E26,2) -> 7295.39 | L26: =L25 -> 1.2331
A27: 2.5 | B27: 104920 | C27: ARMAÇÃO DE BLOCO, SAPATA ISOLADA, VIGA BALDRAME E SAPATA CORRIDA UTILIZANDO AÇO CA-50 DE 12,5 MM - MONTAGEM. AF_01/2024 | D27: kg | E27: =77.2 -> 77.2 | F27: 10.31 | G27: =ROUND(F27*L27,2) -> 12.71 | H27: =ROUND(G27*E27,2) -> 981.21 | L27: =L26 -> 1.2331
A28: 2.6 | B28: 96558 | C28: CONCRETAGEM DE SAPATA, FCK 30 MPA, COM USO DE BOMBA - LANÇAMENTO, ADENSAMENTO E ACABAMENTO. AF_01/2024 | D28: m³ | E28: =4.42+0.61+3.46+1.34+1.58 -> 11.41 | F28: 884.59 | G28: =ROUND(F28*L28,2) -> 1090.79 | H28: =ROUND(G28*E28,2) -> 12445.91 | L28: =L27 -> 1.2331
A29: 3 | C29: SUPERESTRUTURA | H29: =SUM(H30:H40) -> 117303.22 | L29: =L28 -> 1.2331
A30: 3.1 | B30: 92411 | C30: MONTAGEM E DESMONTAGEM DE FÔRMA DE PILARES RETANGULARES E ESTRUTURAS SIMILARES, PÉ-DIREITO SIMPLES, EM MADEIRA SERRADA, 2 UTILIZAÇÕES. AF_09/2020 | D30: m² | E30: =(92.89+3.98+7.72)/2 -> 52.295 | F30: 167.27 | G30: =ROUND(F30*L30,2) -> 206.26 | H30: =ROUND(G30*E30,2) -> 10786.37 | L30: =L29 -> 1.2331
A31: 3.2 | B31: 92451 | C31: MONTAGEM E DESMONTAGEM DE FÔRMA DE VIGA, ESCORAMENTO COM GARFO DE MADEIRA, PÉ-DIREITO SIMPLES, EM CHAPA DE MADEIRA RESINADA, 2 UTILIZAÇÕES. AF_09/2020 | D31: m² | E31: =(123.05+35.52+117.74+30.96+13.62+15.36)/2 -> 168.125 | F31: 211.64 | G31: =ROUND(F31*L31,2) -> 260.97 | H31: =ROUND(G31*E31,2) -> 43875.58 | L31: =L30 -> 1.2331
A32: 3.3 | B32: 92759 | C32: ARMAÇÃO DE PILAR OU VIGA DE ESTRUTURA CONVENCIONAL DE CONCRETO ARMADO UTILIZANDO AÇO CA-60 DE 5,0 MM - MONTAGEM. AF_06/2022 | D32: Kg | E32: =127.6+125+37.6+119.8+32.1+9+15.3+15.6+13.8 -> 495.8 | F32: 13.98 | G32: =ROUND(F32*L32,2) -> 17.24 | H32: =ROUND(G32*E32,2) -> 8547.59 | L32: =L31 -> 1.2331
A33: 3.4 | B33: 92761 | C33: ARMAÇÃO DE PILAR OU VIGA DE ESTRUTURA CONVENCIONAL DE CONCRETO ARMADO UTILIZANDO AÇO CA-50 DE 8,0 MM - MONTAGEM. AF_06/2022 | D33: kg | E33: =48.3+1.6+4.8+29.4 -> 84.1 | F33: 11.73 | G33: =ROUND(F33*L33,2) -> 14.46 | H33: =ROUND(G33*E33,2) -> 1216.09 | L33: =L32 -> 1.2331
A34: 3.5 | B34: 92762 | C34: ARMAÇÃO DE PILAR OU VIGA DE ESTRUTURA CONVENCIONAL DE CONCRETO ARMADO UTILIZANDO AÇO CA-50 DE 10,0 MM - MONTAGEM. AF_06/2022 | D34: kg | E34: =197.7+231.8+105.1+300.7+50.1+16.2+59.3+52.3+29.4 -> 1042.6 | F34: 10.34 | G34: =ROUND(F34*L34,2) -> 12.75 | H34: =ROUND(G34*E34,2) -> 13293.15 | L34: =L29 -> 1.2331
A35: 3.8 | B35: 92763 | C35: ARMAÇÃO DE PILAR OU VIGA DE ESTRUTURA CONVENCIONAL DE CONCRETO ARMADO UTILIZANDO AÇO CA-50 DE 12,5 MM - MONTAGEM. AF_06/2022 | D35: kg | E35: =161.8+129.4+9 -> 300.2 | F35: 8.6 | G35: =ROUND(F35*L35,2) -> 10.6 | H35: =ROUND(G35*E35,2) -> 3182.12 | L35: =L30 -> 1.2331
A36: 3.9 | B36: 92760 | C36: ARMAÇÃO DE PILAR OU VIGA DE ESTRUTURA CONVENCIONAL DE CONCRETO ARMADO UTILIZANDO AÇO CA-50 DE 6,3 MM - MONTAGEM. AF_06/2022 | D36: kg | E36: =6.3+1.8+15.8+1.6+1.6 -> 27.1 | F36: 12.8 | G36: =ROUND(F36*L36,2) -> 15.78 | H36: =ROUND(G36*E36,2) -> 427.64 | L36: =L31 -> 1.2331
A37: 3.10 | B37: 103670 | C37: CONCRETAGEM DE PILARES, FCK = 25 MPA, COM USO DE BOMBA - LANÇAMENTO, ADENSAMENTO E ACABAMENTO. AF_02/2022 | D37: m³ | E37: =5.25+0.24+0.44 -> 5.93 | F37: 763.36 | G37: =ROUND(F37*L37,2) -> 941.3 | H37: =ROUND(G37*E37,2) -> 5581.91 | L37: =L32 -> 1.2331
B38: 106068 | C38: LAJE PRÉ-MOLDADA UNIDIRECIONAL, BIAPOIADA TIPO LAJE PAINEL TRELIÇADO NERVURADO (COM ENCHIMENTO EM EPS), PARA PISO, ALTURA TOTAL DA LAJE "LT" = 12 CM (PAINEL+ENCHIMENTO+CAPA) = (3+5+4). AF_08/2025 | D38: m² | E38: =4.85*4.2 -> 20.37 | F38: 268.79 | G38: =ROUND(F38*L38,2) -> 331.44 | H38: =ROUND(G38*E38,2) -> 6751.43 | L38: =L33 -> 1.2331
A39: 3.11 | B39: 101793 | C39: ESCORAMENTO DE FÔRMAS DE LAJE EM MADEIRA NÃO APARELHADA, PÉ-DIREITO DUPLO, INCLUSO TRAVAMENTO, 4 UTILIZAÇÕES. AF_09/2020 | D39: m3 | E39: =4.85*4.2*4.5 -> 91.665 | F39: 28.63 | G39: =ROUND(F39*L39,2) -> 35.3 | H39: =ROUND(G39*E39,2) -> 3235.77 | L39: =L34 -> 1.2331
A40: 3.12 | B40: 103674 | C40: CONCRETAGEM DE VIGAS E LAJES, FCK=25 MPA, PARA LAJES PREMOLDADAS COM USO DE BOMBA - LANÇAMENTO, ADENSAMENTO E ACABAMENTO. AF_02/2022_PS | D40: m³ | E40: =(4.85*4.2*0.08)+0.93+7.18+1.84+2.11+7.32 -> 21.0096 | F40: 787.65 | G40: =ROUND(F40*L40,2) -> 971.25 | H40: =ROUND(G40*E40,2) -> 20405.57 | L40: =L31 -> 1.2331
A41: 4 | C41: ALVENARIA/REVESTIMENTOS VERTICAIS | H41: =SUM(H42:H50) -> 132024.96 | L41: =L32 -> 1.2331
A42: 4.1 | B42: 103324 | C42: ALVENARIA DE VEDAÇÃO DE BLOCOS CERÂMICOS FURADOS NA VERTICAL DE 14X19X39 CM (ESPESSURA 14 CM) E ARGAMASSA DE ASSENTAMENTO COM PREPARO EM BETONEIRA. AF_12/2021 | D42: m² | E42: =(3.5*(19*2+25*3+3.9*5+3.7+2.1+2*4))-((0.5*6+1+2.1*2+2.2+1.26*7+1.89*8+1.89+11.4*2)) -> 453.02 | F42: 92.17 | G42: =ROUND(F42*L42,2) -> 113.65 | H42: =ROUND(G42*E42,2) -> 51485.72 | L42: =L41 -> 1.2331
A43: 4.2 | B43: 87878 | C43: CHAPISCO APLICADO EM ALVENARIAS E ESTRUTURAS DE CONCRETO INTERNAS, COM COLHER DE PEDREIRO. ARGAMASSA TRAÇO 1:3 COM PREPARO MANUAL. AF_10/2022 | D43: m² | E43: =E42*2 -> 906.04 | F43: 5.49 | G43: =ROUND(F43*L43,2) -> 6.77 | H43: =ROUND(G43*E43,2) -> 6133.89 | L43: =L42 -> 1.2331
A44: 4.3 | B44: 104951 | C44: MASSA ÚNICA, EM ARGAMASSA TRAÇO 1:2:8, PREPARO MECÂNICO, APLICADA MANUALMENTE EM PAREDES INTERNAS DE AMBIENTES COM ÁREA MAIOR QUE 10M², E = 17,5MM, COM TALISCAS. AF_03/2024 | D44: m² | E44: =E43 -> 906.04 | F44: 36.38 | G44: =ROUND(F44*L44,2) -> 44.86 | H44: =ROUND(G44*E44,2) -> 40644.95 | L44: =L43 -> 1.2331
...

Sheet BDI
B2: MELIM Engenharia e Construtora Ltda.
B3: Av.: Jardim Panorama, 357 - Sumaré - Fone:(47)999886066
B4: 89.165-726 - Rio do Sul - S.C. - CREA/SC nº 062.634-6
B5: CNPJ nº05.309.557/0001-22 I.E. nº 254.468.250
B6: e-mail:melimconstrutora@gmail.com
B11: =[1]Orçamento!A11 -> Propritário: Prefeitura Municipal de Vidal Ramos
B12: =Orçamento!A9 -> Obra:CONSTRUÇÃO DO CENTRO DE CONVIVENCIA DO IDOSO
B13: =Orçamento!A10 -> Endereço: RODOVIA SC 110 - VIDAL RAMOS/SC
B14: ='[2]Ponte 15,00 metros'!A13 -> BDI: | C14: 0.2331
B15: =Orçamento!G9 -> Data: 22/12/25
B18: Taxa Selic | C18: 0.15 | E18: Despesas Financeiras (DF) | H18: 0.0139
B19: ISS MUNI. | C19: 0.05
B20: COMPOSIÇÃO DO BDI
B21: BDI = [((1+ AC + S+ R).(1+DF).(1+L)) / (1-(PIS+COFINS + ISS))]-1
B22: BDI REFERENCIAL | H22: Sem Deso
B23: Grupo | D23: Componentes | H23: Incidências
B24: Despesas Indiretas
B25: A | D25: Administração Central | H25: 0.0461
D26: Seguros + Garantias | H26: 0.0074
D27: Riscos | H27: 0.0097
D28: Despesas Financeiras | H28: 0.0121
B29: Subtotal A | H29: =SUM(H25:H28) -> 0.0753
B30: Tributos
B31: B | D31: COFINS - Contribuição para o financiamento Seguridade Social | H31: 0.03
D32: PIS - Programa de Integração Social | H32: 0.0065
D33: ISS - Imposto Sobre Serviço de Qualquer Natureza | H33: 0.015
D34: CPRB - Contribuição Previdenciária sobre Receita Bruta | H34: 0
B35: Subtotal B | H35: =SUM(H31:H33) -> 0.0515
B36: Bonificação
B37: C | D37: Lucro | H37: 0.0869
B38: Subtotal C | H38: =SUM(H37) -> 0.0869
B39: BDI | H39: =(((1+H25+H26+H27)*(1+H28)*(1+H37))/(1-(H33+H31+H32)))-1 -> 0.23307828
B41: BDI PARA ITENS DE MERO FORNECIMENTO DE MATERIAIS E EQUIPAMENTOS | F41: 0.168
B42: ACÓRDÃO Nº 2622/2013 – TCU – Plenário
D51: ____________________
D52: Nelson Luis Melim
D53: Engenheiro Civil
D54: Crea/SC 52036-9

Sheet Cronogrma
A1: MELIM Engenharia e Construtora Ltda.
A2: Av.: Jardim Panorama, 357 - Sumaré - Fone:(47)999886066
A3: 89.165-726 - Rio do Sul - S.C. - CREA/SC nº 062.634-6
A4: CNPJ nº05.309.557/0001-22 I.E. nº 254.468.250
A5: e-mail:melimconstrutora@gmail.com
A11: =Orçamento!A8 -> Propritário: PREFEITURA MUNICIPAL DE VIDAL RAMOS
A12: =Orçamento!A9 -> Obra:CONSTRUÇÃO DO CENTRO DE CONVIVENCIA DO IDOSO | G12: =Orçamento!G9 -> Data: 22/12/25
A13: =Orçamento!A10 -> Endereço: RODOVIA SC 110 - VIDAL RAMOS/SC | G13: BDI:23,31%
A17: CRONOGRAMA
A18: ITEM | B18: DESCRIÇÃO | C18: TOTAL | D18: % | E18: 1º MES | F18: % | G18: 2º MES | H18: % | I18: 3º MES | J18: % | K18: 4º MES | L18: % | M18: 5º MES | N18: %
A20: 1 | B20: =[1]Orçamento!C21 -> SERVIÇOS INICIAIS | C20: =Orçamento!H15 -> 32357.65 | D20: =C20/C33 -> 0.031960621 | E20: =C20*F20 -> 32357.65 | F20: 1 | G20: =C20*H20 -> 0 | I20: =C20*J20 -> 0 | K20: =C20*L20 -> 0 | M20: =C20*N20 -> 0 | O20: =L20+J20+H20+F20+N20 -> 1
A21: 2 | B21: =Orçamento!C22 -> INFRAESTRUTURA | C21: =Orçamento!H22 -> 38903.76 | D21: =C21/C33 -> 0.038426411 | E21: =C21*F21 -> 38903.76 | F21: 1 | G21: =C21*H21 -> 0 | I21: =C21*J21 -> 0 | K21: =C21*L21 -> 0 | M21: =C21*N21 -> 0 | O21: =L21+J21+H21+F21+N21 -> 1
A22: 3 | B22: =Orçamento!C29 -> SUPERESTRUTURA | C22: =Orçamento!H29 -> 117303.22 | D22: =C22/C33 -> 0.11586391 | E22: =C22*F22 -> 41056.127 | F22: 0.35 | G22: =C22*H22 -> 58651.61 | H22: 0.5 | I22: =C22*J22 -> 17595.483 | J22: 0.15 | K22: =C22*L22 -> 0 | M22: =C22*N22 -> 0 | O22: =L22+J22+H22+F22+N22 -> 1
A23: 4 | B23: =Orçamento!C41 -> ALVENARIA/REVESTIMENTOS VERTICAIS | C23: =Orçamento!H41 -> 132024.96 | D23: =C23/C33 -> 0.13040501 | E23: =C23*F23 -> 0 | G23: =C23*H23 -> 92417.472 | H23: 0.7 | I23: =C23*J23 -> 39607.488 | J23: 0.3 | K23: =C23*L23 -> 0 | M23: =C23*N23 -> 0 | O23: =L23+J23+H23+F23+N23 -> 1
A24: 5 | B24: =Orçamento!C51 -> PISOS/ REVESTIMENTOS HORIZONTAIS | C24: =Orçamento!H51 -> 94425 | D24: =C24/C33 -> 0.093266405 | E24: =C24*F24 -> 0 | G24: =C24*H24 -> 0 | I24: =C24*J24 -> 47212.5 | J24: 0.5 | K24: =C24*L24 -> 37770 | L24: 0.4 | M24: =C24*N24 -> 9442.5 | N24: 0.1 | O24: =L24+J24+H24+F24+N24 -> 1
A25: 6 | B25: =Orçamento!C65 -> ESQUADRIAS | C25: =Orçamento!H65 -> 67366.71 | D25: =C25/C33 -> 0.06654012 | E25: =C25*F25 -> 0 | G25: =C25*H25 -> 0 | I25: =C25*J25 -> 0 | K25: =C25*L25 -> 26946.684 | L25: 0.4 | M25: =C25*N25 -> 40420.026 | N25: 0.6 | O25: =L25+J25+H25+F25+N25 -> 1
A26: 7 | B26: =Orçamento!C73 -> COBERTURA/FORRO | C26: =Orçamento!H73 -> 381776.06 | D26: =C26/C33 -> 0.37709167 | E26: =C26*F26 -> 0 | G26: =C26*H26 -> 0 | I26: =C26*J26 -> 152710.42 | J26: 0.4 | K26: =C26*L26 -> 152710.42 | L26: 0.4 | M26: =C26*N26 -> 76355.212 | N26: 0.2 | O26: =L26+J26+H26+F26+N26 -> 1
A27: 8 | B27: =Orçamento!C85 -> INSTALAÇÕES ELÉTRICAS | C27: =Orçamento!H85 -> 35500.19 | D27: =C27/C33 -> 0.035064602 | E27: =C27*F27 -> 7100.038 | F27: 0.2 | G27: =C27*H27 -> 7100.038 | H27: 0.2 | I27: =C27*J27 -> 7100.038 | J27: 0.2 | K27: =C27*L27 -> 7100.038 | L27: 0.2 | M27: =C27*N27 -> 7100.038 | N27: 0.2 | O27: =L27+J27+H27+F27+N27 -> 1
A28: 9 | B28: =Orçamento!C121 -> INSTALAÇÕES HIDROSSANITÁRIAS | C28: =Orçamento!H121 -> 80757.14 | D28: =C28/C33 -> 0.079766249 | E28: =C28*F28 -> 16151.428 | F28: 0.2 | G28: =C28*H28 -> 16151.428 | H28: 0.2 | I28: =C28*J28 -> 16151.428 | J28: 0.2 | K28: =C28*L28 -> 16151.428 | L28: 0.2 | M28: =C28*N28 -> 16151.428 | N28: 0.2 | O28: =L28+J28+H28+F28+N28 -> 1
A29: 10 | B29: =Orçamento!C181 -> PREVENTIVO / INSTALAÇÃO GÁS | C29: =Orçamento!H181 -> 5758.03 | D29: =C29/C33 -> 0.0056873789 | E29: =C29*F29 -> 0 | G29: =C29*H29 -> 0 | I29: =C29*J29 -> 0 | K29: =C29*L29 -> 0 | M29: =C29*N29 -> 5758.03 | N29: 1 | O29: =L29+J29+H29+F29+N29 -> 1
A30: 11 | B30: =Orçamento!C192 -> PINTURA | C30: =Orçamento!H192 -> 24834.35 | D30: =C30/C33 -> 0.024529632 | E30: =C30*F30 -> 0 | G30: =C30*H30 -> 0 | I30: =C30*J30 -> 0 | K30: =C30*L30 -> 4966.87 | L30: 0.2 | M30: =C30*N30 -> 19867.48 | N30: 0.8 | O30: =L30+J30+H30+F30+N30 -> 1
A31: 12 | B31: =Orçamento!C196 -> LIMPEZA | C31: =Orçamento!H196 -> 1415.36 | D31: =C31/C33 -> 0.0013979935 | E31: =C31*F31 -> 0 | G31: =C31*H31 -> 0 | I31: =C31*J31 -> 1415.36 | J31: 1 | K31: =C31*L31 -> 0 | M31: =C31*N31 -> 0 | O31: =L31+J31+H31+F31+N31 -> 1
A33: SUBTOTAL | C33: =SUM(C20:C31) -> 1012422.4 | D33: =SUM(D20:D31) -> 1 | E33: =SUM(E20:E31) -> 135569 | F33: =E33/C33 -> 0.13390557 | G33: =SUM(G20:G31) -> 174320.55 | H33: =G33/C33 -> 0.17218163 | I33: =SUM(I20:I31) -> 281792.72 | J33: =I33/C33 -> 0.27833512 | K33: =SUM(K20:K31) -> 245645.44 | L33: =K33/C33 -> 0.24263137 | M33: =SUM(M20:M31) -> 175094.71 | N33: =M33/C33 -> 0.1729463
A34: TOTAL ACUMULADO | E34: =E33 -> 135569 | F34: =E34/C33 -> 0.13390557 | G34: =G33+E34 -> 309889.55 | H34: =G34/C33 -> 0.3060872 | I34: =I33+G34 -> 591682.27 | J34: =I34/C33 -> 0.58442233 | K34: =K33+I34 -> 837327.72 | L34: =K34/C33 -> 0.8270537 | M34: =M33+K34 -> 1012422.4 | N34: =M34/C33 -> 1
C43: _______________________
C44: Nelson Luis Melim
C45: Engenheiro Civil
C46: Crea/SC 52036-9
