Workbook
Name \I: #REF!
Name \I: #REF!
Name \S: [1]COMPOS1!#REF!
Name \S: [1]COMPOS1!#REF!
Name __xlnm.Print_Area_1: #REF!
Name _01_09_96: #REF!
Name _01_09_96: #REF!
Name _1Excel_BuiltIn_Print_Area_1_1: "#REF!"
Name _2Excel_BuiltIn_Print_Area_1_1_1_1: #REF!
Name _3Excel_BuiltIn_Print_Area_1_1_1: "#REF!"
Name _cronoZero: #REF!
Name _PL1: #REF!
Name _PL1: #REF!
Name a: #REF!
Name a: #REF!
Name AA: [0]!AA
Name ALPHA: '[2]BDI-serv'!$C$72
Name ALTA: '[3]PRO-08'!#REF!
Name ALTA: '[3]PRO-08'!#REF!
Name amarela: #REF!
Name amarela: #REF!
Name azul: #REF!
Name azul: #REF!
Name AZULSINAL: #REF!
Name AZULSINAL: #REF!
Name BDI: #REF!
Name BDI: #REF!
Name bdim: '[2]BDI-mat'!$I$22
Name BETA: '[2]BDI-serv'!$C$73
Name BG: #REF!
Name BG: #REF!
Name BGU: #REF!
Name BGU: #REF!
Name calcinsumos: [4]Pontes!#REF!
Name calcinsumos: [4]Pontes!#REF!
Name calcpunit: [5]Pontes!#REF!
Name calcpunit: [5]Pontes!#REF!
Name calinsumos: [4]Pontes!#REF!
Name calinsumos: [4]Pontes!#REF!
Name calpunit: [5]Pontes!#REF!
Name calpunit: [5]Pontes!#REF!
Name CBU: #REF!
Name CBU: #REF!
Name CBUII: #REF!
Name CBUII: #REF!
Name CBUQB: #REF!
Name CBUQB: #REF!
Name CBUQc: #REF!
Name CBUQc: #REF!
Name CINSMG: [6]Pontes!#REF!
Name CINSMG: [6]Pontes!#REF!
Name cinsumg: [7]Pontes!#REF!
Name cinsumg: [7]Pontes!#REF!
Name COMPOSIÇÃO: #REF!
Name construtora: #REF!
Name construtora: #REF!
Name Consumodemateriais: Plan1
Name Consumodemateriais: Plan1
Name contrato_revisto: #REF!
Name contrato_revisto: #REF!

Sheet ORÇAMENTO CONSTRUÇÃO PASSARELA 
D1: Obra | E1: Bancos | G1: B.D.I. | H1: Encargos Sociais
D2: ORÇAMENTO CONSTRUÇÃO PASSARELA 45 M | E2: SINAPI - 10/2023 - Santa Catarina SICRO3 - 07/2023 - Santa Catarina ORSE - 09/2023 - Sergipe SEINFRA - 028 - Ceará | G2: 0,0% | H2: Não Desonerado: embutido nos preços unitário dos insumos de mão de obra, de acordo com as bases.
A3: Orçamento Sintético
A4: Item | B4: Código | C4: Banco | D4: Descrição | E4: Und | F4: Quant. | G4: Valor Unit | H4: Total
A5: 1 | D5: INFRAESTRUTURA | H5: =H6+H12 -> 214623.58
A6: 1.1 | D6: ESTACA RAIZ | H6: =SUM(H7:H11) -> 177698.04
A7: 1.1.1 | B7: 2306070 | C7: SICRO3 | D7: Estaca raiz perfurada na rocha com D = 31 cm - confecção | E7: m | F7: ='MEMÓRIA-PASSARELA'!M4 -> 15 | G7: 1231.87 | H7: =ROUND(G7*F7,2) -> 18478.05
A8: 1.1.2 | B8: 2306065 | C8: SICRO3 | D8: Estaca raiz perfurada no solo com D = 31 cm - confecção | E8: m | F8: ='MEMÓRIA-PASSARELA'!M9 -> 120 | G8: 160.36 | H8: =ROUND(G8*F8,2) -> 19243.2
A9: 1.1.3 | B9: 2306181 | C9: SICRO3 | D9: Estaca raiz perfurada na rocha com D = 45 cm - confecção | E9: m | F9: ='MEMÓRIA-PASSARELA'!M13 -> 36 | G9: 1863.87 | H9: =ROUND(G9*F9,2) -> 67099.32
A10: 1.1.4 | B10: 2306180 | C10: SICRO3 | D10: Estaca raiz perfurada no solo com D = 45 cm - confecção | E10: m | F10: ='MEMÓRIA-PASSARELA'!M18 -> 108 | G10: 255.31 | H10: =ROUND(G10*F10,2) -> 27573.48
A11: 1.1.5 | B11: 0407819 | C11: SICRO3 | D11: Armação em aço CA-50 - fornecimento, preparo e colocação | E11: kg | F11: ='MEMÓRIA-PASSARELA'!M26 -> 3659.45 | G11: 12.38 | H11: =ROUND(G11*F11,2) -> 45303.99
A12: 1.2 | D12: BLOCO DE COROAMENTO E MURO DE CONCRETO CICLOPICO | H12: =SUM(H13:H20) -> 36925.54
A13: 1.2.1 | B13: 4805757 | C13: SICRO3 | D13: Escavação mecânica de vala em material de 1ª categoria | E13: m³ | F13: ='MEMÓRIA-PASSARELA'!M29 -> 49.473 | G13: 6.9 | H13: =ROUND(G13*F13,2) -> 341.36
A14: 1.2.2 | B14: 3108008 | C14: SICRO3 | D14: Fôrmas de compensado plastificado 10 mm - uso geral - utilização de 2 vezes - confecção, instalação e retirada | E14: m² | F14: ='MEMÓRIA-PASSARELA'!M50 -> 50.36 | G14: 89.29 | H14: =ROUND(G14*F14,2) -> 4496.64
A15: 1.2.3 | B15: 1107900 | C15: SICRO3 | D15: Concreto fck = 30 MPa - confecção em betoneira e lançamento manual - areia e brita comerciais | E15: m³ | F15: ='MEMÓRIA-PASSARELA'!M72 -> 19.644 | G15: 483.19 | H15: =ROUND(G15*F15,2) -> 9491.78
A16: 1.2.4 | B16: 1100657 | C16: SICRO3 | D16: Adensamento de concreto por vibrador de imersão | E16: m³ | F16: =F15 -> 19.644 | G16: 3.27 | H16: =ROUND(G16*F16,2) -> 64.24
A17: 1.2.5 | B17: 0407819 | C17: SICRO3 | D17: Armação em aço CA-50 - fornecimento, preparo e colocação | E17: kg | F17: ='MEMÓRIA-PASSARELA'!M94 -> 1702.7 | G17: 12.38 | H17: =ROUND(G17*F17,2) -> 21079.43
A18: 1.2.6 | B18: 1106165 | C18: SICRO3 | D18: Concreto ciclópico fck = 20 MPa - confecção em betoneira e lançamento manual - areia, brita e pedra de mão comerciais | E18: m3 | F18: ='MEMÓRIA-PASSARELA'!M97 -> 0.336 | G18: 385.02 | H18: =ROUND(G18*F18,2) -> 129.37
A19: 1.2.7 | B19: 1106088 | C19: SICRO3 | D19: Lançamento mecânico de concreto com bomba rebocável com capacidade de 30 m³/h - confecção em central dosadora de 30m³/h | E19: m3 | F19: =F16 -> 19.644 | G19: 56.38 | H19: =ROUND(G19*F19,2) -> 1107.53
A20: 1.2.8 | B20: 4815671 | C20: SICRO3 | D20: Reaterro e compactação com soquete vibratório | E20: M3 | F20: ='MEMÓRIA-PASSARELA'!M102 -> 12.971 | G20: 16.59 | H20: =ROUND(G20*F20,2) -> 215.19
A21: 2 | D21: PILARES, VIGAS E LAJE DOS ACESSOS | H21: =SUM(H22:H28) -> 62077.77
A22: 2.1 | B22: 3108007 | C22: SICRO3 | D22: Fôrmas de compensado plastificado 10 mm - uso geral - utilização de 1 vez - confecção, instalação e retirada | E22: m² | F22: ='MEMÓRIA-PASSARELA'!M108 -> 166.3664 | G22: 133.35 | H22: =ROUND(G22*F22,2) -> 22184.96
A23: 2.2 | B23: 1107900 | C23: SICRO3 | D23: Concreto fck = 30 MPa - confecção em betoneira e lançamento manual - areia e brita comerciais | E23: m³ | F23: ='MEMÓRIA-PASSARELA'!M171 -> 18.51093 | G23: 483.19 | H23: =ROUND(G23*F23,2) -> 8944.3
A24: 2.3 | B24: 1100657 | C24: SICRO3 | D24: Adensamento de concreto por vibrador de imersão | E24: m³ | F24: =F23 -> 18.51093 | G24: 3.27 | H24: =ROUND(G24*F24,2) -> 60.53
A25: 2.4 | B25: 0407819 | C25: SICRO3 | D25: Armação em aço CA-50 - fornecimento, preparo e colocação | E25: kg | F25: ='MEMÓRIA-PASSARELA'!M232 -> 2219.18 | G25: 12.38 | H25: =ROUND(G25*F25,2) -> 27473.45
A26: 2.5 | B26: 0407820 | C26: SICRO3 | D26: Armação em aço CA-60 - fornecimento, preparo e colocação | E26: kg | F26: ='MEMÓRIA-PASSARELA'!M235 -> 124.59 | G26: 13.38 | H26: =ROUND(G26*F26,2) -> 1667.01
A27: 2.6 | B27: 0307732 | C27: SICRO3 | D27: Aparelho de apoio de neoprene fretado para estruturas pré-moldadas - fornecimento e instalação | E27: dm³ | F27: ='MEMÓRIA-PASSARELA'!M238 -> 7.68 | G27: 91.65 | H27: =ROUND(G27*F27,2) -> 703.87
A28: 2.7 | B28: 1106088 | C28: SICRO3 | D28: Lançamento mecânico de concreto com bomba rebocável com capacidade de 30 m³/h - confecção em central dosadora de 30m³/h | E28: m3 | F28: =F24 -> 18.51093 | G28: 56.38 | H28: =ROUND(G28*F28,2) -> 1043.65
A29: 3 | D29: SUPERESTRUTURA | H29: =SUM(H30:H31) -> 597924.48
A30: 3.1 | B30: 38906387 | C30: SICRO3 | D30: Fabricação de superestrutura metálica para passarela PL-25 - exceto piso de concreto | E30: un | F30: 2 | G30: 291789.77 | H30: =ROUND(G30*F30,2) -> 583579.54
A31: 3.2 | B31: 3806401 | C31: SICRO3 | D31: Lançamento de superestrutura de passarela metálica de 12 a 24 t com utilização de guindaste | E31: un | F31: 1 | G31: 14344.94 | H31: =ROUND(G31*F31,2) -> 14344.94
A32: 4 | D32: LAJE STEEL DECK | H32: =SUM(H33:H36) -> 56791.47
A33: 4.1 | B33: 1107908 | C33: SICRO3 | D33: Concreto fck = 40 MPa - confecção em betoneira e lançamento manual - areia e brita comerciais | E33: m³ | F33: ='MEMÓRIA-PASSARELA'!M252 -> 8.1 | G33: 532.46 | H33: =ROUND(G33*F33,2) -> 4312.93
A34: 4.2 | B34: 1100657 | C34: SICRO3 | D34: Adensamento de concreto por vibrador de imersão | E34: m³ | F34: =F33 -> 8.1 | G34: 3.27 | H34: =ROUND(G34*F34,2) -> 26.49
A35: 4.3 | B35: 1106088 | C35: SICRO3 | D35: Lançamento mecânico de concreto com bomba rebocável com capacidade de 30 m³/h - confecção em central dosadora de 30m³/h | E35: m3 | F35: =F34 -> 8.1 | G35: 56.38 | H35: =ROUND(G35*F35,2) -> 456.68
A36: 4.4 | B36: 99839 | C36: SINAPI | D36: GUARDA-CORPO DE AÇO GALVANIZADO DE 1,10M DE ALTURA, MONTANTES TUBULARES DE 1.1/2 ESPAÇADOS DE 1,20M, TRAVESSA SUPERIOR DE 2 , GRADIL FORMADO POR BARRAS CHATAS EM FERRO DE 32X4,8MM, FIXADO COM CHUMBADOR MECÂNICO. AF_04/2019_PS | E36: M | F36: ='MEMÓRIA-PASSARELA'!M257 -> 97.94 | G36: 530.89 | H36: =ROUND(G36*F36,2) -> 51995.37
F38: Total sem BDI | H38: =H5+H21+H29+H32 -> 931417.3
F39: Total do BDI (24,5%) | H39: =H38*0.245 -> 228197.24
F40: Total Geral | H40: =H39+H38 -> 1159614.5

Sheet MEMÓRIA-PASSARELA
B2: MEMÓRIA DE CÁLCULO - QUANTITATIVOS - PASSARELA 45 M
B3: 1.0 | C3: INFRAESTRUTURA
B4: 1.1.1 | C4: ='ORÇAMENTO CONSTRUÇÃO PASSARELA '!D7 -> Estaca raiz perfurada na rocha com D = 31 cm - confecção | L4: m | M4: =C7 -> 15
B5: COMPRIMENTO= | C5: 1 | D5: m
B6: QUANT. ESTACAS= | C6: 15 | D6: und
B7: COMPRIMENTO TOTAL= | C7: =C6*C5 -> 15 | D7: m
B9: 1.1.2 | C9: ='ORÇAMENTO CONSTRUÇÃO PASSARELA '!D8 -> Estaca raiz perfurada no solo com D = 31 cm - confecção | L9: m | M9: =C12 -> 120
B10: COMPRIMENTO= | C10: 8 | D10: m
B11: QUANT. ESTACAS= | C11: 15 | D11: und
B12: COMPRIMENTO TOTAL= | C12: =C11*C10 -> 120 | D12: m
B13: 1.1.3 | C13: ='ORÇAMENTO CONSTRUÇÃO PASSARELA '!D9 -> Estaca raiz perfurada na rocha com D = 45 cm - confecção | L13: m | M13: =C16 -> 36
B14: COMPRIMENTO= | C14: 3 | D14: m
B15: QUANT. ESTACAS= | C15: =6*2 -> 12 | D15: und
B16: COMPRIMENTO TOTAL= | C16: =C15*C14 -> 36 | D16: m
B18: 1.1.4 | C18: ='ORÇAMENTO CONSTRUÇÃO PASSARELA '!D10 -> Estaca raiz perfurada no solo com D = 45 cm - confecção | L18: m | M18: =C21+C24 -> 108
B19: COMPRIMENTO guilherme= | C19: 10 | D19: m
B20: QUANT. ESTACAS= | C20: 6 | D20: und
B21: COMPRIMENTO TOTAL= | C21: =C20*C19 -> 60 | D21: m
B22: COMPRIMENTO jorge= | C22: 8 | D22: m
B23: QUANT. ESTACAS= | C23: 6 | D23: und
B24: COMPRIMENTO TOTAL= | C24: =C23*C22 -> 48 | D24: m
B26: 1.1.5 | C26: Aço CA50 | L26: kg | M26: =C27 -> 3659.45
B27: peso do aço= | C27: =1127.92+1797.22+734.31 -> 3659.45 | D27: kg
B28: 1.2 | C28: BLOCO DE CONCRETO
B29: 1.2.1 | C29: ESCAVAÇÃO | L29: m2 | M29: =C48 -> 49.473
C30: Bloco 1 estaca
B31: AREA= | C31: =0.9*0.9 -> 0.81 | D31: m2
B32: ALTURA MÉDIA= | C32: 1.15 | D32: m
B33: VOLUME | C33: =C32*C31 -> 0.9315 | D33: m3
B34: Quant. Blocos= | C34: 9 | D34: und
C36: Bloco 2 estaca
B37: AREA= | C37: =0.9*1.9 -> 1.71 | D37: m2
B38: ALTURA MÉDIA= | C38: 1.15 | D38: m
B39: VOLUME | C39: =C38*C37 -> 1.9665 | D39: m3
B40: Quant. Blocos= | C40: 3 | D40: und
C42: Bloco 6 estaca
B43: AREA= | C43: =(0.6*2+2.2)*(0.6*2+3.3) -> 15.3 | D43: m2
B44: ALTURA MÉDIA= | C44: 1.15 | D44: m
B45: VOLUME | C45: =C44*C43 -> 17.595 | D45: m3
B46: Quant. Blocos= | C46: 2 | D46: und
B48: Volume total= | C48: =C34*C33+C40*C39+C46*C45 -> 49.473 | D48: m3
B50: 1.2.2 | C50: FORMA | L50: m2 | M50: =C71 -> 50.36
C52: Bloco 1 estaca
B53: PERIMETRO | C53: =0.6*4 -> 2.4 | D53: m
B54: ALTURA | C54: 0.6 | D54: m
B55: AREA | C55: =C54*C53 -> 1.44 | D55: m2
B56: Quant. Blocos= | C56: 9 | D56: und
C58: Bloco 2 estaca
B59: PERIMETRO | C59: =0.6*2+1.6*2 -> 4.4 | D59: m
B60: ALTURA | C60: 1 | D60: m
B61: AREA | C61: =C60*C59 -> 4.4 | D61: m2
B62: Quant. Blocos= | C62: 3 | D62: und
C64: Bloco 6 estaca
B65: PERIMETRO | C65: =2.2*2+3.3*2 -> 11 | D65: m
B66: ALTURA | C66: 1.1 | D66: m
B67: AREA | C67: =C66*C65 -> 12.1 | D67: m2
B68: Quant. Blocos= | C68: 2 | D68: und
B71: AREA TOTAL= | C71: =C56*C55+C62*C61+C68*C67 -> 50.36 | D71: M2
B72: 1.2.3 | C72: volume de concreto | L72: m3 | M72: =C92 -> 19.644
C74: Bloco 1 estaca
B75: AREA= | C75: =0.6*0.6 -> 0.36 | D75: m2
B76: ALTURA= | C76: 0.6 | D76: m
B77: VOLUME | C77: =C76*C75 -> 0.216 | D77: m3
B78: Quant. Blocos= | C78: 9 | D78: und
C80: Bloco 2 estaca
B81: AREA= | C81: =0.6*1.6 -> 0.96 | D81: m2
B82: ALTURA= | C82: 0.6 | D82: m
B83: VOLUME | C83: =C82*C81 -> 0.576 | D83: m3
B84: Quant. Blocos= | C84: 3 | D84: und
C86: Bloco 6 estaca
B87: AREA= | C87: =2.2*3.3 -> 7.26 | D87: m2
B88: ALTURA= | C88: 1.1 | D88: m
B89: VOLUME | C89: =C88*C87 -> 7.986 | D89: m3
B90: Quant. Blocos= | C90: 2 | D90: und
B92: VOLUME | C92: =C78*C77+C84*C83+C90*C89 -> 19.644 | D92: m3
B94: 1.2.5 | C94: Aço CA50 | L94: kg | M94: =C95 -> 1702.7
B95: peso do aço= | C95: =214.68+160.03+1225.33+102.66 -> 1702.7 | D95: kg
B97: 1.2.6 | C97: Concreto ciclópico fck = 20 MPa - confecção em betoneira e lançamento manual - areia, brita e pedra de mão comerciais | L97: m3 | M97: =C100 -> 0.336
B98: AREA= | C98: =0.3*0.8 -> 0.24 | D98: m2
B99: COMPRIMENTO= | C99: 1.4 | D99: m
B100: VOLUME | C100: =C99*C98 -> 0.336 | D100: m3
B102: 1.2.8 | C102: ='ORÇAMENTO CONSTRUÇÃO PASSARELA '!D20 -> Reaterro e compactação com soquete vibratório | L102: m3 | M102: =C105 -> 12.971
B103: AREA= | C103: 4.6325 | D103: m2
B104: COMPRIMENTO= | C104: 1.4 | D104: m
B105: VOLUME | C105: =C104*C103*2 -> 12.971 | D105: m3
B107: 2.0 | C107: PILARES DE CONCRETO
B108: 2.1 | C108: FORMA COMPENSADO | L108: m2 | M108: =C170 -> 166.3664
B110: Pilares altura variavel (rampa) 30x30
B111: Perimetro= | C111: =0.3*2+0.3*2 -> 1.2 | D111: m
B112: Altura Media= | C112: =(173+148+117+86+55+24+173+199+231+262+293+324)/12*0.01 -> 1.7375 | D112: m
B113: Forma= | C113: =C112*C111 -> 2.085 | D113: m2
B114: Quant. Pilares= | C114: 12 | D114: und
B115: Área= | C115: =C113*C114 -> 25.02 | D115: m2
B117: Pilares 30x30 (lado a)
B118: Perimetro= | C118: =0.3*2+0.3*2 -> 1.2 | D118: m
B119: altura= | C119: 3.05 | D119: m
B120: Forma= | C120: =C119*C118 -> 3.66 | D120: m2
B121: Quant. Pilares= | C121: 4 | D121: und
B122: consoles= | C122: =2*(2*0.1375+(0.4+0.39)*0.3) -> 1.024 | D122: m2
B123: Área= | C123: =C120*C121+C122 -> 15.664 | D123: =D115 -> m2
...
