Workbook
Name imagem: INDEX([1]MUNICÍPIOS!$C$1:$C$114,'[1]Correspondencia Brasões'!$B$3)

Sheet BDI
B2: ORÇAMENTO
B3: BDI
B4: BASE ORÇAMENTÁRIA - SICRO ABRIL 2026 / SINAPI JUNHO 2026
B5: Revisão 01
A7: CLIENTE: Município de Benedito Novo
A8: OBRA: Estrada Geral da Liberdade
A9: LOCAL: Benedito Novo/SC
A10: TRECHO: 0+0,00 - 80+0,00
A12: TIPO DE OBRA | B12: 2 | C12: =VLOOKUP(B12,B15:F20,2) -> Construção de Ferrovias e Rodovias | E12: BDI: | F12: =B38 -> 0.21914398
A15: TIPOS DE OBRA | B15: 1 | C15: Construção de Edifícios
B16: 2 | C16: Construção de Ferrovias e Rodovias
B17: 3 | C17: Construção de Redes de Abastecimento de água, Coleta de esgoto e Construções correlatas
B18: 4 | C18: Construção e manutenção de Estações e Redes de distribuição de Energia elétrica
B19: 5 | C19: Obras Portuárias, Marítimas e Fluviais
B20: 6 | C20: Fornecimento de Materiais e Equipamentos
A23: IMPOSTOS
A24: ISS* | B24: 0.03
A25: PIS | B25: 0.0065
A26: COFINS | B26: 0.03
A27: TOTAL | B27: =SUM(B24:B26) -> 0.0665
A30: PARCELA DO BDI | B30: TAXA | C30: SITUAÇÃO | D30: INTERVALO ADMISSÍVEL
D31: 1º Quartil | E31: Médio | F31: 3º Quartil
A32: Administração Central (AC) | B32: 0.04 | C32: =IF(AND(B32>=D32,B32<=F32),"OK!","Observar intervalo admissível!") -> OK! | D32: 0.038 | E32: 0.0401 | F32: 0.0467
A33: Seguro e Garantia (S, G) | B33: 0.004 | C33: =IF(AND(B33>=D33,B33<=F33),"OK!","Observar intervalo admissível!") -> OK! | D33: 0.0032 | E33: 0.004 | F33: 0.0074
A34: Risco (R) | B34: 0.005 | C34: =IF(AND(B34>=D34,B34<=F34),"OK!","Observar intervalo admissível!") -> OK! | D34: 0.005 | E34: 0.0056 | F34: 0.0097
A35: Despesas Financeiras (DF) | B35: 0.0111 | C35: =IF(AND(B35>=D35,B35<=F35),"OK!","Observar intervalo admissível!") -> OK! | D35: 0.0102 | E35: 0.0111 | F35: 0.0121
A36: Lucro (L) | B36: 0.073 | C36: =IF(AND(B36>=D36,B36<=F36),"OK!","Observar intervalo admissível!") -> OK! | D36: 0.0664 | E36: 0.073 | F36: 0.0869
A37: PIS, COFINS E ISS | B37: =B27 -> 0.0665 | D37: 0.0665
A38: BDI SEM DESONERAÇÃO | B38: =(((1+B32+B33+B34)*(1+B35)*(1+B36)/(1-B37)))-1 -> 0.21914398 | C38: =IF(AND(B38>=D38,B38<=F38),"OK!","Corrigir parcelas") -> OK! | D38: 0.196 | E38: 0.2097 | F38: 0.2423
A42: Declaramos que esta planilha foi elaborada conforme equação para cálculo do percentual do BDI recomendada pelo Acórdão 2622/2013 - TCU, representada pela fórmula abaixo:
A45: BDI= (1 + AC + S + R + G) (1 + DF) (1 + L) - 1
A46: (1 - I)
B48: AC - taxa de administração central
B49: S - taxa de seguros
B50: R - taxa de riscos
A51: LEGENDA | B51: G - taxa de garantias
B52: DF - taxa de despesas financeiras
B53: L - taxa de lucro/remuneração
B54: I - taxa de incidência de impostos (PIS, COFINS, ISS, CPRB)

Sheet BDI DIF
B2: ORÇAMENTO
B3: BDI
B4: BASE ORÇAMENTÁRIA - SICRO ABRIL 2026 / SINAPI JUNHO 2026
B5: Revisão 01
A7: CLIENTE: Município de Benedito Novo
A8: OBRA: Estrada Geral da Liberdade
A9: LOCAL: Benedito Novo/SC
A10: TRECHO: 0+0,00 - 80+0,00
A12: TIPO DE OBRA | B12: 6 | C12: =VLOOKUP(B12,B15:F20,2) -> Fornecimento de Materiais e Equipamentos | E12: BDI: | F12: =B38 -> 0.14996186
A15: TIPOS DE OBRA | B15: 1 | C15: Construção de Edifícios
B16: 2 | C16: Construção de Ferrovias e Rodovias
B17: 3 | C17: Construção de Redes de Abastecimento de água, Coleta de esgoto e Construções correlatas
B18: 4 | C18: Construção e manutenção de Estações e Redes de distribuição de Energia elétrica
B19: 5 | C19: Obras Portuárias, Marítimas e Fluviais
B20: 6 | C20: Fornecimento de Materiais e Equipamentos
A23: IMPOSTOS
A24: ISS* | B24: 0.03
A25: PIS | B25: 0.0065
A26: COFINS | B26: 0.03
A27: TOTAL | B27: =SUM(B24:B26) -> 0.0665
A30: PARCELA DO BDI | B30: TAXA | C30: SITUAÇÃO | D30: INTERVALO ADMISSÍVEL
D31: 1º Quartil | E31: Médio | F31: 3º Quartil
A32: Administração Central (AC) | B32: 0.015 | C32: =IF(AND(B32>=D32,B32<=F32),"OK!","Observar intervalo admissível!") -> OK! | D32: 0.015 | E32: 0.0345 | F32: 0.0449
A33: Seguro e Garantia (S, G) | B33: 0.003 | C33: =IF(AND(B33>=D33,B33<=F33),"OK!","Observar intervalo admissível!") -> OK! | D33: 0.003 | E33: 0.0048 | F33: 0.0082
A34: Risco (R) | B34: 0.0056 | C34: =IF(AND(B34>=D34,B34<=F34),"OK!","Observar intervalo admissível!") -> OK! | D34: 0.0056 | E34: 0.0085 | F34: 0.0089
A35: Despesas Financeiras (DF) | B35: 0.0085 | C35: =IF(AND(B35>=D35,B35<=F35),"OK!","Observar intervalo admissível!") -> OK! | D35: 0.0085 | E35: 0.0085 | F35: 0.0111
A36: Lucro (L) | B36: 0.0399 | C36: =IF(AND(B36>=D36,B36<=F36),"OK!","Observar intervalo admissível!") -> OK! | D36: 0.035 | E36: 0.0511 | F36: 0.0622
A37: PIS, COFINS E ISS | B37: =B27 -> 0.0665 | D37: =B27 -> 0.0665
A38: BDI SEM DESONERAÇÃO | B38: =(((1+B32+B33+B34)*(1+B35)*(1+B36)/(1-B37)))-1 -> 0.14996186 | C38: =IF(AND(B38>=D38,B38<=F38),"OK!","Corrigir parcelas") -> OK! | D38: 0.111 | E38: 0.1402 | F38: 0.168
A42: Declaramos que esta planilha foi elaborada conforme equação para cálculo do percentual do BDI recomendada pelo Acórdão 2622/2013 - TCU, representada pela fórmula abaixo:
A45: BDI= (1 + AC + S + R + G) (1 + DF) (1 + L) - 1
A46: (1 - I)
B48: AC - taxa de administração central
B49: S - taxa de seguros
B50: R - taxa de riscos
A51: LEGENDA | B51: G - taxa de garantias
B52: DF - taxa de despesas financeiras
B53: L - taxa de lucro/remuneração
B54: I - taxa de incidência de impostos (PIS, COFINS, ISS, CPRB)

Sheet COMPOSIÇÃO
A2: Obra: Estrada Geral da Liberdade
A3: Trecho: 0+0,00 - 80+0,00
A4: Cliente: Município de Benedito Novo
A5: BDI Padrão: 21,91%
A6: BDI Diferenciado: 15% | E6: Composições Analíticas com Preço unitário
A7: Bancos: SICRO3: SC 4/2026 SINAPI: SC 6/2026 | E7: Revisão 01
E9: Composições Principais - Com BDI
B11: Tipo | C11: Banco | D11: Código | E11: Descrição | F11: Classe/Tipo | H11: Unidade | I11: Quantidade | J11: Preço c/ BDI | K11: Total
A12: 1.1 | B12: Composição | C12: Próprio | D12: 732 | E12: Placa de obra | F12: CANTEIRO DE OBRAS | H12: M² | I12: 1 | J12: 93.61 | K12: 93.61
B13: Insumo | C13: SISTEMA | D13: 961 | E13: SERVENTE DE OBRAS | F13: Mão de Obra | H13: HORAS | I13: 0.65 | J13: 6.13 | K13: 3.98
B14: Insumo | C14: SISTEMA | D14: 962 | E14: CARPINTEIRO | F14: Mão de Obra | H14: HORAS | I14: 0.65 | J14: 10.38 | K14: 6.74
B15: Insumo | C15: SISTEMA | D15: 963 | E15: Pontalete de louro rosa de 3"x3 | F15: Material | H15: M | I15: 3 | J15: 7.31 | K15: 21.93
B16: Insumo | C16: SISTEMA | D16: 964 | E16: Placa de Obra | F16: Material | H16: M² | I16: 1 | J16: 60.95 | K16: 60.95
B18: Tipo | C18: Banco | D18: Código | E18: Descrição | F18: Classe/Tipo | H18: Unidade | I18: Quantidade | J18: Preço c/ BDI | K18: Total
A19: 1.2 | B19: Composição | C19: Próprio | D19: 831 | E19: ADMINISTRAÇÃO LOCAL | H19: MÊS | I19: 1 | J19: 16603.36 | K19: 16603.36
B20: Insumo | C20: SICRO | D20: P9949 | E20: Topógrafo | F20: Mão de Obra | H20: mês | I20: 0.17 | J20: 8925.3347 | K20: 1517.3
B21: Insumo | C21: SICRO | D21: P9950 | E21: Auxiliar de topografia | F21: Mão de Obra | H21: mês | I21: 0.17 | J21: 6298.9473 | K21: 1070.82
B22: Insumo | C22: SICRO | D22: P9812 | E22: Engenheiro | F22: Mão de Obra | H22: mês | I22: 0.25 | J22: 37499.826 | K22: 9374.95
B23: Insumo | C23: SICRO | D23: P9858 | E23: Laboratorista | F23: Mão de Obra | H23: mês | I23: 0.15 | J23: 8955.9147 | K23: 1343.38
B24: Insumo | C24: SICRO | D24: P9833 | E24: Auxiliar de laboratório | F24: Mão de Obra | H24: mês | I24: 0.15 | J24: 6749.9647 | K24: 1012.49
B25: Insumo | C25: Próprio | D25: 13 | E25: Laboratório de Solos | F25: Equipamento | H25: mês | I25: 0.2 | J25: 4216.69 | K25: 843.33
B26: Insumo | C26: Próprio | D26: 14 | E26: Laboratório de Asfalto | F26: Equipamento | H26: mês | I26: 0.2 | J26: 7205.41 | K26: 1441.08
B28: Tipo | C28: Banco | D28: Código | E28: Descrição | F28: Classe/Tipo | H28: Unidade | I28: Quantidade | J28: Preço c/ BDI | K28: Total
A29: 1.3 | B29: Composição | C29: Próprio | D29: 85341 | E29: CANTEIRO DE OBRAS | F29: CANTEIRO DE OBRAS | H29: Mês | I29: 1 | J29: 3377.89 | K29: 3377.89
B30: Insumo | C30: SICRO | D30: M0041 | E30: Container de 1 TEU com 2 banheiros | F30: Material | H30: un | I30: 0.014 | J30: 107709.31 | K30: 1507.93
B31: Insumo | C31: SICRO | D31: M0057 | E31: Container de 1 TEU duplo (6,0 m x 4,88 m) com janela | F31: Material | H31: un | I31: 0.014 | J31: 133569.11 | K31: 1869.96
B33: Tipo | C33: Banco | D33: Código | E33: Descrição | F33: Classe/Tipo | H33: Unidade | I33: Quantidade | J33: Preço c/ BDI | K33: Total
A34: 2.1 | B34: Composição | C34: Próprio | D34: 85340 | E34: Mobilização e desmobilização | F34: CANTEIRO DE OBRAS | H34: un | I34: 1 | J34: 6384.18 | K34: 6384.18
B35: Composição Auxiliar | C35: SICRO | D35: 5915327 | E35: Transporte em cavalo mecânico com dolly de 4 eixos com capacidade de 57 t - rodovia pavimentada | H35: km | I35: 80 | J35: 73.12 | K35: 5849.6
B36: Composição Auxiliar | C36: SICRO | D36: 5901638 | E36: Transporte com caminhão basculante com caçamba estanque com capacidade de 14 m³ - rodovia em revestimento primário | H36: tkm | I36: 80 | J36: 1.02 | K36: 81.6
B37: Composição Auxiliar | C37: SICRO | D37: 5915468 | E37: Transporte de água com caminhão tanque de 10.000 l - rodovia pavimentada | F37: SICRO3 - CLASSE SICRO3 | H37: tkm | I37: 120 | J37: 1.95 | K37: 234
B38: Composição Auxiliar | C38: SICRO | D38: 5915012 | E38: Transporte com caminhão carroceria com capacidade de 11 t e com guindauto de 45 t.m - rodovia em leito natural | F38: SICRO3 - CLASSE SICRO3 | H38: tkm | I38: 80 | J38: 2.73 | K38: 218.4
B40: Tipo | C40: Banco | D40: Código | E40: Descrição | F40: Classe/Tipo | H40: Unidade | I40: Quantidade | J40: Preço c/ BDI | K40: Total
A41: 5.2 | B41: Composição | C41: Próprio | D41: 85338 | E41: TRANSPOSIÇÃO DE SARJETA | F41: ASSENTAMENTO DE TUBOS E PECAS | H41: M | I41: 1 | J41: 476.07 | K41: 476.07
B42: Insumo | C42: SICRO | D42: M2163 | E42: Tubo de concreto armado CA 1 - D = 0,40 m | F42: Material | H42: m | I42: 1 | J42: 188.7674 | K42: 188.76
B43: Insumo | C43: SINAPI | D43: 1524 | E43: CONCRETO USINADO BOMBEAVEL, CLASSE DE RESISTENCIA C20, BRITA 0 E 1, SLUMP = 100 +/- 20 MM, COM BOMBEAMENTO (DISPONIBILIZACAO DE BOMBA), SEM O LANCAMENTO (NBR 8953) | F43: Material | H43: M3 | I43: 0.35 | J43: 810.53 | K43: 283.68
B44: Composição Auxiliar | C44: SINAPI | D44: 102279 | E44: ESCAVAÇÃO MECANIZADA DE VALA COM PROF. ATÉ 1,5 M (MÉDIA MONTANTE E JUSANTE/UMA COMPOSIÇÃO POR TRECHO), ESCAVADEIRA (0,8 M3),LARG. MENOR QUE 1,5 M, EM SOLO DE 1A CATEGORIA, LOCAIS COM BAIXO NÍVEL DE INTERFERÊNCIA. AF_09/2024 | F44: MOVT - MOVIMENTO DE TERRA | H44: M3 | I44: 0.4 | J44: 9.05 | K44: 3.62
B46: Tipo | C46: Banco | D46: Código | E46: Descrição | F46: Classe/Tipo | H46: Unidade | I46: Quantidade | J46: Preço c/ BDI | K46: Total
A47: 6.3 | B47: Composição | C47: Próprio | D47: 85339 | E47: Tubo de PEAD corrugado, DN 100 mm, para drenagem. | F47: ASSENTAMENTO DE TUBOS E PECAS | H47: m | I47: 1 | J47: 26.28 | K47: 26.28
B48: Insumo | C48: SICRO | D48: P9821 | E48: Pedreiro | F48: Mão de Obra | H48: h | I48: 0.0148 | J48: 40.7071 | K48: 0.6
...

Sheet SINTÉTICO
A2: Obra: Estrada Geral da Liberdade
A3: Trecho: 0+0,00 - 80+0,00
A4: Cliente: Município de Benedito Novo | E4: Planilha Sintética
A5: BDI Padrão: 21,91% | E5: Revisão 01
A6: BDI Diferenciado: 15%
A7: Bancos: SICRO3: SC 4/2026 SINAPI: SC 6/2026
A9: Item | B9: Tipo | C9: Banco | D9: Código | E9: Descrição | F9: Un. | G9: Qtd. | H9: Preço Unit | I9: BDI | J9: Preço com BDI | K9: Total sem BDI | L9: Total
A10: 1 | E10: Serviços Preliminares | L10: 100175.84
A11: 1.1 | B11: Composição | C11: SISTEMA | D11: 732 | E11: Placa de obra | F11: M² | G11: 2.88 | H11: 76.79 | I11: 0.2191 | J11: 93.61 | K11: 221.15 | L11: 269.59
A12: 1.2 | B12: Composição | C12: SISTEMA | D12: 831 | E12: ADMINISTRAÇÃO LOCAL | F12: MÊS | G12: 5 | H12: 13619.36 | I12: 0.2191 | J12: 16603.36 | K12: 68096.8 | L12: 83016.8
A13: 1.3 | B13: Composição | C13: Próprio | D13: 85341 | E13: CANTEIRO DE OBRAS | F13: Mês | G13: 5 | H13: 2770.81 | I13: 0.2191 | J13: 3377.89 | K13: 13854.05 | L13: 16889.45
A14: 2 | E14: MOBILIZAÇÃO E DESMOBILIZAÇÃO | L14: 6384.18
A15: 2.1 | B15: Composição | C15: Próprio | D15: 85340 | E15: Mobilização e desmobilização | F15: un | G15: 1 | H15: 5236.8 | I15: 0.2191 | J15: 6384.18 | K15: 5236.8 | L15: 6384.18
A16: 3 | E16: Terraplenagem | L16: 802786.49
A17: 3.1 | B17: Composição | C17: SICRO | D17: 5502978 | E17: Compactação de aterros a 100% do Proctor normal | F17: m³ | G17: 3274.92 | H17: 6.37 | I17: 0.2191 | J17: 7.76 | K17: 20861.24 | L17: 25413.37
A18: 3.2 | B18: Composição | C18: SICRO | D18: 5502590 | E18: Escavação, carga e transporte de material de 2ª categoria - DMT de 1.000 a 1.200 m - caminho de serviço em leito natural - com escavadeira e caminhão basculante de 14 m³ | F18: m³ | G18: 3450.8 | H18: 13.31 | I18: 0.2191 | J18: 16.22 | K18: 45930.14 | L18: 55971.97
A19: 3.3 | B19: Composição | C19: SICRO | D19: 5503041 | E19: Compactação de aterros a 100% do Proctor intermediário | F19: m³ | G19: 4952.44 | H19: 7.37 | I19: 0.2191 | J19: 8.98 | K19: 36499.48 | L19: 44472.91
A20: 3.4 | B20: Insumo | C20: SINAPI | D20: 6081 | E20: ARGILA OU BARRO PARA ATERRO/REATERRO (COM TRANSPORTE ATE 10 KM) | F20: M3 | G20: 2801.64 | H20: 55.84 | I20: 0.2191 | J20: 64.21 | K20: 156443.57 | L20: 179893.3
A21: 3.5 | B21: Composição | C21: SICRO | D21: 5915407 | E21: Carga, manobra e descarga de agregados ou solos em caminhão basculante de 10 m³ - carga com carregadeira de 3,40 m³ e descarga livre | F21: t | G21: 5437.15 | H21: 3.29 | I21: 0.2191 | J21: 4.01 | K21: 17888.22 | L21: 21802.97
A22: 3.6 | B22: Composição | C22: SINAPI | D22: 102354 | E22: DESMONTE DE MATERIAL DE 3ª CATEGORIA (BLOCOS DE ROCHAS OU MATACOS), COM MARTELETE PNEUMÁTICO MANUAL - EXCLUSIVE CARGA E TRANSPORTE. AF_03/2021 | F22: M3 | G22: 2110.11 | H22: 177.63 | I22: 0.2191 | J22: 216.54 | K22: 374818.83 | L22: 456923.21
A23: 3.7 | B23: Composição | C23: SICRO | D23: 5901639 | E23: Transporte com caminhão basculante com caçamba estanque com capacidade de 14 m³ - rodovia em leito natural | F23: tkm | G23: 5437.15 | H23: 1.04 | I23: 0.2191 | J23: 1.26 | K23: 5654.63 | L23: 6850.809
A24: 3.8 | B24: Composição | C24: SICRO | D24: 4413942 | E24: Espalhamento de material em bota-fora | F24: m³ | G24: 3410.11 | H24: 2.76 | I24: 0.2191 | J24: 3.36 | K24: 9411.9 | L24: 11457.96
A25: 4 | E25: Proteção de Taludes | L25: 164275.46
A26: 4.1 | B26: Composição | C26: SICRO | D26: 2003273 | E26: Sarjeta triangular de concreto - STC 150-32 - escavação mecânica - areia e brita comerciais | F26: m | G26: 421 | H26: 88.49 | I26: 0.2191 | J26: 107.87 | K26: 37254.29 | L26: 45413.27
A27: 4.2 | B27: Composição | C27: SICRO | D27: 2003171 | E27: Descida d'água de cortes em degraus - DCD 40-40 - areia e brita comerciais | F27: m | G27: 122 | H27: 622.97 | I27: 0.2191 | J27: 759.46 | K27: 76002.34 | L27: 92654.12
A28: 4.3 | B28: Composição | C28: SICRO | D28: 2003201 | E28: Dissipador de energia - DED 01 B - areia e brita comerciais | F28: un | G28: 11 | H28: 680.27 | I28: 0.2191 | J28: 829.31 | K28: 7482.97 | L28: 9122.41
A29: 4.4 | B29: Composição | C29: SICRO | D29: 4413905 | E29: Hidrossemeadura | F29: m² | G29: 2106.74 | H29: 6.66 | I29: 0.2191 | J29: 8.11 | K29: 14030.88 | L29: 17085.66
A30: 5 | E30: Drenagem | L30: 446576.21
A31: 5.1 | B31: Composição | C31: SICRO | D31: 2003345 | E31: Sarjeta trapezoidal de concreto - SZC 60-20 - escavação mecânica - areia e brita comerciais | F31: m | G31: 1463.82 | H31: 59.13 | I31: 0.2191 | J31: 72.08 | K31: 86555.67 | L31: 105512.14
A32: 5.2 | B32: Composição | C32: Próprio | D32: 85338 | E32: TRANSPOSIÇÃO DE SARJETA | F32: M | G32: 106.97 | H32: 390.51 | I32: 0.2191 | J32: 476.07 | K32: 41772.85 | L32: 50925.208
A33: 5.3 | B33: Composição | C33: SICRO | D33: 2003477 | E33: Caixa coletora de sarjeta - CCS 200-60 A - com grelha de concreto - areia e brita comerciais | F33: un | G33: 11 | H33: 4880.99 | I33: 0.2191 | J33: 5950.41 | K33: 53690.89 | L33: 65454.51
A34: 5.4 | B34: Composição | C34: SINAPI | D34: 95568 | E34: TUBO DE CONCRETO (SIMPLES) PARA REDES COLETORAS DE ÁGUAS PLUVIAIS, DIÂMETRO DE 400 MM, JUNTA RÍGIDA, INSTALADO EM LOCAL COM BAIXO NÍVEL DE INTERFERÊNCIAS - FORNECIMENTO E ASSENTAMENTO. AF_03/2024 | F34: M | G34: 88 | H34: 95.4 | I34: 0.2191 | J34: 116.3 | K34: 8395.2 | L34: 10234.4
A35: 5.5 | B35: Composição | C35: SICRO | D35: 2003870 | E35: Tubo de concreto PA2 comercial para drenagem - D = 0,50 m - fornecimento e instalação | F35: m | G35: 51 | H35: 275.27 | I35: 0.2191 | J35: 335.58 | K35: 14038.77 | L35: 17114.57
A36: 5.6 | B36: Composição | C36: SICRO | D36: 2003823 | E36: Tubo de concreto PA2 comercial para drenagem - D = 0,60 m - fornecimento e instalação | F36: m | G36: 215 | H36: 366.46 | I36: 0.2191 | J36: 446.75 | K36: 78788.9 | L36: 96051.25
A37: 5.7 | B37: Composição | C37: SICRO | D37: 4805762 | E37: Escavação mecânica de vala em material de 2ª categoria | F37: m³ | G37: 637.2 | H37: 9.83 | I37: 0.2191 | J37: 11.98 | K37: 6263.67 | L37: 7633.65
A38: 5.8 | B38: Composição | C38: SICRO | D38: 5915407 | E38: Carga, manobra e descarga de agregados ou solos em caminhão basculante de 10 m³ - carga com carregadeira de 3,40 m³ e descarga livre | F38: t | G38: 1211.32 | H38: 3.29 | I38: 0.2191 | J38: 4.01 | K38: 3985.24 | L38: 4857.39
A39: 5.9 | B39: Composição | C39: SICRO | D39: 5901639 | E39: Transporte com caminhão basculante com caçamba estanque com capacidade de 14 m³ - rodovia em leito natural | F39: tkm | G39: 1211.32 | H39: 1.04 | I39: 0.2191 | J39: 1.26 | K39: 1259.77 | L39: 1526.26
A40: 5.10 | B40: Composição | C40: SICRO | D40: 5502807 | E40: Camada drenante com conformação de trator de esteira - areia extraída | F40: m³ | G40: 63.72 | H40: 18.34 | I40: 0.2191 | J40: 22.35 | K40: 1168.62 | L40: 1424.14
A41: 5.11 | B41: Composição | C41: SICRO | D41: 4815671 | E41: Reaterro e compactação com soquete vibratório | F41: m³ | G41: 491.62 | H41: 21.55 | I41: 0.2191 | J41: 26.27 | K41: 10594.41 | L41: 12914.85
A42: 5.12 | B42: Insumo | C42: Próprio | D42: CPV-MED-002 | E42: Macadame seco | F42: m³ | G42: 491.62 | H42: 73.3 | I42: 0.15 | J42: 84.29 | K42: 36035.74 | L42: 41438.64
...

Sheet MEMORIAL
A2: Obra: Estrada Geral da Liberdade
A3: Trecho: 0+0,00 - 80+0,00
A4: Cliente: Município de Benedito Novo
A5: BDI Padrão: 21,91%
A6: BDI Diferenciado: 15% | E6: Memorial de Cálculo
A7: Bancos: SICRO3: SC 4/2026 SINAPI: SC 6/2026 | E7: Revisão 01
A8: 1 | B8: SERVIÇOS INICIAIS
A9: Item | B9: Descrição | C9: Comprimento (m) | D9: Largura (m) | E9: Quantidade (und.) | H9: Área (m²) | I9: Observações
A10: 1.1 | B10: Placa de obra | C10: 2.4 | D10: 1.2 | E10: 1 | H10: 2.88 | I10: Uma placa
A11: Item | B11: Descrição | H11: Mês | I11: Observações
A12: 1.2 | B12: ADMINISTRAÇÃO LOCAL | H12: 5
A13: Item | B13: Descrição | H13: Mês | I13: Observações
A14: 1.3 | B14: CANTEIRO DE OBRAS | H14: 5
A15: 2 | B15: MOBILIZAÇÃO E DESMOBILIZAÇÃO
A16: Item | B16: Descrição | H16: Un | I16: Observações
A17: 2.1 | B17: Mobilização e desmobilização | H17: 1 | I17: Maquinário necessário na obra de pavimentação que será retirado depois de realizados todos os serviços com eles
A18: 3 | B18: TERRAPLENAGEM
A19: Item | B19: Descrição | I19: Observações
A20: 3.1 | B20: Compactação de aterros a 100% do Proctor normal | E20: Trecho (0+0,00 a 80+0,00 ) | I20: Área de Regularização
E21: Comprimento: | H21: 1600
E22: Largura: | H22: 10
E23: Área de pista: | H23: =H21*H22 -> 16000
E24: Área de alargamento | H24: 316.4
E25: Área de a estreitamento: | H25: -276.81
E26: Limpa rodas: | H26: 335
E27: Área total trecho sem reforço: | H27: =SUM(H23:H26) -> 16374.59
E28: Espessura: | H28: 0.2
E29: TOTAL (m³) | H29: =(H27)*H28 -> 3274.918
A30: Item | B30: Descrição | H30: Volume (m³) | I30: Observações
A31: 3.2 | B31: Escavação, carga e transporte de material de 2ª categoria - DMT de 1.000 a 1.200 m - caminho de serviço em leito natural - com escavadeira e caminhão basculante de 14 m³ | H31: =5560.91-H46 -> 3450.8 | I31: Volume de corte acumulado
A32: Item | B32: Descrição | H32: Volume (m³) | I32: Observações
A33: 3.3 | B33: Compactação de aterros a 100% do Proctor intermediário | H33: 4952.44 | I33: Volume de aterro acumulado
A34: Item | B34: Descrição | F34: Volume por metro (m³/m) | G34: Trecho total (m) | H34: Volume (m³) | I34: Observações
A35: 3.4 | B35: ARGILA OU BARRO PARA ATERRO/REATERRO (COM TRANSPORTE ATE 10 KM) | E35: Volume de solo não adequeada do corte | F35: 0.5 | G35: 2600 | H35: =F35*G35 -> 1300 | I35: Solo para a realização do aterro
E36: Volume do corte adequado | H36: =H31-H35 -> 2150.8
E37: Volume de aterro total | H37: =H33 -> 4952.44
H38: =H37-H36 -> 2801.64
A39: Item | B39: Descrição | I39: Observações
A40: 3.5 | B40: Carga, manobra e descarga de agregados ou solos em caminhão basculante de 10 m³ - carga com carregadeira de 3,40 m³ e descarga livre | E40: Volume Corte (m³): | I40: Transporte de Material Necessário
F41: Materiais | G41: Peso especifico (t/m³) | H41: Volume de carga (t)
...

Sheet ABC
A2: Obra: Estrada Geral da Liberdade
A3: Trecho: 0+0,00 - 80+0,00
A4: Cliente: Município de Benedito Novo
A5: BDI Padrão: 21,91%
A6: BDI Diferenciado: 15% | D6: Curva ABC
A7: Bancos: SICRO3: SC 4/20256 SINAPI: SC 6/2026 | D7: Revisão 01
A10: Seq. | B10: Banco | C10: Código | D10: Descrição | E10: Tipo | F10: Unidade | G10: Qtd. | H10: Preço com BDI | I10: Total com BDI | J10: % | K10: % Acumulada | L10: Classe
A11: 1 | B11: SICRO | C11: 4011282 | D11: Base ou sub-base de macadame hidráulico com brita comercial - 100% Proctor modificado | E11: CLASSE SICRO3 | F11: m³ | G11: 3286.4 | H11: 248.29 | I11: 815980.26 | J11: 0.16885493 | K11: 0.16885493 | L11: A
A12: 2 | B12: SICRO | C12: 4011276 | D12: Base ou sub-base de brita graduada com brita comercial - 100% Proctor modificado | E12: CLASSE SICRO3 | F12: m³ | G12: 2493.25 | H12: 272.94 | I12: 680507.66 | J12: 0.1408209 | K12: 0.30967582 | L12: A
A13: 3 | B13: Próprio | C13: 11 | D13: CAP MODIFICADO POR BORRACHA AB8 ANP SUL | E13: ASSENTAMENTO DE TUBOS E PECAS | F13: t | G13: 104.1 | H13: 5915.38 | I13: 615791.06 | J13: 0.12742876 | K13: 0.43710458 | L13: A
A14: 4 | B14: SICRO | C14: 4011471 | D14: Concreto asfáltico com borracha - faixa C - brita comercial | E14: CLASSE SICRO3 | F14: t | G14: 1734.98 | H14: 326.92 | I14: 567199.66 | J14: 0.1173735 | K14: 0.55447808 | L14: A
A15: 5 | B15: SINAPI | C15: 102354 | D15: DESMONTE DE MATERIAL DE 3ª CATEGORIA (BLOCOS DE ROCHAS OU MATACOS), COM MARTELETE PNEUMÁTICO MANUAL - EXCLUSIVE CARGA E TRANSPORTE. AF_03/2021 | E15: MOVIMENTO DE TERRA | F15: M3 | G15: 2166.91 | H15: 216.54 | I15: 469222.69 | J15: 0.097098628 | K15: 0.65157671 | L15: A
A16: 6 | B16: SINAPI | C16: 6081 | D16: ARGILA OU BARRO PARA ATERRO/REATERRO (COM TRANSPORTE ATE 10 KM) | E16: ASSENTAMENTO DE TUBOS E PECAS | F16: M3 | G16: 2801.64 | H16: 64.21 | I16: 179893.3 | J16: 0.037226232 | K16: 0.68880294 | L16: A
A17: 7 | B17: SICRO | C17: 2003571 | D17: Dreno longitudinal profundo para corte em solo - DPS 08 - tubo de concreto perfurado e brita comercial | E17: CLASSE SICRO3 | F17: m | G17: 449 | H17: 242.14 | I17: 108720.86 | J17: 0.022498158 | K17: 0.7113011 | L17: A
A18: 8 | B18: SICRO | C18: 2003345 | D18: Sarjeta trapezoidal de concreto - SZC 60-20 - escavação mecânica - areia e brita comerciais | E18: CLASSE SICRO3 | F18: m | G18: 1463.82 | H18: 72.08 | I18: 105512.15 | J18: 0.021834162 | K18: 0.73313526 | L18: A
A19: 9 | B19: SICRO | C19: 2003823 | D19: Tubo de concreto PA2 comercial para drenagem - D = 0,60 m - fornecimento e instalação | E19: CLASSE SICRO3 | F19: m | G19: 215 | H19: 446.75 | I19: 96051.25 | J19: 0.019876372 | K19: 0.75301163 | L19: A
A20: 10 | B20: SICRO | C20: 2003171 | D20: Descida d'água de cortes em degraus - DCD 40-40 - areia e brita comerciais | E20: - | F20: m | G20: 122 | H20: 759.46 | I20: 92654.12 | J20: 0.019173386 | K20: 0.77218502 | L20: A
A21: 11 | B21: SICRO | C21: 5901639 | D21: Transporte com caminhão basculante com caçamba estanque com capacidade de 14 m³ - rodovia em leito natural | E21: - | F21: tkm | G21: 72878.85 | H21: 1.26 | I21: 91827.351 | J21: 0.019002299 | K21: 0.79118732 | L21: A
A22: 12 | B22: Próprio | C22: 831 | D22: ADMINISTRAÇÃO LOCAL | E22: - | F22: MÊS | G22: 5 | H22: 16603.36 | I22: 83016.8 | J22: 0.017179087 | K22: 0.8083664 | L22: A
... A31: 21 | B31: SICRO | C31: 5503041 | D31: Compactação de aterros a 100% do Proctor intermediário | E31: CLASSE SICRO3 | F31: m³ | G31: 4952.44 | H31: 8.98 | I31: 44472.911 | J31: 0.0092030045 | K31: 0.91715137 | L31: B
A32: 22 | B32: Próprio | C32: CPV-MED-002 | D32: Macadame seco | E32: ASSENTAMENTO DE TUBOS E PECAS | F32: m³ | G32: 491.62 | H32: 84.29 | I32: 41438.65 | J32: 0.0085751077 | K32: 0.92572648 | L32: B
A33: 23 | B33: SICRO | C33: 5219606 | D33: Tacha refletiva em plástico injetado - bidirecional tipo II - com um pino - fornecimento e colocação | E33: - | F33: un | G33: 600 | H33: 48.84 | I33: 29304 | J33: 0.0060640252 | K33: 0.93179051 | L33: B
A34: 24 | B34: SICRO | C34: 5502978 | D34: Compactação de aterros a 100% do Proctor normal | E34: CLASSE SICRO3 | F34: m³ | G34: 3274.92 | H34: 7.76 | I34: 25413.379 | J34: 0.0052589174 | K34: 0.93704942 | L34: B
A35: 25 | B35: Próprio | C35: 12 | D35: EMULSÃO ASFÁLTICA RR-2C | E35: ASSENTAMENTO DE TUBOS E PECAS | F35: t | G35: 6.51 | H35: 3814.65 | I35: 24833.372 | J35: 0.005138895 | K35: 0.94218832 | L35: B
A36: 26 | B36: SICRO | C36: 5213863 | D36: Suporte metálico galvanizado para placa de advertência ou regulamentação - lado ou diâmetro de 0,60 m - fornecimento e implantação | E36: CLASSE SICRO3 | F36: un | G36: 36 | H36: 603.73 | I36: 21734.28 | J36: 0.0044975847 | K36: 0.9466859 | L36: B
A37: 27 | B37: SICRO | C37: 5914649 | D37: Carga, manobra e descarga de mistura betuminosa a quente em caminhão basculante de 10 m³ - carga em usina de asfalto 100/140 t/h e descarga em vibroacabadora | E37: CLASSE SICRO3 | F37: t | G37: 1734.98 | H37: 11.08 | I37: 19223.578 | J37: 0.0039780307 | K37: 0.95066393 | L37: B
A38: 28 | B38: SICRO | C38: 5914622 | D38: Transporte de material betuminoso com caminhão tanque distribuidor - rodovia pavimentada | E38: CLASSE SICRO3 | F38: tkm | G38: 6599.86 | H38: 2.82 | I38: 18611.605 | J38: 0.0038513927 | K38: 0.95451533 | L38: C
A39: 29 | B39: SICRO | C39: 2003870 | D39: Tubo de concreto PA2 comercial para drenagem - D = 0,50 m - fornecimento e instalação | E39: CLASSE SICRO3 | F39: m | G39: 51 | H39: 335.58 | I39: 17114.58 | J39: 0.0035416047 | K39: 0.95805693 | L39: C
A40: 30 | B40: SICRO | C40: 4413905 | D40: Hidrossemeadura | E40: CLASSE SICRO3 | F40: m² | G40: 2106.74 | H40: 8.11 | I40: 17085.661 | J40: 0.0035356222 | K40: 0.96159255 | L40: C
A41: 31 | B41: SICRO | C41: 5213401 | D41: Pintura de faixa com tinta acrílica - espessura de 0,6 mm | E41: CLASSE SICRO3 | F41: m² | G41: 480 | H41: 35.56 | I41: 17068.8 | J41: 0.0035321332 | K41: 0.96512469 | L41: C
A42: 32 | B42: Próprio | C42: 85341 | D42: CANTEIRO DE OBRAS | E42: CANTEIRO DE OBRAS | F42: Mês | G42: 5 | H42: 3377.89 | I42: 16889.45 | J42: 0.0034950194 | K42: 0.96861971 | L42: C
A43: 33 | B43: SICRO | C43: 2003625 | D43: Boca de lobo simples - grelha de concreto - BLSG 01 - areia extraída e brita produzida | E43: CLASSE SICRO3 | F43: un | G43: 12 | H43: 1236.93 | I43: 14843.16 | J43: 0.0030715703 | K43: 0.97169128 | L43: C
A44: 34 | B44: SICRO | C44: 4815671 | D44: Reaterro e compactação com soquete vibratório | E44: - | F44: m³ | G44: 561.54 | H44: 26.27 | I44: 14751.656 | J44: 0.0030526337 | K44: 0.97474391 | L44: C
... A68: 58 | B68: SICRO | C68: 1600966 | D68: Remoção de cerca com mourões de concreto | E68: CLASSE SICRO3 | F68: m | G68: 84 | H68: 1.12 | I68: 94.08 | J68: 1.9468451e-05 | K68: 1.0009469 | L68: C
I70: =SINTÉTICO!J90 -> Total sem BDI | K70: =SINTÉTICO!L90 -> 4015580.1
I71: =SINTÉTICO!J91 -> Total do BDI | K71: =SINTÉTICO!L91 -> 816853.63
I72: =SINTÉTICO!J92 -> Total | K72: =SINTÉTICO!L92 -> 4832433.8

Sheet CRONOGRAMA
A2: Obra: Estrada Geral da Liberdade
A3: Trecho: 0+0,00 - 80+0,00
A4: Cliente: Município de Benedito Novo
A5: BDI Padrão: 21,91%
A6: BDI Diferenciado: 15% | D6: Cronograma Físico-Financeiro
A7: Bancos: SICRO3: SC 4/20256 SINAPI: SC 6/2026 | D7: Revisão 01
A9: Item | B9: Descrição | C9: Total | D9: 1º mês | E9: 2º mês | F9: 3º mês | G9: 4º mês | H9: 5º mês
A10: 1 | B10: Serviços Preliminares | C10: 100,00% 100.175,84 | D10: 46,68% R$46.762,08 | E10: 13,33% R$13.353,44 | F10: 13,33% R$13.353,44 | G10: 13,33% R$13.353,44 | H10: 13,33% R$13.353,44
A11: 2 | B11: MOBILIZAÇÃO E DESMOBILIZAÇÃO | C11: 100,00% 6.384,18 | D11: 50,00% R$3.192,09 | E11: - | F11: - | G11: - | H11: 50,00% R$3.192,09
A12: 3 | B12: Terraplenagem | C12: 100,00% 802.786,49 | D12: 60,00% R$481.671,89 | E12: 30,00% R$240.835,95 | F12: 10,00% R$80.278,65 | G12: - | H12: -
A13: 4 | B13: Proteção de Taludes | C13: 100,00% 164.275,46 | D13: 50,00% R$82.137,73 | E13: 30,00% R$49.282,64 | F13: 20,00% R$32.855,09 | G13: - | H13: -
A14: 5 | B14: Drenagem | C14: 100,00% 446.576,21 | D14: 20,00% R$89.315,24 | E14: 40,00% R$178.630,48 | F14: 40,00% R$178.630,48 | G14: - | H14: -
A15: 6 | B15: Drenos Profundos | C15: 100,00% 189.295,47 | D15: - | E15: 50,00% R$94.647,74 | F15: 40,00% R$75.718,19 | G15: 10,00% R$18.929,55 | H15: -
A16: 7 | B16: Pavimentação Asfáltica | C16: 100,00% 3.014.660,42 | D16: - | E16: 30,00% R$904.398,13 | F16: 30,00% R$904.398,13 | G16: 40,00% R$1.205.864,17 | H16: -
A17: 8 | B17: Sinalização | C17: 100,00% 81.499,20 | D17: - | E17: - | F17: - | G17: - | H17: 100,00% R$81.499,20
A18: 9 | B18: Sinalização de Obra | C18: 100,00% 17.712,00 | D18: 20,00% R$3.542,40 | E18: 20,00% R$3.542,40 | F18: 20,00% R$3.542,40 | G18: 20,00% R$3.542,40 | H18: 20,00% R$3.542,40
A19: 10 | B19: Adequações | C19: 100,00% 9.068,51 | D19: 87,50% R$7.934,95 | E19: 12,50% R$1.133,56 | F19: - | G19: - | H19: -
B21: Porcentagem do período Total do período | C21: 100,00% R$4.832.433,77 | D21: 14,79% R$714.556,38 | E21: 30,75% R$1.485.824,33 | F21: 26,67% R$1.288.776,38 | G21: 25,69% R$1.241.689,55 | H21: 2,10% R$101.587,13
B22: Porcentagem acumulada Total acumulado | D22: 14,79% R$714.556,38 | E22: 45,53% R$2.200.380,72 | F22: 72,20% R$3.489.157,10 | G22: 97,90% R$4.730.846,65 | H22: 100,00% R$4.832.433,78
B24: Total sem BDI | C24: 4015580.1
B25: Total do BDI | C25: 816853.63
B26: Total | C26: 4832433.8
