Workbook

Sheet DADOS
B2: Dados do Empreendimento:
B3: Empreendimento: | C3: PAVIMENTAÇÃO EM BLOQUETE EM SÃO DOMINGOS DO ARAGUAIA
B4: Endereço: | C4: ZONA URBANA DE SÃO DOMINGOS DO ARAGUAIA
B5: Código: | C5: SDA.263
B6: Revisão: | C6: C
B7: Data: | C7: 46113
B9: Referências:
B10: Tipo | C10: Data Base
B11: SINAPI | C11: 46023
B12: SICRO | C12: 45931
B16: Responsável Técnico:
B17: Nome: | C17: CLAUDIO EDUARDO BARBOSA CUNHA
B18: CREA: | C18: 2618350774
B19: ART:
B20: Local: | C20: SÃO DOMINGOS DO ARAGUAIA/PA

Sheet COMPOSIÇÃO
A2: COMPOSIÇÕES PRÓPRIAS
F3: CUSTO UNIT | G3: CUSTO UNIT
A4: FONTE | B4: CÓDIGO | C4: DESCRIÇÃO | D4: UNIDADE | E4: COEFIC. | F4: DESONERADO | G4: NÃO DESONER.
A5: CP | B5: 001 | C5: MOBILIZAÇÃO OU DESMOBILIZAÇÃO DE CANTEIRO DE OBRAS (EQUIPAMENTOS E PESSOAS) PARA OBRA DE INFRAESTRUTURA - D.M.T. ENTRE 25 E 50 KM | D5: UN | F5: 8438.32 | G5: 8582.6
A6: SINAPI | B6: 5826 | C6: CAMINHÃO TOCO, PBT 16.000 KG, CARGA ÚTIL MÁX. 10.685 KG, DIST. ENTRE EIXOS 4,8 M, POTÊNCIA 189 CV, INCLUSIVE CARROCERIA FIXA ABERTA DE MADEIRA P/ TRANSPORTE GERAL DE CARGA SECA, DIMEN. APROX. 2,5 X 7,00 X 0,50 M - CHI DIURNO. AF_06/2014 | D6: CHI | E6: 16 | F6: 67.26 | G6: 69.05
A7: SINAPI | B7: 5824 | C7: CAMINHÃO TOCO, PBT 16.000 KG, CARGA ÚTIL MÁX. 10.685 KG, DIST. ENTRE EIXOS 4,8 M, POTÊNCIA 189 CV, INCLUSIVE CARROCERIA FIXA ABERTA DE MADEIRA P/ TRANSPORTE GERAL DE CARGA SECA, DIMEN. APROX. 2,5 X 7,00 X 0,50 M - CHP DIURNO. AF_06/2014 | D7: CHP | E7: 4 | F7: 231.93 | G7: 233.72
A8: SINAPI | B8: 91032 | C8: CAMINHÃO TRUCADO (C/ TERCEIRO EIXO) ELETRÔNICO - POTÊNCIA 231CV - PBT = 22000KG - DIST. ENTRE EIXOS 5170 MM - INCLUI CARROCERIA FIXA ABERTA DE MADEIRA - CHI DIURNO. AF_06/2015 | D8: CHI | E8: 16 | F8: 73.58 | G8: 75.37
A9: SINAPI | B9: 91031 | C9: CAMINHÃO TRUCADO (C/ TERCEIRO EIXO) ELETRÔNICO - POTÊNCIA 231CV - PBT = 22000KG - DIST. ENTRE EIXOS 5170 MM - INCLUI CARROCERIA FIXA ABERTA DE MADEIRA - CHP DIURNO. AF_06/2015 | D9: CHP | E9: 4 | F9: 277.7 | G9: 279.49
A10: SINAPI | B10: 5930 | C10: GUINDAUTO HIDRÁULICO, CAPACIDADE MÁXIMA DE CARGA 6200 KG, MOMENTO MÁXIMO DE CARGA 11,7 TM, ALCANCE MÁXIMO HORIZONTAL 9,70 M, INCLUSIVE CAMINHÃO TOCO PBT 16.000 KG, POTÊNCIA DE 189 CV - CHI DIURNO. AF_06/2014 | D10: CHI | E10: 16 | F10: 78.78 | G10: 80.82
A11: SINAPI | B11: 5928 | C11: GUINDAUTO HIDRÁULICO, CAPACIDADE MÁXIMA DE CARGA 6200 KG, MOMENTO MÁXIMO DE CARGA 11,7 TM, ALCANCE MÁXIMO HORIZONTAL 9,70 M, INCLUSIVE CAMINHÃO TOCO PBT 16.000 KG, POTÊNCIA DE 189 CV - CHP DIURNO. AF_06/2014 | D11: CHP | E11: 4 | F11: 295.2 | G11: 297.24
A12: SINAPI | B12: 89279 | C12: BETONEIRA CAPACIDADE NOMINAL DE 600 L, CAPACIDADE DE MISTURA 440 L, MOTOR A DIESEL POTÊNCIA 10 HP, COM CARREGADOR - CHI DIURNO. AF_05/2023 | D12: CHI | E12: 4 | F12: 2.31 | G12: 2.31
A13: SINAPI | B13: 5679 | C13: RETROESCAVADEIRA SOBRE RODAS COM CARREGADEIRA, TRAÇÃO 4X4, POTÊNCIA LÍQ. 88 HP, CAÇAMBA CARREG. CAP. MÍN. 1 M3, CAÇAMBA RETRO CAP. 0,26 M3, PESO OPERACIONAL MÍN. 6.674 KG, PROFUNDIDADE ESCAVAÇÃO MÁX. 4,37 M - CHI DIURNO. AF_06/2014 | D13: CHI | E13: 4 | F13: 68.17 | G13: 70.19
A14: SINAPI | B14: 90982 | C14: COMPRESSOR DE AR REBOCÁVEL, VAZÃO 748 PCM, PRESSÃO EFETIVA DE TRABALHO 102 PSI, MOTOR DIESEL, POTÊNCIA 210 CV - CHI DIURNO. AF_06/2015 | D14: CHI | E14: 4 | F14: 22.69 | G14: 22.69
A15: SINAPI | B15: 5857 | C15: TRATOR DE ESTEIRAS, POTÊNCIA 347 HP, PESO OPERACIONAL 38,5 T, COM LÂMINA 8,70 M3 - CHI DIURNO. AF_06/2014 | D15: CHI | E15: 4 | F15: 246.67 | G15: 248.52
A16: SINAPI | B16: 95873 | C16: GRUPO GERADOR COM CARENAGEM, MOTOR DIESEL POTÊNCIA STANDART ENTRE 250 E 260 KVA - CHI DIURNO. AF_12/2016 | D16: CHI | E16: 4 | F16: 15 | G16: 15
A17: SINAPI | B17: 90780 | C17: MESTRE DE OBRAS COM ENCARGOS COMPLEMENTARES | D17: H | E17: 4 | F17: 45.77 | G17: 48.65
A18: SINAPI | B18: 88316 | C18: SERVENTE COM ENCARGOS COMPLEMENTARES | D18: H | E18: 4 | F18: 25.66 | G18: 26.88
A22: =DADOS!C7 -> 46113
A23: Data | D23: Responsável Técnico
D24: Nome: | E24: =DADOS!C17 -> CLAUDIO EDUARDO BARBOSA CUNHA
D25: CREA: | E25: =DADOS!C18 -> 2618350774

Sheet BDI
B1: BDI - BENEFÍCIOS E DESPESAS INDIRETAS
B2: Base para Licitação
B4: CÓDIGO | D4: REVISÃO | F4: LOCAL
B5: =DADOS!$C$5 -> SDA.263 | D5: =DADOS!$C$6 -> C | F5: =DADOS!$C$20 -> SÃO DOMINGOS DO ARAGUAIA/PA
B7: EMPREENDIMENTO
B8: =DADOS!$C$3 -> PAVIMENTAÇÃO EM BLOQUETE EM SÃO DOMINGOS DO ARAGUAIA
B11: Conforme legislação tributária municipal, definir estimativa de percentual da base de cálculo para o ISS: | J11: 1
B12: Sobre a base de cálculo, definir a respectiva alíquota do ISS (entre 2% e 5%): | J12: 0.05
B14: BDI 1
B16: TIPO DE OBRA
B17: Construção de Praças Urbanas, Rodovias, Ferrovias e recapeamento e pavimentação de vias urbanas
B19: Itens | J19: Siglas | K19: % Adotado
B20: Administração Central | J20: AC | K20: 0.03
B21: Seguro e Garantia | J21: SG | K21: 0.008
B22: Risco | J22: R | K22: 0.0097
B23: Despesas Financeiras | J23: DF | K23: 0.0059
B24: Lucro | J24: L | K24: 0.0616
B25: Tributos (impostos COFINS 3%, e PIS 0,65%) | J25: CP | K25: 0.0365
B26: Tributos (ISS, variável de acordo com o município) | J26: ISS | K26: 0.05
B27: Tributos (Contribuição Previdenciária sobre a Receita Bruta - 0% ou 4,5% - Desoneração) | J27: CPBR | K27: 0
B28: BDI SEM desoneração (Fórmula Acórdão TCU) | J28: BDI PAD | K28: 0.2247
C32: Os valores de BDI foram calculados com o emprego da fórmula:
D33: BDI = | E33: (1 + AC + S + R + G) * (1 + DF) * (1 + L) | I33: -1
E34: (1 - CP - ISS - CPRB)
B36: Declaro para os devidos fins que, conforme legislação tributária municipal, a base de cálculo deste tipo de obra corresponde à 100%, com a respectiva alíquota de 5%.
B39: Declaro para os devidos fins que o regime de Contribuição Previdenciária sobre a Receita Bruta adotado para elaboração do orçamento foi SEM Desoneração, e que esta é a alternativa mais adequada para a Administração Pública.
B42: Observações:
B47: =$F$5 -> SÃO DOMINGOS DO ARAGUAIA/PA | H47: =DADOS!$C$7 -> 46113
B48: Local | H48: Data
B51: Responsável Técnico
B52: Nome: | C52: =DADOS!$C$17 -> CLAUDIO EDUARDO BARBOSA CUNHA
B53: CREA: | C53: =DADOS!$C$18 -> 2618350774
B54: ART: | C54: =DADOS!$C$19 -> 0

Sheet ORÇAMENTO
B2: PO - PLANILHA ORÇAMENTÁRIA | J2: REFERENCIAS
B3: Orçamento Base para Licitação | J3: TIPO | K3: DATA BASE
B5: CÓDIGO | C5: REVISÃO | D5: DATA | E5: EMPREENDIMENTO | J5: =DADOS!$B$11 -> SINAPI | K5: =DADOS!$C$11 -> 46023
B6: =DADOS!$C$5 -> SDA.263 | C6: =DADOS!$C$6 -> C | D6: =DADOS!$C$7 -> 46113 | E6: =DADOS!$C$3 -> PAVIMENTAÇÃO EM BLOQUETE EM SÃO DOMINGOS DO ARAGUAIA | J6: =DADOS!$B$12 -> SICRO | K6: =DADOS!$C$12 -> 45931
B8: BDI 1 | C8: BDI 2 | D8: BDI 3 | E8: ENDEREÇO | J8: =DADOS!B13 -> 0
B9: =BDI!K28 -> 0.2247 | C9: 0 | D9: 0 | E9: =DADOS!$C$4 -> ZONA URBANA DE SÃO DOMINGOS DO ARAGUAIA | J9: =DADOS!$B$14 -> 0 | K9: =DADOS!$C$14 -> 0
A11: Nível | B11: Item | C11: Fonte | D11: Código | E11: Descrição | F11: Unidade | G11: Quantidade | H11: Custo Unitário (sem BDI) (R$) | I11: BDI (%) | J11: Preço Unitário (com BDI) (R$) | K11: Preço Total (R$)
B12: =$E$6 -> PAVIMENTAÇÃO EM BLOQUETE EM SÃO DOMINGOS DO ARAGUAIA | K12: 4528596.9
A13: Meta | B13: 1. | C13: SINAPI | E13: SERVIÇOS TRANSVERSAIS | F13: - | G13: 0 | I13: BDI 1 | J13: 0 | K13: 24521.36
A14: Nível 2 | B14: 1.1. | C14: SINAPI | E14: INSTALAÇÃO | F14: - | G14: 0 | I14: BDI 1 | J14: 0 | K14: 24521.36
A15: Serviço | B15: 1.1.1. | C15: Composição | D15: 001 | E15: MOBILIZAÇÃO OU DESMOBILIZAÇÃO DE CANTEIRO DE OBRAS (EQUIPAMENTOS E PESSOAS) PARA OBRA DE INFRAESTRUTURA - D.M.T. ENTRE 25 E 50 KM | F15: UN | G15: 2 | H15: 8582.6 | I15: BDI 1 | J15: 10511.11 | K15: 21022.22
A16: Serviço | B16: 1.1.2. | C16: SINAPI | D16: 103689 | E16: FORNECIMENTO E INSTALAÇÃO DE PLACA DE OBRA COM CHAPA GALVANIZADA E ESTRUTURA DE MADEIRA. AF_03/2022_PS | F16: M2 | G16: 6 | H16: 476.19 | I16: BDI 1 | J16: 583.19 | K16: 3499.14
A17: Meta | B17: 2. | C17: SINAPI | E17: PAVIMENTAÇÃO EM BLOQUETE | F17: - | G17: 0 | I17: BDI 1 | J17: 0 | K17: 4504075.6
A18: Nível 2 | B18: 2.1. | C18: SINAPI | E18: RUA ACRÍSIO SANTOS (371,76 M) | F18: - | G18: 0 | I18: BDI 1 | J18: 0 | K18: 547687.86
A19: Serviço | B19: 2.1.1. | C19: SICRO | D19: 5502171 | E19: ESCAVAÇÃO, CARGA E TRANSPORTE DE MATERIAL DE 1ª CATEGORIA - DMT DE 2.000 A 2.500 M - CAMINHO DE SERVIÇO PAVIMENTADO - COM ESCAVADEIRA E CAMINHÃO BASCULANTE DE 14 M3 | F19: M3 | G19: 390.35 | H19: 9.02 | I19: BDI 1 | J19: 11.05 | K19: 4313.37
A20: Serviço | B20: 2.1.2. | C20: SINAPI | D20: 105557 | E20: EXECUÇÃO E COMPACTAÇÃO DE CAMADA FINAL DE ATERRO (100% DE ENERGIA DO PROCTOR NORMAL) COM SOLO PREDOMINANTEMENTE ARGILOSO, EM CAMADAS COM ESPESSURA DE 10 CM - EXCLUSIVE ESCAVAÇÃO, CARGA E TRANSPORTE E SOLO. AF_09/2024 | F20: M3 | G20: 390.35 | H20: 16.77 | I20: BDI 1 | J20: 20.54 | K20: 8017.79
A21: Serviço | B21: 2.1.3. | C21: SINAPI | D21: 92395 | E21: EXECUÇÃO DE PAVIMENTO EM PISO INTERTRAVADO, COM BLOCO SEXTAVADO DE 25 X 25 CM, ESPESSURA 10 CM. AF_10/2022 | F21: M2 | G21: 2602.32 | H21: 136.41 | I21: BDI 1 | J21: 167.06 | K21: 434743.58
A22: Serviço | B22: 2.1.4. | C22: SINAPI | D22: 94281 | E22: EXECUÇÃO DE SARJETA DE CONCRETO USINADO, MOLDADA IN LOCO EM TRECHO RETO, 30 CM BASE X 15 CM ALTURA. AF_01/2024 | F22: M | G22: 743.52 | H22: 57.24 | I22: BDI 1 | J22: 70.1 | K22: 52120.75
A23: Serviço | B23: 2.1.5. | C23: SINAPI | D23: 94273 | E23: ASSENTAMENTO DE GUIA (MEIO-FIO) EM TRECHO RETO, CONFECCIONADA EM CONCRETO PRÉ-FABRICADO, DIMENSÕES 100X15X13X30 CM (COMPRIMENTO X BASE INFERIOR X BASE SUPERIOR X ALTURA). AF_01/2024 | F23: M | G23: 743.52 | H23: 53.25 | I23: BDI 1 | J23: 65.22 | K23: 48492.37
A24: Nível 2 | B24: 2.2. | C24: SINAPI | E24: RUA GROTA DA LAJE (1.241,76 M) | F24: - | G24: 0 | H24: 0 | I24: BDI 1 | J24: 0 | K24: 1829397.5
A25: Serviço | B25: 2.2.1. | C25: SICRO | D25: 5502171 | E25: ESCAVAÇÃO, CARGA E TRANSPORTE DE MATERIAL DE 1ª CATEGORIA - DMT DE 2.000 A 2.500 M - CAMINHO DE SERVIÇO PAVIMENTADO - COM ESCAVADEIRA E CAMINHÃO BASCULANTE DE 14 M3 | F25: M3 | G25: 1303.85 | H25: 9.02 | I25: BDI 1 | J25: 11.05 | K25: 14407.54
A26: Serviço | B26: 2.2.2. | C26: SINAPI | D26: 105557 | E26: EXECUÇÃO E COMPACTAÇÃO DE CAMADA FINAL DE ATERRO (100% DE ENERGIA DO PROCTOR NORMAL) COM SOLO PREDOMINANTEMENTE ARGILOSO, EM CAMADAS COM ESPESSURA DE 10 CM - EXCLUSIVE ESCAVAÇÃO, CARGA E TRANSPORTE E SOLO. AF_09/2024 | F26: M3 | G26: 1303.85 | H26: 16.77 | I26: BDI 1 | J26: 20.54 | K26: 26781.08
A27: Serviço | B27: 2.2.3. | C27: SINAPI | D27: 92395 | E27: EXECUÇÃO DE PAVIMENTO EM PISO INTERTRAVADO, COM BLOCO SEXTAVADO DE 25 X 25 CM, ESPESSURA 10 CM. AF_10/2022 | F27: M2 | G27: 8692.32 | H27: 136.41 | I27: BDI 1 | J27: 167.06 | K27: 1452139
A28: Serviço | B28: 2.2.4. | C28: SINAPI | D28: 94281 | E28: EXECUÇÃO DE SARJETA DE CONCRETO USINADO, MOLDADA IN LOCO EM TRECHO RETO, 30 CM BASE X 15 CM ALTURA. AF_01/2024 | F28: M | G28: 2483.52 | H28: 57.24 | I28: BDI 1 | J28: 70.1 | K28: 174094.75
A29: Serviço | B29: 2.2.5. | C29: SINAPI | D29: 94273 | E29: ASSENTAMENTO DE GUIA (MEIO-FIO) EM TRECHO RETO, CONFECCIONADA EM CONCRETO PRÉ-FABRICADO, DIMENSÕES 100X15X13X30 CM (COMPRIMENTO X BASE INFERIOR X BASE SUPERIOR X ALTURA). AF_01/2024 | F29: M | G29: 2483.52 | H29: 53.25 | I29: BDI 1 | J29: 65.22 | K29: 161975.17
A30: Nível 2 | B30: 2.3. | C30: SINAPI | E30: TRAVESSA ALACID NUNES (125,12M) | F30: - | G30: 0 | H30: 0 | I30: BDI 1 | J30: 0 | K30: 184330.6
A31: Serviço | B31: 2.3.1. | C31: SICRO | D31: 5502171 | E31: ESCAVAÇÃO, CARGA E TRANSPORTE DE MATERIAL DE 1ª CATEGORIA - DMT DE 2.000 A 2.500 M - CAMINHO DE SERVIÇO PAVIMENTADO - COM ESCAVADEIRA E CAMINHÃO BASCULANTE DE 14 M3 | F31: M3 | G31: 131.38 | H31: 9.02 | I31: BDI 1 | J31: 11.05 | K31: 1451.75
A32: Serviço | B32: 2.3.2. | C32: SINAPI | D32: 105557 | E32: EXECUÇÃO E COMPACTAÇÃO DE CAMADA FINAL DE ATERRO (100% DE ENERGIA DO PROCTOR NORMAL) COM SOLO PREDOMINANTEMENTE ARGILOSO, EM CAMADAS COM ESPESSURA DE 10 CM - EXCLUSIVE ESCAVAÇÃO, CARGA E TRANSPORTE E SOLO. AF_09/2024 | F32: M3 | G32: 131.38 | H32: 16.77 | I32: BDI 1 | J32: 20.54 | K32: 2698.55
A33: Serviço | B33: 2.3.3. | C33: SINAPI | D33: 92395 | E33: EXECUÇÃO DE PAVIMENTO EM PISO INTERTRAVADO, COM BLOCO SEXTAVADO DE 25 X 25 CM, ESPESSURA 10 CM. AF_10/2022 | F33: M2 | G33: 875.84 | H33: 136.41 | I33: BDI 1 | J33: 167.06 | K33: 146317.83
A34: Serviço | B34: 2.3.4. | C34: SINAPI | D34: 94281 | E34: EXECUÇÃO DE SARJETA DE CONCRETO USINADO, MOLDADA IN LOCO EM TRECHO RETO, 30 CM BASE X 15 CM ALTURA. AF_01/2024 | F34: M | G34: 250.24 | H34: 57.24 | I34: BDI 1 | J34: 70.1 | K34: 17541.82
A35: Serviço | B35: 2.3.5. | C35: SINAPI | D35: 94273 | E35: ASSENTAMENTO DE GUIA (MEIO-FIO) EM TRECHO RETO, CONFECCIONADA EM CONCRETO PRÉ-FABRICADO, DIMENSÕES 100X15X13X30 CM (COMPRIMENTO X BASE INFERIOR X BASE SUPERIOR X ALTURA). AF_01/2024 | F35: M | G35: 250.24 | H35: 53.25 | I35: BDI 1 | J35: 65.22 | K35: 16320.65
A36: Nível 2 | B36: 2.4. | C36: SINAPI | E36: TRAVESSA JOÃO TORRES (206,12M) | F36: - | G36: 0 | H36: 0 | I36: BDI 1 | J36: 0 | K36: 303662.18
A37: Serviço | B37: 2.4.1. | C37: SICRO | D37: 5502171 | E37: ESCAVAÇÃO, CARGA E TRANSPORTE DE MATERIAL DE 1ª CATEGORIA - DMT DE 2.000 A 2.500 M - CAMINHO DE SERVIÇO PAVIMENTADO - COM ESCAVADEIRA E CAMINHÃO BASCULANTE DE 14 M3 | F37: M3 | G37: 216.43 | H37: 9.02 | I37: BDI 1 | J37: 11.05 | K37: 2391.55
A38: Serviço | B38: 2.4.2. | C38: SINAPI | D38: 105557 | E38: EXECUÇÃO E COMPACTAÇÃO DE CAMADA FINAL DE ATERRO (100% DE ENERGIA DO PROCTOR NORMAL) COM SOLO PREDOMINANTEMENTE ARGILOSO, EM CAMADAS COM ESPESSURA DE 10 CM - EXCLUSIVE ESCAVAÇÃO, CARGA E TRANSPORTE E SOLO. AF_09/2024 | F38: M3 | G38: 216.43 | H38: 16.77 | I38: BDI 1 | J38: 20.54 | K38: 4445.47
A39: Serviço | B39: 2.4.3. | C39: SINAPI | D39: 92395 | E39: EXECUÇÃO DE PAVIMENTO EM PISO INTERTRAVADO, COM BLOCO SEXTAVADO DE 25 X 25 CM, ESPESSURA 10 CM. AF_10/2022 | F39: M2 | G39: 1442.84 | H39: 136.41 | I39: BDI 1 | J39: 167.06 | K39: 241040.85
A40: Serviço | B40: 2.4.4. | C40: SINAPI | D40: 94281 | E40: EXECUÇÃO DE SARJETA DE CONCRETO USINADO, MOLDADA IN LOCO EM TRECHO RETO, 30 CM BASE X 15 CM ALTURA. AF_01/2024 | F40: M | G40: 412.24 | H40: 57.24 | I40: BDI 1 | J40: 70.1 | K40: 28898.02
A41: Serviço | B41: 2.4.5. | C41: SINAPI | D41: 94273 | E41: ASSENTAMENTO DE GUIA (MEIO-FIO) EM TRECHO RETO, CONFECCIONADA EM CONCRETO PRÉ-FABRICADO, DIMENSÕES 100X15X13X30 CM (COMPRIMENTO X BASE INFERIOR X BASE SUPERIOR X ALTURA). AF_01/2024 | F41: M | G41: 412.24 | H41: 53.25 | I41: BDI 1 | J41: 65.22 | K41: 26886.29
A42: Nível 2 | B42: 2.5. | C42: SINAPI | E42: TRAVESSA ABEL FIGUEIREDO (257,25M) | F42: - | G42: 0 | H42: 0 | I42: BDI 1 | J42: 0 | K42: 378988.22
A43: Serviço | B43: 2.5.1. | C43: SICRO | D43: 5502171 | E43: ESCAVAÇÃO, CARGA E TRANSPORTE DE MATERIAL DE 1ª CATEGORIA - DMT DE 2.000 A 2.500 M - CAMINHO DE SERVIÇO PAVIMENTADO - COM ESCAVADEIRA E CAMINHÃO BASCULANTE DE 14 M3 | F43: M3 | G43: 270.11 | H43: 9.02 | I43: BDI 1 | J43: 11.05 | K43: 2984.72
A44: Serviço | B44: 2.5.2. | C44: SINAPI | D44: 105557 | E44: EXECUÇÃO E COMPACTAÇÃO DE CAMADA FINAL DE ATERRO (100% DE ENERGIA DO PROCTOR NORMAL) COM SOLO PREDOMINANTEMENTE ARGILOSO, EM CAMADAS COM ESPESSURA DE 10 CM - EXCLUSIVE ESCAVAÇÃO, CARGA E TRANSPORTE E SOLO. AF_09/2024 | F44: M3 | G44: 270.11 | H44: 16.77 | I44: BDI 1 | J44: 20.54 | K44: 5548.06
...

Sheet CÁLCULO
B5: PMC - PLANILHA MEMÓRIA DE CÁLCULO
B6: Base para Licitação
B8: EMPREENDIMENTO | D8: CÓDIGO | F8: REVISÃO
B9: =DADOS!C3 -> PAVIMENTAÇÃO EM BLOQUETE EM SÃO DOMINGOS DO ARAGUAIA | D9: =DADOS!C5 -> SDA.263 | F9: =DADOS!C6 -> C
A11: Nível | B11: Item | C11: Descrição | D11: Unidade | E11: Quantidade | F11: Memória de Cálculo
B12: =ORÇAMENTO!B12 -> PAVIMENTAÇÃO EM BLOQUETE EM SÃO DOMINGOS DO ARAGUAIA
A13: =ORÇAMENTO!A13 -> Meta | B13: =ORÇAMENTO!$B13 -> 1. | C13: =ORÇAMENTO!$E13 -> SERVIÇOS TRANSVERSAIS | D13: =ORÇAMENTO!$F13 -> - | E13: =ORÇAMENTO!$G13 -> 0
A14: =ORÇAMENTO!A14 -> Nível 2 | B14: =ORÇAMENTO!$B14 -> 1.1. | C14: =ORÇAMENTO!$E14 -> INSTALAÇÃO | D14: =ORÇAMENTO!$F14 -> - | E14: =ORÇAMENTO!$G14 -> 0
A15: =ORÇAMENTO!A15 -> Serviço | B15: =ORÇAMENTO!$B15 -> 1.1.1. | C15: =ORÇAMENTO!$E15 -> MOBILIZAÇÃO OU DESMOBILIZAÇÃO DE CANTEIRO DE OBRAS (EQUIPAMENTOS E PESSOAS) PARA OBRA DE INFRAESTRUTURA - D.M.T. ENTRE 25 E 50 KM | D15: =ORÇAMENTO!$F15 -> UN | E15: =ORÇAMENTO!$G15 -> 2 | F15: MOB+DESMOB
A16: =ORÇAMENTO!A16 -> Serviço | B16: =ORÇAMENTO!$B16 -> 1.1.2. | C16: =ORÇAMENTO!$E16 -> FORNECIMENTO E INSTALAÇÃO DE PLACA DE OBRA COM CHAPA GALVANIZADA E ESTRUTURA DE MADEIRA. AF_03/2022_PS | D16: =ORÇAMENTO!$F16 -> M2 | E16: =ORÇAMENTO!$G16 -> 6 | F16: 2*3
A17: =ORÇAMENTO!A17 -> Meta | B17: =ORÇAMENTO!$B17 -> 2. | C17: =ORÇAMENTO!$E17 -> PAVIMENTAÇÃO EM BLOQUETE | D17: =ORÇAMENTO!$F17 -> - | E17: =ORÇAMENTO!$G17 -> 0
A18: =ORÇAMENTO!A18 -> Nível 2 | B18: =ORÇAMENTO!$B18 -> 2.1. | C18: =ORÇAMENTO!$E18 -> RUA ACRÍSIO SANTOS (371,76 M) | D18: =ORÇAMENTO!$F18 -> - | E18: =ORÇAMENTO!$G18 -> 0
A19: =ORÇAMENTO!A19 -> Serviço | B19: =ORÇAMENTO!$B19 -> 2.1.1. | C19: =ORÇAMENTO!$E19 -> ESCAVAÇÃO, CARGA E TRANSPORTE DE MATERIAL DE 1ª CATEGORIA - DMT DE 2.000 A 2.500 M - CAMINHO DE SERVIÇO PAVIMENTADO - COM ESCAVADEIRA E CAMINHÃO BASCULANTE DE 14 M3 | D19: =ORÇAMENTO!$F19 -> M3 | E19: =ORÇAMENTO!$G19 -> 390.35 | F19: ITEM 2.1.2
A20: =ORÇAMENTO!A20 -> Serviço | B20: =ORÇAMENTO!$B20 -> 2.1.2. | C20: =ORÇAMENTO!$E20 -> EXECUÇÃO E COMPACTAÇÃO DE CAMADA FINAL DE ATERRO (100% DE ENERGIA DO PROCTOR NORMAL) COM SOLO PREDOMINANTEMENTE ARGILOSO, EM CAMADAS COM ESPESSURA DE 10 CM - EXCLUSIVE ESCAVAÇÃO, CARGA E TRANSPORTE E SOLO. AF_09/2024 | D20: =ORÇAMENTO!$F20 -> M3 | E20: =ORÇAMENTO!$G20 -> 390.35 | F20: 1,05*371,76 => VOL. UNITÁRIO POR METRO DE VIA * COMP. DA VIA
A21: =ORÇAMENTO!A21 -> Serviço | B21: =ORÇAMENTO!$B21 -> 2.1.3. | C21: =ORÇAMENTO!$E21 -> EXECUÇÃO DE PAVIMENTO EM PISO INTERTRAVADO, COM BLOCO SEXTAVADO DE 25 X 25 CM, ESPESSURA 10 CM. AF_10/2022 | D21: =ORÇAMENTO!$F21 -> M2 | E21: =ORÇAMENTO!$G21 -> 2602.32 | F21: 7*371,76 => LARG. DA VIA * COMP. DA VIA
A22: =ORÇAMENTO!A22 -> Serviço | B22: =ORÇAMENTO!$B22 -> 2.1.4. | C22: =ORÇAMENTO!$E22 -> EXECUÇÃO DE SARJETA DE CONCRETO USINADO, MOLDADA IN LOCO EM TRECHO RETO, 30 CM BASE X 15 CM ALTURA. AF_01/2024 | D22: =ORÇAMENTO!$F22 -> M | E22: =ORÇAMENTO!$G22 -> 743.52 | F22: 2*371,76 => 2 SARJETAS (UMA DE CADA LADO) * COMP. DA VIA
A23: =ORÇAMENTO!A23 -> Serviço | B23: =ORÇAMENTO!$B23 -> 2.1.5. | C23: =ORÇAMENTO!$E23 -> ASSENTAMENTO DE GUIA (MEIO-FIO) EM TRECHO RETO, CONFECCIONADA EM CONCRETO PRÉ-FABRICADO, DIMENSÕES 100X15X13X30 CM (COMPRIMENTO X BASE INFERIOR X BASE SUPERIOR X ALTURA). AF_01/2024 | D23: =ORÇAMENTO!$F23 -> M | E23: =ORÇAMENTO!$G23 -> 743.52 | F23: 2*371,76 => 2 MEIO FIO (UMA DE CADA LADO) * COMP. DA VIA
A24: =ORÇAMENTO!A24 -> Nível 2 | B24: =ORÇAMENTO!$B24 -> 2.2. | C24: =ORÇAMENTO!$E24 -> RUA GROTA DA LAJE (1.241,76 M) | D24: =ORÇAMENTO!$F24 -> - | E24: =ORÇAMENTO!$G24 -> 0
A25: =ORÇAMENTO!A25 -> Serviço | B25: =ORÇAMENTO!$B25 -> 2.2.1. | C25: =ORÇAMENTO!$E25 -> ESCAVAÇÃO, CARGA E TRANSPORTE DE MATERIAL DE 1ª CATEGORIA - DMT DE 2.000 A 2.500 M - CAMINHO DE SERVIÇO PAVIMENTADO - COM ESCAVADEIRA E CAMINHÃO BASCULANTE DE 14 M3 | D25: =ORÇAMENTO!$F25 -> M3 | E25: =ORÇAMENTO!$G25 -> 1303.85 | F25: ITEM 2.2.2
A26: =ORÇAMENTO!A26 -> Serviço | B26: =ORÇAMENTO!$B26 -> 2.2.2. | C26: =ORÇAMENTO!$E26 -> EXECUÇÃO E COMPACTAÇÃO DE CAMADA FINAL DE ATERRO (100% DE ENERGIA DO PROCTOR NORMAL) COM SOLO PREDOMINANTEMENTE ARGILOSO, EM CAMADAS COM ESPESSURA DE 10 CM - EXCLUSIVE ESCAVAÇÃO, CARGA E TRANSPORTE E SOLO. AF_09/2024 | D26: =ORÇAMENTO!$F26 -> M3 | E26: =ORÇAMENTO!$G26 -> 1303.85 | F26: 1,05*1.241,76 => VOL. UNITÁRIO POR METRO DE VIA * COMP. DA VIA
A27: =ORÇAMENTO!A27 -> Serviço | B27: =ORÇAMENTO!$B27 -> 2.2.3. | C27: =ORÇAMENTO!$E27 -> EXECUÇÃO DE PAVIMENTO EM PISO INTERTRAVADO, COM BLOCO SEXTAVADO DE 25 X 25 CM, ESPESSURA 10 CM. AF_10/2022 | D27: =ORÇAMENTO!$F27 -> M2 | E27: =ORÇAMENTO!$G27 -> 8692.32 | F27: 7*1.241,76 => LARG. DA VIA * COMP. DA VIA
A28: =ORÇAMENTO!A28 -> Serviço | B28: =ORÇAMENTO!$B28 -> 2.2.4. | C28: =ORÇAMENTO!$E28 -> EXECUÇÃO DE SARJETA DE CONCRETO USINADO, MOLDADA IN LOCO EM TRECHO RETO, 30 CM BASE X 15 CM ALTURA. AF_01/2024 | D28: =ORÇAMENTO!$F28 -> M | E28: =ORÇAMENTO!$G28 -> 2483.52 | F28: 2*1.241,76 => 2 SARJETAS (UMA DE CADA LADO) * COMP. DA VIA
A29: =ORÇAMENTO!A29 -> Serviço | B29: =ORÇAMENTO!$B29 -> 2.2.5. | C29: =ORÇAMENTO!$E29 -> ASSENTAMENTO DE GUIA (MEIO-FIO) EM TRECHO RETO, CONFECCIONADA EM CONCRETO PRÉ-FABRICADO, DIMENSÕES 100X15X13X30 CM (COMPRIMENTO X BASE INFERIOR X BASE SUPERIOR X ALTURA). AF_01/2024 | D29: =ORÇAMENTO!$F29 -> M | E29: =ORÇAMENTO!$G29 -> 2483.52 | F29: 2*1.241,76 => 2 MEIO FIO (UMA DE CADA LADO) * COMP. DA VIA
A30: =ORÇAMENTO!A30 -> Nível 2 | B30: =ORÇAMENTO!$B30 -> 2.3. | C30: =ORÇAMENTO!$E30 -> TRAVESSA ALACID NUNES (125,12M) | D30: =ORÇAMENTO!$F30 -> - | E30: =ORÇAMENTO!$G30 -> 0
A31: =ORÇAMENTO!A31 -> Serviço | B31: =ORÇAMENTO!$B31 -> 2.3.1. | C31: =ORÇAMENTO!$E31 -> ESCAVAÇÃO, CARGA E TRANSPORTE DE MATERIAL DE 1ª CATEGORIA - DMT DE 2.000 A 2.500 M - CAMINHO DE SERVIÇO PAVIMENTADO - COM ESCAVADEIRA E CAMINHÃO BASCULANTE DE 14 M3 | D31: =ORÇAMENTO!$F31 -> M3 | E31: =ORÇAMENTO!$G31 -> 131.38 | F31: ITEM 2.3.2
A32: =ORÇAMENTO!A32 -> Serviço | B32: =ORÇAMENTO!$B32 -> 2.3.2. | C32: =ORÇAMENTO!$E32 -> EXECUÇÃO E COMPACTAÇÃO DE CAMADA FINAL DE ATERRO (100% DE ENERGIA DO PROCTOR NORMAL) COM SOLO PREDOMINANTEMENTE ARGILOSO, EM CAMADAS COM ESPESSURA DE 10 CM - EXCLUSIVE ESCAVAÇÃO, CARGA E TRANSPORTE E SOLO. AF_09/2024 | D32: =ORÇAMENTO!$F32 -> M3 | E32: =ORÇAMENTO!$G32 -> 131.38 | F32: 1,05*125,12 => VOL. UNITÁRIO POR METRO DE VIA * COMP. DA VIA
A33: =ORÇAMENTO!A33 -> Serviço | B33: =ORÇAMENTO!$B33 -> 2.3.3. | C33: =ORÇAMENTO!$E33 -> EXECUÇÃO DE PAVIMENTO EM PISO INTERTRAVADO, COM BLOCO SEXTAVADO DE 25 X 25 CM, ESPESSURA 10 CM. AF_10/2022 | D33: =ORÇAMENTO!$F33 -> M2 | E33: =ORÇAMENTO!$G33 -> 875.84 | F33: 7*125,12 => LARG. DA VIA * COMP. DA VIA
A34: =ORÇAMENTO!A34 -> Serviço | B34: =ORÇAMENTO!$B34 -> 2.3.4. | C34: =ORÇAMENTO!$E34 -> EXECUÇÃO DE SARJETA DE CONCRETO USINADO, MOLDADA IN LOCO EM TRECHO RETO, 30 CM BASE X 15 CM ALTURA. AF_01/2024 | D34: =ORÇAMENTO!$F34 -> M | E34: =ORÇAMENTO!$G34 -> 250.24 | F34: 2*125,12 => 2 SARJETAS (UMA DE CADA LADO) * COMP. DA VIA
A35: =ORÇAMENTO!A35 -> Serviço | B35: =ORÇAMENTO!$B35 -> 2.3.5. | C35: =ORÇAMENTO!$E35 -> ASSENTAMENTO DE GUIA (MEIO-FIO) EM TRECHO RETO, CONFECCIONADA EM CONCRETO PRÉ-FABRICADO, DIMENSÕES 100X15X13X30 CM (COMPRIMENTO X BASE INFERIOR X BASE SUPERIOR X ALTURA). AF_01/2024 | D35: =ORÇAMENTO!$F35 -> M | E35: =ORÇAMENTO!$G35 -> 250.24 | F35: 2*125,12 => 2 MEIO FIO (UMA DE CADA LADO) * COMP. DA VIA
A36: =ORÇAMENTO!A36 -> Nível 2 | B36: =ORÇAMENTO!$B36 -> 2.4. | C36: =ORÇAMENTO!$E36 -> TRAVESSA JOÃO TORRES (206,12M) | D36: =ORÇAMENTO!$F36 -> - | E36: =ORÇAMENTO!$G36 -> 0
A37: =ORÇAMENTO!A37 -> Serviço | B37: =ORÇAMENTO!$B37 -> 2.4.1. | C37: =ORÇAMENTO!$E37 -> ESCAVAÇÃO, CARGA E TRANSPORTE DE MATERIAL DE 1ª CATEGORIA - DMT DE 2.000 A 2.500 M - CAMINHO DE SERVIÇO PAVIMENTADO - COM ESCAVADEIRA E CAMINHÃO BASCULANTE DE 14 M3 | D37: =ORÇAMENTO!$F37 -> M3 | E37: =ORÇAMENTO!$G37 -> 216.43 | F37: ITEM 2.4.2
A38: =ORÇAMENTO!A38 -> Serviço | B38: =ORÇAMENTO!$B38 -> 2.4.2. | C38: =ORÇAMENTO!$E38 -> EXECUÇÃO E COMPACTAÇÃO DE CAMADA FINAL DE ATERRO (100% DE ENERGIA DO PROCTOR NORMAL) COM SOLO PREDOMINANTEMENTE ARGILOSO, EM CAMADAS COM ESPESSURA DE 10 CM - EXCLUSIVE ESCAVAÇÃO, CARGA E TRANSPORTE E SOLO. AF_09/2024 | D38: =ORÇAMENTO!$F38 -> M3 | E38: =ORÇAMENTO!$G38 -> 216.43 | F38: 1,05*206,12 => VOL. UNITÁRIO POR METRO DE VIA * COMP. DA VIA
A39: =ORÇAMENTO!A39 -> Serviço | B39: =ORÇAMENTO!$B39 -> 2.4.3. | C39: =ORÇAMENTO!$E39 -> EXECUÇÃO DE PAVIMENTO EM PISO INTERTRAVADO, COM BLOCO SEXTAVADO DE 25 X 25 CM, ESPESSURA 10 CM. AF_10/2022 | D39: =ORÇAMENTO!$F39 -> M2 | E39: =ORÇAMENTO!$G39 -> 1442.84 | F39: 7*206,12 => LARG. DA VIA * COMP. DA VIA
A40: =ORÇAMENTO!A40 -> Serviço | B40: =ORÇAMENTO!$B40 -> 2.4.4. | C40: =ORÇAMENTO!$E40 -> EXECUÇÃO DE SARJETA DE CONCRETO USINADO, MOLDADA IN LOCO EM TRECHO RETO, 30 CM BASE X 15 CM ALTURA. AF_01/2024 | D40: =ORÇAMENTO!$F40 -> M | E40: =ORÇAMENTO!$G40 -> 412.24 | F40: 2*206,12 => 2 SARJETAS (UMA DE CADA LADO) * COMP. DA VIA
A41: =ORÇAMENTO!A41 -> Serviço | B41: =ORÇAMENTO!$B41 -> 2.4.5. | C41: =ORÇAMENTO!$E41 -> ASSENTAMENTO DE GUIA (MEIO-FIO) EM TRECHO RETO, CONFECCIONADA EM CONCRETO PRÉ-FABRICADO, DIMENSÕES 100X15X13X30 CM (COMPRIMENTO X BASE INFERIOR X BASE SUPERIOR X ALTURA). AF_01/2024 | D41: =ORÇAMENTO!$F41 -> M | E41: =ORÇAMENTO!$G41 -> 412.24 | F41: 2*206,12 => 2 MEIO FIO (UMA DE CADA LADO) * COMP. DA VIA
A42: =ORÇAMENTO!A42 -> Nível 2 | B42: =ORÇAMENTO!$B42 -> 2.5. | C42: =ORÇAMENTO!$E42 -> TRAVESSA ABEL FIGUEIREDO (257,25M) | D42: =ORÇAMENTO!$F42 -> - | E42: =ORÇAMENTO!$G42 -> 0
A43: =ORÇAMENTO!A43 -> Serviço | B43: =ORÇAMENTO!$B43 -> 2.5.1. | C43: =ORÇAMENTO!$E43 -> ESCAVAÇÃO, CARGA E TRANSPORTE DE MATERIAL DE 1ª CATEGORIA - DMT DE 2.000 A 2.500 M - CAMINHO DE SERVIÇO PAVIMENTADO - COM ESCAVADEIRA E CAMINHÃO BASCULANTE DE 14 M3 | D43: =ORÇAMENTO!$F43 -> M3 | E43: =ORÇAMENTO!$G43 -> 270.11 | F43: ITEM 2.5.2
A44: =ORÇAMENTO!A44 -> Serviço | B44: =ORÇAMENTO!$B44 -> 2.5.2. | C44: =ORÇAMENTO!$E44 -> EXECUÇÃO E COMPACTAÇÃO DE CAMADA FINAL DE ATERRO (100% DE ENERGIA DO PROCTOR NORMAL) COM SOLO PREDOMINANTEMENTE ARGILOSO, EM CAMADAS COM ESPESSURA DE 10 CM - EXCLUSIVE ESCAVAÇÃO, CARGA E TRANSPORTE E SOLO. AF_09/2024 | D44: =ORÇAMENTO!$F44 -> M3 | E44: =ORÇAMENTO!$G44 -> 270.11 | F44: 1,05*257,25 => VOL. UNITÁRIO POR METRO DE VIA * COMP. DA VIA
A45: =ORÇAMENTO!A45 -> Serviço | B45: =ORÇAMENTO!$B45 -> 2.5.3. | C45: =ORÇAMENTO!$E45 -> EXECUÇÃO DE PAVIMENTO EM PISO INTERTRAVADO, COM BLOCO SEXTAVADO DE 25 X 25 CM, ESPESSURA 10 CM. AF_10/2022 | D45: =ORÇAMENTO!$F45 -> M2 | E45: =ORÇAMENTO!$G45 -> 1800.75 | F45: 7*257,25 => LARG. DA VIA * COMP. DA VIA
A46: =ORÇAMENTO!A46 -> Serviço | B46: =ORÇAMENTO!$B46 -> 2.5.4. | C46: =ORÇAMENTO!$E46 -> EXECUÇÃO DE SARJETA DE CONCRETO USINADO, MOLDADA IN LOCO EM TRECHO RETO, 30 CM BASE X 15 CM ALTURA. AF_01/2024 | D46: =ORÇAMENTO!$F46 -> M | E46: =ORÇAMENTO!$G46 -> 514.5 | F46: 2*257,25 => 2 SARJETAS (UMA DE CADA LADO) * COMP. DA VIA
...

Sheet ENCARGOS
A1: ENCARGOS SOCIAIS
A2: Base para Licitação
A4: CÓDIGO | B4: EMPREENDIMENTO | G4: REVISÃO
A5: =DADOS!C5 -> SDA.263 | B5: =DADOS!C3 -> PAVIMENTAÇÃO EM BLOQUETE EM SÃO DOMINGOS DO ARAGUAIA | G5: =DADOS!C6 -> C
A7: CÓDIGO | B7: Descrição | D7: COM DESONERAÇÃO | F7: SEM DESONERAÇÃO
D8: HORISTA % | E8: MENSALISTA % | F8: HORISTA % | G8: MENSALISTA %
A9: GRUPO A
A10: A1 | B10: INSS | D10: 0.1 | E10: 0.1 | F10: 0.2 | G10: 0.2
A11: A2 | B11: SESI | D11: 0.015 | E11: 0.015 | F11: 0.015 | G11: 0.015
A12: A3 | B12: SENAI | D12: 0.01 | E12: 0.01 | F12: 0.01 | G12: 0.01
A13: A4 | B13: INCRA | D13: 0.002 | E13: 0.002 | F13: 0.002 | G13: 0.002
A14: A5 | B14: SEBRAE | D14: 0.006 | E14: 0.006 | F14: 0.006 | G14: 0.006
A15: A6 | B15: Salário Educação | D15: 0.025 | E15: 0.025 | F15: 0.025 | G15: 0.025
A16: A7 | B16: Seguro Contra Acidentes de Trabalho | D16: 0.03 | E16: 0.03 | F16: 0.03 | G16: 0.03
A17: A8 | B17: FGTS | D17: 0.08 | E17: 0.08 | F17: 0.08 | G17: 0.08
A18: A9 | B18: SECONCI | D18: 0 | E18: 0 | F18: 0 | G18: 0
A19: A | B19: TOTAL A | D19: =SUM(D10:D18) -> 0.268 | E19: =SUM(E10:E18) -> 0.268 | F19: =SUM(F10:F18) -> 0.368 | G19: =SUM(G10:G18) -> 0.368
A20: GRUPO B
A21: B1 | B21: Repouso Semanal Remunerado | D21: 0.1801 | F21: 0.1801
A22: B2 | B22: Feriado | D22: 0.0413 | F22: 0.0413
A23: B3 | B23: Auxílio - Enfermidade | D23: 0.009 | E23: 0.0067 | F23: 0.009 | G23: 0.0067
A24: B4 | B24: 13° Salário | D24: 0.1116 | E24: 0.0831 | F24: 0.1116 | G24: 0.0831
A25: B5 | B25: Licença Paternidade | D25: 0.0007 | E25: 0.0005 | F25: 0.0007 | G25: 0.0005
A26: B6 | B26: Faltas Justificadas | D26: 0.0075 | E26: 0.0056 | F26: 0.0075 | G26: 0.0056
A27: B7 | B27: Dias de Chuva | D27: 0.0299 | F27: 0.0299
A28: B8 | B28: Auxílio Acidente de Trabalho | D28: 0.0003 | E28: 0.0002 | F28: 0.0003 | G28: 0.0002
A29: B9 | B29: Férias Gozadas | D29: 0.1224 | E29: 0.0911 | F29: 0.1224 | G29: 0.0911
A30: B10 | B30: Salário Maternidade | D30: 0.0004 | E30: 0.0003 | F30: 0.0004 | G30: 0.0003
A31: B | B31: TOTAL B | D31: =SUM(D21:D30) -> 0.5032 | E31: =SUM(E21:E30) -> 0.1875 | F31: =SUM(F21:F30) -> 0.5032 | G31: =SUM(G21:G30) -> 0.1875
A32: GRUPO C
A33: C1 | B33: Aviso Prévio Indenizado | D33: 0.0663 | E33: 0.0493 | F33: 0.0663 | G33: 0.0493
A34: C2 | B34: Aviso Prévio Trabalhado | D34: 0.0017 | E34: 0.0013 | F34: 0.0017 | G34: 0.0013
A35: C3 | B35: Férias Indenizadas | D35: 0.0301 | E35: 0.0224 | F35: 0.0301 | G35: 0.0224
A36: C4 | B36: Depósito Recisão Sem Justa Causa | D36: 0.0282 | E36: 0.021 | F36: 0.0282 | G36: 0.021
A37: C5 | B37: Indenização Adicional | D37: 0.0056 | E37: 0.0041 | F37: 0.0056 | G37: 0.0041
A38: C | B38: TOTAL C | D38: =SUM(D33:D37) -> 0.1319 | E38: =SUM(E33:E37) -> 0.0981 | F38: =SUM(F33:F37) -> 0.1319 | G38: =SUM(G33:G37) -> 0.0981
A39: GRUPO C
A40: D1 | B40: Reincidência de Grupo A sobre Grupo B (sem considerar INNS sobre 13º, conforme Lei nº 14.973/2024 | D40: 0.1237 | E40: 0.0419 | F40: 0.1852 | G40: 0.069
A41: D2 | B41: Reincidência de Grupo A sobre Aviso Prévio Trabalhado e Reincidência do FGTS sobre Aviso Prévio Indenizado | D41: 0.0058 | E41: 0.0043 | F41: 0.0059 | G41: 0.0044
A42: D | B42: TOTAL D | D42: =SUM(D40:D41) -> 0.1295 | E42: =SUM(E40:E41) -> 0.0462 | F42: =SUM(F40:F41) -> 0.1911 | G42: =SUM(G40:G41) -> 0.0734
...

Sheet CRONO
B1: CRNOGRAMA FÍSICO-FINANCEIRO
B2: Base para Licitação
B4: CÓDIGO | D4: REVISÃO | F4: EMPREENDIMENTO | N4: ENDEREÇO:
B5: =DADOS!C5 -> SDA.263 | D5: =DADOS!C6 -> C | F5: =DADOS!C3 -> PAVIMENTAÇÃO EM BLOQUETE EM SÃO DOMINGOS DO ARAGUAIA | N5: =DADOS!C4 -> ZONA URBANA DE SÃO DOMINGOS DO ARAGUAIA
B7: Item | C7: Descrição | F7: Valor (R$) | G7: Parcelas: | H7: 1 | I7: 2 | J7: 3 | K7: 4 | L7: 5 | M7: 6 | N7: 7 | O7: 8 | P7: 9 | Q7: 10 | R7: 11 | S7: 12
H8: 46204 | I8: 46235 | J8: 46266 | K8: 46296 | L8: 46327 | M8: 46357 | N8: 46388 | O8: 46419 | P8: 46447 | Q8: 46478 | R8: 46508 | S8: 46539
A9: =SUM(H9:S9) -> 1 | B9: 1 | C9: =ORÇAMENTO!E13 -> SERVIÇOS TRANSVERSAIS | F9: =ORÇAMENTO!K13 -> 24521.36 | G9: % Período | H9: 0.25 | I9: 0.25 | J9: 0.25 | K9: 0.25
A10: =SUM(H10:S10)-F9 -> 0 | G10: R$ Período | H10: =H9*$F9 -> 6130.34 | I10: =I9*$F9 -> 6130.34 | J10: =J9*$F9 -> 6130.34 | K10: =K9*$F9 -> 6130.34
A11: =SUM(H11:S11) -> 1 | B11: 2 | C11: =ORÇAMENTO!E17 -> PAVIMENTAÇÃO EM BLOQUETE | F11: =SUM(F13:F28) -> 4504075.6 | G11: % Período | H11: =H12/$F$11 -> 0.24344776 | I11: =I12/$F$11 -> 0.24369895 | J11: =J12/$F$11 -> 0.25542902 | K11: =K12/$F$11 -> 0.25742427
A12: =SUM(H12:S12)-F11 -> 0 | G12: R$ Período | H12: =H14+H16+H18+H20+H22+H24+H26+H28 -> 1096507.1 | I12: =I14+I16+I18+I20+I22+I24+I26+I28 -> 1097638.5 | J12: =J14+J16+J18+J20+J22+J24+J26+J28 -> 1150471.6 | K12: =K14+K16+K18+K20+K22+K24+K26+K28 -> 1159458.4
A13: =SUM(H13:S13) -> 1 | B13: 2.1 | C13: =ORÇAMENTO!E18 -> RUA ACRÍSIO SANTOS (371,76 M) | F13: =ORÇAMENTO!K18 -> 547687.86 | G13: % Período | H13: 1
A14: =SUM(H14:S14)-F13 -> 0 | G14: R$ Período | H14: =H13*$F13 -> 547687.86 | I14: =I13*$F13 -> 0 | J14: =J13*$F13 -> 0 | K14: =K13*$F13 -> 0
A15: =SUM(H15:S15) -> 1 | B15: 2.2 | C15: =ORÇAMENTO!E24 -> RUA GROTA DA LAJE (1.241,76 M) | F15: =ORÇAMENTO!K24 -> 1829397.5 | G15: % Período | H15: 0.3 | I15: 0.6 | J15: 0.1
A16: =SUM(H16:S16)-F15 -> 0 | G16: R$ Período | H16: =H15*$F15 -> 548819.26 | I16: =I15*$F15 -> 1097638.5 | J16: =J15*$F15 -> 182939.75 | K16: =K15*$F15 -> 0
A17: =SUM(H17:S17) -> 1 | B17: 2.3 | C17: =ORÇAMENTO!E30 -> TRAVESSA ALACID NUNES (125,12M) | F17: =ORÇAMENTO!K30 -> 184330.6 | G17: % Período | J17: 1
A18: =SUM(H18:S18)-F17 -> 0 | G18: R$ Período | H18: =H17*$F17 -> 0 | I18: =I17*$F17 -> 0 | J18: =J17*$F17 -> 184330.6 | K18: =K17*$F17 -> 0
A19: =SUM(H19:S19) -> 1 | B19: 2.4 | C19: =ORÇAMENTO!E36 -> TRAVESSA JOÃO TORRES (206,12M) | F19: =ORÇAMENTO!K36 -> 303662.18 | G19: % Período | J19: 1
A20: =SUM(H20:S20)-F19 -> 0 | G20: R$ Período | H20: =H19*$F19 -> 0 | I20: =I19*$F19 -> 0 | J20: =J19*$F19 -> 303662.18 | K20: =K19*$F19 -> 0
A21: =SUM(H21:S21) -> 1 | B21: 2.5 | C21: =ORÇAMENTO!E42 -> TRAVESSA ABEL FIGUEIREDO (257,25M) | F21: =ORÇAMENTO!K42 -> 378988.22 | G21: % Período | J21: 1
A22: =SUM(H22:S22)-F21 -> 0 | G22: R$ Período | H22: =H21*$F21 -> 0 | I22: =I21*$F21 -> 0 | J22: =J21*$F21 -> 378988.22 | K22: =K21*$F21 -> 0
A23: =SUM(H23:S23) -> 1 | B23: 2.6 | C23: =ORÇAMENTO!E48 -> AVENIDA AMILTON GUINHAZI - LADO ESQUERDO (341,26M) | F23: =ORÇAMENTO!K48 -> 502754.2 | G23: % Período | J23: 0.2 | K23: 0.8
A24: =SUM(H24:S24)-F23 -> 0 | G24: R$ Período | H24: =H23*$F23 -> 0 | I24: =I23*$F23 -> 0 | J24: =J23*$F23 -> 100550.84 | K24: =K23*$F23 -> 402203.36
A25: =SUM(H25:S25) -> 1 | B25: 2.7 | C25: =ORÇAMENTO!E54 -> AVENIDA AMILTON GUINHAZI - LADO DIREITO (188,7M) | F25: =ORÇAMENTO!K54 -> 277998.57 | G25: % Período | K25: 1
A26: =SUM(H26:S26)-F25 -> 0 | G26: R$ Período | H26: =H25*$F25 -> 0 | I26: =I25*$F25 -> 0 | J26: =J25*$F25 -> 0 | K26: =K25*$F25 -> 277998.57
A27: =SUM(H27:S27) -> 1 | B27: 2.8 | C27: =ORÇAMENTO!E60 -> AV ITACAIÚNAS (325,31M) | F27: =ORÇAMENTO!K60 -> 479256.43 | G27: % Período | K27: 1
A28: =SUM(H28:S28)-F27 -> 0 | G28: R$ Período | H28: =H27*$F27 -> 0 | I28: =I27*$F27 -> 0 | J28: =J27*$F27 -> 0 | K28: =K27*$F27 -> 479256.43
B30: TOTAL: | C30: =F9+F11 -> 4528596.9 | E30: Período: | F30: % | H30: =H33/$C$30 -> 0.24348324 | I30: =I33/$C$30 -> 0.24373307 | J30: =J33/$C$30 -> 0.25539962 | K30: =K33/$C$30 -> 0.25738407 | L30: =L33/$C$30 -> 0 | M30: =M33/$C$30 -> 0 | N30: =N33/$C$30 -> 0 | O30: =O33/$C$30 -> 0 | ... S30: =S33/$C$30 -> 0
F31: Repasse: | H31: =H33-H32 -> 1058532 | I31: =I33-I32 -> 1059618.1 | J31: =J33-J32 -> 1110337.9 | K31: =K33-K32 -> 1118965.2 | L31: =L33-L32 -> 0 | M31: =M33-M32 -> 0 | N31: =N33-N32 -> 0 | O31: =O33-O32 -> 0 | ... S31: =S33-S32 -> 0
F32: Contrapartida (4%): | H32: =H33*0.04 -> 44105.498 | I32: =I33*0.04 -> 44150.754 | J32: =J33*0.04 -> 46264.077 | K32: =K33*0.04 -> 46623.548 | L32: =L33*0.04 -> 0 | M32: =M33*0.04 -> 0 | N32: =N33*0.04 -> 0 | O32: =O33*0.04 -> 0 | ... S32: =S33*0.04 -> 0
F33: Investimentos: | H33: =H10+H12 -> 1102637.5 | I33: =I10+I12 -> 1103768.9 | J33: =J10+J12 -> 1156601.9 | K33: =K10+K12 -> 1165588.7 | L33: =L10+L12 -> 0 | M33: =M10+M12 -> 0 | N33: =N10+N12 -> 0 | O33: =O10+O12 -> 0 | ... S33: =S10+S12 -> 0
E34: Acumulado: | F34: % | H34: =H30 -> 0.24348324 | I34: =H34+I30 -> 0.48721631 | J34: =I34+J30 -> 0.74261593 | K34: =J34+K30 -> 1 | L34: =K34+L30 -> 1 | M34: =L34+M30 -> 1 | N34: =M34+N30 -> 1 | O34: =N34+O30 -> 1 | P34: =O34+P30 -> 1 | ... S34: =R34+S30 -> 1
F35: Repasse: | H35: =H31 -> 1058532 | I35: =H35+I31 -> 2118150.1 | J35: =I35+J31 -> 3228487.9 | K35: =J35+K31 -> 4347453.1 | L35: =K35+L31 -> 4347453.1 | M35: =L35+M31 -> 4347453.1 | N35: =M35+N31 -> 4347453.1 | O35: =N35+O31 -> 4347453.1 | P35: =O35+P31 -> 4347453.1 | ... S35: =R35+S31 -> 4347453.1
F36: =F32 -> Contrapartida (4%): | H36: =H32 -> 44105.498 | I36: =H36+I32 -> 88256.252 | J36: =I36+J32 -> 134520.33 | K36: =J36+K32 -> 181143.88 | L36: =K36+L32 -> 181143.88 | M36: =L36+M32 -> 181143.88 | N36: =M36+N32 -> 181143.88 | O36: =N36+O32 -> 181143.88 | P36: =O36+P32 -> 181143.88 | ... S36: =R36+S32 -> 181143.88
F37: Investimentos: | H37: =H33 -> 1102637.5 | I37: =H37+I33 -> 2206406.3 | J37: =I37+J33 -> 3363008.2 | K37: =J37+K33 -> 4528596.9 | L37: =K37+L33 -> 4528596.9 | M37: =L37+M33 -> 4528596.9 | N37: =M37+N33 -> 4528596.9 | O37: =N37+O33 -> 4528596.9 | P37: =O37+P33 -> 4528596.9 | ... S37: =R37+S33 -> 4528596.9
B41: =DADOS!C20 -> SÃO DOMINGOS DO ARAGUAIA/PA
B42: Local | I42: Responsável Técnico
I43: Nome: | J43: =DADOS!C17 -> CLAUDIO EDUARDO BARBOSA CUNHA
B44: =DADOS!C7 -> 46113 | I44: CREA: | J44: =DADOS!C18 -> 2618350774
B45: Data | I45: ART: | J45: =DADOS!C19 -> 0

Sheet ABC
B5: ABC - PLANILHA ABC DOS SERVIÇO
B6: Base para Licitação
B8: CÓDIGO | C8: REVISÃO | D8: DATA | E8: EMPREENDIMENTO | H8: =[2]DADOS!B14 -> 0
B9: =DADOS!C5 -> SDA.263 | C9: =[2]DADOS!$C$6 -> A | D9: =DADOS!C7 -> 46113 | E9: =DADOS!C3 -> PAVIMENTAÇÃO EM BLOQUETE EM SÃO DOMINGOS DO ARAGUAIA
B11: Item | C11: Fonte | D11: Código | E11: Descrição | F11: Unidade | G11: Quantidade | H11: Preço Total (R$) | I11: Peso Unitário (%) | J11: Peso Total (%)
B12: =$E$9 -> PAVIMENTAÇÃO EM BLOQUETE EM SÃO DOMINGOS DO ARAGUAIA | H12: =SUM(H13:H55) -> 4528596.9
B13: 2.2.3. | C13: SINAPI | D13: 92395 | E13: EXECUÇÃO DE PAVIMENTO EM PISO INTERTRAVADO, COM BLOCO SEXTAVADO DE 25 X 25 CM, ESPESSURA 10 CM. AF_10/2022 | F13: M2 | G13: 8692.32 | H13: 1452139 | I13: =H13/$H$12 -> 0.3206598 | J13: =I13 -> 0.3206598
B14: 2.1.3. | C14: SINAPI | D14: 92395 | E14: EXECUÇÃO DE PAVIMENTO EM PISO INTERTRAVADO, COM BLOCO SEXTAVADO DE 25 X 25 CM, ESPESSURA 10 CM. AF_10/2022 | F14: M2 | G14: 2602.32 | H14: 434743.58 | I14: =H14/$H$12 -> 0.095999619 | J14: =I14+J13 -> 0.41665942
B15: 2.6.3. | C15: SINAPI | D15: 92395 | E15: EXECUÇÃO DE PAVIMENTO EM PISO INTERTRAVADO, COM BLOCO SEXTAVADO DE 25 X 25 CM, ESPESSURA 10 CM. AF_10/2022 | F15: M2 | G15: 2388.82 | H15: 399076.27 | I15: =H15/$H$12 -> 0.088123601 | J15: =I15+J14 -> 0.50478302
B16: 2.8.3. | C16: SINAPI | D16: 92395 | E16: EXECUÇÃO DE PAVIMENTO EM PISO INTERTRAVADO, COM BLOCO SEXTAVADO DE 25 X 25 CM, ESPESSURA 10 CM. AF_10/2022 | F16: M2 | G16: 2277.17 | H16: 380424.02 | I16: =H16/$H$12 -> 0.084004831 | J16: =I16+J15 -> 0.58878785
B17: 2.5.3. | C17: SINAPI | D17: 92395 | E17: EXECUÇÃO DE PAVIMENTO EM PISO INTERTRAVADO, COM BLOCO SEXTAVADO DE 25 X 25 CM, ESPESSURA 10 CM. AF_10/2022 | F17: M2 | G17: 1800.75 | H17: 300833.3 | I17: =H17/$H$12 -> 0.066429692 | J17: =I17+J16 -> 0.65521754
B18: 2.4.3. | C18: SINAPI | D18: 92395 | E18: EXECUÇÃO DE PAVIMENTO EM PISO INTERTRAVADO, COM BLOCO SEXTAVADO DE 25 X 25 CM, ESPESSURA 10 CM. AF_10/2022 | F18: M2 | G18: 1442.84 | H18: 241040.85 | I18: =H18/$H$12 -> 0.053226386 | J18: =I18+J17 -> 0.70844393
B19: 2.7.3. | C19: SINAPI | D19: 92395 | E19: EXECUÇÃO DE PAVIMENTO EM PISO INTERTRAVADO, COM BLOCO SEXTAVADO DE 25 X 25 CM, ESPESSURA 10 CM. AF_10/2022 | F19: M2 | G19: 1320.9 | H19: 220669.55 | I19: =H19/$H$12 -> 0.048728017 | J19: =I19+J18 -> 0.75717194
B20: 2.2.4. | C20: SINAPI | D20: 94281 | E20: EXECUÇÃO DE SARJETA DE CONCRETO USINADO, MOLDADA IN LOCO EM TRECHO RETO, 30 CM BASE X 15 CM ALTURA. AF_01/2024 | F20: M | G20: 2483.52 | H20: 174094.75 | I20: =H20/$H$12 -> 0.038443419 | J20: =I20+J19 -> 0.79561536
B21: 2.2.5. | C21: SINAPI | D21: 94273 | E21: ASSENTAMENTO DE GUIA (MEIO-FIO) EM TRECHO RETO, CONFECCIONADA EM CONCRETO PRÉ-FABRICADO, DIMENSÕES 100X15X13X30 CM (COMPRIMENTO X BASE INFERIOR X BASE SUPERIOR X ALTURA). AF_01/2024 | F21: M | G21: 2483.52 | H21: 161975.17 | I21: =H21/$H$12 -> 0.035767186 | J21: =I21+J20 -> 0.83138255
B22: 2.3.3. | C22: SINAPI | D22: 92395 | E22: EXECUÇÃO DE PAVIMENTO EM PISO INTERTRAVADO, COM BLOCO SEXTAVADO DE 25 X 25 CM, ESPESSURA 10 CM. AF_10/2022 | F22: M2 | G22: 875.84 | H22: 146317.83 | I22: =H22/$H$12 -> 0.032309749 | J22: =I22+J21 -> 0.8636923
B23: 2.1.4. | C23: SINAPI | D23: 94281 | E23: EXECUÇÃO DE SARJETA DE CONCRETO USINADO, MOLDADA IN LOCO EM TRECHO RETO, 30 CM BASE X 15 CM ALTURA. AF_01/2024 | F23: M | G23: 743.52 | H23: 52120.75 | I23: =H23/$H$12 -> 0.011509249 | J23: =I23+J22 -> 0.87520155
B24: 2.1.5. | C24: SINAPI | D24: 94273 | E24: ASSENTAMENTO DE GUIA (MEIO-FIO) EM TRECHO RETO, CONFECCIONADA EM CONCRETO PRÉ-FABRICADO, DIMENSÕES 100X15X13X30 CM (COMPRIMENTO X BASE INFERIOR X BASE SUPERIOR X ALTURA). AF_01/2024 | F24: M | G24: 743.52 | H24: 48492.37 | I24: =H24/$H$12 -> 0.010708034 | J24: =I24+J23 -> 0.88590958
B25: 2.6.4. | C25: SINAPI | D25: 94281 | E25: EXECUÇÃO DE SARJETA DE CONCRETO USINADO, MOLDADA IN LOCO EM TRECHO RETO, 30 CM BASE X 15 CM ALTURA. AF_01/2024 | F25: M | G25: 682.52 | H25: 47844.65 | I25: =H25/$H$12 -> 0.010565005 | J25: =I25+J24 -> 0.89647459
... B54: 2.3.1. | C54: SICRO | D54: 5502171 | E54: ESCAVAÇÃO, CARGA E TRANSPORTE DE MATERIAL DE 1ª CATEGORIA - DMT DE 2.000 A 2.500 M - CAMINHO DE SERVIÇO PAVIMENTADO - COM ESCAVADEIRA E CAMINHÃO BASCULANTE DE 14 M3 | F54: M3 | G54: 131.38 | H54: 1451.75 | I54: =H54/$H$12 -> 0.0003205739 | J54: =I54+J53 -> 1
B62: =[2]DADOS!$C$20 -> SÃO DOMINGOS DO ARAGUAIA/PA
B63: Local | F63: Responsável Técnico
F64: Nome: | G64: =[2]DADOS!$C$17 -> CLAUDIO EDUARDO BARBOSA CUNHA
B65: =[3]DADOS!C7 -> 46091 | F65: CREA: | G65: =[2]DADOS!$C$18 -> 2618350774
B66: Data | F66: ART: | G66: =[2]DADOS!$C$19 -> PA20251426821

Sheet RELEVÂNCIA
B2: ITENS DE RELEVÂNCIA
B3: Base para Licitação
B5: CÓDIGO | C5: EMPREENDIMENTO
B6: =DADOS!$C$5 -> SDA.263 | C6: =DADOS!$C$3 -> PAVIMENTAÇÃO EM BLOQUETE EM SÃO DOMINGOS DO ARAGUAIA
B8: Item | C8: Descrição | D8: Unidade | E8: Quantidade em Projeto | F8: Quantidade de Relevância
B9: 1 | C9: EXECUÇÃO DE PAVIMENTO EM PISO INTERTRAVADO, COM BLOCO SEXTAVADO | D9: M2 | E9: =ABC!G13+ABC!G14+ABC!G15+ABC!G16+ABC!G17+ABC!G18+ABC!G19+ABC!G22 -> 21400.96 | F9: =TRUNC(E9*0.5,0) -> 10700
B10: 2 | C10: EXECUÇÃO DE SARJETA DE CONCRETO USINADO, MOLDADA IN LOCO | D10: M | E10: =ABC!G20+ABC!G23+ABC!G25+ABC!G26+ABC!G29+ABC!G31+ABC!G34+ABC!G37 -> 6114.56 | F10: =TRUNC(E10*0.5,0) -> 3057
B11: 3 | C11: ASSENTAMENTO DE GUIA (MEIO-FIO) EM TRECHO RETO, CONFECCIONADA EM CONCRETO PRÉ-FABRICADO | D11: M | E11: =ABC!G21+ABC!G24+ABC!G27+ABC!G28+ABC!G30+ABC!G32+ABC!G35+ABC!G38 -> 6114.56 | F11: =TRUNC(E11*0.5,0) -> 3057
B14: =DADOS!$C$20 -> SÃO DOMINGOS DO ARAGUAIA/PA
B15: Local | D15: Responsável Técnico
D16: Nome: | E16: =DADOS!$C$17 -> CLAUDIO EDUARDO BARBOSA CUNHA
B17: =DADOS!$C$7 -> 46113 | D17: CREA: | E17: =DADOS!$C$18 -> 2618350774
B18: Data | D18: ART: | E18: =DADOS!$C$19 -> 0
