Workbook
Name AbaDeprec: '5. Depreciação'!$A$1
Name AbaRemun: '6.Remuneração de capital'!$A$1

Sheet 1.1 Coleta Domiciliar
A2: ORÇAMENTO Município de Curitibanos/SC
A6: 1. Coleta Convencional manual e mecanizada de resíduos sólidos urbanos (orgânicos/rejeitos) com características domiciliares, gerados em residências, estabelecimentos comerciais, industriais e de prestação de serviços públicos, dispostos em vias e logradouros públicos localizados dentro do perímetro urbano do município.
A9: Planilha de Composição de Custos
A10: Descrição do Item | E10: Custo (R$/mês) | F10: %
A11: =A50 -> 1. Mão-de-obra | E11: =+F165 -> 84354.224 | F11: =IFERROR(E11/$E$30,0) -> 0.47341282
A12: =A52 -> 1.1. Coletor Turno Dia | E12: =F63 -> 30498.65 | F12: =IFERROR(E12/$E$30,0) -> 0.17116454
A13: =A65 -> 1.2. Coletor Turno Noite | E13: =F82 -> 13493.302 | F13: =IFERROR(E13/$E$30,0) -> 0.075727113
A14: =A84 -> 1.3. Motorista Turno do Dia | E14: =F97 -> 16403.386 | F14: =IFERROR(E14/$E$30,0) -> 0.09205909
A15: =A99 -> 1.4. Motorista Turno Noite | E15: =F118 -> 5702.6577 | F15: =IFERROR(E15/$E$30,0) -> 0.032004458
A16: =A150 -> 1.7. Vale Transporte | E16: =F156 -> 1492.5888 | F16: =IFERROR(E16/$E$30,0) -> 0.0083767076
A17: =A159 -> 1.8. Auxílio Alimentação (mensal) | E17: =F163 -> 6020 | F17: =IFERROR(E17/$E$30,0) -> 0.033785447
A18: =A167 -> 2. Uniformes e Equipamentos de Proteção Individual | E18: =+F197 -> 2010.1367 | F18: =IFERROR(E18/$E$30,0) -> 0.01128129
A19: =A199 -> 3. Veículos e Equipamentos | E19: =F332 -> 51573.27 | F19: =IFERROR(E19/$E$30,0) -> 0.28943953
A20: =A201 -> 3.1. Veículo Coletor Compactador 15 m³ | E20: =SUM(E21:E26) -> 48590.729 | F20: =IFERROR(E20/$E$30,0) -> 0.27270092
A21: =A203 -> 3.1.1. Depreciação | E21: =F217 -> 13168.32 | F21: =IFERROR(E21/$E$30,0) -> 0.073903252
A22: =A219 -> 3.1.2. Remuneração do Capital | E22: =F233 -> 10282.925 | F22: =IFERROR(E22/$E$30,0) -> 0.057709839
A23: =A235 -> 3.1.3. Impostos e Seguros | E23: =F241 -> 1423.7475 | F23: =IFERROR(E23/$E$30,0) -> 0.0079903564
A24: =A243 -> 3.1.4. Consumos | E24: =F259 -> 17183.736 | F24: =IFERROR(E24/$E$30,0) -> 0.096438574
A25: =A261 -> 3.1.5. Manutenção | E25: =F264 -> 4508 | F25: =IFERROR(E25/$E$30,0) -> 0.0252998
A26: =A266 -> 3.1.6. Pneus | E26: =F273 -> 2024 | F26: =IFERROR(E26/$E$30,0) -> 0.011359094
A27: =A334 -> 4. Ferramentas e Materiais de Consumo | E27: =F346 -> 1132.8733 | F27: =IFERROR(E27/$E$30,0) -> 0.0063579123
A28: =A348 -> 5. Monitoramento da Frota | E28: =F357 -> 276.66667 | F28: =IFERROR(E28/$E$30,0) -> 0.0015527088
A29: =A361 -> 6. Benefícios e Despesas Indiretas - BDI | E29: =F367 -> 38836.057 | F29: =IFERROR(E29/$E$30,0) -> 0.21795574
A30: PREÇO TOTAL MENSAL COM A COLETA | E30: =E11+E18+E19+E27+E28+E29 -> 178183.23 | F30: =F11+F18+F19+F27+F28+F29 -> 1
A33: Quantitativos
A34: Mão-de-obra | E34: Quantidade
A35: =+A52 -> 1.1. Coletor Turno Dia | E35: 7
A36: =+A65 -> 1.2. Coletor Turno Noite | E36: 3
A37: =+A84 -> 1.3. Motorista Turno do Dia | E37: 3
A38: =A99 -> 1.4. Motorista Turno Noite | E38: 1
A39: =A120 -> 1.5. Encarregado/Fiscal | E39: 1
A40: =A135 -> 1.6. Auxiliar administrativo | E40: 1
A41: Total de mão-de-obra (postos de trabalho) | E41: =SUM(E35:E40) -> 16
A43: Veículos e Equipamentos | E43: Quantidade
A44: =A201 -> 3.1. Veículo Coletor Compactador 15 m³ | E44: 3
A45: =A277 -> 3.2. Veículo Utilitário - Veículo de apoio | E45: 1
A46: Total de veículos e equipamentos | E46: =SUM(E44:E45) -> 4
A48: Fator de utilização (FU) | B48: 1
A50: 1. Mão-de-obra
A52: 1.1. Coletor Turno Dia
...

Sheet 1.2 Contêiner Orgânica
A2: ORÇAMENTO Município de Curitibanos/SC
A6: 2. Fornecimento, Higienização e Manutenção de Contêineres na forma de comodato de contêineres em PEAD com capacidade volumétrica de 1.000 litros, munidos de adesivo plástico para identificação de resíduos orgânicos/rejeitos, de tampa, de muchões para carregamento mecanizado, de dreno com tampa para esvaziamento de líquidos e quatro rodas com dispositivo de travamento. Cor AZUL.
A9: Planilha de Composição de Custos
A10: Descrição do Item | E10: Custo (R$/mês) | F10: %
A11: =A43 -> 1. Mão-de-obra | E11: =+F87 -> 11067.33 | F11: =IFERROR(E11/$E$28,0) -> 0.22767425
A12: =A45 -> 1.1. Coletor Turno Dia | E12: =F56 -> 4356.9499 | F12: =IFERROR(E12/$E$28,0) -> 0.089630048
A13: =A58 -> 1.2. Motorista Turno do Dia | E13: =F71 -> 5432.2422 | F13: =IFERROR(E13/$E$28,0) -> 0.11175068
A14: =A73 -> 1.3. Vale Transporte | E14: =F79 -> 418.1376 | F14: =IFERROR(E14/$E$28,0) -> 0.0086018187
A15: =A81 -> 1.4. Auxílio Alimentação (mensal) | E15: =F85 -> 860 | F15: =IFERROR(E15/$E$28,0) -> 0.017691698
A16: =A89 -> 2. Uniformes e Equipamentos de Proteção Individual | E16: =+F118 -> 253.73167 | F16: =IFERROR(E16/$E$28,0) -> 0.0052197023
A17: =A120 -> 3. Veículos e Equipamentos | E17: =+F197 -> 14225.694 | F17: =IFERROR(E17/$E$28,0) -> 0.2926473
A18: =A122 -> 3.1. Veículo Caminhão Baú 30 m³ | E18: =SUM(E19:E24) -> 14225.694 | F18: =IFERROR(E18/$E$28,0) -> 0.2926473
A19: =A124 -> 3.1.1. Depreciação | E19: =F138 -> 3248 | F19: =IFERROR(E19/$E$28,0) -> 0.066817017
A20: =A140 -> 3.1.2. Remuneração do Capital | E20: =F154 -> 2536.31 | F20: =IFERROR(E20/$E$28,0) -> 0.052176314
A21: =A156 -> 3.1.3. Impostos e Seguros | E21: =F162 -> 408.74917 | F21: =IFERROR(E21/$E$28,0) -> 0.0084086822
A22: =A164 -> 3.1.4. Consumos | E22: =F180 -> 5687.7531 | F22: =IFERROR(E22/$E$28,0) -> 0.11700699
A23: =A182 -> 3.1.5. Manutenção | E23: =F185 -> 1912.62 | F23: =IFERROR(E23/$E$28,0) -> 0.039345924
A24: =A187 -> 3.1.6. Pneus | E24: =F194 -> 432.26182 | F24: =IFERROR(E24/$E$28,0) -> 0.0088923784
A25: =A199 -> 4. Ferramentas e Materiais de Consumo | E25: =F217 -> 12399.54 | F25: =IFERROR(E25/$E$28,0) -> 0.25508013
A26: =A219 -> 5. Monitoramento da Frota | E26: =+F228 -> 69.166667 | F26: =IFERROR(E26/$E$28,0) -> 0.0014228788
A27: =A232 -> 6. Benefícios e Despesas Indiretas - BDI | E27: =F238 -> 10594.909 | F27: =IFERROR(E27/$E$28,0) -> 0.21795574
A28: PREÇO TOTAL MENSAL COM A COLETA | E28: =E11+E16+E17+E25+E26+E27 -> 48610.371 | F28: =F11+F16+F17+F25+F26+F27 -> 1
A31: Quantitativos
A32: Mão-de-obra | E32: Quantidade
A33: =+A45 -> 1.1. Coletor Turno Dia | E33: 1
A34: =+A58 -> 1.2. Motorista Turno do Dia | E34: 1
A35: Total de mão-de-obra (postos de trabalho) | E35: =SUM(E33:E34) -> 2
A37: Veículos e Equipamentos | E37: Quantidade
A38: =+A122 -> 3.1. Veículo Caminhão Baú 30 m³ | E38: 1
A41: Fator de utilização (FU) | B41: 1
A43: 1. Mão-de-obra
A45: 1.1. Coletor Turno Dia
A46: Discriminação | B46: Unidade | C46: Quantidade | D46: Custo unitário | E46: Subtotal | F46: Total (R$)
A47: Piso da categoria | B47: mês | C47: 1 | D47: 1731.4 | E47: =C47*D47 -> 1731.4
A48: Horas Extras (100%) | B48: hora | C48: 0 | D48: 2 | E48: =C48*D48 -> 0
A49: Horas Extras (50%) | B49: hora | C49: 8 | D49: =D47/220*1.5 -> 11.805 | E49: =C49*D49 -> 94.44
A50: Descanso Semanal Remunerado (DSR) - hora extra | B50: R$ | D50: =63/302*(SUM(E48:E49)) -> 19.70106 | E50: =D50 -> 19.70106
A51: Adicional de Insalubridade | B51: % | C51: 40 | D51: 1518 | E51: =C51*D51/100 -> 607.2
A52: Soma | E52: =SUM(E47:E51) -> 2452.7411
A53: Encargos Sociais | B53: % | C53: ='2.Encargos Sociais'!$C$34*100 -> 77.635952 | D53: =E52 -> 2452.7411 | E53: =D53*C53/100 -> 1904.2089
...

Sheet 2.Encargos Sociais
A1: Orientações para preenchimento:
A2: 1. Preencha previamente os dados de entrada na planilha 3.CAGED
A4: 2. Composição dos Encargos Sociais
A5: Código | B5: Descrição | C5: Valor
A6: A1 | B6: INSS | C6: 0.26
A7: A2 | B7: SESI | C7: 0.015
A8: A3 | B8: SENAI | C8: 0.01
A9: A4 | B9: INCRA | C9: 0.002
A10: A5 | B10: SEBRAE | C10: 0.006
A11: A6 | B11: Salário educação | C11: 0.025
A12: A7 | B12: Seguro contra acidentes de trabalho | C12: 0.03
A13: A8 | B13: FGTS | C13: 0.08
A14: A | B14: SOMA GRUPO A | C14: =SUM(C6:C13) -> 0.428
A16: B1 | B16: Férias gozadas | C16: =ROUND(IF('3.CAGED'!C24>24,(1-12/'3.CAGED'!C24)*0.1111,0.1111-C25),4) -> 0.0619
A17: B2 | B17: 13º salário | C17: =ROUND('3.CAGED'!C28/'3.CAGED'!C25,4) -> 0.0833
A18: B3 | B18: Licença Paternidade | C18: 0.0006
A19: B4 | B19: Faltas justificadas | C19: 0.0082
A20: B5 | B20: Auxilio acidente de trabalho | C20: 0.0031
A21: B6 | B21: Auxilio doença | C21: 0.0166
A22: B | B22: SOMA GRUPO B | C22: =SUM(C16:C21) -> 0.1737
A24: C1 | B24: Aviso prévio indenizado | C24: =ROUND(('3.CAGED'!C29) *'3.CAGED'!C22/'3.CAGED'!C25,4) -> 0.0256
A25: C2 | B25: Férias indenizadas | C25: =ROUND(IF('3.CAGED'!C24>12,12/'3.CAGED'!C24*0.1111,0.1111),4) -> 0.0492
A26: C3 | B26: Férias indenizadas s/ aviso previo inden. | C26: =C24*C25 -> 0.00125952
A27: C4 | B27: Depósito rescisão sem justa causa | C27: =ROUND(('3.CAGED'!C25+'3.CAGED'!C26+'3.CAGED'!C28)/'3.CAGED'!C23*'3.CAGED'!C30*'3.CAGED'!C31*'3.CAGED'!C22/'3.CAGED'!C25,4) -> 0.0205
A28: C5 | B28: Indenização adicional | C28: =ROUND(('3.CAGED'!C27/'3.CAGED'!C25)*'3.CAGED'!C22/12,4) -> 0.0018
A29: C | B29: SOMA GRUPO C | C29: =SUM(C24:C28) -> 0.09835952
A31: D1 | B31: Reincidência de Grupo A sobre Grupo B | C31: =ROUND(C14*C22,4) -> 0.0743
A32: D2 | B32: Reincidência de FGTS sobre aviso prévio indenizado | C32: =ROUND((C24*C13),4) -> 0.002
A33: D | B33: SOMA GRUPO D | C33: =SUM(C31:C32) -> 0.0763
B34: SOMA (A+B+C+D) | C34: =C33+C29+C22+C14 -> 0.77635952

Sheet 3.CAGED
A1: CÁLCULO DAS VERBAS INDENIZATÓRIAS DOS EMPREGADOS NO SETOR DE COLETA DE RSU
B3: 3. CAGED
B4: Coleta de Resíduos Não-Perigosos - CNAE 38114
B5: Admissões | C5: 2100
B6: Desligamentos | C6: 2031
B7: Dispensados com justa causa | C7: 44
B8: Dispensados sem justa causa | C8: 1192
B9: Espontâneos | C9: 372
B10: Fim de contrato por prazo determinado | C10: 22
B11: Término de contrato | C11: 350
B12: Aposentados | C12: 1
B13: Mortos | C13: 30
B14: Transferência de saída | C14: 0
B15: Acordo | C15: 0
B16: Indicadores
B17: Estoque recuperado início do Período 01-01-2019 | C17: 4625
B18: Estoque recuperado final do Período 31-12-2019 | C18: 4694
B19: Variação Emprego Absoluta de 01-01-2019 a 31-12-2019 | C19: =C5-C6 -> 69
B21: Estoque Médio | C21: =MEDIAN(C17,C18) -> 4659.5
B22: % Demitidos s/ Justa Causa em relação ao Estoque Médio | C22: =C8/C21 -> 0.25582144
B23: Taxa de Rotatividade | C23: =MEDIAN(C5,C6)/C21 -> 0.44328791
B24: Rotatividade temporal (meses) | C24: =12/C23 -> 27.070443
B25: Dias ano | C25: 360
B26: 1/3 de férias (dias) | C26: 10
B27: Férias (dias) | C27: 30
B28: 13º Salário (dias) | C28: 30
B29: Dias de Aviso prévio | C29: =30+(3*TRUNC(1/C23)) -> 36
B30: FGTS | C30: 0.08
B31: Multa FGTS | C31: 0.4

Sheet 4.BDI
A3: MUNICÍPIO DE CURITIBANOS/SC
A5: Composição do BDI - Benefícios e Despesas Indiretas
D7: Referência estudo TCE
D8: 1° Quartil | E8: Médio | F8: 3° Quartil
A9: Administração Central | B9: AC | C9: 0.05 | D9: 0.0297 | E9: 0.0508 | F9: 0.0627
A10: Seguros/Riscos/Garantias | B10: SRG | C10: 0.01 | D10: =0.3%+0.56% -> 0.0086 | E10: =0.48%+0.85% -> 0.0133 | F10: =0.82%+0.89% -> 0.0171
A11: Lucro | B11: L | C11: 0.1 | D11: 0.0778 | E11: 0.1085 | F11: 0.1355
A12: Despesas Financeiras | B12: DF | C12: =(1+E12)^(E13/252)-1 -> 0.012768337 | D12: i | E12: 0.1425
A13: Tributos - ISS | B13: T | C13: 0.04 | D13: DU | E13: 24
A14: Tributos - PIS/COFINS | C14: 0.0365
A15: Fórmula para o cálculo do BDI:
A16: {[(1+AC+SRG) x (1+L) x (1+DF)] / (1-T)} -1
A17: Resultado do cálculo do BDI: | C17: =ROUND((((1+C9+C10)*(1+C11)*(1+C12))/(1-(C13+C14))-1),4) -> 0.2787 | D17: 0.2143 | E17: 0.2717 | F17: 0.3362

Sheet 5. Depreciação
A1: 5. Depreciação Referencial TCE (%)
A2: Idade do veículo (ano) | B2: Depreciação Média
A3: 1 | B3: 33.63
A4: 2 | B4: 43.13
A5: 3 | B5: 48.68
A6: 4 | B6: 52.62
A7: 5 | B7: 55.68
A8: 6 | B8: 58.18
A9: 7 | B9: 60.29
A10: 8 | B10: 62.12
A11: 9 | B11: 63.73
A12: 10 | B12: 65.18
A13: 11 | B13: 66.48
A14: 12 | B14: 67.67
... A17: 15 | B17: 70.73

Sheet 6.Remuneração de capital
A1: 6. Remuneração de Capital
A3: Fórmula de cálculo da remuneração de capital:
A12: Jm = remuneração de capital mensal
A13: i = taxa de juros do mercado (sugere-se adotar a taxa SELIC)
A14: Im = investimento médio
A15: V0 = valor inicial do bem
A16: Vr = valor residual do bem
A17: n = vida útil do bem em anos
