Workbook

Sheet Planilha de custo
A1: EMPRESA: XXXXXXXXXXXXX
A2: CNPJ: XXXXXXXXXXXX
A4: PARA: O SERVIÇO DE APOIO ÀS MICRO E PEQUENAS EMPRESAS DO ESTADO DO RIO GRANDE DO SUL
B5: ANEXO III - PLANILHA DE COMPOSIÇÃO DE CUSTOS
A9: Descriminação dos Serviços (dados referentes à contratação)
A10: A | B10: Data de apresentação da proposta (dia/mês/ano) | D10: XX/XX/2026
A11: B | B11: Município/UF | D11: PASSO FUNDO/RS
A12: C | B12: Ano do Acordo, Convenção ou Sentença Normativa em Dissídio Coletivo | D12: 202X
A13: D | B13: Número de meses de execução contratual | D13: 12
A14: E | B14: Número de postos de serviços | D14: 1
A16: CONVENÇÃO COLETIVA DE TRABALHO: | C16: xxxx - REGIME DE TRIBUTAÇAO:
A17: xx/xx/xxxx | C17: XXXXX
A19: ANEXO A
A20: MÃO DE OBRA
A21: MÃO DE OBRA VINCULADA À EXECUÇÃO CONTRATUAL
A22: Dados complementares para composição dos custos referente à mão de obra
A23: 1 | B23: Tipo de serviço (mesmo serviço com características distintas) | D23: XXXXXXX
A24: 2 | B24: Salário normativo da categoria profissional
A25: 2.1 | B25: Carga horária mensal | C25: Horas:
A26: 2.2 | B26: Dias trabalhados (por mês) | D26: XX
A27: 3 | B27: Categoria profissional (vinculada à execução contratual) | D27: XXXXXXX
A28: 4 | B28: Data base da categoria (dia/mês/ano) | D28: xx de xxxx de 2025
A30: MÓDULO 1: COMPOSIÇÃO DA REMUNERAÇÃO
A31: 1 | B31: Composição da Remuneração | C31: Percentual | D31: Valor (R$)
A32: A | B32: Salário-base (De acordo com as horas mensais) | D32: =D24/220*D25 -> 0
A33: B | B33: Adicional de periculosidade | C33: 0 | D33: =D24*C33 -> 0
A34: C | B34: Adicional de insalubridade (Conforme CCT) | C34: 0 | D34: =D24*C34 -> 0
A35: D | B35: Adicional noturno | C35: 0 | D35: =(D32/D25)*2*D26 -> #DIV/0!
A36: E | B36: Adicional de hora noturna reduzida | D36: 0
A37: F | B37: Plano de Benefício Social e Familiar (CCT) | D37: 17.32
A38: G | B38: Outros (especificar) | D38: 0
B39: Total da Remuneração | D39: =SUM(D32:D38) -> #DIV/0!
A41: MÓDULO 2: ENCARGOS E BENEFÍCIOS ANUAIS, MENSAIS E DIÁRIOS
A42: Submódulo 2.1 - 13º Salário, Férias e Adicional de Férias
A43: 2.1 | B43: 13º Salário e Adicional de Férias | D43: Valor (R$)
A44: A | B44: 13º Salário | D44: =D39/D13 -> #DIV/0!
A45: B | B45: Férias e Adicional de Férias | D45: =PRODUCT(0.333,D44)+D44 -> #DIV/0!
A46: TOTAL | D46: =SUM(D44+D45) -> #DIV/0!
A48: Submódulo 2.2 - Encargos Previdenciários , FGTS e outras contribuições
A49: 2.2 | B49: Submódulo 2.2 - Encargos Previdenciários e FGTS | C49: Percentual | D49: Valor (R$)
...

Sheet TOTAL INSUMOS
A2: TOTAL DE INSUMOS
A4: ITEM UNIFORMES | B4: CUSTO UNITÁRIO | C4: QTD. | D4: VALOR TOTAL | E4: VALOR AMORTIZADO
A5: MEIAS DE ALGODÃO (PAR) | B5: 0 | C5: 0 | D5: =SUM(C5*B5) -> 0 | E5: =IF(C5>0,((D5/12)/C5),"0") -> 0
A6: COTURNOS COR PRETA (PAR) | B6: 0 | C6: 0 | D6: =SUM(C6*B6) -> 0 | E6: =IF(C6>0,((D6/12)/C6),"0") -> 0
A7: BOTINAS NA COR PRETA (PAR) | B7: 0 | C7: 0 | D7: =SUM(C7*B7) -> 0 | E7: =IF(C7>0,((D7/12)/C7),"0") -> 0
A8: SAPATOS NA COR PRETA | B8: 0 | C8: 0 | D8: =SUM(C8*B8) -> 0 | E8: =IF(C8>0,((D8/12)/C8),"0") -> 0
A9: CAMISETA MANGA CURTA | B9: 0 | C9: 0 | D9: =SUM(C9*B9) -> 0 | E9: =IF(C9>0,((D9/12)/C9),"0") -> 0
A10: CAMISETA MANGA LONGA | B10: 0 | C10: 0 | D10: =SUM(C10*B10) -> 0 | E10: =IF(C10>0,((D10/12)/C10),"0") -> 0
A11: JALECO | B11: 0 | C11: 0 | D11: =SUM(C11*B11) -> 0 | E11: =IF(C11>0,((D11/12)/C11),"0") -> 0
A12: CALÇA | B12: 0 | C12: 0 | D12: =SUM(C12*B12) -> 0 | E12: =IF(C12>0,((D12/12)/C12),"0") -> 0
A13: CINTO | B13: 0 | C13: 0 | D13: =SUM(C13*B13) -> 0 | E13: =IF(C13>0,((D13/12)/C13),"0") -> 0
A14: JAQUETA DE FRIO OU JAPONA | B14: 0 | C14: 0 | D14: =SUM(C14*B14) -> 0 | E14: =IF(C14>0,((D14/12)/C14),"0") -> 0
A15: CAMISA SOCIAL BRANCA MANGA CURTA | B15: 0 | C15: 0 | D15: =SUM(C15*B15) -> 0 | E15: =IF(C15>0,((D15/12)/C15),"0") -> 0
A16: CAMISA SOCIAL BRANCA MANGA COMPRIDA | B16: 0 | C16: 0 | D16: =SUM(C16*B16) -> 0 | E16: =IF(C16>0,((D16/12)/C16),"0") -> 0
... A20: MOLETON | B20: 0 | C20: 0 | D20: =SUM(C20*B20) -> 0 | E20: =IF(C20>0,((D20/12)/C20),"0") -> 0
A21: TOTAL POR POSTO = 1 SERVENTE | D21: =SUM(D5:D20) -> 0 | E21: =SUM(E5:E20) -> 0
A23: ITEM MATERIAIS | B23: R$ UNITÁRIO | C23: QTD. | D23: VALOR TOTAL | E23: VALOR AMORTIZADO
A24: ASPIRADOR DE PÓ INDUSTRIAL | B24: 0 | C24: 0 | D24: =SUM(C24*B24) -> 0 | E24: =IF(C24>0,((D24/12)/C24),"0") -> 0
A25: ENCERADEIRA BANDEIRANTE 350 | B25: 0 | C25: 0 | D25: =SUM(C25*B25) -> 0 | E25: =IF(C25>0,((D25/12)/C25),"0") -> 0
A26: ESCADA 6 DEGRAUS | B26: 0 | C26: 0 | D26: =SUM(C26*B26) -> 0 | E26: =IF(C26>0,((D26/12)/C26),"0") -> 0
A27: ESPANADOR DE PENAS Nº 50 | B27: 0 | C27: 0 | D27: =SUM(C27*B27) -> 0 | E27: =IF(C27>0,((D27/12)/C27),"0") -> 0
A28: DISCOS P/ ENCERADEIRA 350 | B28: 0 | C28: 0 | D28: =SUM(C28*B28) -> 0 | E28: =IF(C28>0,((D28/12)/C28),"0") -> 0
A29: BALDE PLÁSTICO | B29: 0 | C29: 0 | D29: =SUM(C29*B29) -> 0 | E29: =IF(C29>0,((D29/12)/C29),"0") -> 0
A30: VASSOURA PELO | B30: 0 | C30: 0 | D30: =SUM(C30*B30) -> 0 | E30: =IF(C30>0,((D30/12)/C30),"0") -> 0
A31: VASSOURINHA SANITÁRIA | B31: 0 | C31: 0 | D31: =SUM(C31*B31) -> 0 | E31: =IF(C31>0,((D31/12)/C31),"0") -> 0
A32: VASSOURA FEITICEIRA | B32: 0 | C32: 0 | D32: =SUM(C32*B32) -> 0 | E32: =IF(C32>0,((D32/12)/C32),"0") -> 0
A33: DESENTUPIDOR DE VASO SANITÁRIO | B33: 0 | C33: 0 | D33: =SUM(C33*B33) -> 0 | E33: =IF(C33>0,((D33/12)/C33),"0") -> 0
A34: PÁ DE LIXO | B34: 0 | C34: 0 | D34: =SUM(C34*B34) -> 0 | E34: =IF(C34>0,((D34/12)/C34),"0") -> 0
A35: RODO 2 BORRACHAS | B35: 0 | C35: 0 | D35: =SUM(C35*B35) -> 0 | E35: =IF(C35>0,((D35/12)/C35),"0") -> 0
... A38: PLACAS SINALIZAÇÃO PISO MOLHADO TOMKI | B38: 0 | C38: 0 | D38: =SUM(C38*B38) -> 0 | E38: =IF(C38>0,((D38/12)/C38),"0") -> 0
D39: =SUM(D24:D38) -> 0 | E39: =SUM(E24:E38) -> 0
A41: ITEM EQUIPAMENTOS | B41: R$ UNITÁRIO | C41: QTD. | D41: VALOR TOTAL | E41: VALOR AMORTIZADO
A42: QUEPE (COM EMBLEMA) | B42: 0 | C42: 0 | D42: =SUM(C42*B42) -> 0 | E42: =IF(C42>0,((D42/12)/C42),"0") -> 0
A43: CAPA DE CHUVA | B43: 0 | C43: 0 | D43: =SUM(C43*B43) -> 0 | E43: =IF(C43>0,((D43/12)/C43),"0") -> 0
A44: CRACHÁ | B44: 0 | C44: 0 | D44: =SUM(C44*B44) -> 0 | E44: =IF(C44>0,((D44/12)/C44),"0") -> 0
A45: DISTINTIVO TIPO BROCHE | B45: 0 | C45: 0 | D45: =SUM(C45*B45) -> 0 | E45: =IF(C45>0,((D45/12)/C45),"0") -> 0
A46: CACETETE | B46: 0 | C46: 0 | D46: =SUM(C46*B46) -> 0 | E46: =IF(C46>0,((D46/12)/C46),"0") -> 0
A47: PORTA CACETETE | B47: 0 | C47: 0 | D47: =SUM(C47*B47) -> 0 | E47: =IF(C47>0,((D47/12)/C47),"0") -> 0
A48: APITO | B48: 0 | C48: 0 | D48: =SUM(C48*B48) -> 0 | E48: =IF(C48>0,((D48/12)/C48),"0") -> 0
A49: CORDÃO DE APITO | B49: 0 | C49: 0 | D49: =SUM(C49*B49) -> 0 | E49: =IF(C49>0,((D49/12)/C49),"0") -> 0
...

Sheet LIMPEZA
B2: SEBRAE-RS
B3: SERVIÇO DE APOIO ÀS MICRO E PEQUENAS EMPRESAS DO ESTADO DO RIO GRANDE DO SUL
B5: FORMULÁRIO DE ECONOMICIDADE
B7: INDICADOR DE ECONOMICIDADE DE DESPESAS DE SERVIÇOS TERCEIRIZADOS, DE NATUREZA CONTÍNUA*
B9: CUSTO TOTAL DE UM TRABALHADOR: | D9: VALOR PAGO REMUNERAÇÃO: | E9: FATOR "K" LIMPEZA E CONSERVAÇÃO
B12: REMUNERAÇÃO | C12: ='Planilha de custo'!D39 -> #DIV/0! | D12: ='Planilha de custo'!D39 -> #DIV/0! | E12: =$C$19/$D$12 -> #DIV/0!
B13: ENCARGOS SOCIAIS | C13: ='Planilha de custo'!#REF! -> #REF!
B14: INSUMOS | C14: ='Planilha de custo'!#REF! -> #REF!
B15: RESERVA TÉCNICA** | C15: 0
B16: DESPESAS OP./ADM. | C16: 0
B17: LUCRO | C17: ='Planilha de custo'!D124 -> #DIV/0!
B18: TRIBUTOS | C18: ='Planilha de custo'!D136 -> #DIV/0!
B19: CUSTO TOTAL DE UM TRABALHADOR: | C19: =SUM(C12:C18) -> #DIV/0!

Sheet COPEIR. E VIG.
B2: SEBRAE-RS
B3: SERVIÇO DE APOIO ÀS MICRO E PEQUENAS EMPRESAS DO ESTADO DO RIO GRANDE DO SUL
B5: FORMULÁRIO DE ECONOMICIDADE
B7: INDICADOR DE ECONOMICIDADE DE DESPESAS DE SERVIÇOS TERCEIRIZADOS, DE NATUREZA CONTÍNUA*
B9: CUSTO TOTAL DE UM TRABALHADOR: | D9: VALOR PAGO REMUNERAÇÃO: | E9: FATOR "K" COPEIRAGEM E VIGILÂNCIA
B12: REMUNERAÇÃO | C12: ='Planilha de custo'!D39 -> #DIV/0! | D12: ='Planilha de custo'!D39 -> #DIV/0! | E12: =$C$19/$D$12 -> #DIV/0!
B13: ENCARGOS SOCIAIS | C13: ='Planilha de custo'!#REF! -> #REF!
B14: INSUMOS | C14: ='Planilha de custo'!#REF! -> #REF!
B15: RESERVA TÉCNICA** | C15: 0
B16: DESPESAS OP./ADM. | C16: 0
B17: LUCRO | C17: ='Planilha de custo'!D124 -> #DIV/0!
B18: TRIBUTOS | C18: ='Planilha de custo'!D136 -> #DIV/0!
B19: CUSTO TOTAL DE UM TRABALHADOR: | C19: =SUM(C12:C18) -> #DIV/0!
