Workbook
Name __shared_2_1_0: """ROUND([.A1]*[.C1]/[.B1];2)"""
Name __shared_2_2_0: """ROUND([.A1]*[.C1]/[.B1];2)"""
Name __shared_2_3_0: """[.A1]+[.$E$100]"""
Name __shared_4_14_0: """[.A1]*[.$D$24]"""
Name __shared_4_15_0: """[.A1]*[.$E$24]"""
Name __shared_4_16_0: """[.A1]*[.$F$24]"""
Name __shared_4_17_0: """[.A1]*[.$G$24]"""
Name __shared_4_18_0: """[.A1]*[.$H$24]"""
Name __shared_4_19_0: """SUM([.A1:.A7])"""
Name __shared_4_21_0: """[.A1]*[.$D$24]"""
Name __shared_4_22_0: """[.A1]*[.$E$24]"""
Name __shared_4_23_0: """[.A1]*[.$F$24]"""
Name __shared_4_24_0: """[.A1]*[.$G$24]"""
Name __shared_4_25_0: """[.A1]*[.$H$24]"""
Name __shared_4_26_0: """SUM([.A1:.A8])"""
Name __shared_4_3_0: """ROUND([.$D$24]*[.A1];2)"""
Name __shared_4_4_0: """[.$E$24]*[.A1]"""
Name __shared_4_5_0: """[.$F$24]*[.A1]"""
Name __shared_4_6_0: """[.$G$24]*[.A1]"""
Name __shared_4_7_0: """[.$H$24]*[.A1]"""
Name __shared_6_0_0: """[.A1]*[.B1]"""
Name __shared_6_1_0: """[.A1]*[.B1]"""
Name __shared_7_0_0: """ROUND([.$D$24]*[.A1];2)"""
Name __shared_7_1_0: """[.$E$24]*[.A1]"""
Name __shared_7_10_0: """[.A1]*[.$E$24]"""
Name __shared_7_11_0: """[.A1]*[.$F$24]"""
Name __shared_7_12_0: """[.A1]*[.$G$24]"""
Name __shared_7_13_0: """[.A1]*[.$H$24]"""
Name __shared_7_14_0: """SUM([.A1:.A7])"""
Name __shared_7_15_0: """[.A1]*[.$D$24]"""
Name __shared_7_16_0: """[.A1]*[.$E$24]"""
Name __shared_7_17_0: """[.A1]*[.$F$24]"""
Name __shared_7_18_0: """[.A1]*[.$G$24]"""
Name __shared_7_19_0: """[.A1]*[.$H$24]"""
Name __shared_7_2_0: """[.$F$24]*[.A1]"""
Name __shared_7_20_0: """SUM([.A1:.A8])"""
Name __shared_7_3_0: """[.$G$24]*[.A1]"""
Name __shared_7_4_0: """[.$H$24]*[.A1]"""
Name __shared_7_9_0: """[.A1]*[.$D$24]"""
Name __shared_9_13_0: """[.A1]*[.$D$24]"""
Name __shared_9_14_0: """[.A1]*[.$E$24]"""
Name __shared_9_15_0: """[.A1]*[.$F$24]"""
Name __shared_9_16_0: """[.A1]*[.$G$24]"""
Name __shared_9_17_0: """[.A1]*[.$H$24]"""
Name __shared_9_18_0: """SUM([.A1:.A7])"""
Name __shared_9_2_0: """ROUND([.$D$24]*[.A1];2)"""
Name __shared_9_20_0: """[.A1]*[.$D$24]"""
Name __shared_9_21_0: """[.A1]*[.$E$24]"""
Name __shared_9_22_0: """[.A1]*[.$F$24]"""
Name __shared_9_23_0: """[.A1]*[.$G$24]"""
Name __shared_9_24_0: """[.A1]*[.$H$24]"""
Name __shared_9_25_0: """SUM([.A1:.A8])"""
Name __shared_9_3_0: """[.$E$24]*[.A1]"""
Name __shared_9_4_0: """[.$F$24]*[.A1]"""
Name __shared_9_5_0: """[.$G$24]*[.A1]"""
Name __shared_9_6_0: """[.$H$24]*[.A1]"""
Name COFINS: #REF!
Name COFINS: #REF!
Name COFINS: #REF!
Name COFINS: #REF!

Sheet Consolidada
A1: PROPOSTA DE PREÇOS
A3: SERVIÇO DE APOIO ÀS MICRO E PEQUENAS EMPRESAS DO ESTADO DO RIO GRANDE DO SUL – Sebrae RS
A4: PREGÃO ELETRÔNICO Nº 53/2022
A5: Processo Administrativo n° 21042.009963/2022-76
A6: DATA DA ABERTURA: 22/11/2022 | F6: HORA: 09:00h
A7: IDENTIFICAÇÃO DO PROPONENTE:
A9: RAZÃO SOCIAL: LIDERANÇA LIMPEZA E CONSERVAÇÃO LTDA
A10: CNPJ: 00.482.840/0001-38
A11: ENDEREÇO: Rua Antonio Mariano de Souza, 775 - Ipiranga - São José/SC - CEP 88111-510
A12: FONE/FAX: 48 3733-3101
A13: E-MAIL: licitacoes@lideranca.com.br
A14: AGENCIA E Nº. DA CONTA NO BANCO DO BRASIL: BB 001 - Ag 3125-9 e CC 75669-5
A16: OBJETO:
A18: CONTRATAÇÃO DE EMPRESA ESPECIALIZADA NA PRESTAÇÃO DE SERVIÇOS DE LIMPEZA E DE AUXILIAR DE MANUTENÇÃO PREDIAL PARA AS UNIDADES REGIONAIS DO SEBRAE RS, conforme especificações estabelecidas neste Edital e seus Anexos.
A20: CONDIÇÕES GERAIS:
A22: As relações empregado/empregador, concernentes ao controle de frequência, disciplina, folha de pagamento e demais obrigações de Lei serão sempre de inteira e exclusiva responsabilidade desta empresa.
A24: PREÇO DO SERVIÇO:
A26: Item | B26: DESCRIÇÃO | C26: Quantidade | D26: Valor Unitário | E26: Valor Mensal | F26: Valor Total 12 Meses
A27: 1 | B27: =Canoas!A11 -> Servente 30 horas Canoas | C27: 1 | D27: =Canoas!E118 -> 3620.59 | E27: =C27*D27 -> 3620.59 | F27: =E27*12 -> 43447.08 | J27: Valor estimado
A28: 2 | B28: ='CX Sul'!A11 -> Servente 44 horas Caxias do Sul | C28: 1 | D28: ='CX Sul'!E118 -> 4875.35 | E28: =C28*D28 -> 4875.35 | F28: =E28*12 -> 58504.2
A29: 3 | B29: ='CX Man'!A11 -> Manutenção 44 horas Caxias do Sul | C29: 1 | D29: ='CX Man'!E118 -> 3679.61 | E29: =C29*D29 -> 3679.61 | F29: =E29*12 -> 44155.32
A30: 4 | B30: =CD!A11 -> Servente 30 horas Centro de Distribuição | C30: 1 | D30: =CD!E118 -> 3600.51 | E30: =C30*D30 -> 3600.51 | F30: =E30*12 -> 43206.12
A31: 5 | B31: =Erechim!A11 -> Servente 30 horas Erechim | C31: 1 | D31: =Erechim!E118 -> 3559.49 | E31: =C31*D31 -> 3559.49 | F31: =E31*12 -> 42713.88
A32: 6 | B32: =Gravataí!A11 -> Servente 30 horas Gravataí | C32: 1 | D32: =Gravataí!E118 -> 3587.14 | E32: =C32*D32 -> 3587.14 | F32: =E32*12 -> 43045.68
A33: 7 | B33: =Ijuí!A11 -> Servente 40 horas Ijuí | C33: 1 | D33: =Ijuí!E118 -> 4418.25 | E33: =C33*D33 -> 4418.25 | F33: =E33*12 -> 53019
A34: 8 | B34: =Lajeado!A11 -> Servente 30 horas Lajeado | C34: 1 | D34: =Lajeado!E118 -> 3610.63 | E34: =C34*D34 -> 3610.63 | F34: =E34*12 -> 43327.56
A35: 9 | B35: ='Composição de Custos'!A16 -> Auxiliar de Limpeza | C35: 1 | D35: ='Composição de Custos'!E130 -> 43.08 | E35: =C35*D35 -> 43.08 | F35: =E35*12 -> 516.96
A36: 10 | B36: =#REF! -> #REF! | C36: 1 | D36: =#REF! -> #REF! | E36: =C36*D36 -> #REF! | F36: =E36*12 -> #REF!
A37: 11 | B37: ='Nov Ham'!A11 -> Servente 30 horas Novo Hamburgo | C37: 1 | D37: ='Nov Ham'!E118 -> 3570.57 | E37: =C37*D37 -> 3570.57 | F37: =E37*12 -> 42846.84
A38: 12 | B38: ='Pass Fun'!A11 -> Servente 30 horas Passo Fundo | C38: 1 | D38: ='Pass Fun'!E118 -> 3615.89 | E38: =C38*D38 -> 3615.89 | F38: =E38*12 -> 43390.68
A39: 13 | B39: =Pelotas!A11 -> Servente 30 horas Pelotas | C39: 1 | D39: =Pelotas!E118 -> 3651.12 | E39: =C39*D39 -> 3651.12 | F39: =E39*12 -> 43813.44
A40: 14 | B40: ='Sat Crz'!A11 -> Servente 30 horas Santa Cruz do Sul | C40: 1 | D40: ='Sat Crz'!E118 -> 3563.01 | E40: =C40*D40 -> 3563.01 | F40: =E40*12 -> 42756.12
A41: 15 | B41: ='Sta Mr'!A11 -> Servente 30 horas Santa Maria | C41: 1 | D41: ='Sta Mr'!E118 -> 3671.72 | E41: =C41*D41 -> 3671.72 | F41: =E41*12 -> 44060.64
A42: 16 | B42: =Livram!A11 -> Servente 30 horas Santana do Livramento | C42: 1 | D42: =Livram!E118 -> 3528.95 | E42: =C42*D42 -> 3528.95 | F42: =E42*12 -> 42347.4
A43: 17 | B43: ='Sao Leopo'!A11 -> Servente 30 horas São Leopoldo | C43: 1 | D43: ='Sao Leopo'!E118 -> 3604.14 | E43: =C43*D43 -> 3604.14 | F43: =E43*12 -> 43249.68
A44: VALOR TOTAL | E44: =ROUND(SUM(E27:E43),2) -> #REF! | F44: =ROUND(SUM(F27:F43),2) -> #REF!
A45: =[1]!VExtensoFree(F44) -> #NAME?
A46: A validade de proposta será de 180 (cento e oitenta) dias da sua apresentação. | I46: Lance | J46: 745561.8
A47: Convenção coletiva utilizada: SIND DAS EMPR DE ASSEIO E CONSERVACAO DO EST DO R G S, CNPJ n. 87.078.325/0001-75 e SINDICATO DOS TRABALHADORES EM EMP. DE ASSEIO, CONSERV, ZELADORIA, RECICL DE LIXO, LIMPEZA URB, AMBIENTAL E DE AREAS VERDES E EMP. DE SER TERCEIRIZ., CNPJ n. 10.141.903/0001-46, de 01º de janeiro de 2022 a 31 de dezembro de 2022 e a data-base da categoria em 01º de janeiro REGISTRO NO MTE: RS000043/2022.
A48: Declaro estarem incluídos nos preços cotados todos os impostos, taxas, fretes, seguros, custos operacionais, encargos previdenciários, trabalhistas, sociais, tributários, comerciais, bem como quaisquer outras despesas, diretas e indiretas, incidentes sobre o objeto do Pregão, nada mais sendo lícito pleitear a esse título.
...

Sheet Canoas
A1: PLANILHA DE FORMAÇÃO DE PREÇOS PARA APRESENTAÇÃO DA PROPOSTA
A3: Discriminação dos Serviços
A4: A | B4: Data de apresentação da proposta | E4: 44887
A5: B | B5: Município | E5: Canoas/RS
A6: C | B6: Ano do Acordo, Convenção ou Dissídio Coletivo | E6: 2022
A7: D | B7: Nº de meses de execução contratual | E7: 12
A9: Identificação do Serviço
A10: Tipo de Serviço | C10: Unidade de Medida | D10: Quantidade total a contratar (em função da unidade de medida)
A11: Servente 30 horas Canoas | C11: POSTO | D11: 1
A13: Dados para composição dos custos referentes à mão de obra
A14: 1 | B14: Tipo de serviço (mesmo serviço com características distintas) | E14: Asseio e Conservação
A15: 2 | B15: Classificação Brasileira de Ocupações (CBO) | E15: 5143
A16: 3 | B16: Salário Nominativo da Categoria Profissional | E16: 1431.04
A17: 4 | B17: Categoria profissional (vinculada à execução contratual) | E17: =A11 -> Servente 30 horas Canoas
A18: 5 | B18: Data base da categoria (dia/mês/ano) | E18: 44562
A20: MÓDULO 1 - COMPOSIÇÃO DA REMUNERAÇÃO
A21: 1 | B21: COMPOSIÇÃO DA REMUNERAÇÃO | D21: % | E21: VALOR (R$)
A22: A | B22: Salário Base | D22: 0 | E22: =ROUND((E16/220)*150,2) -> 975.71
A23: B | B23: Adicional de Insalubridade | D23: 0.4 | E23: =E16*D23 -> 572.416
A24: C | B24: Adicional de Periculosidade | D24: 0 | E24: 0
A25: D | B25: Adicional Noturno | D25: 0 | E25: 0
A26: C | B26: Hora Noturna Reduzida | D26: 0 | E26: 0
A27: D | B27: Feriado Trabalhado | D27: 0 | E27: 0
A28: E | B28: Outros | D28: 0 | E28: 0
A29: F | B29: Reflexo sobre o D.S.R | D29: 0 | E29: 0
A30: Subtotal módulo 1 (incide encargos sociais e trabalhistas) | E30: =SUM(E22:E29) -> 1548.126
A32: MÓDULO 2 – ENCARGOS E BENEFÍCIOS ANUAIS, MENSAIS E DIÁRIOS
A33: Submódulo 2.1 - 13º Salário, Férias e Adicional de Férias | D33: % | E33: VALOR (R$)
A34: A | B34: 13 (Décimo-terceiro) salário | D34: 0.0833 | E34: =ROUND(D34*$E$30,2) -> 128.96
A35: B | B35: Férias e Adicional de Férias | D35: 0.1111 | E35: =ROUND(D35*$E$30,2) -> 172
A36: TOTAL SUBMÓDULO 2.1 | D36: =SUM(D34:D35) -> 0.1944 | E36: =SUM(E34:E35) -> 300.96
A38: Submódulo 2.2 - GPS, FGTS e Outras Contribuições | D38: % | E38: VALOR (R$)
A39: A | B39: INSS | D39: 0.2 | E39: =ROUND(D39*($E$30+$E$36),2) -> 369.82
A40: B | B40: Salário Educação | D40: 0.025 | E40: =ROUND(D40*($E$30+$E$36),2) -> 46.23
A41: C | B41: SAT (Seguro Acidente de Trabalho) | D41: 0.0333 | E41: =ROUND(D41*($E$30+$E$36),2) -> 61.57
A42: D | B42: SESC ou SESI | D42: 0.015 | E42: =ROUND(D42*($E$30+$E$36),2) -> 27.74
A43: E | B43: SENAI - SENAC | D43: 0.01 | E43: =ROUND(D43*($E$30+$E$36),2) -> 18.49
A44: F | B44: SEBRAE | D44: 0.006 | E44: =ROUND(D44*($E$30+$E$36),2) -> 11.09
A45: G | B45: INCRA | D45: 0.002 | E45: =ROUND(D45*($E$30+$E$36),2) -> 3.7
A46: H | B46: FGTS | D46: 0.08 | E46: =ROUND(D46*($E$30+$E$36),2) -> 147.93
...

Sheet Uniforme e EPIs
A1: Item | B1: Descrição Uniforme | C1: Unidade | D1: Quantidade | E1: Depreciação | F1: Unitário | G1: Total | H1: Mensal
A2: 1 | B2: Calça tecido brim azul marinho | C2: Unidade | D2: 3 | E2: 6 | F2: 14 | G2: =ROUND(D2*F2,2) -> 42 | H2: =ROUND(G2/E2,2) -> 7
A3: 2 | B3: Camiseta cinza manga-curta gola redonda, em algodão.Com a logomarca da empresa. | C3: Unidade | D3: 4 | E3: 6 | F3: 15 | G3: =ROUND(D3*F3,2) -> 60 | H3: =ROUND(G3/E3,2) -> 10
A4: 3 | B4: Camiseta cinza manga-longa, gola redonda, em algodão. .Com a logomarca da empresa. | C4: Unidade | D4: 2 | E4: 6 | F4: 17 | G4: =ROUND(D4*F4,2) -> 34 | H4: =ROUND(G4/E4,2) -> 5.67
A5: 4 | B5: Blusão de lã gola V .Com a logomarca da empresa. | C5: Unidade | D5: 1 | E5: 6 | F5: 20 | G5: =ROUND(D5*F5,2) -> 20 | H5: =ROUND(G5/E5,2) -> 3.33
A6: 5 | B6: Japona forrada de nylon com bolso e touca. | C6: unidade | D6: 1 | E6: 12 | F6: 25 | G6: =ROUND(D6*F6,2) -> 25 | H6: =ROUND(G6/E6,2) -> 2.08
A7: 6 | B7: Tênis profissional com sola antiderrapante, preto. | C7: unidade | D7: 1 | E7: 12 | F7: 30 | G7: =ROUND(D7*F7,2) -> 30 | H7: =ROUND(G7/E7,2) -> 2.5
A8: Valor Total Mensal por Colaborador | H8: =ROUND(SUM(H2:H7),20) -> 30.58

Sheet CX Sul
A1: PLANILHA DE FORMAÇÃO DE PREÇOS PARA APRESENTAÇÃO DA PROPOSTA
A3: Discriminação dos Serviços
A4: A | B4: Data de apresentação da proposta | E4: 44887
A5: B | B5: Município | E5: Caxias do Sul/RS
A6: C | B6: Ano do Acordo, Convenção ou Dissídio Coletivo | E6: 2022
A7: D | B7: Nº de meses de execução contratual | E7: 12
A9: Identificação do Serviço
A10: Tipo de Serviço | C10: Unidade de Medida | D10: Quantidade total a contratar (em função da unidade de medida)
A11: Servente 44 horas Caxias do Sul | C11: POSTO | D11: 1
A13: Dados para composição dos custos referentes à mão de obra
A14: 1 | B14: Tipo de serviço (mesmo serviço com características distintas) | E14: Asseio e Conservação
A15: 2 | B15: Classificação Brasileira de Ocupações (CBO) | E15: 5143
A16: 3 | B16: Salário Nominativo da Categoria Profissional | E16: 1431.04
A17: 4 | B17: Categoria profissional (vinculada à execução contratual) | E17: =A11 -> Servente 44 horas Caxias do Sul
A18: 5 | B18: Data base da categoria (dia/mês/ano) | E18: 44562
A20: MÓDULO 1 - COMPOSIÇÃO DA REMUNERAÇÃO
A21: 1 | B21: COMPOSIÇÃO DA REMUNERAÇÃO | D21: % | E21: VALOR (R$)
A22: A | B22: Salário Base | D22: 0 | E22: =ROUND((E16/220)*220,2) -> 1431.04
A23: B | B23: Adicional de Insalubridade | D23: 0.4 | E23: =E16*D23 -> 572.416
A24: C | B24: Adicional de Periculosidade | D24: 0 | E24: 0
A25: D | B25: Adicional Noturno | D25: 0 | E25: 0
A26: C | B26: Hora Noturna Reduzida | D26: 0 | E26: 0
A27: D | B27: Feriado Trabalhado | D27: 0 | E27: 0
A28: E | B28: Outros | D28: 0 | E28: 0
A29: F | B29: Reflexo sobre o D.S.R | D29: 0 | E29: 0
A30: Subtotal módulo 1 (incide encargos sociais e trabalhistas) | E30: =SUM(E22:E29) -> 2003.456
A32: MÓDULO 2 – ENCARGOS E BENEFÍCIOS ANUAIS, MENSAIS E DIÁRIOS
A33: Submódulo 2.1 - 13º Salário, Férias e Adicional de Férias | D33: % | E33: VALOR (R$)
A34: A | B34: 13 (Décimo-terceiro) salário | D34: 0.0833 | E34: =ROUND(D34*$E$30,2) -> 166.89
A35: B | B35: Férias e Adicional de Férias | D35: 0.1111 | E35: =ROUND(D35*$E$30,2) -> 222.58
A36: TOTAL SUBMÓDULO 2.1 | D36: =SUM(D34:D35) -> 0.1944 | E36: =SUM(E34:E35) -> 389.47
A38: Submódulo 2.2 - GPS, FGTS e Outras Contribuições | D38: % | E38: VALOR (R$)
A39: A | B39: INSS | D39: 0.2 | E39: =ROUND(D39*($E$30+$E$36),2) -> 478.59
A40: B | B40: Salário Educação | D40: 0.025 | E40: =ROUND(D40*($E$30+$E$36),2) -> 59.82
A41: C | B41: SAT (Seguro Acidente de Trabalho) | D41: 0.0333 | E41: =ROUND(D41*($E$30+$E$36),2) -> 79.68
A42: D | B42: SESC ou SESI | D42: 0.015 | E42: =ROUND(D42*($E$30+$E$36),2) -> 35.89
A43: E | B43: SENAI - SENAC | D43: 0.01 | E43: =ROUND(D43*($E$30+$E$36),2) -> 23.93
A44: F | B44: SEBRAE | D44: 0.006 | E44: =ROUND(D44*($E$30+$E$36),2) -> 14.36
A45: G | B45: INCRA | D45: 0.002 | E45: =ROUND(D45*($E$30+$E$36),2) -> 4.79
A46: H | B46: FGTS | D46: 0.08 | E46: =ROUND(D46*($E$30+$E$36),2) -> 191.43
...

Sheet CX Man
A1: PLANILHA DE FORMAÇÃO DE PREÇOS PARA APRESENTAÇÃO DA PROPOSTA
A3: Discriminação dos Serviços
A4: A | B4: Data de apresentação da proposta | E4: 44887
A5: B | B5: Município | E5: Caxias do Sul/RS
A6: C | B6: Ano do Acordo, Convenção ou Dissídio Coletivo | E6: 2022
A7: D | B7: Nº de meses de execução contratual | E7: 12
A9: Identificação do Serviço
A10: Tipo de Serviço | C10: Unidade de Medida | D10: Quantidade total a contratar (em função da unidade de medida)
A11: Manutenção 44 horas Caxias do Sul | C11: POSTO | D11: 1
A13: Dados para composição dos custos referentes à mão de obra
A14: 1 | B14: Tipo de serviço (mesmo serviço com características distintas) | E14: Asseio e Conservação
A15: 2 | B15: Classificação Brasileira de Ocupações (CBO) | E15: 5143
A16: 3 | B16: Salário Nominativo da Categoria Profissional | E16: 1431.04
A17: 4 | B17: Categoria profissional (vinculada à execução contratual) | E17: =A11 -> Manutenção 44 horas Caxias do Sul
A18: 5 | B18: Data base da categoria (dia/mês/ano) | E18: 44562
A20: MÓDULO 1 - COMPOSIÇÃO DA REMUNERAÇÃO
A21: 1 | B21: COMPOSIÇÃO DA REMUNERAÇÃO | D21: % | E21: VALOR (R$)
A22: A | B22: Salário Base | D22: 0 | E22: =ROUND((E16/220)*220,2) -> 1431.04
A23: B | B23: Adicional de Insalubridade | D23: 0 | E23: =E16*D23 -> 0
A24: C | B24: Adicional de Periculosidade | D24: 0 | E24: 0
A25: D | B25: Adicional Noturno | D25: 0 | E25: 0
A26: C | B26: Hora Noturna Reduzida | D26: 0 | E26: 0
A27: D | B27: Feriado Trabalhado | D27: 0 | E27: 0
A28: E | B28: Outros | D28: 0 | E28: 0
A29: F | B29: Reflexo sobre o D.S.R | D29: 0 | E29: 0
A30: Subtotal módulo 1 (incide encargos sociais e trabalhistas) | E30: =SUM(E22:E29) -> 1431.04
A32: MÓDULO 2 – ENCARGOS E BENEFÍCIOS ANUAIS, MENSAIS E DIÁRIOS
A33: Submódulo 2.1 - 13º Salário, Férias e Adicional de Férias | D33: % | E33: VALOR (R$)
A34: A | B34: 13 (Décimo-terceiro) salário | D34: 0.0833 | E34: =ROUND(D34*$E$30,2) -> 119.21
A35: B | B35: Férias e Adicional de Férias | D35: 0.1111 | E35: =ROUND(D35*$E$30,2) -> 158.99
A36: TOTAL SUBMÓDULO 2.1 | D36: =SUM(D34:D35) -> 0.1944 | E36: =SUM(E34:E35) -> 278.2
A38: Submódulo 2.2 - GPS, FGTS e Outras Contribuições | D38: % | E38: VALOR (R$)
A39: A | B39: INSS | D39: 0.2 | E39: =ROUND(D39*($E$30+$E$36),2) -> 341.85
A40: B | B40: Salário Educação | D40: 0.025 | E40: =ROUND(D40*($E$30+$E$36),2) -> 42.73
A41: C | B41: SAT (Seguro Acidente de Trabalho) | D41: 0.0333 | E41: =ROUND(D41*($E$30+$E$36),2) -> 56.92
A42: D | B42: SESC ou SESI | D42: 0.015 | E42: =ROUND(D42*($E$30+$E$36),2) -> 25.64
A43: E | B43: SENAI - SENAC | D43: 0.01 | E43: =ROUND(D43*($E$30+$E$36),2) -> 17.09
A44: F | B44: SEBRAE | D44: 0.006 | E44: =ROUND(D44*($E$30+$E$36),2) -> 10.26
A45: G | B45: INCRA | D45: 0.002 | E45: =ROUND(D45*($E$30+$E$36),2) -> 3.42
A46: H | B46: FGTS | D46: 0.08 | E46: =ROUND(D46*($E$30+$E$36),2) -> 136.74
...

Sheet CD
A1: PLANILHA DE FORMAÇÃO DE PREÇOS PARA APRESENTAÇÃO DA PROPOSTA
A3: Discriminação dos Serviços
A4: A | B4: Data de apresentação da proposta | E4: 44887
A5: B | B5: Município | E5: Porto Alegre
A6: C | B6: Ano do Acordo, Convenção ou Dissídio Coletivo | E6: 2022
A7: D | B7: Nº de meses de execução contratual | E7: 12
A9: Identificação do Serviço
A10: Tipo de Serviço | C10: Unidade de Medida | D10: Quantidade total a contratar (em função da unidade de medida)
A11: Servente 30 horas Centro de Distribuição | C11: POSTO | D11: 1
A13: Dados para composição dos custos referentes à mão de obra
A14: 1 | B14: Tipo de serviço (mesmo serviço com características distintas) | E14: Asseio e Conservação
A15: 2 | B15: Classificação Brasileira de Ocupações (CBO) | E15: 5143
A16: 3 | B16: Salário Nominativo da Categoria Profissional | E16: 1431.04
A17: 4 | B17: Categoria profissional (vinculada à execução contratual) | E17: =A11 -> Servente 30 horas Centro de Distribuição
A18: 5 | B18: Data base da categoria (dia/mês/ano) | E18: 44562
A20: MÓDULO 1 - COMPOSIÇÃO DA REMUNERAÇÃO
A21: 1 | B21: COMPOSIÇÃO DA REMUNERAÇÃO | D21: % | E21: VALOR (R$)
A22: A | B22: Salário Base | D22: 0 | E22: =ROUND((E16/220)*150,2) -> 975.71
A23: B | B23: Adicional de Insalubridade | D23: 0.4 | E23: =E16*D23 -> 572.416
A24: C | B24: Adicional de Periculosidade | D24: 0 | E24: 0
A25: D | B25: Adicional Noturno | D25: 0 | E25: 0
A26: C | B26: Hora Noturna Reduzida | D26: 0 | E26: 0
A27: D | B27: Feriado Trabalhado | D27: 0 | E27: 0
A28: E | B28: Outros | D28: 0 | E28: 0
A29: F | B29: Reflexo sobre o D.S.R | D29: 0 | E29: 0
A30: Subtotal módulo 1 (incide encargos sociais e trabalhistas) | E30: =SUM(E22:E29) -> 1548.126
A32: MÓDULO 2 – ENCARGOS E BENEFÍCIOS ANUAIS, MENSAIS E DIÁRIOS
A33: Submódulo 2.1 - 13º Salário, Férias e Adicional de Férias | D33: % | E33: VALOR (R$)
A34: A | B34: 13 (Décimo-terceiro) salário | D34: 0.0833 | E34: =ROUND(D34*$E$30,2) -> 128.96
A35: B | B35: Férias e Adicional de Férias | D35: 0.1111 | E35: =ROUND(D35*$E$30,2) -> 172
A36: TOTAL SUBMÓDULO 2.1 | D36: =SUM(D34:D35) -> 0.1944 | E36: =SUM(E34:E35) -> 300.96
A38: Submódulo 2.2 - GPS, FGTS e Outras Contribuições | D38: % | E38: VALOR (R$)
A39: A | B39: INSS | D39: 0.2 | E39: =ROUND(D39*($E$30+$E$36),2) -> 369.82
A40: B | B40: Salário Educação | D40: 0.025 | E40: =ROUND(D40*($E$30+$E$36),2) -> 46.23
A41: C | B41: SAT (Seguro Acidente de Trabalho) | D41: 0.0333 | E41: =ROUND(D41*($E$30+$E$36),2) -> 61.57
A42: D | B42: SESC ou SESI | D42: 0.015 | E42: =ROUND(D42*($E$30+$E$36),2) -> 27.74
A43: E | B43: SENAI - SENAC | D43: 0.01 | E43: =ROUND(D43*($E$30+$E$36),2) -> 18.49
A44: F | B44: SEBRAE | D44: 0.006 | E44: =ROUND(D44*($E$30+$E$36),2) -> 11.09
A45: G | B45: INCRA | D45: 0.002 | E45: =ROUND(D45*($E$30+$E$36),2) -> 3.7
A46: H | B46: FGTS | D46: 0.08 | E46: =ROUND(D46*($E$30+$E$36),2) -> 147.93
...

Sheet Erechim
A1: PLANILHA DE FORMAÇÃO DE PREÇOS PARA APRESENTAÇÃO DA PROPOSTA
A3: Discriminação dos Serviços
A4: A | B4: Data de apresentação da proposta | E4: 44887
A5: B | B5: Município | E5: Erechim/RS
A6: C | B6: Ano do Acordo, Convenção ou Dissídio Coletivo | E6: 2022
A7: D | B7: Nº de meses de execução contratual | E7: 12
A9: Identificação do Serviço
A10: Tipo de Serviço | C10: Unidade de Medida | D10: Quantidade total a contratar (em função da unidade de medida)
A11: Servente 30 horas Erechim | C11: POSTO | D11: 1
A13: Dados para composição dos custos referentes à mão de obra
A14: 1 | B14: Tipo de serviço (mesmo serviço com características distintas) | E14: Asseio e Conservação
A15: 2 | B15: Classificação Brasileira de Ocupações (CBO) | E15: 5143
A16: 3 | B16: Salário Nominativo da Categoria Profissional | E16: 1431.04
A17: 4 | B17: Categoria profissional (vinculada à execução contratual) | E17: =A11 -> Servente 30 horas Erechim
A18: 5 | B18: Data base da categoria (dia/mês/ano) | E18: 44562
A20: MÓDULO 1 - COMPOSIÇÃO DA REMUNERAÇÃO
A21: 1 | B21: COMPOSIÇÃO DA REMUNERAÇÃO | D21: % | E21: VALOR (R$)
A22: A | B22: Salário Base | D22: 0 | E22: =ROUND((E16/220)*150,2) -> 975.71
A23: B | B23: Adicional de Insalubridade | D23: 0.4 | E23: =E16*D23 -> 572.416
A24: C | B24: Adicional de Periculosidade | D24: 0 | E24: 0
A25: D | B25: Adicional Noturno | D25: 0 | E25: 0
A26: C | B26: Hora Noturna Reduzida | D26: 0 | E26: 0
A27: D | B27: Feriado Trabalhado | D27: 0 | E27: 0
A28: E | B28: Outros | D28: 0 | E28: 0
A29: F | B29: Reflexo sobre o D.S.R | D29: 0 | E29: 0
A30: Subtotal módulo 1 (incide encargos sociais e trabalhistas) | E30: =SUM(E22:E29) -> 1548.126
A32: MÓDULO 2 – ENCARGOS E BENEFÍCIOS ANUAIS, MENSAIS E DIÁRIOS
A33: Submódulo 2.1 - 13º Salário, Férias e Adicional de Férias | D33: % | E33: VALOR (R$)
A34: A | B34: 13 (Décimo-terceiro) salário | D34: 0.0833 | E34: =ROUND(D34*$E$30,2) -> 128.96
A35: B | B35: Férias e Adicional de Férias | D35: 0.1111 | E35: =ROUND(D35*$E$30,2) -> 172
A36: TOTAL SUBMÓDULO 2.1 | D36: =SUM(D34:D35) -> 0.1944 | E36: =SUM(E34:E35) -> 300.96
A38: Submódulo 2.2 - GPS, FGTS e Outras Contribuições | D38: % | E38: VALOR (R$)
A39: A | B39: INSS | D39: 0.2 | E39: =ROUND(D39*($E$30+$E$36),2) -> 369.82
A40: B | B40: Salário Educação | D40: 0.025 | E40: =ROUND(D40*($E$30+$E$36),2) -> 46.23
A41: C | B41: SAT (Seguro Acidente de Trabalho) | D41: 0.0333 | E41: =ROUND(D41*($E$30+$E$36),2) -> 61.57
A42: D | B42: SESC ou SESI | D42: 0.015 | E42: =ROUND(D42*($E$30+$E$36),2) -> 27.74
A43: E | B43: SENAI - SENAC | D43: 0.01 | E43: =ROUND(D43*($E$30+$E$36),2) -> 18.49
A44: F | B44: SEBRAE | D44: 0.006 | E44: =ROUND(D44*($E$30+$E$36),2) -> 11.09
A45: G | B45: INCRA | D45: 0.002 | E45: =ROUND(D45*($E$30+$E$36),2) -> 3.7
A46: H | B46: FGTS | D46: 0.08 | E46: =ROUND(D46*($E$30+$E$36),2) -> 147.93
...

Sheet Gravataí
A1: PLANILHA DE FORMAÇÃO DE PREÇOS PARA APRESENTAÇÃO DA PROPOSTA
A3: Discriminação dos Serviços
A4: A | B4: Data de apresentação da proposta | E4: 44887
A5: B | B5: Município | E5: Gravataí/RS
A6: C | B6: Ano do Acordo, Convenção ou Dissídio Coletivo | E6: 2022
A7: D | B7: Nº de meses de execução contratual | E7: 12
A9: Identificação do Serviço
A10: Tipo de Serviço | C10: Unidade de Medida | D10: Quantidade total a contratar (em função da unidade de medida)
A11: Servente 30 horas Gravataí | C11: POSTO | D11: 1
A13: Dados para composição dos custos referentes à mão de obra
A14: 1 | B14: Tipo de serviço (mesmo serviço com características distintas) | E14: Asseio e Conservação
A15: 2 | B15: Classificação Brasileira de Ocupações (CBO) | E15: 5143
A16: 3 | B16: Salário Nominativo da Categoria Profissional | E16: 1431.04
A17: 4 | B17: Categoria profissional (vinculada à execução contratual) | E17: =A11 -> Servente 30 horas Gravataí
A18: 5 | B18: Data base da categoria (dia/mês/ano) | E18: 44562
A20: MÓDULO 1 - COMPOSIÇÃO DA REMUNERAÇÃO
A21: 1 | B21: COMPOSIÇÃO DA REMUNERAÇÃO | D21: % | E21: VALOR (R$)
A22: A | B22: Salário Base | D22: 0 | E22: =ROUND((E16/220)*150,2) -> 975.71
A23: B | B23: Adicional de Insalubridade | D23: 0.4 | E23: =E16*D23 -> 572.416
A24: C | B24: Adicional de Periculosidade | D24: 0 | E24: 0
A25: D | B25: Adicional Noturno | D25: 0 | E25: 0
A26: C | B26: Hora Noturna Reduzida | D26: 0 | E26: 0
A27: D | B27: Feriado Trabalhado | D27: 0 | E27: 0
A28: E | B28: Outros | D28: 0 | E28: 0
A29: F | B29: Reflexo sobre o D.S.R | D29: 0 | E29: 0
A30: Subtotal módulo 1 (incide encargos sociais e trabalhistas) | E30: =SUM(E22:E29) -> 1548.126
A32: MÓDULO 2 – ENCARGOS E BENEFÍCIOS ANUAIS, MENSAIS E DIÁRIOS
A33: Submódulo 2.1 - 13º Salário, Férias e Adicional de Férias | D33: % | E33: VALOR (R$)
A34: A | B34: 13 (Décimo-terceiro) salário | D34: 0.0833 | E34: =ROUND(D34*$E$30,2) -> 128.96
A35: B | B35: Férias e Adicional de Férias | D35: 0.1111 | E35: =ROUND(D35*$E$30,2) -> 172
A36: TOTAL SUBMÓDULO 2.1 | D36: =SUM(D34:D35) -> 0.1944 | E36: =SUM(E34:E35) -> 300.96
A38: Submódulo 2.2 - GPS, FGTS e Outras Contribuições | D38: % | E38: VALOR (R$)
A39: A | B39: INSS | D39: 0.2 | E39: =ROUND(D39*($E$30+$E$36),2) -> 369.82
A40: B | B40: Salário Educação | D40: 0.025 | E40: =ROUND(D40*($E$30+$E$36),2) -> 46.23
A41: C | B41: SAT (Seguro Acidente de Trabalho) | D41: 0.0333 | E41: =ROUND(D41*($E$30+$E$36),2) -> 61.57
A42: D | B42: SESC ou SESI | D42: 0.015 | E42: =ROUND(D42*($E$30+$E$36),2) -> 27.74
A43: E | B43: SENAI - SENAC | D43: 0.01 | E43: =ROUND(D43*($E$30+$E$36),2) -> 18.49
A44: F | B44: SEBRAE | D44: 0.006 | E44: =ROUND(D44*($E$30+$E$36),2) -> 11.09
A45: G | B45: INCRA | D45: 0.002 | E45: =ROUND(D45*($E$30+$E$36),2) -> 3.7
A46: H | B46: FGTS | D46: 0.08 | E46: =ROUND(D46*($E$30+$E$36),2) -> 147.93
...

Sheet Ijuí
A1: PLANILHA DE FORMAÇÃO DE PREÇOS PARA APRESENTAÇÃO DA PROPOSTA
A3: Discriminação dos Serviços
A4: A | B4: Data de apresentação da proposta | E4: 44887
A5: B | B5: Município | E5: Ijuí/RS
A6: C | B6: Ano do Acordo, Convenção ou Dissídio Coletivo | E6: 2022
A7: D | B7: Nº de meses de execução contratual | E7: 12
A9: Identificação do Serviço
A10: Tipo de Serviço | C10: Unidade de Medida | D10: Quantidade total a contratar (em função da unidade de medida)
A11: Servente 40 horas Ijuí | C11: POSTO | D11: 1
A13: Dados para composição dos custos referentes à mão de obra
A14: 1 | B14: Tipo de serviço (mesmo serviço com características distintas) | E14: Asseio e Conservação
A15: 2 | B15: Classificação Brasileira de Ocupações (CBO) | E15: 5143
A16: 3 | B16: Salário Nominativo da Categoria Profissional | E16: 1431.04
A17: 4 | B17: Categoria profissional (vinculada à execução contratual) | E17: =A11 -> Servente 40 horas Ijuí
A18: 5 | B18: Data base da categoria (dia/mês/ano) | E18: 44562
A20: MÓDULO 1 - COMPOSIÇÃO DA REMUNERAÇÃO
A21: 1 | B21: COMPOSIÇÃO DA REMUNERAÇÃO | D21: % | E21: VALOR (R$)
A22: A | B22: Salário Base | D22: 0 | E22: =ROUND((E16/220)*200,2) -> 1300.95
A23: B | B23: Adicional de Insalubridade | D23: 0.4 | E23: =E16*D23 -> 572.416
A24: C | B24: Adicional de Periculosidade | D24: 0 | E24: 0
A25: D | B25: Adicional Noturno | D25: 0 | E25: 0
A26: C | B26: Hora Noturna Reduzida | D26: 0 | E26: 0
A27: D | B27: Feriado Trabalhado | D27: 0 | E27: 0
A28: E | B28: Outros | D28: 0 | E28: 0
A29: F | B29: Reflexo sobre o D.S.R | D29: 0 | E29: 0
A30: Subtotal módulo 1 (incide encargos sociais e trabalhistas) | E30: =SUM(E22:E29) -> 1873.366
A32: MÓDULO 2 – ENCARGOS E BENEFÍCIOS ANUAIS, MENSAIS E DIÁRIOS
A33: Submódulo 2.1 - 13º Salário, Férias e Adicional de Férias | D33: % | E33: VALOR (R$)
A34: A | B34: 13 (Décimo-terceiro) salário | D34: 0.0833 | E34: =ROUND(D34*$E$30,2) -> 156.05
A35: B | B35: Férias e Adicional de Férias | D35: 0.1111 | E35: =ROUND(D35*$E$30,2) -> 208.13
A36: TOTAL SUBMÓDULO 2.1 | D36: =SUM(D34:D35) -> 0.1944 | E36: =SUM(E34:E35) -> 364.18
A38: Submódulo 2.2 - GPS, FGTS e Outras Contribuições | D38: % | E38: VALOR (R$)
A39: A | B39: INSS | D39: 0.2 | E39: =ROUND(D39*($E$30+$E$36),2) -> 447.51
A40: B | B40: Salário Educação | D40: 0.025 | E40: =ROUND(D40*($E$30+$E$36),2) -> 55.94
A41: C | B41: SAT (Seguro Acidente de Trabalho) | D41: 0.0333 | E41: =ROUND(D41*($E$30+$E$36),2) -> 74.51
A42: D | B42: SESC ou SESI | D42: 0.015 | E42: =ROUND(D42*($E$30+$E$36),2) -> 33.56
A43: E | B43: SENAI - SENAC | D43: 0.01 | E43: =ROUND(D43*($E$30+$E$36),2) -> 22.38
A44: F | B44: SEBRAE | D44: 0.006 | E44: =ROUND(D44*($E$30+$E$36),2) -> 13.43
A45: G | B45: INCRA | D45: 0.002 | E45: =ROUND(D45*($E$30+$E$36),2) -> 4.48
A46: H | B46: FGTS | D46: 0.08 | E46: =ROUND(D46*($E$30+$E$36),2) -> 179
...

Sheet Lajeado
A1: PLANILHA DE FORMAÇÃO DE PREÇOS PARA APRESENTAÇÃO DA PROPOSTA
A3: Discriminação dos Serviços
A4: A | B4: Data de apresentação da proposta | E4: 44887
A5: B | B5: Município | E5: Lajeado/RS
A6: C | B6: Ano do Acordo, Convenção ou Dissídio Coletivo | E6: 2022
A7: D | B7: Nº de meses de execução contratual | E7: 12
A9: Identificação do Serviço
A10: Tipo de Serviço | C10: Unidade de Medida | D10: Quantidade total a contratar (em função da unidade de medida)
A11: Servente 30 horas Lajeado | C11: POSTO | D11: 1
A13: Dados para composição dos custos referentes à mão de obra
A14: 1 | B14: Tipo de serviço (mesmo serviço com características distintas) | E14: Asseio e Conservação
A15: 2 | B15: Classificação Brasileira de Ocupações (CBO) | E15: 5143
A16: 3 | B16: Salário Nominativo da Categoria Profissional | E16: 1431.04
A17: 4 | B17: Categoria profissional (vinculada à execução contratual) | E17: =A11 -> Servente 30 horas Lajeado
A18: 5 | B18: Data base da categoria (dia/mês/ano) | E18: 44562
A20: MÓDULO 1 - COMPOSIÇÃO DA REMUNERAÇÃO
A21: 1 | B21: COMPOSIÇÃO DA REMUNERAÇÃO | D21: % | E21: VALOR (R$)
A22: A | B22: Salário Base | D22: 0 | E22: =ROUND((E16/220)*150,2) -> 975.71
A23: B | B23: Adicional de Insalubridade | D23: 0.4 | E23: =E16*D23 -> 572.416
A24: C | B24: Adicional de Periculosidade | D24: 0 | E24: 0
A25: D | B25: Adicional Noturno | D25: 0 | E25: 0
A26: C | B26: Hora Noturna Reduzida | D26: 0 | E26: 0
A27: D | B27: Feriado Trabalhado | D27: 0 | E27: 0
A28: E | B28: Outros | D28: 0 | E28: 0
A29: F | B29: Reflexo sobre o D.S.R | D29: 0 | E29: 0
A30: Subtotal módulo 1 (incide encargos sociais e trabalhistas) | E30: =SUM(E22:E29) -> 1548.126
A32: MÓDULO 2 – ENCARGOS E BENEFÍCIOS ANUAIS, MENSAIS E DIÁRIOS
A33: Submódulo 2.1 - 13º Salário, Férias e Adicional de Férias | D33: % | E33: VALOR (R$)
A34: A | B34: 13 (Décimo-terceiro) salário | D34: 0.0833 | E34: =ROUND(D34*$E$30,2) -> 128.96
A35: B | B35: Férias e Adicional de Férias | D35: 0.1111 | E35: =ROUND(D35*$E$30,2) -> 172
A36: TOTAL SUBMÓDULO 2.1 | D36: =SUM(D34:D35) -> 0.1944 | E36: =SUM(E34:E35) -> 300.96
A38: Submódulo 2.2 - GPS, FGTS e Outras Contribuições | D38: % | E38: VALOR (R$)
A39: A | B39: INSS | D39: 0.2 | E39: =ROUND(D39*($E$30+$E$36),2) -> 369.82
A40: B | B40: Salário Educação | D40: 0.025 | E40: =ROUND(D40*($E$30+$E$36),2) -> 46.23
A41: C | B41: SAT (Seguro Acidente de Trabalho) | D41: 0.0333 | E41: =ROUND(D41*($E$30+$E$36),2) -> 61.57
A42: D | B42: SESC ou SESI | D42: 0.015 | E42: =ROUND(D42*($E$30+$E$36),2) -> 27.74
A43: E | B43: SENAI - SENAC | D43: 0.01 | E43: =ROUND(D43*($E$30+$E$36),2) -> 18.49
A44: F | B44: SEBRAE | D44: 0.006 | E44: =ROUND(D44*($E$30+$E$36),2) -> 11.09
A45: G | B45: INCRA | D45: 0.002 | E45: =ROUND(D45*($E$30+$E$36),2) -> 3.7
A46: H | B46: FGTS | D46: 0.08 | E46: =ROUND(D46*($E$30+$E$36),2) -> 147.93
...

Sheet Composição de Custos
A2: Pregão Eletrônico nº 046/2026
A4: ANEXO III - MODELO DE PLANILHA DE CUSTOS
A6: Discriminação dos Serviços
A7: A | B7: Data de apresentação da proposta (dia/mês/ano) | E7: xx/xx/2026
A8: B | B8: Município/UF
A9: C | B9: Ano do Acordo, Convenção ou Dissídio Coletivo
A10: D | B10: Nº de meses de execução contratual | E10: 12
A11: E | B11: Convenção Coletiva de Trabalho
A12: F | B12: Regime de Tributação
A14: Identificação do Serviço
A15: Tipo de Serviço | C15: Unidade de Medida | D15: Quantidade total a contratar (em função da unidade de medida)
A16: Auxiliar de Limpeza | C16: POSTO | D16: 1
A18: Dados para composição dos custos referentes à mão de obra
A19: 1 | B19: Tipo de serviço (mesmo serviço com características distintas) | E19: Limpeza e Conservação
A20: 2 | B20: Classificação Brasileira de Ocupações (CBO)
A21: 3 | B21: Salário Nominativo da Categoria Profissional | E21: 0
A22: 4 | B22: Categoria profissional (vinculada à execução contratual) | E22: 220
A23: 5 | B23: Data base da categoria (dia/mês/ano)
A25: MÓDULO 1 - COMPOSIÇÃO DA REMUNERAÇÃO
A26: 1 | B26: COMPOSIÇÃO DA REMUNERAÇÃO | D26: % | E26: VALOR (R$)
A27: A | B27: Salário Base | D27: 0 | E27: 0
A28: B | B28: Adicional de Insalubridade | D28: 0.4 | E28: 0
A29: C | B29: Adicional de Periculosidade | D29: 0 | E29: 0
A30: D | B30: Adicional Noturno | D30: 0 | E30: 0
A31: C | B31: Hora Noturna Reduzida | D31: 0 | E31: 0
A32: D | B32: Feriado Trabalhado | D32: 0 | E32: 0
A33: E | B33: Outros | D33: 0 | E33: 0
A34: Subtotal módulo 1 (incide encargos sociais e trabalhistas) | E34: =SUM(E27:E33) -> 0
A36: MÓDULO 2 – ENCARGOS E BENEFÍCIOS ANUAIS, MENSAIS E DIÁRIOS
A37: Submódulo 2.1 - 13º Salário, Férias e Adicional de Férias | D37: % | E37: VALOR (R$)
A38: A | B38: 13 (Décimo-terceiro) salário | D38: 0.0833 | E38: =ROUND(D38*$E$34,2) -> 0
A39: B | B39: Férias e Adicional de Férias | D39: 0.121 | E39: =ROUND(D39*$E$34,2) -> 0
A40: Subtotal | D40: =SUM(D38:D39) -> 0.2043
A41: C | B41: Incidência dos encargos do submodulo 2.2 sobre o 13° salário, férias e adicional de férias. | D41: 0.0782
A42: TOTAL SUBMÓDULO 2.1 | D42: =D40+D41 -> 0.2825 | E42: =SUM(E38:E39) -> 0
A44: Submódulo 2.2 - GPS, FGTS e Outras Contribuições | D44: % | E44: VALOR (R$)
A45: A | B45: INSS | D45: 0 | E45: =ROUND(D45*($E$34+$E$42),2) -> 0
A46: B | B46: Salário Educação | D46: 0 | E46: =ROUND(D46*($E$34+$E$42),2) -> 0
A47: C | B47: SAT (Seguro Acidente de Trabalho) | D47: 0 | E47: =ROUND(D47*($E$34+$E$42),2) -> 0
A48: D | B48: SESC ou SESI | D48: 0 | E48: =ROUND(D48*($E$34+$E$42),2) -> 0
...

Sheet incluir planilha demais postos
B6: *observar as exigências do TR - anexo I e III (insalubridades)

Sheet Materiais
B3: ITEM UNIFORMES | C3: CUSTO UNITÁRIO | D3: QTD. | E3: VALOR TOTAL | F3: VALOR AMORTIZADO
B4: MEIAS DE ALGODÃO (PAR) | E4: =SUM(D4*C4) -> 0 | F4: =IF(D4>0,((E4/12)/D4),"0") -> 0
B5: COTURNOS COR PRETA (PAR) | E5: =SUM(D5*C5) -> 0 | F5: =IF(D5>0,((E5/12)/D5),"0") -> 0
B6: BOTINAS NA COR PRETA (PAR) | E6: =SUM(D6*C6) -> 0 | F6: =IF(D6>0,((E6/12)/D6),"0") -> 0
B7: SAPATOS NA COR PRETA | E7: =SUM(D7*C7) -> 0 | F7: =IF(D7>0,((E7/12)/D7),"0") -> 0
B8: CAMISETA MANGA CURTA | E8: =SUM(D8*C8) -> 0 | F8: =IF(D8>0,((E8/12)/D8),"0") -> 0
B9: CAMISETA MANGA LONGA | E9: =SUM(D9*C9) -> 0 | F9: =IF(D9>0,((E9/12)/D9),"0") -> 0
B10: JALECO | E10: =SUM(D10*C10) -> 0 | F10: =IF(D10>0,((E10/12)/D10),"0") -> 0
B11: CALÇA | E11: =SUM(D11*C11) -> 0 | F11: =IF(D11>0,((E11/12)/D11),"0") -> 0
B12: CINTO | E12: =SUM(D12*C12) -> 0 | F12: =IF(D12>0,((E12/12)/D12),"0") -> 0
B13: JAQUETA DE FRIO OU JAPONA | E13: =SUM(D13*C13) -> 0 | F13: =IF(D13>0,((E13/12)/D13),"0") -> 0
B14: CAMISA SOCIAL BRANCA MANGA CURTA | E14: =SUM(D14*C14) -> 0 | F14: =IF(D14>0,((E14/12)/D14),"0") -> 0
B15: CAMISA SOCIAL BRANCA MANGA COMPRIDA | E15: =SUM(D15*C15) -> 0 | F15: =IF(D15>0,((E15/12)/D15),"0") -> 0
... B19: MOLETON | E19: =SUM(D19*C19) -> 0 | F19: =IF(D19>0,((E19/12)/D19),"0") -> 0
B20: TOTAL | F20: =SUM(F4:F19) -> 0
B24: ITEM MATERIAIS | C24: CUSTO UNITÁRIO | D24: QTD. | E24: VALOR TOTAL | F24: VALOR AMORTIZADO
B25: ASPIRADOR DE PÓ INDUSTRIAL | E25: =SUM(D25*C25) -> 0 | F25: =IF(D25>0,((E25/12)/D25),"0") -> 0
B26: ENCERADEIRA BANDEIRANTE 350 | E26: =SUM(D26*C26) -> 0 | F26: =IF(D26>0,((E26/12)/D26),"0") -> 0
B27: ESCADA 6 DEGRAUS | E27: =SUM(D27*C27) -> 0 | F27: =IF(D27>0,((E27/12)/D27),"0") -> 0
B28: ESPANADOR DE PENAS Nº 50 | E28: =SUM(D28*C28) -> 0 | F28: =IF(D28>0,((E28/12)/D28),"0") -> 0
B29: DISCOS P/ ENCERADEIRA 350 | E29: =SUM(D29*C29) -> 0 | F29: =IF(D29>0,((E29/12)/D29),"0") -> 0
B30: BALDE PLÁSTICO | E30: =SUM(D30*C30) -> 0 | F30: =IF(D30>0,((E30/12)/D30),"0") -> 0
B31: VASSOURA PELO | E31: =SUM(D31*C31) -> 0 | F31: =IF(D31>0,((E31/12)/D31),"0") -> 0
B32: VASSOURINHA SANITÁRIA | E32: =SUM(D32*C32) -> 0 | F32: =IF(D32>0,((E32/12)/D32),"0") -> 0
B33: VASSOURA FEITICEIRA | E33: =SUM(D33*C33) -> 0 | F33: =IF(D33>0,((E33/12)/D33),"0") -> 0
B34: DESENTUPIDOR DE VASO SANITÁRIO | E34: =SUM(D34*C34) -> 0 | F34: =IF(D34>0,((E34/12)/D34),"0") -> 0
B35: PÁ DE LIXO | E35: =SUM(D35*C35) -> 0 | F35: =IF(D35>0,((E35/12)/D35),"0") -> 0
B36: RODO 2 BORRACHAS | E36: =SUM(D36*C36) -> 0 | F36: =IF(D36>0,((E36/12)/D36),"0") -> 0
... B39: PLACAS SINALIZAÇÃO PISO MOLHADO TOMKI | E39: =SUM(D39*C39) -> 0 | F39: =IF(D39>0,((E39/12)/D39),"0") -> 0
B40: TOTAL | F40: =SUM(F25:F39) -> 0
B44: ITEM EQUIPAMENTOS (EPI) | C44: CUSTO UNITÁRIO | D44: QTD. | E44: VALOR TOTAL | F44: VALOR AMORTIZADO
B45: QUEPE (COM EMBLEMA) | E45: =SUM(D45*C45) -> 0 | F45: =IF(D45>0,((E45/12)/D45),"0") -> 0
B46: CAPA DE CHUVA | E46: =SUM(D46*C46) -> 0 | F46: =IF(D46>0,((E46/12)/D46),"0") -> 0
B47: CRACHÁ | E47: =SUM(D47*C47) -> 0 | F47: =IF(D47>0,((E47/12)/D47),"0") -> 0
B48: DISTINTIVO TIPO BROCHE | E48: =SUM(D48*C48) -> 0 | F48: =IF(D48>0,((E48/12)/D48),"0") -> 0
B49: CACETETE | E49: =SUM(D49*C49) -> 0 | F49: =IF(D49>0,((E49/12)/D49),"0") -> 0
B50: PORTA CACETETE | E50: =SUM(D50*C50) -> 0 | F50: =IF(D50>0,((E50/12)/D50),"0") -> 0
B51: APITO | E51: =SUM(D51*C51) -> 0 | F51: =IF(D51>0,((E51/12)/D51),"0") -> 0
B52: CORDÃO DE APITO | E52: =SUM(D52*C52) -> 0 | F52: =IF(D52>0,((E52/12)/D52),"0") -> 0
B53: LANTERNA GRANDE | E53: =SUM(D53*C53) -> 0 | F53: =IF(D53>0,((E53/12)/D53),"0") -> 0
...

Sheet Nov Ham
A1: PLANILHA DE FORMAÇÃO DE PREÇOS PARA APRESENTAÇÃO DA PROPOSTA
A3: Discriminação dos Serviços
A4: A | B4: Data de apresentação da proposta | E4: 44887
A5: B | B5: Município | E5: Novo Hamburgo/RS
A6: C | B6: Ano do Acordo, Convenção ou Dissídio Coletivo | E6: 2022
A7: D | B7: Nº de meses de execução contratual | E7: 12
A9: Identificação do Serviço
A10: Tipo de Serviço | C10: Unidade de Medida | D10: Quantidade total a contratar (em função da unidade de medida)
A11: Servente 30 horas Novo Hamburgo | C11: POSTO | D11: 1
A13: Dados para composição dos custos referentes à mão de obra
A14: 1 | B14: Tipo de serviço (mesmo serviço com características distintas) | E14: Asseio e Conservação
A15: 2 | B15: Classificação Brasileira de Ocupações (CBO) | E15: 5143
A16: 3 | B16: Salário Nominativo da Categoria Profissional | E16: 1431.04
A17: 4 | B17: Categoria profissional (vinculada à execução contratual) | E17: =A11 -> Servente 30 horas Novo Hamburgo
A18: 5 | B18: Data base da categoria (dia/mês/ano) | E18: 44562
A20: MÓDULO 1 - COMPOSIÇÃO DA REMUNERAÇÃO
A21: 1 | B21: COMPOSIÇÃO DA REMUNERAÇÃO | D21: % | E21: VALOR (R$)
A22: A | B22: Salário Base | D22: 0 | E22: =ROUND((E16/220)*150,2) -> 975.71
A23: B | B23: Adicional de Insalubridade | D23: 0.4 | E23: =E16*D23 -> 572.416
A24: C | B24: Adicional de Periculosidade | D24: 0 | E24: 0
A25: D | B25: Adicional Noturno | D25: 0 | E25: 0
A26: C | B26: Hora Noturna Reduzida | D26: 0 | E26: 0
A27: D | B27: Feriado Trabalhado | D27: 0 | E27: 0
A28: E | B28: Outros | D28: 0 | E28: 0
A29: F | B29: Reflexo sobre o D.S.R | D29: 0 | E29: 0
A30: Subtotal módulo 1 (incide encargos sociais e trabalhistas) | E30: =SUM(E22:E29) -> 1548.126
A32: MÓDULO 2 – ENCARGOS E BENEFÍCIOS ANUAIS, MENSAIS E DIÁRIOS
A33: Submódulo 2.1 - 13º Salário, Férias e Adicional de Férias | D33: % | E33: VALOR (R$)
A34: A | B34: 13 (Décimo-terceiro) salário | D34: 0.0833 | E34: =ROUND(D34*$E$30,2) -> 128.96
A35: B | B35: Férias e Adicional de Férias | D35: 0.1111 | E35: =ROUND(D35*$E$30,2) -> 172
A36: TOTAL SUBMÓDULO 2.1 | D36: =SUM(D34:D35) -> 0.1944 | E36: =SUM(E34:E35) -> 300.96
A38: Submódulo 2.2 - GPS, FGTS e Outras Contribuições | D38: % | E38: VALOR (R$)
A39: A | B39: INSS | D39: 0.2 | E39: =ROUND(D39*($E$30+$E$36),2) -> 369.82
A40: B | B40: Salário Educação | D40: 0.025 | E40: =ROUND(D40*($E$30+$E$36),2) -> 46.23
A41: C | B41: SAT (Seguro Acidente de Trabalho) | D41: 0.0333 | E41: =ROUND(D41*($E$30+$E$36),2) -> 61.57
A42: D | B42: SESC ou SESI | D42: 0.015 | E42: =ROUND(D42*($E$30+$E$36),2) -> 27.74
A43: E | B43: SENAI - SENAC | D43: 0.01 | E43: =ROUND(D43*($E$30+$E$36),2) -> 18.49
A44: F | B44: SEBRAE | D44: 0.006 | E44: =ROUND(D44*($E$30+$E$36),2) -> 11.09
A45: G | B45: INCRA | D45: 0.002 | E45: =ROUND(D45*($E$30+$E$36),2) -> 3.7
A46: H | B46: FGTS | D46: 0.08 | E46: =ROUND(D46*($E$30+$E$36),2) -> 147.93
...

Sheet Pass Fun
A1: PLANILHA DE FORMAÇÃO DE PREÇOS PARA APRESENTAÇÃO DA PROPOSTA
A3: Discriminação dos Serviços
A4: A | B4: Data de apresentação da proposta | E4: 44887
A5: B | B5: Município | E5: Passo Fundo/RS
A6: C | B6: Ano do Acordo, Convenção ou Dissídio Coletivo | E6: 2022
A7: D | B7: Nº de meses de execução contratual | E7: 12
A9: Identificação do Serviço
A10: Tipo de Serviço | C10: Unidade de Medida | D10: Quantidade total a contratar (em função da unidade de medida)
A11: Servente 30 horas Passo Fundo | C11: POSTO | D11: 1
A13: Dados para composição dos custos referentes à mão de obra
A14: 1 | B14: Tipo de serviço (mesmo serviço com características distintas) | E14: Asseio e Conservação
A15: 2 | B15: Classificação Brasileira de Ocupações (CBO) | E15: 5143
A16: 3 | B16: Salário Nominativo da Categoria Profissional | E16: 1431.04
A17: 4 | B17: Categoria profissional (vinculada à execução contratual) | E17: =A11 -> Servente 30 horas Passo Fundo
A18: 5 | B18: Data base da categoria (dia/mês/ano) | E18: 44562
A20: MÓDULO 1 - COMPOSIÇÃO DA REMUNERAÇÃO
A21: 1 | B21: COMPOSIÇÃO DA REMUNERAÇÃO | D21: % | E21: VALOR (R$)
A22: A | B22: Salário Base | D22: 0 | E22: =ROUND((E16/220)*150,2) -> 975.71
A23: B | B23: Adicional de Insalubridade | D23: 0.4 | E23: =E16*D23 -> 572.416
A24: C | B24: Adicional de Periculosidade | D24: 0 | E24: 0
A25: D | B25: Adicional Noturno | D25: 0 | E25: 0
A26: C | B26: Hora Noturna Reduzida | D26: 0 | E26: 0
A27: D | B27: Feriado Trabalhado | D27: 0 | E27: 0
A28: E | B28: Outros | D28: 0 | E28: 0
A29: F | B29: Reflexo sobre o D.S.R | D29: 0 | E29: 0
A30: Subtotal módulo 1 (incide encargos sociais e trabalhistas) | E30: =SUM(E22:E29) -> 1548.126
A32: MÓDULO 2 – ENCARGOS E BENEFÍCIOS ANUAIS, MENSAIS E DIÁRIOS
A33: Submódulo 2.1 - 13º Salário, Férias e Adicional de Férias | D33: % | E33: VALOR (R$)
A34: A | B34: 13 (Décimo-terceiro) salário | D34: 0.0833 | E34: =ROUND(D34*$E$30,2) -> 128.96
A35: B | B35: Férias e Adicional de Férias | D35: 0.1111 | E35: =ROUND(D35*$E$30,2) -> 172
A36: TOTAL SUBMÓDULO 2.1 | D36: =SUM(D34:D35) -> 0.1944 | E36: =SUM(E34:E35) -> 300.96
A38: Submódulo 2.2 - GPS, FGTS e Outras Contribuições | D38: % | E38: VALOR (R$)
A39: A | B39: INSS | D39: 0.2 | E39: =ROUND(D39*($E$30+$E$36),2) -> 369.82
A40: B | B40: Salário Educação | D40: 0.025 | E40: =ROUND(D40*($E$30+$E$36),2) -> 46.23
A41: C | B41: SAT (Seguro Acidente de Trabalho) | D41: 0.0333 | E41: =ROUND(D41*($E$30+$E$36),2) -> 61.57
A42: D | B42: SESC ou SESI | D42: 0.015 | E42: =ROUND(D42*($E$30+$E$36),2) -> 27.74
A43: E | B43: SENAI - SENAC | D43: 0.01 | E43: =ROUND(D43*($E$30+$E$36),2) -> 18.49
A44: F | B44: SEBRAE | D44: 0.006 | E44: =ROUND(D44*($E$30+$E$36),2) -> 11.09
A45: G | B45: INCRA | D45: 0.002 | E45: =ROUND(D45*($E$30+$E$36),2) -> 3.7
A46: H | B46: FGTS | D46: 0.08 | E46: =ROUND(D46*($E$30+$E$36),2) -> 147.93
...

Sheet Pelotas
A1: PLANILHA DE FORMAÇÃO DE PREÇOS PARA APRESENTAÇÃO DA PROPOSTA
A3: Discriminação dos Serviços
A4: A | B4: Data de apresentação da proposta | E4: 44887
A5: B | B5: Município | E5: Pelotas/RS
A6: C | B6: Ano do Acordo, Convenção ou Dissídio Coletivo | E6: 2022
A7: D | B7: Nº de meses de execução contratual | E7: 12
A9: Identificação do Serviço
A10: Tipo de Serviço | C10: Unidade de Medida | D10: Quantidade total a contratar (em função da unidade de medida)
A11: Servente 30 horas Pelotas | C11: POSTO | D11: 1
A13: Dados para composição dos custos referentes à mão de obra
A14: 1 | B14: Tipo de serviço (mesmo serviço com características distintas) | E14: Asseio e Conservação
A15: 2 | B15: Classificação Brasileira de Ocupações (CBO) | E15: 5143
A16: 3 | B16: Salário Nominativo da Categoria Profissional | E16: 1431.04
A17: 4 | B17: Categoria profissional (vinculada à execução contratual) | E17: =A11 -> Servente 30 horas Pelotas
A18: 5 | B18: Data base da categoria (dia/mês/ano) | E18: 44562
A20: MÓDULO 1 - COMPOSIÇÃO DA REMUNERAÇÃO
A21: 1 | B21: COMPOSIÇÃO DA REMUNERAÇÃO | D21: % | E21: VALOR (R$)
A22: A | B22: Salário Base | D22: 0 | E22: =ROUND((E16/220)*150,2) -> 975.71
A23: B | B23: Adicional de Insalubridade | D23: 0.4 | E23: =E16*D23 -> 572.416
A24: C | B24: Adicional de Periculosidade | D24: 0 | E24: 0
A25: D | B25: Adicional Noturno | D25: 0 | E25: 0
A26: C | B26: Hora Noturna Reduzida | D26: 0 | E26: 0
A27: D | B27: Feriado Trabalhado | D27: 0 | E27: 0
A28: E | B28: Outros | D28: 0 | E28: 0
A29: F | B29: Reflexo sobre o D.S.R | D29: 0 | E29: 0
A30: Subtotal módulo 1 (incide encargos sociais e trabalhistas) | E30: =SUM(E22:E29) -> 1548.126
A32: MÓDULO 2 – ENCARGOS E BENEFÍCIOS ANUAIS, MENSAIS E DIÁRIOS
A33: Submódulo 2.1 - 13º Salário, Férias e Adicional de Férias | D33: % | E33: VALOR (R$)
A34: A | B34: 13 (Décimo-terceiro) salário | D34: 0.0833 | E34: =ROUND(D34*$E$30,2) -> 128.96
A35: B | B35: Férias e Adicional de Férias | D35: 0.1111 | E35: =ROUND(D35*$E$30,2) -> 172
A36: TOTAL SUBMÓDULO 2.1 | D36: =SUM(D34:D35) -> 0.1944 | E36: =SUM(E34:E35) -> 300.96
A38: Submódulo 2.2 - GPS, FGTS e Outras Contribuições | D38: % | E38: VALOR (R$)
A39: A | B39: INSS | D39: 0.2 | E39: =ROUND(D39*($E$30+$E$36),2) -> 369.82
A40: B | B40: Salário Educação | D40: 0.025 | E40: =ROUND(D40*($E$30+$E$36),2) -> 46.23
A41: C | B41: SAT (Seguro Acidente de Trabalho) | D41: 0.0333 | E41: =ROUND(D41*($E$30+$E$36),2) -> 61.57
A42: D | B42: SESC ou SESI | D42: 0.015 | E42: =ROUND(D42*($E$30+$E$36),2) -> 27.74
A43: E | B43: SENAI - SENAC | D43: 0.01 | E43: =ROUND(D43*($E$30+$E$36),2) -> 18.49
A44: F | B44: SEBRAE | D44: 0.006 | E44: =ROUND(D44*($E$30+$E$36),2) -> 11.09
A45: G | B45: INCRA | D45: 0.002 | E45: =ROUND(D45*($E$30+$E$36),2) -> 3.7
A46: H | B46: FGTS | D46: 0.08 | E46: =ROUND(D46*($E$30+$E$36),2) -> 147.93
...

Sheet Sat Crz
A1: PLANILHA DE FORMAÇÃO DE PREÇOS PARA APRESENTAÇÃO DA PROPOSTA
A3: Discriminação dos Serviços
A4: A | B4: Data de apresentação da proposta | E4: 44887
A5: B | B5: Município | E5: Santa Cruz do Sul/RS
A6: C | B6: Ano do Acordo, Convenção ou Dissídio Coletivo | E6: 2022
A7: D | B7: Nº de meses de execução contratual | E7: 12
A9: Identificação do Serviço
A10: Tipo de Serviço | C10: Unidade de Medida | D10: Quantidade total a contratar (em função da unidade de medida)
A11: Servente 30 horas Santa Cruz do Sul | C11: POSTO | D11: 1
A13: Dados para composição dos custos referentes à mão de obra
A14: 1 | B14: Tipo de serviço (mesmo serviço com características distintas) | E14: Asseio e Conservação
A15: 2 | B15: Classificação Brasileira de Ocupações (CBO) | E15: 5143
A16: 3 | B16: Salário Nominativo da Categoria Profissional | E16: 1431.04
A17: 4 | B17: Categoria profissional (vinculada à execução contratual) | E17: =A11 -> Servente 30 horas Santa Cruz do Sul
A18: 5 | B18: Data base da categoria (dia/mês/ano) | E18: 44562
A20: MÓDULO 1 - COMPOSIÇÃO DA REMUNERAÇÃO
A21: 1 | B21: COMPOSIÇÃO DA REMUNERAÇÃO | D21: % | E21: VALOR (R$)
A22: A | B22: Salário Base | D22: 0 | E22: =ROUND((E16/220)*150,2) -> 975.71
A23: B | B23: Adicional de Insalubridade | D23: 0.4 | E23: =E16*D23 -> 572.416
A24: C | B24: Adicional de Periculosidade | D24: 0 | E24: 0
A25: D | B25: Adicional Noturno | D25: 0 | E25: 0
A26: C | B26: Hora Noturna Reduzida | D26: 0 | E26: 0
A27: D | B27: Feriado Trabalhado | D27: 0 | E27: 0
A28: E | B28: Outros | D28: 0 | E28: 0
A29: F | B29: Reflexo sobre o D.S.R | D29: 0 | E29: 0
A30: Subtotal módulo 1 (incide encargos sociais e trabalhistas) | E30: =SUM(E22:E29) -> 1548.126
A32: MÓDULO 2 – ENCARGOS E BENEFÍCIOS ANUAIS, MENSAIS E DIÁRIOS
A33: Submódulo 2.1 - 13º Salário, Férias e Adicional de Férias | D33: % | E33: VALOR (R$)
A34: A | B34: 13 (Décimo-terceiro) salário | D34: 0.0833 | E34: =ROUND(D34*$E$30,2) -> 128.96
A35: B | B35: Férias e Adicional de Férias | D35: 0.1111 | E35: =ROUND(D35*$E$30,2) -> 172
A36: TOTAL SUBMÓDULO 2.1 | D36: =SUM(D34:D35) -> 0.1944 | E36: =SUM(E34:E35) -> 300.96
A38: Submódulo 2.2 - GPS, FGTS e Outras Contribuições | D38: % | E38: VALOR (R$)
A39: A | B39: INSS | D39: 0.2 | E39: =ROUND(D39*($E$30+$E$36),2) -> 369.82
A40: B | B40: Salário Educação | D40: 0.025 | E40: =ROUND(D40*($E$30+$E$36),2) -> 46.23
A41: C | B41: SAT (Seguro Acidente de Trabalho) | D41: 0.0333 | E41: =ROUND(D41*($E$30+$E$36),2) -> 61.57
A42: D | B42: SESC ou SESI | D42: 0.015 | E42: =ROUND(D42*($E$30+$E$36),2) -> 27.74
A43: E | B43: SENAI - SENAC | D43: 0.01 | E43: =ROUND(D43*($E$30+$E$36),2) -> 18.49
A44: F | B44: SEBRAE | D44: 0.006 | E44: =ROUND(D44*($E$30+$E$36),2) -> 11.09
A45: G | B45: INCRA | D45: 0.002 | E45: =ROUND(D45*($E$30+$E$36),2) -> 3.7
A46: H | B46: FGTS | D46: 0.08 | E46: =ROUND(D46*($E$30+$E$36),2) -> 147.93
...

Sheet Sta Mr
A1: PLANILHA DE FORMAÇÃO DE PREÇOS PARA APRESENTAÇÃO DA PROPOSTA
A3: Discriminação dos Serviços
A4: A | B4: Data de apresentação da proposta | E4: 44887
A5: B | B5: Município | E5: Santa Maria/RS
A6: C | B6: Ano do Acordo, Convenção ou Dissídio Coletivo | E6: 2022
A7: D | B7: Nº de meses de execução contratual | E7: 12
A9: Identificação do Serviço
A10: Tipo de Serviço | C10: Unidade de Medida | D10: Quantidade total a contratar (em função da unidade de medida)
A11: Servente 30 horas Santa Maria | C11: POSTO | D11: 1
A13: Dados para composição dos custos referentes à mão de obra
A14: 1 | B14: Tipo de serviço (mesmo serviço com características distintas) | E14: Asseio e Conservação
A15: 2 | B15: Classificação Brasileira de Ocupações (CBO) | E15: 5143
A16: 3 | B16: Salário Nominativo da Categoria Profissional | E16: 1431.04
A17: 4 | B17: Categoria profissional (vinculada à execução contratual) | E17: =A11 -> Servente 30 horas Santa Maria
A18: 5 | B18: Data base da categoria (dia/mês/ano) | E18: 44562
A20: MÓDULO 1 - COMPOSIÇÃO DA REMUNERAÇÃO
A21: 1 | B21: COMPOSIÇÃO DA REMUNERAÇÃO | D21: % | E21: VALOR (R$)
A22: A | B22: Salário Base | D22: 0 | E22: =ROUND((E16/220)*150,2) -> 975.71
A23: B | B23: Adicional de Insalubridade | D23: 0.4 | E23: =E16*D23 -> 572.416
A24: C | B24: Adicional de Periculosidade | D24: 0 | E24: 0
A25: D | B25: Adicional Noturno | D25: 0 | E25: 0
A26: C | B26: Hora Noturna Reduzida | D26: 0 | E26: 0
A27: D | B27: Feriado Trabalhado | D27: 0 | E27: 0
A28: E | B28: Outros | D28: 0 | E28: 0
A29: F | B29: Reflexo sobre o D.S.R | D29: 0 | E29: 0
A30: Subtotal módulo 1 (incide encargos sociais e trabalhistas) | E30: =SUM(E22:E29) -> 1548.126
A32: MÓDULO 2 – ENCARGOS E BENEFÍCIOS ANUAIS, MENSAIS E DIÁRIOS
A33: Submódulo 2.1 - 13º Salário, Férias e Adicional de Férias | D33: % | E33: VALOR (R$)
A34: A | B34: 13 (Décimo-terceiro) salário | D34: 0.0833 | E34: =ROUND(D34*$E$30,2) -> 128.96
A35: B | B35: Férias e Adicional de Férias | D35: 0.1111 | E35: =ROUND(D35*$E$30,2) -> 172
A36: TOTAL SUBMÓDULO 2.1 | D36: =SUM(D34:D35) -> 0.1944 | E36: =SUM(E34:E35) -> 300.96
A38: Submódulo 2.2 - GPS, FGTS e Outras Contribuições | D38: % | E38: VALOR (R$)
A39: A | B39: INSS | D39: 0.2 | E39: =ROUND(D39*($E$30+$E$36),2) -> 369.82
A40: B | B40: Salário Educação | D40: 0.025 | E40: =ROUND(D40*($E$30+$E$36),2) -> 46.23
A41: C | B41: SAT (Seguro Acidente de Trabalho) | D41: 0.0333 | E41: =ROUND(D41*($E$30+$E$36),2) -> 61.57
A42: D | B42: SESC ou SESI | D42: 0.015 | E42: =ROUND(D42*($E$30+$E$36),2) -> 27.74
A43: E | B43: SENAI - SENAC | D43: 0.01 | E43: =ROUND(D43*($E$30+$E$36),2) -> 18.49
A44: F | B44: SEBRAE | D44: 0.006 | E44: =ROUND(D44*($E$30+$E$36),2) -> 11.09
A45: G | B45: INCRA | D45: 0.002 | E45: =ROUND(D45*($E$30+$E$36),2) -> 3.7
A46: H | B46: FGTS | D46: 0.08 | E46: =ROUND(D46*($E$30+$E$36),2) -> 147.93
...

Sheet Livram
A1: PLANILHA DE FORMAÇÃO DE PREÇOS PARA APRESENTAÇÃO DA PROPOSTA
A3: Discriminação dos Serviços
A4: A | B4: Data de apresentação da proposta | E4: 44887
A5: B | B5: Município | E5: Sant'Ana do Livramento/RS
A6: C | B6: Ano do Acordo, Convenção ou Dissídio Coletivo | E6: 2022
A7: D | B7: Nº de meses de execução contratual | E7: 12
A9: Identificação do Serviço
A10: Tipo de Serviço | C10: Unidade de Medida | D10: Quantidade total a contratar (em função da unidade de medida)
A11: Servente 30 horas Santana do Livramento | C11: POSTO | D11: 1
A13: Dados para composição dos custos referentes à mão de obra
A14: 1 | B14: Tipo de serviço (mesmo serviço com características distintas) | E14: Asseio e Conservação
A15: 2 | B15: Classificação Brasileira de Ocupações (CBO) | E15: 5143
A16: 3 | B16: Salário Nominativo da Categoria Profissional | E16: 1431.04
A17: 4 | B17: Categoria profissional (vinculada à execução contratual) | E17: =A11 -> Servente 30 horas Santana do Livramento
A18: 5 | B18: Data base da categoria (dia/mês/ano) | E18: 44562
A20: MÓDULO 1 - COMPOSIÇÃO DA REMUNERAÇÃO
A21: 1 | B21: COMPOSIÇÃO DA REMUNERAÇÃO | D21: % | E21: VALOR (R$)
A22: A | B22: Salário Base | D22: 0 | E22: =ROUND((E16/220)*150,2) -> 975.71
A23: B | B23: Adicional de Insalubridade | D23: 0.4 | E23: =E16*D23 -> 572.416
A24: C | B24: Adicional de Periculosidade | D24: 0 | E24: 0
A25: D | B25: Adicional Noturno | D25: 0 | E25: 0
A26: C | B26: Hora Noturna Reduzida | D26: 0 | E26: 0
A27: D | B27: Feriado Trabalhado | D27: 0 | E27: 0
A28: E | B28: Outros | D28: 0 | E28: 0
A29: F | B29: Reflexo sobre o D.S.R | D29: 0 | E29: 0
A30: Subtotal módulo 1 (incide encargos sociais e trabalhistas) | E30: =SUM(E22:E29) -> 1548.126
A32: MÓDULO 2 – ENCARGOS E BENEFÍCIOS ANUAIS, MENSAIS E DIÁRIOS
A33: Submódulo 2.1 - 13º Salário, Férias e Adicional de Férias | D33: % | E33: VALOR (R$)
A34: A | B34: 13 (Décimo-terceiro) salário | D34: 0.0833 | E34: =ROUND(D34*$E$30,2) -> 128.96
A35: B | B35: Férias e Adicional de Férias | D35: 0.1111 | E35: =ROUND(D35*$E$30,2) -> 172
A36: TOTAL SUBMÓDULO 2.1 | D36: =SUM(D34:D35) -> 0.1944 | E36: =SUM(E34:E35) -> 300.96
A38: Submódulo 2.2 - GPS, FGTS e Outras Contribuições | D38: % | E38: VALOR (R$)
A39: A | B39: INSS | D39: 0.2 | E39: =ROUND(D39*($E$30+$E$36),2) -> 369.82
A40: B | B40: Salário Educação | D40: 0.025 | E40: =ROUND(D40*($E$30+$E$36),2) -> 46.23
A41: C | B41: SAT (Seguro Acidente de Trabalho) | D41: 0.0333 | E41: =ROUND(D41*($E$30+$E$36),2) -> 61.57
A42: D | B42: SESC ou SESI | D42: 0.015 | E42: =ROUND(D42*($E$30+$E$36),2) -> 27.74
A43: E | B43: SENAI - SENAC | D43: 0.01 | E43: =ROUND(D43*($E$30+$E$36),2) -> 18.49
A44: F | B44: SEBRAE | D44: 0.006 | E44: =ROUND(D44*($E$30+$E$36),2) -> 11.09
A45: G | B45: INCRA | D45: 0.002 | E45: =ROUND(D45*($E$30+$E$36),2) -> 3.7
A46: H | B46: FGTS | D46: 0.08 | E46: =ROUND(D46*($E$30+$E$36),2) -> 147.93
...

Sheet Sao Leopo
A1: PLANILHA DE FORMAÇÃO DE PREÇOS PARA APRESENTAÇÃO DA PROPOSTA
A3: Discriminação dos Serviços
A4: A | B4: Data de apresentação da proposta | E4: 44887
A5: B | B5: Município | E5: São Leopoldo/RS
A6: C | B6: Ano do Acordo, Convenção ou Dissídio Coletivo | E6: 2022
A7: D | B7: Nº de meses de execução contratual | E7: 12
A9: Identificação do Serviço
A10: Tipo de Serviço | C10: Unidade de Medida | D10: Quantidade total a contratar (em função da unidade de medida)
A11: Servente 30 horas São Leopoldo | C11: POSTO | D11: 1
A13: Dados para composição dos custos referentes à mão de obra
A14: 1 | B14: Tipo de serviço (mesmo serviço com características distintas) | E14: Asseio e Conservação
A15: 2 | B15: Classificação Brasileira de Ocupações (CBO) | E15: 5143
A16: 3 | B16: Salário Nominativo da Categoria Profissional | E16: 1431.04
A17: 4 | B17: Categoria profissional (vinculada à execução contratual) | E17: =A11 -> Servente 30 horas São Leopoldo
A18: 5 | B18: Data base da categoria (dia/mês/ano) | E18: 44562
A20: MÓDULO 1 - COMPOSIÇÃO DA REMUNERAÇÃO
A21: 1 | B21: COMPOSIÇÃO DA REMUNERAÇÃO | D21: % | E21: VALOR (R$)
A22: A | B22: Salário Base | D22: 0 | E22: =ROUND((E16/220)*150,2) -> 975.71
A23: B | B23: Adicional de Insalubridade | D23: 0.4 | E23: =E16*D23 -> 572.416
A24: C | B24: Adicional de Periculosidade | D24: 0 | E24: 0
A25: D | B25: Adicional Noturno | D25: 0 | E25: 0
A26: C | B26: Hora Noturna Reduzida | D26: 0 | E26: 0
A27: D | B27: Feriado Trabalhado | D27: 0 | E27: 0
A28: E | B28: Outros | D28: 0 | E28: 0
A29: F | B29: Reflexo sobre o D.S.R | D29: 0 | E29: 0
A30: Subtotal módulo 1 (incide encargos sociais e trabalhistas) | E30: =SUM(E22:E29) -> 1548.126
A32: MÓDULO 2 – ENCARGOS E BENEFÍCIOS ANUAIS, MENSAIS E DIÁRIOS
A33: Submódulo 2.1 - 13º Salário, Férias e Adicional de Férias | D33: % | E33: VALOR (R$)
A34: A | B34: 13 (Décimo-terceiro) salário | D34: 0.0833 | E34: =ROUND(D34*$E$30,2) -> 128.96
A35: B | B35: Férias e Adicional de Férias | D35: 0.1111 | E35: =ROUND(D35*$E$30,2) -> 172
A36: TOTAL SUBMÓDULO 2.1 | D36: =SUM(D34:D35) -> 0.1944 | E36: =SUM(E34:E35) -> 300.96
A38: Submódulo 2.2 - GPS, FGTS e Outras Contribuições | D38: % | E38: VALOR (R$)
A39: A | B39: INSS | D39: 0.2 | E39: =ROUND(D39*($E$30+$E$36),2) -> 369.82
A40: B | B40: Salário Educação | D40: 0.025 | E40: =ROUND(D40*($E$30+$E$36),2) -> 46.23
A41: C | B41: SAT (Seguro Acidente de Trabalho) | D41: 0.0333 | E41: =ROUND(D41*($E$30+$E$36),2) -> 61.57
A42: D | B42: SESC ou SESI | D42: 0.015 | E42: =ROUND(D42*($E$30+$E$36),2) -> 27.74
A43: E | B43: SENAI - SENAC | D43: 0.01 | E43: =ROUND(D43*($E$30+$E$36),2) -> 18.49
A44: F | B44: SEBRAE | D44: 0.006 | E44: =ROUND(D44*($E$30+$E$36),2) -> 11.09
A45: G | B45: INCRA | D45: 0.002 | E45: =ROUND(D45*($E$30+$E$36),2) -> 3.7
A46: H | B46: FGTS | D46: 0.08 | E46: =ROUND(D46*($E$30+$E$36),2) -> 147.93
...

Sheet Apuração SPED
A2: APURAÇÃO DO PERCENTUAL MÉDIO DE RECOLHIMENTO DE PIS
A3: MÊS | B3: FATURAMENTO MENSAL A | C3: CONTRIBUIÇÃO APURADA B | D3: CRÉDITO DESCONTADO C | E3: CONTRIBUIÇÃO DEVIDA D = (B - C) | F3: PERCENTUAL EFETIVO E = D / A
A4: 44470 | B4: 70605537 | C4: 1164966.1 | D4: 252927.68 | E4: =C4-D4 -> 912038.44 | F4: =E4/B4 -> 0.012917378
A5: 44501 | B5: 75157035 | C5: 1240028.4 | D5: 256842.16 | E5: =C5-D5 -> 983186.28 | F5: =E5/B5 -> 0.01308176
A6: 44531 | B6: 84489831 | C6: 1394053.5 | D6: 200847.43 | E6: =C6-D6 -> 1193206.1 | F6: =E6/B6 -> 0.014122481
A7: 44562 | B7: 61793402 | C7: 1019568.7 | D7: 280367.68 | E7: =C7-D7 -> 739201.01 | F7: =E7/B7 -> 0.011962459
A8: 44593 | B8: 67011486 | C8: 1105667.4 | D8: 197693.87 | E8: =C8-D8 -> 907973.56 | F8: =E8/B8 -> 0.013549521
A9: 44621 | B9: 71563373 | C9: 1180773 | D9: 282799.61 | E9: =C9-D9 -> 897973.43 | F9: =E9/B9 -> 0.012547947
A10: 44652 | B10: 66408169 | C10: 1095713.9 | D10: 236940.35 | E10: =C10-D10 -> 858773.58 | F10: =E10/B10 -> 0.012931746
A11: 44682 | B11: 70436408 | C11: 1162176.7 | D11: 239544.09 | E11: =C11-D11 -> 922632.63 | F11: =E11/B11 -> 0.013098803
A12: 44713 | B12: 68558116 | C12: =1131185.07 -> 1131185.1 | D12: 234968.75 | E12: =C12-D12 -> 896216.32 | F12: =E12/B12 -> 0.013072359
A13: 44743 | B13: 73607802 | C13: 1214507.1 | D13: 223595.98 | E13: =C13-D13 -> 990911.13 | F13: =E13/B13 -> 0.013462039
A14: 44774 | B14: 72063063 | C14: 1189016.2 | D14: 246520.9 | E14: =C14-D14 -> 942495.29 | F14: =E14/B14 -> 0.013078757
A15: 44805 | B15: 69250018 | C15: 1142605.1 | D15: 230592.43 | E15: =C15-D15 -> 912012.62 | F15: =E15/B15 -> 0.013169854
A16: Percentual médio do período | F16: =H16/G16 -> 0.013110871 | G16: =SUM(B4:B15) -> 8.5094424e+08 | H16: =SUM(E4:E15) -> 11156620
A19: APURAÇÃO DO PERCENTUAL MÉDIO DE RECOLHIMENTO DE COFINS
