Workbook

Sheet 1. Floriano
A1: PREFEITURA MUNICIPAL DE BOM RETIRO DO SUL/RS
A2: OBRA: | C2: Drenagem Pluvial e aterro de pista | D2: LOCAL: | E2: Localidade do Pinhal
A3: TRECHO: | C3: Localidade do Pinhal - sistema de drenagem pluvial próximo ao Campo do Floriano | D3: REFERÊNCIA: | E3: SINAPI (Não Desonerada) - 09/2025 / SICRO 07/2025
A4: ORÇAMENTO
A5: ITEM | B5: CÓDIGO SINAPI | C5: DESCRIÇÃO | D5: UNIDADE | E5: QUANTIDADE | F5: VALOR UNITÁRIO | G5: VALOR COM BDI (24,23%) | H5: VALOR TOTAL
A6: 1 | B6: SERVIÇOS PRELIMINARES
A7: 1.1 | B7: 103689 | C7: FORNECIMENTO E INSTALAÇÃO DE PLACA DE OBRA COM CHAPA GALVANIZADA E ESTRUTURA DE MADEIRA. AF_03/2022_PS | D7: m² | E7: 2.88 | F7: 462.39 | G7: =TRUNC((F7*1.2423),2) -> 574.42 | H7: =TRUNC((E7*G7),2) -> 1654.32
A8: 1.2 | B8: CP 1 | C8: MOBILIZAÇÃO DE EQUIPAMENTOS | D8: t.Km | E8: =ROUND((30*21.5),2) -> 645 | F8: =COMPOSIÇÕES!F5 -> 1.86 | G8: =TRUNC((F8*1.2423),2) -> 2.31 | H8: =TRUNC((E8*G8),2) -> 1489.95
A9: 1.3 | B9: CP 2 | C9: ADMINISTRAÇÃO DE OBRA - EQUIPE | D9: Mês | E9: 1 | F9: =COMPOSIÇÕES!F14 -> 14600.8 | G9: =TRUNC((F9*1.2423),2) -> 18138.57 | H9: =TRUNC((E9*G9),2) -> 18138.57
A10: TOTAL DO ITEM 1: | H10: =SUM(H7:H9) -> 21282.84
A11: 2 | B11: TERRAPLANAGEM
A12: 2.1 | B12: 100978 | C12: CARGA, MANOBRA E DESCARGA DE SOLOS E MATERIAIS GRANULARES EM CAMINHÃO BASCULANTE 10 M³ - CARGA COM ESCAVADEIRA HIDRÁULICA (CAÇAMBA DE 1,20 M³ / 155 HP) E DESCARGA LIVRE (UNIDADE: M3). AF_07/2020 | D12: m³ | E12: =ROUND((80.37*6),2) -> 482.22 | F12: 7.62 | G12: =TRUNC((F12*1.2423),2) -> 9.46 | H12: =TRUNC((E12*G12),2) -> 4561.8
A13: 2.2 | B13: 93589 | C13: TRANSPORTE COM CAMINHÃO BASCULANTE DE 10 M³, EM VIA URBANA EM REVESTIMENTO PRIMÁRIO (UNIDADE: M3XKM). AF_07/2020 - DMT 10,5KM | D13: m³.Km | E13: =ROUND((E12*1.25*10.5),2) -> 6329.14 | F13: 2.9 | G13: =TRUNC((F13*1.2423),2) -> 3.6 | H13: =TRUNC((E13*G13),2) -> 22784.9
A14: 2.3 | B14: CP 4 | C14: CONSTRUÇÃO DE BASE E SUB-BASE PARA PAVIMENTAÇÃO DE RACHÃO, COM ESPESSURA DE 30 CM - EXCLUSIVE CARGA E TRANSPORTE. AF_09/2024 | D14: m³ | E14: =E12 -> 482.22 | F14: 20.82 | G14: =TRUNC((F14*1.2423),2) -> 25.86 | H14: =TRUNC((E14*G14),2) -> 12470.2
A15: TOTAL DO ITEM 2: | H15: =SUM(H12:H14) -> 39816.9
A16: 3 | B16: DRENAGEM PLUVIAL
B17: 102281 | C17: ESCAVAÇÃO MECANIZADA DE VALA COM PROF. MAIOR QUE 1,5 M ATÉ 3,0 M (MÉDIA MONTANTE E JUSANTE/UMA COMPOSIÇÃO POR TRECHO),COM ESCAVADEIRA (1,2 M3),LARG. DE 1,5 M A 2,5 M, EM SOLO DE 1A CATEGORIA, LOCAIS COM BAIXO NÍVEL DE INTERFERÊNCIA. AF_02/2021 | D17: m³ | E17: =ROUND((2.2*1.5*E23),2) -> 148.5 | F17: 6.19 | G17: =TRUNC((F17*1.2423),2) -> 7.68 | H17: =TRUNC((E17*G17),2) -> 1140.48
B18: 93368 | C18: REATERRO MECANIZADO DE VALA COM ESCAVADEIRA HIDRÁULICA (CAPACIDADE DA CAÇAMBA: 0,8 M³/POTÊNCIA: 111 HP), LARGURA ATÉ 1,5 M, PROFUNDIDADE DE 1,5 A 3,0 M, COM SOLO (SEM SUBSTITUIÇÃO) DE 1ª CATEGORIA, COM COMPACTADOR DE SOLOS DE PERCUSSÃO. AF_08/2023 | D18: m³ | E18: =ROUND((E17-(E23*1.13)),2) -> 97.65 | F18: 23.89 | G18: =TRUNC((F18*1.2423),2) -> 29.67 | H18: =TRUNC((E18*G18),2) -> 2897.27
B19: CP 9 | C19: PREPARO DE FUNDO DE VALA COM LARGURA MENOR QUE 1,5 M, COM CAMADA DE RACHÃO, LANÇAMENTO MECANIZADO. AF_08/2020 | D19: m³ | E19: =ROUND((10*1.5*0.3),2) -> 4.5 | F19: =COMPOSIÇÕES!F73 -> 133.04 | G19: =TRUNC((F19*1.2423),2) -> 165.27 | H19: =TRUNC((E19*G19),2) -> 743.71
B20: 93589 | C20: TRANSPORTE COM CAMINHÃO BASCULANTE DE 10 M³, EM VIA URBANA EM REVESTIMENTO PRIMÁRIO (UNIDADE: M3XKM). AF_07/2020 - DMT 10,5KM | D20: m³.Km | E20: =ROUND((E19*1.25*10.5),2) -> 59.06 | F20: 2.9 | G20: =TRUNC((F20*1.2423),2) -> 3.6 | H20: =TRUNC((E20*G20),2) -> 212.61
B21: 101623 | C21: PREPARO DE FUNDO DE VALA COM LARGURA MENOR QUE 1,5 M, COM CAMADA DE BRITA, LANÇAMENTO MECANIZADO. AF_08/2020 | D21: m³ | E21: =ROUND((E23*1*0.1),2) -> 4.5 | F21: 253.05 | G21: =TRUNC((F21*1.2423),2) -> 314.36 | H21: =TRUNC((E21*G21),2) -> 1414.62
B22: 93589 | C22: TRANSPORTE COM CAMINHÃO BASCULANTE DE 10 M³, EM VIA URBANA EM REVESTIMENTO PRIMÁRIO (UNIDADE: M3XKM). AF_07/2020 - DMT 20KM | D22: m³.Km | E22: =ROUND((E21*20),2) -> 90 | F22: 2.9 | G22: =TRUNC((F22*1.2423),2) -> 3.6 | H22: =TRUNC((E22*G22),2) -> 324
B23: 92216 | C23: TUBO DE CONCRETO PARA REDES COLETORAS DE ÁGUAS PLUVIAIS, DIÂMETRO DE 1000 MM, JUNTA RÍGIDA, INSTALADO EM LOCAL COM BAIXO NÍVEL DE INTERFERÊNCIAS - FORNECIMENTO E ASSENTAMENTO. AF_03/2024 | D23: m | E23: 45 | F23: 620.06 | G23: =TRUNC((F23*1.2423),2) -> 770.3 | H23: =TRUNC((E23*G23),2) -> 34663.5
B24: 92214 | C24: TUBO DE CONCRETO PARA REDES COLETORAS DE ÁGUAS PLUVIAIS, DIÂMETRO DE 800 MM, JUNTA RÍGIDA, INSTALADO EM LOCAL COM BAIXO NÍVEL DE INTERFERÊNCIAS - FORNECIMENTO E ASSENTAMENTO. AF_03/2024 | D24: m | E24: 0 | F24: 520.56 | G24: =TRUNC((F24*1.2423),2) -> 646.69 | H24: =TRUNC((E24*G24),2) -> 0
B25: 100946 | C25: TRANSPORTE COM CAMINHÃO CARROCERIA 9T, EM VIA URBANA EM REVESTIMENTO PRIMÁRIO (UNIDADE: TXKM). AF_07/2020 - DMT 21,5KM | D25: t.Km | E25: =ROUND((E23*1.08*21.5),2) -> 1044.9 | F25: 2.6 | G25: =TRUNC((F25*1.2423),2) -> 3.22 | H25: =TRUNC((E25*G25),2) -> 3364.57
B26: 102740 | C26: BOCA PARA BUEIRO SIMPLES TUBULAR D = 100 CM EM CONCRETO, ALAS COM ESCONSIDADE DE 0°, INCLUINDO FÔRMAS E MATERIAIS. AF_07/2021 | D26: Unid. | E26: 4 | F26: 5859.78 | G26: =TRUNC((F26*1.2423),2) -> 7279.6 | H26: =TRUNC((E26*G26),2) -> 29118.4
B27: 102739 | C27: BOCA PARA BUEIRO SIMPLES TUBULAR D = 80 CM EM CONCRETO, ALAS COM ESCONSIDADE DE 0°, INCLUINDO FÔRMAS E MATERIAIS. AF_07/2021 | D27: Unid. | E27: 1 | F27: 3913.7 | G27: =TRUNC((F27*1.2423),2) -> 4861.98 | H27: =TRUNC((E27*G27),2) -> 4861.98
A28: TOTAL DO ITEM 3: | H28: =SUM(H17:H27) -> 78741.14
A29: 4 | B29: SERVIÇOS COMPLEMENTARES
A30: 4.1 | B30: CP 3 | C30: DESMOBILIZAÇÃO DE EQUIPAMENTOS | D30: t.Km | E30: =E8 -> 645 | F30: =COMPOSIÇÕES!F20 -> 1.86 | G30: =TRUNC((F30*1.2423),2) -> 2.31 | H30: =TRUNC((E30*G30),2) -> 1489.95
A31: 4.2 | B31: 88908 | C31: ESCAVADEIRA HIDRÁULICA SOBRE ESTEIRAS, CAÇAMBA 1,20 M3, PESO OPERACIONAL 21 T, POTÊNCIA BRUTA 155 HP - CHI DIURNO. AF_06/2014 - DESASSOREAMENTO DE VALA A JUSANTE E MONTANTE | D31: CHI | E31: 30 | F31: 112.37 | G31: =TRUNC((F31*1.2423),2) -> 139.59 | H31: =TRUNC((E31*G31),2) -> 4187.7
A32: 4.3 | B32: 88907 | C32: ESCAVADEIRA HIDRÁULICA SOBRE ESTEIRAS, CAÇAMBA 1,20 M3, PESO OPERACIONAL 21 T, POTÊNCIA BRUTA 155 HP - CHP DIURNO. AF_06/2014 - DESASSOREAMENTO DE VALA A JUSANTE E MONTANTE | D32: CHP | E32: 60 | F32: 275.03 | G32: =TRUNC((F32*1.2423),2) -> 341.66 | H32: =TRUNC((E32*G32),2) -> 20499.6
A33: TOTAL DO ITEM 4: | H33: =SUM(H30:H32) -> 26177.25
A34: VALOR TOTAL OBRA: | H34: =H10+H15+H28+H33 -> 166018.13
C37: Bom Retiro do Sul, 12 de novembro de 2025
E40: Eng. Civil Giovana Mulinari

Sheet 2. Minuano
A1: PREFEITURA MUNICIPAL DE BOM RETIRO DO SUL/RS
A2: OBRA: | C2: Drenagem Pluvial e aterro de pista | D2: LOCAL: | E2: Localidade do Pinhal
A3: TRECHO: | C3: Localidade do Pinhal - sistema de drenagem pluvial próximo a Minuano | D3: REFERÊNCIA: | E3: SINAPI (Não Desonerada) - 09/2025 / SICRO 07/2025
A4: ORÇAMENTO
A5: ITEM | B5: CÓDIGO SINAPI | C5: DESCRIÇÃO | D5: UNIDADE | E5: QUANTIDADE | F5: VALOR UNITÁRIO | G5: VALOR COM BDI (24,23%) | H5: VALOR TOTAL
A6: 1 | B6: SERVIÇOS PRELIMINARES
A7: 1.1 | B7: 103689 | C7: FORNECIMENTO E INSTALAÇÃO DE PLACA DE OBRA COM CHAPA GALVANIZADA E ESTRUTURA DE MADEIRA. AF_03/2022_PS | D7: m² | E7: 2.88 | F7: 462.39 | G7: =TRUNC((F7*1.2423),2) -> 574.42 | H7: =TRUNC((E7*G7),2) -> 1654.32
A8: 1.2 | B8: CP 1 | C8: MOBILIZAÇÃO DE EQUIPAMENTOS | D8: t.Km | E8: =ROUND((30*24),2) -> 720 | F8: =COMPOSIÇÕES!F5 -> 1.86 | G8: =TRUNC((F8*1.2423),2) -> 2.31 | H8: =TRUNC((E8*G8),2) -> 1663.2
A9: 1.3 | B9: CP 2 | C9: ADMINISTRAÇÃO DE OBRA - EQUIPE | D9: Mês | E9: 1 | F9: =COMPOSIÇÕES!F14 -> 14600.8 | G9: =TRUNC((F9*1.2423),2) -> 18138.57 | H9: =TRUNC((E9*G9),2) -> 18138.57
A10: TOTAL DO ITEM 1: | H10: =SUM(H7:H9) -> 21456.09
A11: 2 | B11: TERRAPLANAGEM
A12: 2.1 | B12: 100978 | C12: CARGA, MANOBRA E DESCARGA DE SOLOS E MATERIAIS GRANULARES EM CAMINHÃO BASCULANTE 10 M³ - CARGA COM ESCAVADEIRA HIDRÁULICA (CAÇAMBA DE 1,20 M³ / 155 HP) E DESCARGA LIVRE (UNIDADE: M3). AF_07/2020 | D12: m³ | E12: =ROUND((84.7*6),2) -> 508.2 | F12: 7.62 | G12: =TRUNC((F12*1.2423),2) -> 9.46 | H12: =TRUNC((E12*G12),2) -> 4807.57
A13: 2.2 | B13: 93589 | C13: TRANSPORTE COM CAMINHÃO BASCULANTE DE 10 M³, EM VIA URBANA EM REVESTIMENTO PRIMÁRIO (UNIDADE: M3XKM). AF_07/2020 - DMT 10,5KM | D13: m³.Km | E13: =ROUND((E12*1.25*10.5),2) -> 6670.13 | F13: 2.9 | G13: =TRUNC((F13*1.2423),2) -> 3.6 | H13: =TRUNC((E13*G13),2) -> 24012.46
A14: 2.3 | B14: CP 4 | C14: CONSTRUÇÃO DE BASE E SUB-BASE PARA PAVIMENTAÇÃO DE RACHÃO, COM ESPESSURA DE 30 CM - EXCLUSIVE CARGA E TRANSPORTE. AF_09/2024 | D14: m³ | E14: =E12 -> 508.2 | F14: 20.82 | G14: =TRUNC((F14*1.2423),2) -> 25.86 | H14: =TRUNC((E14*G14),2) -> 13142.05
A15: TOTAL DO ITEM 2: | H15: =SUM(H12:H14) -> 41962.08
A16: 3 | B16: DRENAGEM PLUVIAL
A17: 3.1 | B17: 102281 | C17: ESCAVAÇÃO MECANIZADA DE VALA COM PROF. MAIOR QUE 1,5 M ATÉ 3,0 M (MÉDIA MONTANTE E JUSANTE/UMA COMPOSIÇÃO POR TRECHO),COM ESCAVADEIRA (1,2 M3),LARG. DE 1,5 M A 2,5 M, EM SOLO DE 1A CATEGORIA, LOCAIS COM BAIXO NÍVEL DE INTERFERÊNCIA. AF_02/2021 | D17: m³ | E17: =ROUND((2.8*3*E23),2) -> 84 | F17: 6.19 | G17: =TRUNC((F17*1.2423),2) -> 7.68 | H17: =TRUNC((E17*G17),2) -> 645.12
A18: 3.2 | B18: 93368 | C18: REATERRO MECANIZADO DE VALA COM ESCAVADEIRA HIDRÁULICA (CAPACIDADE DA CAÇAMBA: 0,8 M³/POTÊNCIA: 111 HP), LARGURA ATÉ 1,5 M, PROFUNDIDADE DE 1,5 A 3,0 M, COM SOLO (SEM SUBSTITUIÇÃO) DE 1ª CATEGORIA, COM COMPACTADOR DE SOLOS DE PERCUSSÃO. AF_08/2023 | D18: m³ | E18: =ROUND((E17-(E23*2.54)),2) -> 58.6 | F18: 23.89 | G18: =TRUNC((F18*1.2423),2) -> 29.67 | H18: =TRUNC((E18*G18),2) -> 1738.66
A19: 3.3 | B19: CP 9 | C19: PREPARO DE FUNDO DE VALA COM LARGURA MENOR QUE 1,5 M, COM CAMADA DE RACHÃO, LANÇAMENTO MECANIZADO. AF_08/2020 | D19: m³ | E19: =ROUND((10*1.5*0.3),2) -> 4.5 | F19: =COMPOSIÇÕES!F73 -> 133.04 | G19: =TRUNC((F19*1.2423),2) -> 165.27 | H19: =TRUNC((E19*G19),2) -> 743.71
A20: 3.4 | B20: 93589 | C20: TRANSPORTE COM CAMINHÃO BASCULANTE DE 10 M³, EM VIA URBANA EM REVESTIMENTO PRIMÁRIO (UNIDADE: M3XKM). AF_07/2020 - DMT 10,5KM | D20: m³.Km | E20: =ROUND((E19*1.25*10.5),2) -> 59.06 | F20: 2.9 | G20: =TRUNC((F20*1.2423),2) -> 3.6 | H20: =TRUNC((E20*G20),2) -> 212.61
A21: 3.5 | B21: 101623 | C21: PREPARO DE FUNDO DE VALA COM LARGURA MENOR QUE 1,5 M, COM CAMADA DE BRITA, LANÇAMENTO MECANIZADO. AF_08/2020 | D21: m³ | E21: =ROUND((E23*1*0.1),2) -> 1 | F21: 253.05 | G21: =TRUNC((F21*1.2423),2) -> 314.36 | H21: =TRUNC((E21*G21),2) -> 314.36
A22: 3.6 | B22: 93589 | C22: TRANSPORTE COM CAMINHÃO BASCULANTE DE 10 M³, EM VIA URBANA EM REVESTIMENTO PRIMÁRIO (UNIDADE: M3XKM). AF_07/2020 - DMT 22KM | D22: m³.Km | E22: =ROUND((E21*22),2) -> 22 | F22: 2.9 | G22: =TRUNC((F22*1.2423),2) -> 3.6 | H22: =TRUNC((E22*G22),2) -> 79.2
A23: 3.7 | B23: 92818 | C23: TUBO DE CONCRETO PARA REDES COLETORAS DE ÁGUAS PLUVIAIS, DIÂMETRO DE 1500 MM, JUNTA RÍGIDA, INSTALADO EM LOCAL COM BAIXO NÍVEL DE INTERFERÊNCIAS - FORNECIMENTO E ASSENTAMENTO. AF_03/2024 | D23: m | E23: 10 | F23: 1282.89 | G23: =TRUNC((F23*1.2423),2) -> 1593.73 | H23: =TRUNC((E23*G23),2) -> 15937.3
A24: 3.8 | B24: 100946 | C24: TRANSPORTE COM CAMINHÃO CARROCERIA 9T, EM VIA URBANA EM REVESTIMENTO PRIMÁRIO (UNIDADE: TXKM). AF_07/2020 - DMT 24KM | D24: t.Km | E24: =ROUND((E23*2.1*24),2) -> 504 | F24: 2.6 | G24: =TRUNC((F24*1.2423),2) -> 3.22 | H24: =TRUNC((E24*G24),2) -> 1622.88
A25: 3.9 | B25: 102742 | C25: BOCA PARA BUEIRO SIMPLES TUBULAR D = 150 CM EM CONCRETO, ALAS COM ESCONSIDADE DE 0°, INCLUINDO FÔRMAS E MATERIAIS. AF_07/2021 | D25: Unid. | E25: 2 | F25: 14218.78 | G25: =TRUNC((F25*1.2423),2) -> 17663.99 | H25: =TRUNC((E25*G25),2) -> 35327.98
A26: TOTAL DO ITEM 3: | H26: =SUM(H17:H25) -> 56621.82
A27: 4 | B27: SERVIÇOS COMPLEMENTARES
A28: 4.1 | B28: CP 3 | C28: DESMOBILIZAÇÃO DE EQUIPAMENTOS | D28: t.Km | E28: =E8 -> 720 | F28: =COMPOSIÇÕES!F20 -> 1.86 | G28: =TRUNC((F28*1.2423),2) -> 2.31 | H28: =TRUNC((E28*G28),2) -> 1663.2
A29: 4.2 | B29: 88908 | C29: ESCAVADEIRA HIDRÁULICA SOBRE ESTEIRAS, CAÇAMBA 1,20 M3, PESO OPERACIONAL 21 T, POTÊNCIA BRUTA 155 HP - CHI DIURNO. AF_06/2014 - DESASSOREAMENTO DE VALA A JUSANTE E MONTANTE | D29: CHI | E29: 0 | F29: 112.37 | G29: =TRUNC((F29*1.2423),2) -> 139.59 | H29: =TRUNC((E29*G29),2) -> 0
A30: 4.3 | B30: 88907 | C30: ESCAVADEIRA HIDRÁULICA SOBRE ESTEIRAS, CAÇAMBA 1,20 M3, PESO OPERACIONAL 21 T, POTÊNCIA BRUTA 155 HP - CHP DIURNO. AF_06/2014 - DESASSOREAMENTO DE VALA A JUSANTE E MONTANTE | D30: CHP | E30: 0 | F30: 275.03 | G30: =TRUNC((F30*1.2423),2) -> 341.66 | H30: =TRUNC((E30*G30),2) -> 0
A31: TOTAL DO ITEM 4: | H31: =SUM(H28:H30) -> 1663.2
A32: VALOR TOTAL OBRA: | H32: =H10+H15+H26+H31 -> 121703.19
C35: Bom Retiro do Sul, 12 de novembro de 2025
E38: Eng. Civil Giovana Mulinari

Sheet 3. Languiru
A1: PREFEITURA MUNICIPAL DE BOM RETIRO DO SUL/RS
A2: OBRA: | C2: Drenagem Pluvial e aterro de pista | D2: LOCAL: | E2: Localidade da Fazenda Aurora
A3: TRECHO: | C3: Localidade da Fazenda Aurora – drenagem 01 pluvial próximo a Languiru | D3: REFERÊNCIA: | E3: SINAPI (Não Desonerada) - 09/2025 / SICRO 07/2025
A4: ORÇAMENTO
A5: ITEM | B5: CÓDIGO SINAPI | C5: DESCRIÇÃO | D5: UNIDADE | E5: QUANTIDADE | F5: VALOR UNITÁRIO | G5: VALOR COM BDI (24,23%) | H5: VALOR TOTAL
A6: 1 | B6: SERVIÇOS PRELIMINARES
A7: 1.1 | B7: 103689 | C7: FORNECIMENTO E INSTALAÇÃO DE PLACA DE OBRA COM CHAPA GALVANIZADA E ESTRUTURA DE MADEIRA. AF_03/2022_PS | D7: m² | E7: 2.88 | F7: 462.39 | G7: =TRUNC((F7*1.2423),2) -> 574.42 | H7: =TRUNC((E7*G7),2) -> 1654.32
A8: 1.2 | B8: CP 1 | C8: MOBILIZAÇÃO DE EQUIPAMENTOS | D8: t.Km | E8: =ROUND((30*27.5),2) -> 825 | F8: =COMPOSIÇÕES!F5 -> 1.86 | G8: =TRUNC((F8*1.2423),2) -> 2.31 | H8: =TRUNC((E8*G8),2) -> 1905.75
A9: 1.3 | B9: CP 2 | C9: ADMINISTRAÇÃO DE OBRA - EQUIPE | D9: Mês | E9: 1 | F9: =COMPOSIÇÕES!F14 -> 14600.8 | G9: =TRUNC((F9*1.2423),2) -> 18138.57 | H9: =TRUNC((E9*G9),2) -> 18138.57
A10: TOTAL DO ITEM 1: | H10: =SUM(H7:H9) -> 21698.64
A11: 2 | B11: TERRAPLANAGEM
A12: 2.1 | B12: 100978 | C12: CARGA, MANOBRA E DESCARGA DE SOLOS E MATERIAIS GRANULARES EM CAMINHÃO BASCULANTE 10 M³ - CARGA COM ESCAVADEIRA HIDRÁULICA (CAÇAMBA DE 1,20 M³ / 155 HP) E DESCARGA LIVRE (UNIDADE: M3). AF_07/2020 | D12: m³ | E12: 0 | F12: 7.62 | G12: =TRUNC((F12*1.2423),2) -> 9.46 | H12: =TRUNC((E12*G12),2) -> 0
A13: 2.2 | B13: 93589 | C13: TRANSPORTE COM CAMINHÃO BASCULANTE DE 10 M³, EM VIA URBANA EM REVESTIMENTO PRIMÁRIO (UNIDADE: M3XKM). AF_07/2020 - DMT 9KM | D13: m³.Km | E13: 0 | F13: 2.9 | G13: =TRUNC((F13*1.2423),2) -> 3.6 | H13: =TRUNC((E13*G13),2) -> 0
A14: 2.3 | B14: CP 4 | C14: CONSTRUÇÃO DE BASE E SUB-BASE PARA PAVIMENTAÇÃO DE RACHÃO, COM ESPESSURA DE 30 CM - EXCLUSIVE CARGA E TRANSPORTE. AF_09/2024 | D14: m³ | E14: 0 | F14: 20.82 | G14: =TRUNC((F14*1.2423),2) -> 25.86 | H14: =TRUNC((E14*G14),2) -> 0
A15: TOTAL DO ITEM 2: | H15: =SUM(H12:H14) -> 0
A16: 3 | B16: DRENAGEM PLUVIAL
A17: 3.1 | B17: 102281 | C17: ESCAVAÇÃO MECANIZADA DE VALA COM PROF. MAIOR QUE 1,5 M ATÉ 3,0 M (MÉDIA MONTANTE E JUSANTE/UMA COMPOSIÇÃO POR TRECHO),COM ESCAVADEIRA (1,2 M3),LARG. DE 1,5 M A 2,5 M, EM SOLO DE 1A CATEGORIA, LOCAIS COM BAIXO NÍVEL DE INTERFERÊNCIA. AF_02/2021 | D17: m³ | E17: =ROUND((2.8*3*E23),2) -> 151.2 | F17: 6.19 | G17: =TRUNC((F17*1.2423),2) -> 7.68 | H17: =TRUNC((E17*G17),2) -> 1161.21
A18: 3.2 | B18: 93368 | C18: REATERRO MECANIZADO DE VALA COM ESCAVADEIRA HIDRÁULICA (CAPACIDADE DA CAÇAMBA: 0,8 M³/POTÊNCIA: 111 HP), LARGURA ATÉ 1,5 M, PROFUNDIDADE DE 1,5 A 3,0 M, COM SOLO (SEM SUBSTITUIÇÃO) DE 1ª CATEGORIA, COM COMPACTADOR DE SOLOS DE PERCUSSÃO. AF_08/2023 | D18: m³ | E18: =ROUND((E17-(E23*2.54)),2) -> 105.48 | F18: 23.89 | G18: =TRUNC((F18*1.2423),2) -> 29.67 | H18: =TRUNC((E18*G18),2) -> 3129.59
A19: 3.3 | B19: CP 9 | C19: PREPARO DE FUNDO DE VALA COM LARGURA MENOR QUE 1,5 M, COM CAMADA DE RACHÃO, LANÇAMENTO MECANIZADO. AF_08/2020 | D19: m³ | E19: =ROUND((18*1.5*0.8),2) -> 21.6 | F19: =COMPOSIÇÕES!F73 -> 133.04 | G19: =TRUNC((F19*1.2423),2) -> 165.27 | H19: =TRUNC((E19*G19),2) -> 3569.83
A20: 3.4 | B20: 93589 | C20: TRANSPORTE COM CAMINHÃO BASCULANTE DE 10 M³, EM VIA URBANA EM REVESTIMENTO PRIMÁRIO (UNIDADE: M3XKM). AF_07/2020 - DMT 9KM | D20: m³.Km | E20: =ROUND((E19*1.25*9),2) -> 243 | F20: 2.9 | G20: =TRUNC((F20*1.2423),2) -> 3.6 | H20: =TRUNC((E20*G20),2) -> 874.8
A21: 3.5 | B21: 101623 | C21: PREPARO DE FUNDO DE VALA COM LARGURA MENOR QUE 1,5 M, COM CAMADA DE BRITA, LANÇAMENTO MECANIZADO. AF_08/2020 | D21: m³ | E21: =ROUND((E23*1*0.1),2) -> 1.8 | F21: 253.05 | G21: =TRUNC((F21*1.2423),2) -> 314.36 | H21: =TRUNC((E21*G21),2) -> 565.84
A22: 3.6 | B22: 93589 | C22: TRANSPORTE COM CAMINHÃO BASCULANTE DE 10 M³, EM VIA URBANA EM REVESTIMENTO PRIMÁRIO (UNIDADE: M3XKM). AF_07/2020 - DMT 24KM | D22: m³.Km | E22: =ROUND((E21*24),2) -> 43.2 | F22: 2.9 | G22: =TRUNC((F22*1.2423),2) -> 3.6 | H22: =TRUNC((E22*G22),2) -> 155.52
A23: 3.7 | B23: 92818 | C23: TUBO DE CONCRETO PARA REDES COLETORAS DE ÁGUAS PLUVIAIS, DIÂMETRO DE 1500 MM, JUNTA RÍGIDA, INSTALADO EM LOCAL COM BAIXO NÍVEL DE INTERFERÊNCIAS - FORNECIMENTO E ASSENTAMENTO. AF_03/2024 | D23: m | E23: 18 | F23: 1282.89 | G23: =TRUNC((F23*1.2423),2) -> 1593.73 | H23: =TRUNC((E23*G23),2) -> 28687.14
A24: 3.8 | B24: 92214 | C24: TUBO DE CONCRETO PARA REDES COLETORAS DE ÁGUAS PLUVIAIS, DIÂMETRO DE 800 MM, JUNTA RÍGIDA, INSTALADO EM LOCAL COM BAIXO NÍVEL DE INTERFERÊNCIAS - FORNECIMENTO E ASSENTAMENTO. AF_03/2024 | D24: m | E24: 5 | F24: 520.56 | G24: =TRUNC((F24*1.2423),2) -> 646.69 | H24: =TRUNC((E24*G24),2) -> 3233.45
A25: 3.9 | B25: 100946 | C25: TRANSPORTE COM CAMINHÃO CARROCERIA 9T, EM VIA URBANA EM REVESTIMENTO PRIMÁRIO (UNIDADE: TXKM). AF_07/2020 - DMT 27,5KM | D25: t.Km | E25: =ROUND((((E23*2.1)+(E24*0.57))*27.5),2) -> 1117.88 | F25: 2.6 | G25: =TRUNC((F25*1.2423),2) -> 3.22 | H25: =TRUNC((E25*G25),2) -> 3599.57
A26: 3.10 | B26: 102746 | C26: BOCA PARA BUEIRO DUPLO TUBULAR D = 150 CM EM CONCRETO, ALAS COM ESCONSIDADE DE 0°, INCLUINDO FÔRMAS E MATERIAIS. AF_07/2021 | D26: Unid. | E26: 2 | F26: 17302.74 | G26: =TRUNC((F26*1.2423),2) -> 21495.19 | H26: =TRUNC((E26*G26),2) -> 42990.38
A27: 3.11 | B27: 102739 | C27: BOCA PARA BUEIRO SIMPLES TUBULAR D = 80 CM EM CONCRETO, ALAS COM ESCONSIDADE DE 0°, INCLUINDO FÔRMAS E MATERIAIS. AF_07/2021 | D27: Unid. | E27: 1 | F27: 3913.7 | G27: =TRUNC((F27*1.2423),2) -> 4861.98 | H27: =TRUNC((E27*G27),2) -> 4861.98
A28: TOTAL DO ITEM 3: | H28: =SUM(H17:H27) -> 92829.31
A29: 4 | B29: SERVIÇOS COMPLEMENTARES
A30: 4.1 | B30: CP 3 | C30: DESMOBILIZAÇÃO DE EQUIPAMENTOS | D30: t.Km | E30: =E8 -> 825 | F30: =COMPOSIÇÕES!F20 -> 1.86 | G30: =TRUNC((F30*1.2423),2) -> 2.31 | H30: =TRUNC((E30*G30),2) -> 1905.75
A31: 4.2 | B31: 88908 | C31: ESCAVADEIRA HIDRÁULICA SOBRE ESTEIRAS, CAÇAMBA 1,20 M3, PESO OPERACIONAL 21 T, POTÊNCIA BRUTA 155 HP - CHI DIURNO. AF_06/2014 - DESASSOREAMENTO DE VALA A JUSANTE E MONTANTE | D31: CHI | E31: 0 | F31: 112.37 | G31: =TRUNC((F31*1.2423),2) -> 139.59 | H31: =TRUNC((E31*G31),2) -> 0
A32: 4.3 | B32: 88907 | C32: ESCAVADEIRA HIDRÁULICA SOBRE ESTEIRAS, CAÇAMBA 1,20 M3, PESO OPERACIONAL 21 T, POTÊNCIA BRUTA 155 HP - CHP DIURNO. AF_06/2014 - DESASSOREAMENTO DE VALA A JUSANTE E MONTANTE | D32: CHP | E32: 0 | F32: 275.03 | G32: =TRUNC((F32*1.2423),2) -> 341.66 | H32: =TRUNC((E32*G32),2) -> 0
A33: TOTAL DO ITEM 4: | H33: =SUM(H30:H32) -> 1905.75
A34: VALOR TOTAL OBRA: | H34: =H10+H15+H28+H33 -> 116433.7
C36: Bom Retiro do Sul, 12 de novembro de 2025
E39: Eng. Civil Giovana Mulinari

Sheet 4. Languiru
A1: PREFEITURA MUNICIPAL DE BOM RETIRO DO SUL/RS
A2: OBRA: | C2: Drenagem Pluvial e aterro de pista | D2: LOCAL: | E2: Localidade da Fazenda Aurora
A3: TRECHO: | C3: Localidade da Fazenda Aurora – drenagem 02 pluvial próximo a Languiru | D3: REFERÊNCIA: | E3: SINAPI (Não Desonerada) - 09/2025 / SICRO 07/2025
A4: ORÇAMENTO
A5: ITEM | B5: CÓDIGO SINAPI | C5: DESCRIÇÃO | D5: UNIDADE | E5: QUANTIDADE | F5: VALOR UNITÁRIO | G5: VALOR COM BDI (24,23%) | H5: VALOR TOTAL
A6: 1 | B6: SERVIÇOS PRELIMINARES
A7: 1.1 | B7: 103689 | C7: FORNECIMENTO E INSTALAÇÃO DE PLACA DE OBRA COM CHAPA GALVANIZADA E ESTRUTURA DE MADEIRA. AF_03/2022_PS | D7: m² | E7: 2.88 | F7: 462.39 | G7: =TRUNC((F7*1.2423),2) -> 574.42 | H7: =TRUNC((E7*G7),2) -> 1654.32
A8: 1.2 | B8: CP 1 | C8: MOBILIZAÇÃO DE EQUIPAMENTOS | D8: t.Km | E8: =ROUND((30*27.5),2) -> 825 | F8: =COMPOSIÇÕES!F5 -> 1.86 | G8: =TRUNC((F8*1.2423),2) -> 2.31 | H8: =TRUNC((E8*G8),2) -> 1905.75
A9: 1.3 | B9: CP 2 | C9: ADMINISTRAÇÃO DE OBRA - EQUIPE | D9: Mês | E9: 1 | F9: =COMPOSIÇÕES!F14 -> 14600.8 | G9: =TRUNC((F9*1.2423),2) -> 18138.57 | H9: =TRUNC((E9*G9),2) -> 18138.57
A10: TOTAL DO ITEM 1: | H10: =SUM(H7:H9) -> 21698.64
A11: 2 | B11: TERRAPLANAGEM
A12: 2.1 | B12: 100978 | C12: CARGA, MANOBRA E DESCARGA DE SOLOS E MATERIAIS GRANULARES EM CAMINHÃO BASCULANTE 10 M³ - CARGA COM ESCAVADEIRA HIDRÁULICA (CAÇAMBA DE 1,20 M³ / 155 HP) E DESCARGA LIVRE (UNIDADE: M3). AF_07/2020 | D12: m³ | E12: =ROUND((39.43*6),2) -> 236.58 | F12: 7.62 | G12: =TRUNC((F12*1.2423),2) -> 9.46 | H12: =TRUNC((E12*G12),2) -> 2238.04
A13: 2.2 | B13: 93589 | C13: TRANSPORTE COM CAMINHÃO BASCULANTE DE 10 M³, EM VIA URBANA EM REVESTIMENTO PRIMÁRIO (UNIDADE: M3XKM). AF_07/2020 - DMT 9,5KM | D13: m³.Km | E13: =ROUND((E12*1.25*9.5),2) -> 2809.39 | F13: 2.9 | G13: =TRUNC((F13*1.2423),2) -> 3.6 | H13: =TRUNC((E13*G13),2) -> 10113.8
A14: 2.3 | B14: CP 4 | C14: CONSTRUÇÃO DE BASE E SUB-BASE PARA PAVIMENTAÇÃO DE RACHÃO, COM ESPESSURA DE 30 CM - EXCLUSIVE CARGA E TRANSPORTE. AF_09/2024 | D14: m³ | E14: =E12 -> 236.58 | F14: 20.82 | G14: =TRUNC((F14*1.2423),2) -> 25.86 | H14: =TRUNC((E14*G14),2) -> 6117.95
A15: TOTAL DO ITEM 2: | H15: =SUM(H12:H14) -> 18469.79
A16: 3 | B16: DRENAGEM PLUVIAL
A17: 3.1 | B17: 102281 | C17: ESCAVAÇÃO MECANIZADA DE VALA COM PROF. MAIOR QUE 1,5 M ATÉ 3,0 M (MÉDIA MONTANTE E JUSANTE/UMA COMPOSIÇÃO POR TRECHO),COM ESCAVADEIRA (1,2 M3),LARG. DE 1,5 M A 2,5 M, EM SOLO DE 1A CATEGORIA, LOCAIS COM BAIXO NÍVEL DE INTERFERÊNCIA. AF_02/2021 | D17: m³ | E17: =ROUND((2.2*1.5*E23),2) -> 33 | F17: 6.19 | G17: =TRUNC((F17*1.2423),2) -> 7.68 | H17: =TRUNC((E17*G17),2) -> 253.44
A18: 3.2 | B18: 93368 | C18: REATERRO MECANIZADO DE VALA COM ESCAVADEIRA HIDRÁULICA (CAPACIDADE DA CAÇAMBA: 0,8 M³/POTÊNCIA: 111 HP), LARGURA ATÉ 1,5 M, PROFUNDIDADE DE 1,5 A 3,0 M, COM SOLO (SEM SUBSTITUIÇÃO) DE 1ª CATEGORIA, COM COMPACTADOR DE SOLOS DE PERCUSSÃO. AF_08/2023 | D18: m³ | E18: =ROUND((E17-(E23*1.13)),2) -> 21.7 | F18: 23.89 | G18: =TRUNC((F18*1.2423),2) -> 29.67 | H18: =TRUNC((E18*G18),2) -> 643.83
A19: 3.3 | B19: CP 9 | C19: PREPARO DE FUNDO DE VALA COM LARGURA MENOR QUE 1,5 M, COM CAMADA DE RACHÃO, LANÇAMENTO MECANIZADO. AF_08/2020 | D19: m³ | E19: =ROUND((10*1.5*0.8),2) -> 12 | F19: =COMPOSIÇÕES!F73 -> 133.04 | G19: =TRUNC((F19*1.2423),2) -> 165.27 | H19: =TRUNC((E19*G19),2) -> 1983.24
A20: 3.4 | B20: 93589 | C20: TRANSPORTE COM CAMINHÃO BASCULANTE DE 10 M³, EM VIA URBANA EM REVESTIMENTO PRIMÁRIO (UNIDADE: M3XKM). AF_07/2020 - DMT 9,5KM | D20: m³.Km | E20: =ROUND((E19*1.25*9),2) -> 135 | F20: 2.9 | G20: =TRUNC((F20*1.2423),2) -> 3.6 | H20: =TRUNC((E20*G20),2) -> 486
A21: 3.5 | B21: 101623 | C21: PREPARO DE FUNDO DE VALA COM LARGURA MENOR QUE 1,5 M, COM CAMADA DE BRITA, LANÇAMENTO MECANIZADO. AF_08/2020 | D21: m³ | E21: =ROUND((E23*1*0.1),2) -> 1 | F21: 253.05 | G21: =TRUNC((F21*1.2423),2) -> 314.36 | H21: =TRUNC((E21*G21),2) -> 314.36
A22: 3.6 | B22: 93589 | C22: TRANSPORTE COM CAMINHÃO BASCULANTE DE 10 M³, EM VIA URBANA EM REVESTIMENTO PRIMÁRIO (UNIDADE: M3XKM). AF_07/2020 - DMT 24,5KM | D22: m³.Km | E22: =ROUND((E21*24.5),2) -> 24.5 | F22: 2.9 | G22: =TRUNC((F22*1.2423),2) -> 3.6 | H22: =TRUNC((E22*G22),2) -> 88.2
A23: 3.7 | B23: 92815 | C23: ASSENTAMENTO DE TUBO DE CONCRETO PARA REDES COLETORAS DE ÁGUAS PLUVIAIS, DIÂMETRO DE 1000 MM, JUNTA RÍGIDA, INSTALADO EM LOCAL COM BAIXO NÍVEL DE INTERFERÊNCIAS (NÃO INCLUI FORNECIMENTO). AF_03/2024 - TUBOS REAPROVEITADOS | D23: m | E23: 10 | F23: 107.01 | G23: =TRUNC((F23*1.2423),2) -> 132.93 | H23: =TRUNC((E23*G23),2) -> 1329.3
A24: 3.8 | B24: 92216 | C24: TUBO DE CONCRETO PARA REDES COLETORAS DE ÁGUAS PLUVIAIS, DIÂMETRO DE 1000 MM, JUNTA RÍGIDA, INSTALADO EM LOCAL COM BAIXO NÍVEL DE INTERFERÊNCIAS - FORNECIMENTO E ASSENTAMENTO. AF_03/2024 | D24: m | E24: 10 | F24: 620.06 | G24: =TRUNC((F24*1.2423),2) -> 770.3 | H24: =TRUNC((E24*G24),2) -> 7703
A25: 3.9 | B25: 100946 | C25: TRANSPORTE COM CAMINHÃO CARROCERIA 9T, EM VIA URBANA EM REVESTIMENTO PRIMÁRIO (UNIDADE: TXKM). AF_07/2020 - DMT 27,5KM | D25: t.Km | E25: =ROUND((E24*1.08*27.5),2) -> 297 | F25: 2.6 | G25: =TRUNC((F25*1.2423),2) -> 3.22 | H25: =TRUNC((E25*G25),2) -> 956.34
A26: 3.10 | B26: 100946 | C26: TRANSPORTE COM CAMINHÃO CARROCERIA 9T, EM VIA URBANA EM REVESTIMENTO PRIMÁRIO (UNIDADE: TXKM). AF_07/2020 - DMT 2KM (REAPROVEITADOS) | D26: t.Km | E26: =ROUND((E23*1.08*2),2) -> 21.6 | F26: 2.6 | G26: =TRUNC((F26*1.2423),2) -> 3.22 | H26: =TRUNC((E26*G26),2) -> 69.55
A27: 3.11 | B27: 102744 | C27: BOCA PARA BUEIRO DUPLO TUBULAR D = 100 CM EM CONCRETO, ALAS COM ESCONSIDADE DE 0°, INCLUINDO FÔRMAS E MATERIAIS. AF_07/2021 | D27: Unid. | E27: 2 | F27: 7113.94 | G27: =TRUNC((F27*1.2423),2) -> 8837.64 | H27: =TRUNC((E27*G27),2) -> 17675.28
A28: TOTAL DO ITEM 3: | H28: =SUM(H17:H27) -> 31502.54
A29: 4 | B29: SERVIÇOS COMPLEMENTARES
A30: 4.1 | B30: CP 3 | C30: DESMOBILIZAÇÃO DE EQUIPAMENTOS | D30: t.Km | E30: =E8 -> 825 | F30: =COMPOSIÇÕES!F20 -> 1.86 | G30: =TRUNC((F30*1.2423),2) -> 2.31 | H30: =TRUNC((E30*G30),2) -> 1905.75
A31: 4.2 | B31: 88908 | C31: ESCAVADEIRA HIDRÁULICA SOBRE ESTEIRAS, CAÇAMBA 1,20 M3, PESO OPERACIONAL 21 T, POTÊNCIA BRUTA 155 HP - CHI DIURNO. AF_06/2014 - DESASSOREAMENTO DE VALA A JUSANTE E MONTANTE | D31: CHI | E31: 0 | F31: 112.37 | G31: =TRUNC((F31*1.2423),2) -> 139.59 | H31: =TRUNC((E31*G31),2) -> 0
A32: 4.3 | B32: 88907 | C32: ESCAVADEIRA HIDRÁULICA SOBRE ESTEIRAS, CAÇAMBA 1,20 M3, PESO OPERACIONAL 21 T, POTÊNCIA BRUTA 155 HP - CHP DIURNO. AF_06/2014 - DESASSOREAMENTO DE VALA A JUSANTE E MONTANTE | D32: CHP | E32: 0 | F32: 275.03 | G32: =TRUNC((F32*1.2423),2) -> 341.66 | H32: =TRUNC((E32*G32),2) -> 0
A33: TOTAL DO ITEM 4: | H33: =SUM(H30:H32) -> 1905.75
A34: VALOR TOTAL OBRA: | H34: =H10+H15+H28+H33 -> 73576.72
C36: Bom Retiro do Sul, 12 de novembro de 2025
E39: Eng. Civil Giovana Mulinari

Sheet 5. Cavalos
A1: PREFEITURA MUNICIPAL DE BOM RETIRO DO SUL/RS
A2: OBRA: | C2: Drenagem Pluvial | D2: LOCAL: | E2: Fazenda Aurora
A3: TRECHO: | C3: Galeria sobre arroio nas proximidade da Granja Lunedo | D3: REFERÊNCIA: | E3: SINAPI (Não Desonerada) - 09/2025 / SICRO 07/2025
A4: ORÇAMENTO
A5: ITEM | B5: CÓDIGO SINAPI | C5: DESCRIÇÃO | D5: UNIDADE | E5: QUANTIDADE | F5: VALOR UNITÁRIO | G5: VALOR COM BDI (24,23%) | H5: VALOR TOTAL
A6: 1 | B6: SERVIÇOS PRELIMINARES
A7: 1.1 | B7: 103689 | C7: FORNECIMENTO E INSTALAÇÃO DE PLACA DE OBRA COM CHAPA GALVANIZADA E ESTRUTURA DE MADEIRA. AF_03/2022_PS | D7: m² | E7: 2.88 | F7: 462.39 | G7: =TRUNC((F7*1.2423),2) -> 574.42 | H7: =TRUNC((E7*G7),2) -> 1654.32
A8: 1.2 | B8: CP 1 | C8: MOBILIZAÇÃO DE EQUIPAMENTOS | D8: t.Km | E8: =ROUND((30*30),2) -> 900 | F8: =COMPOSIÇÕES!F5 -> 1.86 | G8: =TRUNC((F8*1.2423),2) -> 2.31 | H8: =TRUNC((E8*G8),2) -> 2079
A9: 1.3 | B9: CP 2 | C9: ADMINISTRAÇÃO DE OBRA - EQUIPE | D9: Mês | E9: 1 | F9: =COMPOSIÇÕES!F14 -> 14600.8 | G9: =TRUNC((F9*1.2423),2) -> 18138.57 | H9: =TRUNC((E9*G9),2) -> 18138.57
A10: TOTAL DO ITEM 1: | H10: =SUM(H7:H9) -> 21871.89
A11: 2 | B11: TERRAPLANAGEM
A12: 2.1 | B12: 100978 | C12: CARGA, MANOBRA E DESCARGA DE SOLOS E MATERIAIS GRANULARES EM CAMINHÃO BASCULANTE 10 M³ - CARGA COM ESCAVADEIRA HIDRÁULICA (CAÇAMBA DE 1,20 M³ / 155 HP) E DESCARGA LIVRE (UNIDADE: M3). AF_07/2020 | D12: m³ | E12: =ROUND((81*6),2) -> 486 | F12: 7.62 | G12: =TRUNC((F12*1.2423),2) -> 9.46 | H12: =TRUNC((E12*G12),2) -> 4597.56
A13: 2.2 | B13: 93589 | C13: TRANSPORTE COM CAMINHÃO BASCULANTE DE 10 M³, EM VIA URBANA EM REVESTIMENTO PRIMÁRIO (UNIDADE: M3XKM). AF_07/2020 - DMT 11,5KM | D13: m³.Km | E13: =ROUND((E12*1.25*11.5),2) -> 6986.25 | F13: 2.9 | G13: =TRUNC((F13*1.2423),2) -> 3.6 | H13: =TRUNC((E13*G13),2) -> 25150.5
A14: 2.3 | B14: CP 4 | C14: CONSTRUÇÃO DE BASE E SUB-BASE PARA PAVIMENTAÇÃO DE RACHÃO, COM ESPESSURA DE 30 CM - EXCLUSIVE CARGA E TRANSPORTE. AF_09/2024 | D14: m³ | E14: =E12 -> 486 | F14: 20.82 | G14: =TRUNC((F14*1.2423),2) -> 25.86 | H14: =TRUNC((E14*G14),2) -> 12567.96
A15: TOTAL DO ITEM 2: | H15: =SUM(H12:H14) -> 42316.02
A16: 3 | B16: DRENAGEM PLUVIAL
A17: 3.1 | B17: 102281 | C17: ESCAVAÇÃO MECANIZADA DE VALA COM PROF. MAIOR QUE 1,5 M ATÉ 3,0 M (MÉDIA MONTANTE E JUSANTE/UMA COMPOSIÇÃO POR TRECHO),COM ESCAVADEIRA (1,2 M3),LARG. DE 1,5 M A 2,5 M, EM SOLO DE 1A CATEGORIA, LOCAIS COM BAIXO NÍVEL DE INTERFERÊNCIA. AF_02/2021 | D17: m³ | E17: =ROUND((10*3*3),2) -> 90 | F17: 6.19 | G17: =TRUNC((F17*1.2423),2) -> 7.68 | H17: =TRUNC((E17*G17),2) -> 691.2
A18: 3.2 | B18: 1600405 (SICRO) | C18: Remoção de tubos de concreto com diâmetro de 1,20 m a 1,50 m em valas e bueiros | D18: m | E18: 18 | F18: 11.5 | G18: =TRUNC((F18*1.2423),2) -> 14.28 | H18: =TRUNC((E18*G18),2) -> 257.04
A19: 3.3 | B19: 93368 | C19: REATERRO MECANIZADO DE VALA COM ESCAVADEIRA HIDRÁULICA (CAPACIDADE DA CAÇAMBA: 0,8 M³/POTÊNCIA: 111 HP), LARGURA ATÉ 1,5 M, PROFUNDIDADE DE 1,5 A 3,0 M, COM SOLO (SEM SUBSTITUIÇÃO) DE 1ª CATEGORIA, COM COMPACTADOR DE SOLOS DE PERCUSSÃO. AF_08/2023 - TUBOS PARA REAPROVEITAMENTO | D19: m³ | E19: =ROUND((E17-(E21*9)),2) -> 0 | F19: 23.89 | G19: =TRUNC((F19*1.2423),2) -> 29.67 | H19: =TRUNC((E19*G19),2) -> 0
A20: 3.4 | B20: 97103 | C20: EXECUÇÃO DE RADIER, ESPESSURA DE 20 CM, FCK = 30 MPA, COM USO DE FORMAS EM MADEIRA SERRADA. AF_09/2021 | D20: m² | E20: =ROUND((10*3.5),2) -> 35 | F20: 274.74 | G20: =TRUNC((F20*1.2423),2) -> 341.3 | H20: =TRUNC((E20*G20),2) -> 11945.5
A21: 3.5 | B21: 104497 | C21: ADUELA/ GALERIA FECHADA PRE-MOLDADA DE CONCRETO ARMADO, SECAO QUADRANGULAR INTERNA DE 3,00 X 3,00 M (L X A), MISULA DE 20 X 20 CM, C = 1,00 M, ESPESSURA MIN = 20 CM, TB-45 E FCK DO CONCRETO = 30 MPA FORNECIMENTO E ASSENTAMENTO. AF_01/2023 | D21: m | E21: 10 | F21: 8880.93 | G21: =TRUNC((F21*1.2423),2) -> 11032.77 | H21: =TRUNC((E21*G21),2) -> 110327.7
A22: 3.6 | B22: 100947 | C22: TRANSPORTE COM CAMINHÃO CARROCERIA 9T, EM VIA URBANA PAVIMENTADA, DMT ATÉ 30KM (UNIDADE: TXKM). AF_07/2020 - DMT 30KM | D22: t.Km | E22: =ROUND((E21*6.2*30),2) -> 1860 | F22: 2.4 | G22: =TRUNC((F22*1.2423),2) -> 2.98 | H22: =TRUNC((E22*G22),2) -> 5542.8
A23: 3.7 | B23: 100948 | C23: TRANSPORTE COM CAMINHÃO CARROCERIA 9T, EM VIA URBANA PAVIMENTADA, ADICIONAL PARA DMT EXCEDENTE A 30 KM (UNIDADE: TXKM). AF_07/2020 - DMT 75KM | D23: t.Km | E23: =ROUND((E21*6.2*75),2) -> 4650 | F23: 0.95 | G23: =TRUNC((F23*1.2423),2) -> 1.18 | H23: =TRUNC((E23*G23),2) -> 5487
A24: 3.8 | B24: 102764 | C24: BOCA PARA BUEIRO SIMPLES CELULAR 300 X 300 CM EM CONCRETO, ALAS COM ESCONSIDADE DE 30°, INCLUINDO FÔRMAS E MATERIAIS. AF_07/2021 | D24: Unid. | E24: 2 | F24: 41074.63 | G24: =TRUNC((F24*1.2423),2) -> 51027.01 | H24: =TRUNC((E24*G24),2) -> 102054.02
A25: TOTAL DO ITEM 3: | H25: =SUM(H17:H24) -> 236305.26
A26: 4 | B26: SERVIÇOS COMPLEMENTARES
A27: 4.1 | B27: CP 3 | C27: DESMOBILIZAÇÃO DE EQUIPAMENTOS | D27: t.Km | E27: =E8 -> 900 | F27: =COMPOSIÇÕES!F20 -> 1.86 | G27: =TRUNC((F27*1.2423),2) -> 2.31 | H27: =TRUNC((E27*G27),2) -> 2079
A28: 4.2 | B28: 88908 | C28: ESCAVADEIRA HIDRÁULICA SOBRE ESTEIRAS, CAÇAMBA 1,20 M3, PESO OPERACIONAL 21 T, POTÊNCIA BRUTA 155 HP - CHI DIURNO. AF_06/2014 - DESASSOREAMENTO DE VALA A JUSANTE E MONTANTE | D28: CHI | E28: 0 | F28: 112.37 | G28: =TRUNC((F28*1.2423),2) -> 139.59 | H28: =TRUNC((E28*G28),2) -> 0
A29: 4.3 | B29: 88907 | C29: ESCAVADEIRA HIDRÁULICA SOBRE ESTEIRAS, CAÇAMBA 1,20 M3, PESO OPERACIONAL 21 T, POTÊNCIA BRUTA 155 HP - CHP DIURNO. AF_06/2014 - DESASSOREAMENTO DE VALA A JUSANTE E MONTANTE | D29: CHP | E29: 0 | F29: 275.03 | G29: =TRUNC((F29*1.2423),2) -> 341.66 | H29: =TRUNC((E29*G29),2) -> 0
A30: TOTAL DO ITEM 4: | H30: =SUM(H27:H29) -> 2079
A31: VALOR TOTAL OBRA: | H31: =H10+H15+H25+H30 -> 302572.17
C33: Bom Retiro do Sul, 12 de novembro de 2025
E36: Eng. Civil Giovana Mulinari

Sheet 6. Barra
A1: PREFEITURA MUNICIPAL DE BOM RETIRO DO SUL/RS
A2: OBRA: | C2: Drenagem Pluvial e aterro de pista | D2: LOCAL: | E2: Barra do Silva Jorge
A3: TRECHO: | C3: Localidade da Barra do Silva Jorge – Galeria Sobre Arroio | D3: REFERÊNCIA: | E3: SINAPI (Não Desonerada) - 09/2025 / SICRO 07/2025
A4: ORÇAMENTO
A5: ITEM | B5: CÓDIGO SINAPI | C5: DESCRIÇÃO | D5: UNIDADE | E5: QUANTIDADE | F5: VALOR UNITÁRIO | G5: VALOR COM BDI (24,23%) | H5: VALOR TOTAL
A6: 1 | B6: SERVIÇOS PRELIMINARES
A7: 1.1 | B7: 103689 | C7: FORNECIMENTO E INSTALAÇÃO DE PLACA DE OBRA COM CHAPA GALVANIZADA E ESTRUTURA DE MADEIRA. AF_03/2022_PS | D7: m² | E7: 2.88 | F7: 462.39 | G7: =TRUNC((F7*1.2423),2) -> 574.42 | H7: =TRUNC((E7*G7),2) -> 1654.32
A8: 1.2 | B8: CP 1 | C8: MOBILIZAÇÃO DE EQUIPAMENTOS | D8: t.Km | E8: =ROUND((30*30),2) -> 900 | F8: =COMPOSIÇÕES!F5 -> 1.86 | G8: =TRUNC((F8*1.2423),2) -> 2.31 | H8: =TRUNC((E8*G8),2) -> 2079
A9: 1.3 | B9: CP 2 | C9: ADMINISTRAÇÃO DE OBRA - EQUIPE | D9: Mês | E9: 1 | F9: =COMPOSIÇÕES!F14 -> 14600.8 | G9: =TRUNC((F9*1.2423),2) -> 18138.57 | H9: =TRUNC((E9*G9),2) -> 18138.57
A10: TOTAL DO ITEM 1: | H10: =SUM(H7:H9) -> 21871.89
A11: 2 | B11: TERRAPLANAGEM
A12: 2.1 | B12: 100978 | C12: CARGA, MANOBRA E DESCARGA DE SOLOS E MATERIAIS GRANULARES EM CAMINHÃO BASCULANTE 10 M³ - CARGA COM ESCAVADEIRA HIDRÁULICA (CAÇAMBA DE 1,20 M³ / 155 HP) E DESCARGA LIVRE (UNIDADE: M3). AF_07/2020 | D12: m³ | E12: =ROUND((185.75*6),2) -> 1114.5 | F12: 7.62 | G12: =TRUNC((F12*1.2423),2) -> 9.46 | H12: =TRUNC((E12*G12),2) -> 10543.17
A13: 2.2 | B13: 93589 | C13: TRANSPORTE COM CAMINHÃO BASCULANTE DE 10 M³, EM VIA URBANA EM REVESTIMENTO PRIMÁRIO (UNIDADE: M3XKM). AF_07/2020 - DMT 2KM | D13: m³.Km | E13: =ROUND((E12*1.25*2),2) -> 2786.25 | F13: 2.9 | G13: =TRUNC((F13*1.2423),2) -> 3.6 | H13: =TRUNC((E13*G13),2) -> 10030.5
A14: 2.3 | B14: 105742 (Composição) | C14: CONSTRUÇÃO DE BASE E SUB-BASE PARA PAVIMENTAÇÃO DE RACHÃO, COM ESPESSURA DE 30 CM - EXCLUSIVE CARGA E TRANSPORTE. AF_09/2024 | D14: m³ | E14: =E12 -> 1114.5 | F14: 20.82 | G14: =TRUNC((F14*1.2423),2) -> 25.86 | H14: =TRUNC((E14*G14),2) -> 28820.97
A15: TOTAL DO ITEM 2: | H15: =SUM(H12:H14) -> 49394.64
A16: 3 | B16: DRENAGEM PLUVIAL
A17: 3.1 | B17: 102281 | C17: ESCAVAÇÃO MECANIZADA DE VALA COM PROF. MAIOR QUE 1,5 M ATÉ 3,0 M (MÉDIA MONTANTE E JUSANTE/UMA COMPOSIÇÃO POR TRECHO),COM ESCAVADEIRA (1,2 M3),LARG. DE 1,5 M A 2,5 M, EM SOLO DE 1A CATEGORIA, LOCAIS COM BAIXO NÍVEL DE INTERFERÊNCIA. AF_02/2021 | D17: m³ | E17: =ROUND((20*3*3),2) -> 180 | F17: 6.19 | G17: =TRUNC((F17*1.2423),2) -> 7.68 | H17: =TRUNC((E17*G17),2) -> 1382.4
A18: 3.2 | B18: 93368 | C18: REATERRO MECANIZADO DE VALA COM ESCAVADEIRA HIDRÁULICA (CAPACIDADE DA CAÇAMBA: 0,8 M³/POTÊNCIA: 111 HP), LARGURA ATÉ 1,5 M, PROFUNDIDADE DE 1,5 A 3,0 M, COM SOLO (SEM SUBSTITUIÇÃO) DE 1ª CATEGORIA, COM COMPACTADOR DE SOLOS DE PERCUSSÃO. AF_08/2023 | D18: m³ | E18: 0 | F18: 23.89 | G18: =TRUNC((F18*1.2423),2) -> 29.67 | H18: =TRUNC((E18*G18),2) -> 0
A19: 3.3 | B19: 97103 | C19: EXECUÇÃO DE RADIER, ESPESSURA DE 20 CM, FCK = 30 MPA, COM USO DE FORMAS EM MADEIRA SERRADA. AF_09/2021 | D19: m² | E19: =ROUND((10*7),2) -> 70 | F19: 274.74 | G19: =TRUNC((F19*1.2423),2) -> 341.3 | H19: =TRUNC((E19*G19),2) -> 23891
A20: 3.4 | B20: 104497 | C20: ADUELA/ GALERIA FECHADA PRE-MOLDADA DE CONCRETO ARMADO, SECAO QUADRANGULAR INTERNA DE 3,00 X 3,00 M (L X A), MISULA DE 20 X 20 CM, C = 1,00 M, ESPESSURA MIN = 20 CM, TB-45 E FCK DO CONCRETO = 30 MPA FORNECIMENTO E ASSENTAMENTO. AF_01/2023 | D20: m | E20: 20 | F20: 8880.93 | G20: =TRUNC((F20*1.2423),2) -> 11032.77 | H20: =TRUNC((E20*G20),2) -> 220655.4
A21: 3.5 | B21: 100947 | C21: TRANSPORTE COM CAMINHÃO CARROCERIA 9T, EM VIA URBANA PAVIMENTADA, DMT ATÉ 30KM (UNIDADE: TXKM). AF_07/2020 - DMT 30KM | D21: t.Km | E21: =ROUND((E20*6.2*30),2) -> 3720 | F21: 2.4 | G21: =TRUNC((F21*1.2423),2) -> 2.98 | H21: =TRUNC((E21*G21),2) -> 11085.6
A22: 3.6 | B22: 100948 | C22: TRANSPORTE COM CAMINHÃO CARROCERIA 9T, EM VIA URBANA PAVIMENTADA, ADICIONAL PARA DMT EXCEDENTE A 30 KM (UNIDADE: TXKM). AF_07/2020 - DMT 85KM | D22: t.Km | E22: =ROUND((E20*6.2*85),2) -> 10540 | F22: 0.95 | G22: =TRUNC((F22*1.2423),2) -> 1.18 | H22: =TRUNC((E22*G22),2) -> 12437.2
A23: 3.7 | B23: 102768 | C23: BOCA PARA BUEIRO DUPLO CELULAR 300 X 300 CM EM CONCRETO, ALAS COM ESCONSIDADE DE 30°, INCLUINDO FÔRMAS E MATERIAIS. AF_07/2021 | D23: Unid. | E23: 2 | F23: 49846.88 | G23: =TRUNC((F23*1.2423),2) -> 61924.77 | H23: =TRUNC((E23*G23),2) -> 123849.54
A24: TOTAL DO ITEM 3: | H24: =SUM(H17:H23) -> 393301.14
A25: 4 | B25: SERVIÇOS COMPLEMENTARES
A26: 4.1 | B26: CP 3 | C26: DESMOBILIZAÇÃO DE EQUIPAMENTOS | D26: t.Km | E26: =E8 -> 900 | F26: =COMPOSIÇÕES!F20 -> 1.86 | G26: =TRUNC((F26*1.2423),2) -> 2.31 | H26: =TRUNC((E26*G26),2) -> 2079
A27: 4.2 | B27: 88908 | C27: ESCAVADEIRA HIDRÁULICA SOBRE ESTEIRAS, CAÇAMBA 1,20 M3, PESO OPERACIONAL 21 T, POTÊNCIA BRUTA 155 HP - CHI DIURNO. AF_06/2014 - DESASSOREAMENTO DE VALA A JUSANTE E MONTANTE | D27: CHI | E27: 30 | F27: 112.37 | G27: =TRUNC((F27*1.2423),2) -> 139.59 | H27: =TRUNC((E27*G27),2) -> 4187.7
A28: 4.3 | B28: 88907 | C28: ESCAVADEIRA HIDRÁULICA SOBRE ESTEIRAS, CAÇAMBA 1,20 M3, PESO OPERACIONAL 21 T, POTÊNCIA BRUTA 155 HP - CHP DIURNO. AF_06/2014 - DESASSOREAMENTO DE VALA A JUSANTE E MONTANTE | D28: CHP | E28: 60 | F28: 275.03 | G28: =TRUNC((F28*1.2423),2) -> 341.66 | H28: =TRUNC((E28*G28),2) -> 20499.6
A29: TOTAL DO ITEM 4: | H29: =SUM(H26:H28) -> 26766.3
A30: VALOR TOTAL OBRA: | H30: =H10+H15+H24+H29 -> 491333.97
C32: Bom Retiro do Sul, 12 de novembro de 2025
E35: Eng. Civil Giovana Mulinari

Sheet 7. Aurora
A1: PREFEITURA MUNICIPAL DE BOM RETIRO DO SUL/RS
A2: OBRA: | C2: Drenagem Pluvial e aterro de pista | D2: LOCAL: | E2: Fazenda Aurora
A3: TRECHO: | C3: Galeria sobre o arroio Capivara | D3: REFERÊNCIA: | E3: SINAPI (Não Desonerada) - 09/2025 / SICRO 07/2025
A4: ORÇAMENTO
A5: ITEM | B5: CÓDIGO SINAPI | C5: DESCRIÇÃO | D5: UNIDADE | E5: QUANTIDADE | F5: VALOR UNITÁRIO | G5: VALOR COM BDI (24,23%) | H5: VALOR TOTAL
A6: 1 | B6: SERVIÇOS PRELIMINARES
A7: 1.1 | B7: 103689 | C7: FORNECIMENTO E INSTALAÇÃO DE PLACA DE OBRA COM CHAPA GALVANIZADA E ESTRUTURA DE MADEIRA. AF_03/2022_PS | D7: m² | E7: 2.88 | F7: 462.39 | G7: =TRUNC((F7*1.2423),2) -> 574.42 | H7: =TRUNC((E7*G7),2) -> 1654.32
A8: 1.2 | B8: CP 1 | C8: MOBILIZAÇÃO DE EQUIPAMENTOS | D8: t.Km | E8: =ROUND((30*30),2) -> 900 | F8: =COMPOSIÇÕES!F5 -> 1.86 | G8: =TRUNC((F8*1.2423),2) -> 2.31 | H8: =TRUNC((E8*G8),2) -> 2079
A9: 1.3 | B9: CP 2 | C9: ADMINISTRAÇÃO DE OBRA - EQUIPE | D9: Mês | E9: 1 | F9: =COMPOSIÇÕES!F14 -> 14600.8 | G9: =TRUNC((F9*1.2423),2) -> 18138.57 | H9: =TRUNC((E9*G9),2) -> 18138.57
A10: TOTAL DO ITEM 1: | H10: =SUM(H7:H9) -> 21871.89
A11: 2 | B11: TERRAPLANAGEM
A12: 2.1 | B12: 100978 | C12: CARGA, MANOBRA E DESCARGA DE SOLOS E MATERIAIS GRANULARES EM CAMINHÃO BASCULANTE 10 M³ - CARGA COM ESCAVADEIRA HIDRÁULICA (CAÇAMBA DE 1,20 M³ / 155 HP) E DESCARGA LIVRE (UNIDADE: M3). AF_07/2020 | D12: m³ | E12: 0 | F12: 7.62 | G12: =TRUNC((F12*1.2423),2) -> 9.46 | H12: =TRUNC((E12*G12),2) -> 0
A13: 2.2 | B13: 93589 | C13: TRANSPORTE COM CAMINHÃO BASCULANTE DE 10 M³, EM VIA URBANA EM REVESTIMENTO PRIMÁRIO (UNIDADE: M3XKM). AF_07/2020 - DMT 8,5KM | D13: m³.Km | E13: 0 | F13: 2.9 | G13: =TRUNC((F13*1.2423),2) -> 3.6 | H13: =TRUNC((E13*G13),2) -> 0
A14: 2.3 | B14: 105742 (Composição) | C14: CONSTRUÇÃO DE BASE E SUB-BASE PARA PAVIMENTAÇÃO DE RACHÃO, COM ESPESSURA DE 30 CM - EXCLUSIVE CARGA E TRANSPORTE. AF_09/2024 | D14: m³ | E14: 0 | F14: 20.82 | G14: =TRUNC((F14*1.2423),2) -> 25.86 | H14: =TRUNC((E14*G14),2) -> 0
A15: TOTAL DO ITEM 2: | H15: =SUM(H12:H14) -> 0
A16: 3 | B16: DRENAGEM PLUVIAL
A17: 3.1 | B17: 102281 | C17: ESCAVAÇÃO MECANIZADA DE VALA COM PROF. MAIOR QUE 1,5 M ATÉ 3,0 M (MÉDIA MONTANTE E JUSANTE/UMA COMPOSIÇÃO POR TRECHO),COM ESCAVADEIRA (1,2 M3),LARG. DE 1,5 M A 2,5 M, EM SOLO DE 1A CATEGORIA, LOCAIS COM BAIXO NÍVEL DE INTERFERÊNCIA. AF_02/2021 | D17: m³ | E17: =ROUND((E21*3*3),2) -> 45 | F17: 6.19 | G17: =TRUNC((F17*1.2423),2) -> 7.68 | H17: =TRUNC((E17*G17),2) -> 345.6
A18: 3.2 | B18: 93368 | C18: REATERRO MECANIZADO DE VALA COM ESCAVADEIRA HIDRÁULICA (CAPACIDADE DA CAÇAMBA: 0,8 M³/POTÊNCIA: 111 HP), LARGURA ATÉ 1,5 M, PROFUNDIDADE DE 1,5 A 3,0 M, COM SOLO (SEM SUBSTITUIÇÃO) DE 1ª CATEGORIA, COM COMPACTADOR DE SOLOS DE PERCUSSÃO. AF_08/2023 | D18: m³ | E18: 0 | F18: 23.89 | G18: =TRUNC((F18*1.2423),2) -> 29.67 | H18: =TRUNC((E18*G18),2) -> 0
A19: 3.3 | B19: 97625 | C19: DEMOLIÇÃO DE ALVENARIA PARA QUALQUER TIPO DE BLOCO, DE FORMA MECANIZADA, SEM REAPROVEITAMENTO. AF_09/2023 | D19: m³ | E19: =ROUND((2.6*1.6*5),2) -> 20.8 | F19: 58.37 | G19: =TRUNC((F19*1.2423),2) -> 72.51 | H19: =TRUNC((E19*G19),2) -> 1508.2
A20: 3.4 | B20: 97103 | C20: EXECUÇÃO DE RADIER, ESPESSURA DE 20 CM, FCK = 30 MPA, COM USO DE FORMAS EM MADEIRA SERRADA. AF_09/2021 | D20: m² | E20: =ROUND((5*3.5),2) -> 17.5 | F20: 274.74 | G20: =TRUNC((F20*1.2423),2) -> 341.3 | H20: =TRUNC((E20*G20),2) -> 5972.75
A21: 3.5 | B21: 104494 | C21: ADUELA/ GALERIA FECHADA PRE-MOLDADA DE CONCRETO ARMADO, SECAO QUADRANGULAR INTERNA DE 2,50 X 2,50 M (L X A), MISULA DE 20 X 20 CM, C = 1,00 M, ESPESSURA MIN = 15 CM, TB-45 E FCK DO CONCRETO = 30 MPA FORNECIMENTO E ASSENTAMENTO. AF_01/2023 | D21: m | E21: 5 | F21: 7406.74 | G21: =TRUNC((F21*1.2423),2) -> 9201.39 | H21: =TRUNC((E21*G21),2) -> 46006.95
A22: 3.6 | B22: 100947 | C22: TRANSPORTE COM CAMINHÃO CARROCERIA 9T, EM VIA URBANA PAVIMENTADA, DMT ATÉ 30KM (UNIDADE: TXKM). AF_07/2020 - DMT 30KM | D22: t.Km | E22: =ROUND((E21*6.2*30),2) -> 930 | F22: 2.4 | G22: =TRUNC((F22*1.2423),2) -> 2.98 | H22: =TRUNC((E22*G22),2) -> 2771.4
A23: 3.7 | B23: 100948 | C23: TRANSPORTE COM CAMINHÃO CARROCERIA 9T, EM VIA URBANA PAVIMENTADA, ADICIONAL PARA DMT EXCEDENTE A 30 KM (UNIDADE: TXKM). AF_07/2020 - DMT 85KM | D23: t.Km | E23: =ROUND((E21*6.2*85),2) -> 2635 | F23: 0.95 | G23: =TRUNC((F23*1.2423),2) -> 1.18 | H23: =TRUNC((E23*G23),2) -> 3109.3
A24: 3.8 | B24: 102763 | C24: BOCA PARA BUEIRO SIMPLES CELULAR 250 X 250 CM EM CONCRETO, ALAS COM ESCONSIDADE DE 30°, INCLUINDO FÔRMAS E MATERIAIS. AF_07/2021 | D24: Unid. | E24: 2 | F24: 29141.2 | G24: =TRUNC((F24*1.2423),2) -> 36202.11 | H24: =TRUNC((E24*G24),2) -> 72404.22
A25: TOTAL DO ITEM 3: | H25: =SUM(H17:H24) -> 132118.42
A26: 4 | B26: SERVIÇOS COMPLEMENTARES
A27: 4.1 | B27: CP 3 | C27: DESMOBILIZAÇÃO DE EQUIPAMENTOS | D27: t.Km | E27: =E8 -> 900 | F27: =COMPOSIÇÕES!F20 -> 1.86 | G27: =TRUNC((F27*1.2423),2) -> 2.31 | H27: =TRUNC((E27*G27),2) -> 2079
A28: 4.2 | B28: 88908 | C28: ESCAVADEIRA HIDRÁULICA SOBRE ESTEIRAS, CAÇAMBA 1,20 M3, PESO OPERACIONAL 21 T, POTÊNCIA BRUTA 155 HP - CHI DIURNO. AF_06/2014 - DESASSOREAMENTO DE VALA A JUSANTE E MONTANTE | D28: CHI | E28: 30 | F28: 112.37 | G28: =TRUNC((F28*1.2423),2) -> 139.59 | H28: =TRUNC((E28*G28),2) -> 4187.7
A29: 4.3 | B29: 88907 | C29: ESCAVADEIRA HIDRÁULICA SOBRE ESTEIRAS, CAÇAMBA 1,20 M3, PESO OPERACIONAL 21 T, POTÊNCIA BRUTA 155 HP - CHP DIURNO. AF_06/2014 - DESASSOREAMENTO DE VALA A JUSANTE E MONTANTE | D29: CHP | E29: 60 | F29: 275.03 | G29: =TRUNC((F29*1.2423),2) -> 341.66 | H29: =TRUNC((E29*G29),2) -> 20499.6
A30: TOTAL DO ITEM 4: | H30: =SUM(H27:H29) -> 26766.3
A31: VALOR TOTAL OBRA: | H31: =H10+H15+H25+H30 -> 180756.61
C33: Bom Retiro do Sul, 12 de novembro de 2025
E36: Eng. Civil Giovana Mulinari

Sheet 8. Barra 1
A1: PREFEITURA MUNICIPAL DE BOM RETIRO DO SUL/RS
A2: OBRA: | C2: Drenagem Pluvial e aterro de pista | D2: LOCAL: | E2: Barra do Silva Jorge
A3: TRECHO: | C3: Localidade da Barra do Silva Jorge – drenagem 01 | D3: REFERÊNCIA: | E3: SINAPI (Não Desonerada) - 09/2025 / SICRO 07/2025
A4: ORÇAMENTO
A5: ITEM | B5: CÓDIGO SINAPI | C5: DESCRIÇÃO | D5: UNIDADE | E5: QUANTIDADE | F5: VALOR UNITÁRIO | G5: VALOR COM BDI (24,23%) | H5: VALOR TOTAL
A6: 1 | B6: SERVIÇOS PRELIMINARES
A7: 1.1 | B7: 103689 | C7: FORNECIMENTO E INSTALAÇÃO DE PLACA DE OBRA COM CHAPA GALVANIZADA E ESTRUTURA DE MADEIRA. AF_03/2022_PS | D7: m² | E7: 2.88 | F7: 462.39 | G7: =TRUNC((F7*1.2423),2) -> 574.42 | H7: =TRUNC((E7*G7),2) -> 1654.32
A8: 1.2 | B8: CP 1 | C8: MOBILIZAÇÃO DE EQUIPAMENTOS | D8: t.Km | E8: =ROUND((30*35),2) -> 1050 | F8: =COMPOSIÇÕES!F5 -> 1.86 | G8: =TRUNC((F8*1.2423),2) -> 2.31 | H8: =TRUNC((E8*G8),2) -> 2425.5
A9: 1.3 | B9: CP 2 | C9: ADMINISTRAÇÃO DE OBRA - EQUIPE | D9: Mês | E9: 1 | F9: =COMPOSIÇÕES!F14 -> 14600.8 | G9: =TRUNC((F9*1.2423),2) -> 18138.57 | H9: =TRUNC((E9*G9),2) -> 18138.57
A10: TOTAL DO ITEM 1: | H10: =SUM(H7:H9) -> 22218.39
A11: 2 | B11: TERRAPLANAGEM
A12: 2.1 | B12: 100978 | C12: CARGA, MANOBRA E DESCARGA DE SOLOS E MATERIAIS GRANULARES EM CAMINHÃO BASCULANTE 10 M³ - CARGA COM ESCAVADEIRA HIDRÁULICA (CAÇAMBA DE 1,20 M³ / 155 HP) E DESCARGA LIVRE (UNIDADE: M3). AF_07/2020 | D12: m³ | E12: 0 | F12: 7.62 | G12: =TRUNC((F12*1.2423),2) -> 9.46 | H12: =TRUNC((E12*G12),2) -> 0
A13: 2.2 | B13: 93589 | C13: TRANSPORTE COM CAMINHÃO BASCULANTE DE 10 M³, EM VIA URBANA EM REVESTIMENTO PRIMÁRIO (UNIDADE: M3XKM). AF_07/2020 - DMT 9,5KM | D13: m³.Km | E13: 0 | F13: 2.9 | G13: =TRUNC((F13*1.2423),2) -> 3.6 | H13: =TRUNC((E13*G13),2) -> 0
A14: 2.3 | B14: CP 4 | C14: CONSTRUÇÃO DE BASE E SUB-BASE PARA PAVIMENTAÇÃO DE RACHÃO, COM ESPESSURA DE 30 CM - EXCLUSIVE CARGA E TRANSPORTE. AF_09/2024 | D14: m³ | E14: 0 | F14: 20.82 | G14: =TRUNC((F14*1.2423),2) -> 25.86 | H14: =TRUNC((E14*G14),2) -> 0
A15: TOTAL DO ITEM 2: | H15: =SUM(H12:H14) -> 0
A16: 3 | B16: DRENAGEM PLUVIAL
A17: 3.1 | B17: 102281 | C17: ESCAVAÇÃO MECANIZADA DE VALA COM PROF. MAIOR QUE 1,5 M ATÉ 3,0 M (MÉDIA MONTANTE E JUSANTE/UMA COMPOSIÇÃO POR TRECHO),COM ESCAVADEIRA (1,2 M3),LARG. DE 1,5 M A 2,5 M, EM SOLO DE 1A CATEGORIA, LOCAIS COM BAIXO NÍVEL DE INTERFERÊNCIA. AF_02/2021 | D17: m³ | E17: =ROUND((2.2*1.5*(E21+E22)),2) -> 85.8 | F17: 6.19 | G17: =TRUNC((F17*1.2423),2) -> 7.68 | H17: =TRUNC((E17*G17),2) -> 658.94
A18: 3.2 | B18: 93368 | C18: REATERRO MECANIZADO DE VALA COM ESCAVADEIRA HIDRÁULICA (CAPACIDADE DA CAÇAMBA: 0,8 M³/POTÊNCIA: 111 HP), LARGURA ATÉ 1,5 M, PROFUNDIDADE DE 1,5 A 3,0 M, COM SOLO (SEM SUBSTITUIÇÃO) DE 1ª CATEGORIA, COM COMPACTADOR DE SOLOS DE PERCUSSÃO. AF_08/2023 | D18: m³ | E18: =ROUND((E17-((E21+E22)*1.13)),2) -> 56.42 | F18: 23.89 | G18: =TRUNC((F18*1.2423),2) -> 29.67 | H18: =TRUNC((E18*G18),2) -> 1673.98
A19: 3.3 | B19: 101623 | C19: PREPARO DE FUNDO DE VALA COM LARGURA MENOR QUE 1,5 M, COM CAMADA DE BRITA, LANÇAMENTO MECANIZADO. AF_08/2020 | D19: m³ | E19: =ROUND(((E21+E22)*1*0.1),2) -> 2.6 | F19: 253.05 | G19: =TRUNC((F19*1.2423),2) -> 314.36 | H19: =TRUNC((E19*G19),2) -> 817.33
A20: 3.4 | B20: 93589 | C20: TRANSPORTE COM CAMINHÃO BASCULANTE DE 10 M³, EM VIA URBANA EM REVESTIMENTO PRIMÁRIO (UNIDADE: M3XKM). AF_07/2020 - DMT 25KM | D20: m³.Km | E20: =ROUND((E19*25),2) -> 65 | F20: 2.9 | G20: =TRUNC((F20*1.2423),2) -> 3.6 | H20: =TRUNC((E20*G20),2) -> 234
A21: 3.5 | B21: 92216 | C21: TUBO DE CONCRETO PARA REDES COLETORAS DE ÁGUAS PLUVIAIS, DIÂMETRO DE 1000 MM, JUNTA RÍGIDA, INSTALADO EM LOCAL COM BAIXO NÍVEL DE INTERFERÊNCIAS - FORNECIMENTO E ASSENTAMENTO. AF_03/2024 | D21: m | E21: =5+13 -> 18 | F21: 620.06 | G21: =TRUNC((F21*1.2423),2) -> 770.3 | H21: =TRUNC((E21*G21),2) -> 13865.4
A22: 3.6 | B22: 92815 | C22: ASSENTAMENTO DE TUBO DE CONCRETO PARA REDES COLETORAS DE ÁGUAS PLUVIAIS, DIÂMETRO DE 1000 MM, JUNTA RÍGIDA, INSTALADO EM LOCAL COM BAIXO NÍVEL DE INTERFERÊNCIAS (NÃO INCLUI FORNECIMENTO). AF_03/2024 - REAPROVEITAMENTO | D22: m | E22: 8 | F22: 107.01 | G22: =TRUNC((F22*1.2423),2) -> 132.93 | H22: =TRUNC((E22*G22),2) -> 1063.44
A23: 3.7 | B23: 100947 | C23: TRANSPORTE COM CAMINHÃO CARROCERIA 9T, EM VIA URBANA PAVIMENTADA, DMT ATÉ 30KM (UNIDADE: TXKM). AF_07/2020 - DMT 30KM | D23: t.Km | E23: =ROUND((E21*1.08*30),2) -> 583.2 | F23: 2.4 | G23: =TRUNC((F23*1.2423),2) -> 2.98 | H23: =TRUNC((E23*G23),2) -> 1737.93
A24: 3.8 | B24: 100948 | C24: TRANSPORTE COM CAMINHÃO CARROCERIA 9T, EM VIA URBANA PAVIMENTADA, ADICIONAL PARA DMT EXCEDENTE A 30 KM (UNIDADE: TXKM). AF_07/2020 - DMT 5KM | D24: t.Km | E24: =ROUND((E21*1.08*5),2) -> 97.2 | F24: 0.95 | G24: =TRUNC((F24*1.2423),2) -> 1.18 | H24: =TRUNC((E24*G24),2) -> 114.69
A25: 3.9 | B25: 100946 | C25: TRANSPORTE COM CAMINHÃO CARROCERIA 9T, EM VIA URBANA EM REVESTIMENTO PRIMÁRIO (UNIDADE: TXKM). AF_07/2020 - DMT 9KM - REAPROVEITAMENTO | D25: t.Km | E25: =ROUND((E22*1.08*9),2) -> 77.76 | F25: 2.6 | G25: =TRUNC((F25*1.2423),2) -> 3.22 | H25: =TRUNC((E25*G25),2) -> 250.38
A26: 3.10 | B26: 102744 | C26: BOCA PARA BUEIRO DUPLO TUBULAR D = 100 CM EM CONCRETO, ALAS COM ESCONSIDADE DE 0°, INCLUINDO FÔRMAS E MATERIAIS. AF_07/2021 | D26: Unid. | E26: 2 | F26: 7113.94 | G26: =TRUNC((F26*1.2423),2) -> 8837.64 | H26: =TRUNC((E26*G26),2) -> 17675.28
A27: TOTAL DO ITEM 3: | H27: =SUM(H17:H26) -> 38091.37
A28: 4 | B28: SERVIÇOS COMPLEMENTARES
A29: 4.1 | B29: CP 3 | C29: DESMOBILIZAÇÃO DE EQUIPAMENTOS | D29: t.Km | E29: =E8 -> 1050 | F29: =COMPOSIÇÕES!F20 -> 1.86 | G29: =TRUNC((F29*1.2423),2) -> 2.31 | H29: =TRUNC((E29*G29),2) -> 2425.5
A30: 4.2 | B30: 88908 | C30: ESCAVADEIRA HIDRÁULICA SOBRE ESTEIRAS, CAÇAMBA 1,20 M3, PESO OPERACIONAL 21 T, POTÊNCIA BRUTA 155 HP - CHI DIURNO. AF_06/2014 | D30: CHI | E30: 30 | F30: 112.37 | G30: =TRUNC((F30*1.2423),2) -> 139.59 | H30: =TRUNC((E30*G30),2) -> 4187.7
A31: 4.3 | B31: 88907 | C31: ESCAVADEIRA HIDRÁULICA SOBRE ESTEIRAS, CAÇAMBA 1,20 M3, PESO OPERACIONAL 21 T, POTÊNCIA BRUTA 155 HP - CHP DIURNO. AF_06/2014 | D31: CHP | E31: 60 | F31: 275.03 | G31: =TRUNC((F31*1.2423),2) -> 341.66 | H31: =TRUNC((E31*G31),2) -> 20499.6
A32: TOTAL DO ITEM 4: | H32: =SUM(H29:H31) -> 27112.8
A33: VALOR TOTAL OBRA: | H33: =H10+H15+H27+H32 -> 87422.56
C35: Bom Retiro do Sul, 12 de novembro de 2025
E38: Eng. Civil Giovana Mulinari

Sheet 8. Barra 2
A1: PREFEITURA MUNICIPAL DE BOM RETIRO DO SUL/RS
A2: OBRA: | C2: Drenagem Pluvial e aterro de pista | D2: LOCAL: | E2: Barra do Silva Jorge
A3: TRECHO: | C3: Localidade da Barra do Silva Jorge – drenagem 02 | D3: REFERÊNCIA: | E3: SINAPI (Não Desonerada) - 09/2025 / SICRO 07/2025
A4: ORÇAMENTO
A5: ITEM | B5: CÓDIGO SINAPI | C5: DESCRIÇÃO | D5: UNIDADE | E5: QUANTIDADE | F5: VALOR UNITÁRIO | G5: VALOR COM BDI (24,23%) | H5: VALOR TOTAL
A6: 1 | B6: SERVIÇOS PRELIMINARES
A7: 1.1 | B7: 103689 | C7: FORNECIMENTO E INSTALAÇÃO DE PLACA DE OBRA COM CHAPA GALVANIZADA E ESTRUTURA DE MADEIRA. AF_03/2022_PS | D7: m² | E7: 2.88 | F7: 462.39 | G7: =TRUNC((F7*1.2423),2) -> 574.42 | H7: =TRUNC((E7*G7),2) -> 1654.32
A8: 1.2 | B8: CP 1 | C8: MOBILIZAÇÃO DE EQUIPAMENTOS | D8: t.Km | E8: =ROUND((30*34),2) -> 1020 | F8: =COMPOSIÇÕES!F5 -> 1.86 | G8: =TRUNC((F8*1.2423),2) -> 2.31 | H8: =TRUNC((E8*G8),2) -> 2356.2
A9: 1.3 | B9: CP 2 | C9: ADMINISTRAÇÃO DE OBRA - EQUIPE | D9: Mês | E9: 1 | F9: =COMPOSIÇÕES!F14 -> 14600.8 | G9: =TRUNC((F9*1.2423),2) -> 18138.57 | H9: =TRUNC((E9*G9),2) -> 18138.57
A10: TOTAL DO ITEM 1: | H10: =SUM(H7:H9) -> 22149.09
A11: 2 | B11: TERRAPLANAGEM
A12: 2.1 | B12: 100978 | C12: CARGA, MANOBRA E DESCARGA DE SOLOS E MATERIAIS GRANULARES EM CAMINHÃO BASCULANTE 10 M³ - CARGA COM ESCAVADEIRA HIDRÁULICA (CAÇAMBA DE 1,20 M³ / 155 HP) E DESCARGA LIVRE (UNIDADE: M3). AF_07/2020 | D12: m³ | E12: =ROUND((63.36*6),2) -> 380.16 | F12: 7.62 | G12: =TRUNC((F12*1.2423),2) -> 9.46 | H12: =TRUNC((E12*G12),2) -> 3596.31
A13: 2.2 | B13: 93589 | C13: TRANSPORTE COM CAMINHÃO BASCULANTE DE 10 M³, EM VIA URBANA EM REVESTIMENTO PRIMÁRIO (UNIDADE: M3XKM). AF_07/2020 - DMT 2KM | D13: m³.Km | E13: =ROUND((E12*1.25*2),2) -> 950.4 | F13: 2.9 | G13: =TRUNC((F13*1.2423),2) -> 3.6 | H13: =TRUNC((E13*G13),2) -> 3421.44
A14: 2.3 | B14: CP 4 | C14: CONSTRUÇÃO DE BASE E SUB-BASE PARA PAVIMENTAÇÃO DE RACHÃO, COM ESPESSURA DE 30 CM - EXCLUSIVE CARGA E TRANSPORTE. AF_09/2024 | D14: m³ | E14: =E12 -> 380.16 | F14: 20.82 | G14: =TRUNC((F14*1.2423),2) -> 25.86 | H14: =TRUNC((E14*G14),2) -> 9830.93
A15: TOTAL DO ITEM 2: | H15: =SUM(H12:H14) -> 16848.68
A16: 3 | B16: DRENAGEM PLUVIAL
A17: 3.1 | B17: 102281 | C17: ESCAVAÇÃO MECANIZADA DE VALA COM PROF. MAIOR QUE 1,5 M ATÉ 3,0 M (MÉDIA MONTANTE E JUSANTE/UMA COMPOSIÇÃO POR TRECHO),COM ESCAVADEIRA (1,2 M3),LARG. DE 1,5 M A 2,5 M, EM SOLO DE 1A CATEGORIA, LOCAIS COM BAIXO NÍVEL DE INTERFERÊNCIA. AF_02/2021 | D17: m³ | E17: =ROUND((2.8*3*E21),2) -> 84 | F17: 6.19 | G17: =TRUNC((F17*1.2423),2) -> 7.68 | H17: =TRUNC((E17*G17),2) -> 645.12
A18: 3.2 | B18: 93368 | C18: REATERRO MECANIZADO DE VALA COM ESCAVADEIRA HIDRÁULICA (CAPACIDADE DA CAÇAMBA: 0,8 M³/POTÊNCIA: 111 HP), LARGURA ATÉ 1,5 M, PROFUNDIDADE DE 1,5 A 3,0 M, COM SOLO (SEM SUBSTITUIÇÃO) DE 1ª CATEGORIA, COM COMPACTADOR DE SOLOS DE PERCUSSÃO. AF_08/2023 | D18: m³ | E18: =ROUND((E17-(E21*2.54)),2) -> 58.6 | F18: 23.89 | G18: =TRUNC((F18*1.2423),2) -> 29.67 | H18: =TRUNC((E18*G18),2) -> 1738.66
A19: 3.3 | B19: 101623 | C19: PREPARO DE FUNDO DE VALA COM LARGURA MENOR QUE 1,5 M, COM CAMADA DE BRITA, LANÇAMENTO MECANIZADO. AF_08/2020 | D19: m³ | E19: =ROUND((E21*1*0.1),2) -> 1 | F19: 253.05 | G19: =TRUNC((F19*1.2423),2) -> 314.36 | H19: =TRUNC((E19*G19),2) -> 314.36
A20: 3.4 | B20: 93589 | C20: TRANSPORTE COM CAMINHÃO BASCULANTE DE 10 M³, EM VIA URBANA EM REVESTIMENTO PRIMÁRIO (UNIDADE: M3XKM). AF_07/2020 - DMT 24,5KM | D20: m³.Km | E20: =ROUND((E19*24.5),2) -> 24.5 | F20: 2.9 | G20: =TRUNC((F20*1.2423),2) -> 3.6 | H20: =TRUNC((E20*G20),2) -> 88.2
A21: 3.5 | B21: 92818 | C21: TUBO DE CONCRETO PARA REDES COLETORAS DE ÁGUAS PLUVIAIS, DIÂMETRO DE 1500 MM, JUNTA RÍGIDA, INSTALADO EM LOCAL COM BAIXO NÍVEL DE INTERFERÊNCIAS - FORNECIMENTO E ASSENTAMENTO. AF_03/2024 | D21: m | E21: 10 | F21: 1282.89 | G21: =TRUNC((F21*1.2423),2) -> 1593.73 | H21: =TRUNC((E21*G21),2) -> 15937.3
A22: 3.6 | B22: 100947 | C22: TRANSPORTE COM CAMINHÃO CARROCERIA 9T, EM VIA URBANA PAVIMENTADA, DMT ATÉ 30KM (UNIDADE: TXKM). AF_07/2020 - DMT 30KM | D22: t.Km | E22: =ROUND((E21*2.1*30),2) -> 630 | F22: 2.4 | G22: =TRUNC((F22*1.2423),2) -> 2.98 | H22: =TRUNC((E22*G22),2) -> 1877.4
A23: 3.7 | B23: 100948 | C23: TRANSPORTE COM CAMINHÃO CARROCERIA 9T, EM VIA URBANA PAVIMENTADA, ADICIONAL PARA DMT EXCEDENTE A 30 KM (UNIDADE: TXKM). AF_07/2020 - DMT 4KM | D23: t.Km | E23: =ROUND((E21*2.1*4),2) -> 84 | F23: 0.95 | G23: =TRUNC((F23*1.2423),2) -> 1.18 | H23: =TRUNC((E23*G23),2) -> 99.12
A24: 3.8 | B24: 102742 | C24: BOCA PARA BUEIRO SIMPLES TUBULAR D = 150 CM EM CONCRETO, ALAS COM ESCONSIDADE DE 0°, INCLUINDO FÔRMAS E MATERIAIS. AF_07/2021 | D24: Unid. | E24: 2 | F24: 14218.78 | G24: =TRUNC((F24*1.2423),2) -> 17663.99 | H24: =TRUNC((E24*G24),2) -> 35327.98
A25: TOTAL DO ITEM 3: | H25: =SUM(H17:H24) -> 56028.14
A26: 4 | B26: SERVIÇOS COMPLEMENTARES
A27: 4.1 | B27: CP 3 | C27: DESMOBILIZAÇÃO DE EQUIPAMENTOS | D27: t.Km | E27: =E8 -> 1020 | F27: =COMPOSIÇÕES!F20 -> 1.86 | G27: =TRUNC((F27*1.2423),2) -> 2.31 | H27: =TRUNC((E27*G27),2) -> 2356.2
A28: 4.2 | B28: 88908 | C28: ESCAVADEIRA HIDRÁULICA SOBRE ESTEIRAS, CAÇAMBA 1,20 M3, PESO OPERACIONAL 21 T, POTÊNCIA BRUTA 155 HP - CHI DIURNO. AF_06/2014 | D28: CHI | E28: 30 | F28: 112.37 | G28: =TRUNC((F28*1.2423),2) -> 139.59 | H28: =TRUNC((E28*G28),2) -> 4187.7
A29: 4.3 | B29: 88907 | C29: ESCAVADEIRA HIDRÁULICA SOBRE ESTEIRAS, CAÇAMBA 1,20 M3, PESO OPERACIONAL 21 T, POTÊNCIA BRUTA 155 HP - CHP DIURNO. AF_06/2014 | D29: CHP | E29: 60 | F29: 275.03 | G29: =TRUNC((F29*1.2423),2) -> 341.66 | H29: =TRUNC((E29*G29),2) -> 20499.6
A30: TOTAL DO ITEM 4: | H30: =SUM(H27:H29) -> 27043.5
A31: VALOR TOTAL OBRA: | H31: =H10+H15+H25+H30 -> 122069.41
C34: Bom Retiro do Sul, 12 de novembro de 2025
E37: Eng. Civil Giovana Mulinari

Sheet 9. DAER
A1: PREFEITURA MUNICIPAL DE BOM RETIRO DO SUL/RS
A2: OBRA: | C2: Drenagem Pluvial e aterro de pista | D2: LOCAL: | E2: Rua Reinaldo Kollet
A3: TRECHO: | C3: Tavessa sobre arroio Curtume | D3: REFERÊNCIA: | E3: SINAPI (Não Desonerada) - 09/2025 / SICRO 07/2025
A4: ORÇAMENTO
A5: ITEM | B5: CÓDIGO SINAPI | C5: DESCRIÇÃO | D5: UNIDADE | E5: QUANTIDADE | F5: VALOR UNITÁRIO | G5: VALOR COM BDI (24,23%) | H5: VALOR TOTAL
A6: 1 | B6: SERVIÇOS PRELIMINARES
A7: 1.1 | B7: 103689 | C7: FORNECIMENTO E INSTALAÇÃO DE PLACA DE OBRA COM CHAPA GALVANIZADA E ESTRUTURA DE MADEIRA. AF_03/2022_PS | D7: m² | E7: 2.88 | F7: 462.39 | G7: =TRUNC((F7*1.2423),2) -> 574.42 | H7: =TRUNC((E7*G7),2) -> 1654.32
A8: 1.2 | B8: CP 1 | C8: MOBILIZAÇÃO DE EQUIPAMENTOS | D8: t.Km | E8: =ROUND((30*26),2) -> 780 | F8: =COMPOSIÇÕES!F5 -> 1.86 | G8: =TRUNC((F8*1.2423),2) -> 2.31 | H8: =TRUNC((E8*G8),2) -> 1801.8
A9: 1.3 | B9: CP 2 | C9: ADMINISTRAÇÃO DE OBRA - EQUIPE | D9: Mês | E9: 1 | F9: =COMPOSIÇÕES!F14 -> 14600.8 | G9: =TRUNC((F9*1.2423),2) -> 18138.57 | H9: =TRUNC((E9*G9),2) -> 18138.57
A10: TOTAL DO ITEM 1: | H10: =SUM(H7:H9) -> 21594.69
A11: 2 | B11: TERRAPLANAGEM
A12: 2.1 | B12: 100978 | C12: CARGA, MANOBRA E DESCARGA DE SOLOS E MATERIAIS GRANULARES EM CAMINHÃO BASCULANTE 10 M³ - CARGA COM ESCAVADEIRA HIDRÁULICA (CAÇAMBA DE 1,20 M³ / 155 HP) E DESCARGA LIVRE (UNIDADE: M3). AF_07/2020 | D12: m³ | E12: =ROUND((40.01*6),2) -> 240.06 | F12: 7.62 | G12: =TRUNC((F12*1.2423),2) -> 9.46 | H12: =TRUNC((E12*G12),2) -> 2270.96
A13: 2.2 | B13: 93589 | C13: TRANSPORTE COM CAMINHÃO BASCULANTE DE 10 M³, EM VIA URBANA EM REVESTIMENTO PRIMÁRIO (UNIDADE: M3XKM). AF_07/2020 - DMT 7,5KM | D13: m³.Km | E13: =ROUND((E12*1.25*7.5),2) -> 2250.56 | F13: 2.9 | G13: =TRUNC((F13*1.2423),2) -> 3.6 | H13: =TRUNC((E13*G13),2) -> 8102.01
A14: 2.3 | B14: CP 4 | C14: CONSTRUÇÃO DE BASE E SUB-BASE PARA PAVIMENTAÇÃO DE RACHÃO, COM ESPESSURA DE 30 CM - EXCLUSIVE CARGA E TRANSPORTE. AF_09/2024 | D14: m³ | E14: =E12 -> 240.06 | F14: 20.82 | G14: =TRUNC((F14*1.2423),2) -> 25.86 | H14: =TRUNC((E14*G14),2) -> 6207.95
A15: TOTAL DO ITEM 2: | H15: =SUM(H12:H14) -> 16580.92
A16: 3 | B16: DRENAGEM PLUVIAL
A17: 3.1 | B17: 102281 | C17: ESCAVAÇÃO MECANIZADA DE VALA COM PROF. MAIOR QUE 1,5 M ATÉ 3,0 M (MÉDIA MONTANTE E JUSANTE/UMA COMPOSIÇÃO POR TRECHO),COM ESCAVADEIRA (1,2 M3),LARG. DE 1,5 M A 2,5 M, EM SOLO DE 1A CATEGORIA, LOCAIS COM BAIXO NÍVEL DE INTERFERÊNCIA. AF_02/2021 | D17: m³ | E17: =ROUND((10*2*2),2) -> 40 | F17: 6.19 | G17: =TRUNC((F17*1.2423),2) -> 7.68 | H17: =TRUNC((E17*G17),2) -> 307.2
A18: 3.2 | B18: 93368 | C18: REATERRO MECANIZADO DE VALA COM ESCAVADEIRA HIDRÁULICA (CAPACIDADE DA CAÇAMBA: 0,8 M³/POTÊNCIA: 111 HP), LARGURA ATÉ 1,5 M, PROFUNDIDADE DE 1,5 A 3,0 M, COM SOLO (SEM SUBSTITUIÇÃO) DE 1ª CATEGORIA, COM COMPACTADOR DE SOLOS DE PERCUSSÃO. AF_08/2023 | D18: m³ | E18: 0 | F18: 23.89 | G18: =TRUNC((F18*1.2423),2) -> 29.67 | H18: =TRUNC((E18*G18),2) -> 0
A19: 3.3 | B19: 97103 | C19: EXECUÇÃO DE RADIER, ESPESSURA DE 20 CM, FCK = 30 MPA, COM USO DE FORMAS EM MADEIRA SERRADA. AF_09/2021 | D19: m² | E19: =ROUND((10*2.5),2) -> 25 | F19: 274.74 | G19: =TRUNC((F19*1.2423),2) -> 341.3 | H19: =TRUNC((E19*G19),2) -> 8532.5
A20: 3.4 | B20: 104492 | C20: ADUELA/ GALERIA FECHADA PRE-MOLDADA DE CONCRETO ARMADO, SECAO QUADRANGULAR INTERNA DE 2,00 X 2,00 M (L X A), MISULA DE 20 X 20 CM, C = 1,00 M, ESPESSURA MIN = 15 CM, TB-45 E FCK DO CONCRETO = 30 MPA FORNECIMENTO E ASSENTAMENTO. AF_01/2023 | D20: m | E20: 10 | F20: 5483.5 | G20: =TRUNC((F20*1.2423),2) -> 6812.15 | H20: =TRUNC((E20*G20),2) -> 68121.5
A21: 3.5 | B21: 100947 | C21: TRANSPORTE COM CAMINHÃO CARROCERIA 9T, EM VIA URBANA PAVIMENTADA, DMT ATÉ 30KM (UNIDADE: TXKM). AF_07/2020 - DMT 30KM | D21: t.Km | E21: =ROUND((E20*3.3*30),2) -> 990 | F21: 2.4 | G21: =TRUNC((F21*1.2423),2) -> 2.98 | H21: =TRUNC((E21*G21),2) -> 2950.2
A22: 3.6 | B22: 100948 | C22: TRANSPORTE COM CAMINHÃO CARROCERIA 9T, EM VIA URBANA PAVIMENTADA, ADICIONAL PARA DMT EXCEDENTE A 30 KM (UNIDADE: TXKM). AF_07/2020 - DMT 87KM | D22: t.Km | E22: =ROUND((E20*3.3*87),2) -> 2871 | F22: 0.95 | G22: =TRUNC((F22*1.2423),2) -> 1.18 | H22: =TRUNC((E22*G22),2) -> 3387.78
A23: 3.7 | B23: 92210 | C23: TUBO DE CONCRETO PARA REDES COLETORAS DE ÁGUAS PLUVIAIS, DIÂMETRO DE 400 MM, JUNTA RÍGIDA, INSTALADO EM LOCAL COM BAIXO NÍVEL DE INTERFERÊNCIAS - FORNECIMENTO E ASSENTAMENTO. AF_03/2024 | D23: m | E23: 24 | F23: 173.44 | G23: =TRUNC((F23*1.2423),2) -> 215.46 | H23: =TRUNC((E23*G23),2) -> 5171.04
A24: 3.8 | B24: 100947 | C24: TRANSPORTE COM CAMINHÃO CARROCERIA 9T, EM VIA URBANA PAVIMENTADA, DMT ATÉ 30KM (UNIDADE: TXKM). AF_07/2020 - DMT 26,5KM | D24: t.Km | E24: =ROUND((E23*0.19*26.5),2) -> 120.84 | F24: 2.4 | G24: =TRUNC((F24*1.2423),2) -> 2.98 | H24: =TRUNC((E24*G24),2) -> 360.1
A25: 3.9 | B25: 97956 | C25: CAIXA PARA BOCA DE LOBO SIMPLES RETANGULAR, EM ALVENARIA COM BLOCOS DE CONCRETO, DIMENSÕES INTERNAS: 0,6X1X1,2 M. AF_12/2020 | D25: Unid. | E25: 1 | F25: 1683.94 | G25: =TRUNC((F25*1.2423),2) -> 2091.95 | H25: =TRUNC((E25*G25),2) -> 2091.95
A26: 3.10 | B26: CP 6 | C26: GRELHA PARA CAIXA - 1,00 X 0,60 | D26: Unid. | E26: 1 | F26: =COMPOSIÇÕES!F51 -> 874.63 | G26: =TRUNC((F26*1.2423),2) -> 1086.55 | H26: =TRUNC((E26*G26),2) -> 1086.55
A27: 3.11 | B27: 102737 | C27: BOCA PARA BUEIRO SIMPLES TUBULAR D = 40 CM EM CONCRETO, ALAS COM ESCONSIDADE DE 0°, INCLUINDO FÔRMAS E MATERIAIS. AF_07/2021 | D27: Unid. | E27: 1 | F27: 1144.42 | G27: =TRUNC((F27*1.2423),2) -> 1421.71 | H27: =TRUNC((E27*G27),2) -> 1421.71
A28: 3.12 | B28: 102762 | C28: BOCA PARA BUEIRO SIMPLES CELULAR 200 X 200 CM EM CONCRETO, ALAS COM ESCONSIDADE DE 30°, INCLUINDO FÔRMAS E MATERIAIS. AF_07/2021 | D28: Unid. | E28: 2 | F28: 20981.78 | G28: =TRUNC((F28*1.2423),2) -> 26065.66 | H28: =TRUNC((E28*G28),2) -> 52131.32
A29: TOTAL DO ITEM 3: | H29: =SUM(H17:H28) -> 145561.85
A30: 4 | B30: SERVIÇOS COMPLEMENTARES
A31: 4.1 | B31: CP 3 | C31: DESMOBILIZAÇÃO DE EQUIPAMENTOS | D31: t.Km | E31: =E8 -> 780 | F31: =COMPOSIÇÕES!F20 -> 1.86 | G31: =TRUNC((F31*1.2423),2) -> 2.31 | H31: =TRUNC((E31*G31),2) -> 1801.8
A32: 4.2 | B32: 88908 | C32: ESCAVADEIRA HIDRÁULICA SOBRE ESTEIRAS, CAÇAMBA 1,20 M3, PESO OPERACIONAL 21 T, POTÊNCIA BRUTA 155 HP - CHI DIURNO. AF_06/2014 | D32: CHI | E32: 0 | F32: 112.37 | G32: =TRUNC((F32*1.2423),2) -> 139.59 | H32: =TRUNC((E32*G32),2) -> 0
A33: 4.3 | B33: 88907 | C33: ESCAVADEIRA HIDRÁULICA SOBRE ESTEIRAS, CAÇAMBA 1,20 M3, PESO OPERACIONAL 21 T, POTÊNCIA BRUTA 155 HP - CHP DIURNO. AF_06/2014 | D33: CHP | E33: 0 | F33: 275.03 | G33: =TRUNC((F33*1.2423),2) -> 341.66 | H33: =TRUNC((E33*G33),2) -> 0
A34: TOTAL DO ITEM 4: | H34: =SUM(H31:H33) -> 1801.8
A35: VALOR TOTAL OBRA: | H35: =H10+H15+H29+H34 -> 185539.26
C38: Bom Retiro do Sul, 12 de novembro de 2025
E41: Eng. Civil Giovana Mulinari

Sheet 10. Centro
A1: PREFEITURA MUNICIPAL DE BOM RETIRO DO SUL/RS
A2: OBRA: | C2: Drenagem Pluvial | D2: LOCAL: | E2: rua Roberto J. Kerber e rua Otylia Sibila Schmidt
A3: TRECHO: | D3: REFERÊNCIA: | E3: SINAPI (Não Desonerada) - 09/2025 / SICRO 07/2025
A4: ORÇAMENTO
A5: ITEM | B5: CÓDIGO SINAPI | C5: DESCRIÇÃO | D5: UNIDADE | E5: QUANTIDADE | F5: VALOR UNITÁRIO | G5: VALOR COM BDI (24,23%) | H5: VALOR TOTAL
A6: 1 | B6: SERVIÇOS PRELIMINARES
A7: 1.1 | B7: 103689 | C7: FORNECIMENTO E INSTALAÇÃO DE PLACA DE OBRA COM CHAPA GALVANIZADA E ESTRUTURA DE MADEIRA. AF_03/2022_PS | D7: m² | E7: 2.88 | F7: 462.39 | G7: =TRUNC((F7*1.2423),2) -> 574.42 | H7: =TRUNC((E7*G7),2) -> 1654.32
A8: 1.2 | B8: CP 1 | C8: MOBILIZAÇÃO DE EQUIPAMENTOS | D8: t.Km | E8: =ROUND((30*26),2) -> 780 | F8: =COMPOSIÇÕES!F5 -> 1.86 | G8: =TRUNC((F8*1.2423),2) -> 2.31 | H8: =TRUNC((E8*G8),2) -> 1801.8
A9: 1.3 | B9: CP 2 | C9: ADMINISTRAÇÃO DE OBRA - EQUIPE | D9: Mês | E9: 1 | F9: =COMPOSIÇÕES!F14 -> 14600.8 | G9: =TRUNC((F9*1.2423),2) -> 18138.57 | H9: =TRUNC((E9*G9),2) -> 18138.57
A10: TOTAL DO ITEM 1: | H10: =SUM(H7:H9) -> 21594.69
A11: 2 | B11: TERRAPLANAGEM
A12: 2.1 | B12: 100978 | C12: CARGA, MANOBRA E DESCARGA DE SOLOS E MATERIAIS GRANULARES EM CAMINHÃO BASCULANTE 10 M³ - CARGA COM ESCAVADEIRA HIDRÁULICA (CAÇAMBA DE 1,20 M³ / 155 HP) E DESCARGA LIVRE (UNIDADE: M3). AF_07/2020 | D12: m³ | E12: 0 | F12: 7.62 | G12: =TRUNC((F12*1.2423),2) -> 9.46 | H12: =TRUNC((E12*G12),2) -> 0
A13: 2.2 | B13: 93589 | C13: TRANSPORTE COM CAMINHÃO BASCULANTE DE 10 M³, EM VIA URBANA EM REVESTIMENTO PRIMÁRIO (UNIDADE: M3XKM). AF_07/2020 - DMT 7,5KM | D13: m³.Km | E13: 0 | F13: 2.9 | G13: =TRUNC((F13*1.2423),2) -> 3.6 | H13: =TRUNC((E13*G13),2) -> 0
A14: 2.3 | B14: CP 4 | C14: CONSTRUÇÃO DE BASE E SUB-BASE PARA PAVIMENTAÇÃO DE RACHÃO, COM ESPESSURA DE 30 CM - EXCLUSIVE CARGA E TRANSPORTE. AF_09/2024 | D14: m³ | E14: 0 | F14: 20.82 | G14: =TRUNC((F14*1.2423),2) -> 25.86 | H14: =TRUNC((E14*G14),2) -> 0
A15: TOTAL DO ITEM 2: | H15: =SUM(H12:H14) -> 0
A16: 3 | B16: DRENAGEM PLUVIAL
A17: 3.1 | B17: Rua Roberto J. Kerber
A18: 3.1.1 | B18: 102098 | C18: RECOMPOSIÇÃO DE REVESTIMENTO EM CONCRETO ASFÁLTICO (AQUISIÇÃO EM USINA), PARA O FECHAMENTO DE VALAS - INCLUSO DEMOLIÇÃO DO PAVIMENTO. AF_12/2020 | D18: m³ | E18: =ROUND((53*1.5*0.05),2) -> 3.98 | F18: 2723.2 | G18: =TRUNC((F18*1.2423),2) -> 3383.03 | H18: =TRUNC((E18*G18),2) -> 13464.45
A19: 3.1.2 | B19: 102332 | C19: TRANSPORTE COM CAMINHÃO TANQUE DE TRANSPORTE DE MATERIAL ASFÁLTICO DE 20000 L, EM VIA URBANA PAVIMENTADA, DMT ATÉ 30KM (UNIDADE: TXKM). AF_07/2020 - DMT 12,5KM | D19: t.Km | E19: =ROUND((E18*2.5548*12.5),2) -> 127.1 | F19: 1.93 | G19: =TRUNC((F19*1.2423),2) -> 2.39 | H19: =TRUNC((E19*G19),2) -> 303.76
A20: 3.1.3 | B20: 94273 | C20: ASSENTAMENTO DE GUIA (MEIO-FIO) EM TRECHO RETO, CONFECCIONADA EM CONCRETO PRÉ-FABRICADO, DIMENSÕES 100X15X13X30 CM (COMPRIMENTO X BASE INFERIOR X BASE SUPERIOR X ALTURA). AF_01/2024 | D20: m | E20: 41 | F20: 50.87 | G20: =TRUNC((F20*1.2423),2) -> 63.19 | H20: =TRUNC((E20*G20),2) -> 2590.79
A21: 3.1.4 | B21: 100947 | C21: TRANSPORTE COM CAMINHÃO CARROCERIA 9T, EM VIA URBANA PAVIMENTADA, DMT ATÉ 30KM (UNIDADE: TXKM). AF_07/2020 - DMT 26KM | D21: t.Km | E21: =ROUND((E20*0.9*26),2) -> 959.4 | F21: 2.4 | G21: =TRUNC((F21*1.2423),2) -> 2.98 | H21: =TRUNC((E21*G21),2) -> 2859.01
A22: 3.1.5 | B22: 102281 | C22: ESCAVAÇÃO MECANIZADA DE VALA COM PROF. MAIOR QUE 1,5 M ATÉ 3,0 M (MÉDIA MONTANTE E JUSANTE/UMA COMPOSIÇÃO POR TRECHO),COM ESCAVADEIRA (1,2 M3),LARG. DE 1,5 M A 2,5 M, EM SOLO DE 1A CATEGORIA, LOCAIS COM BAIXO NÍVEL DE INTERFERÊNCIA. AF_02/2021 | D22: m³ | E22: =ROUND(((E27*1.5*1.5)+(E26*1*1)),2) -> 185.5 | F22: 6.19 | G22: =TRUNC((F22*1.2423),2) -> 7.68 | H22: =TRUNC((E22*G22),2) -> 1424.64
A23: 3.1.6 | B23: 93368 | C23: REATERRO MECANIZADO DE VALA COM ESCAVADEIRA HIDRÁULICA (CAPACIDADE DA CAÇAMBA: 0,8 M³/POTÊNCIA: 111 HP), LARGURA ATÉ 1,5 M, PROFUNDIDADE DE 1,5 A 3,0 M, COM SOLO (SEM SUBSTITUIÇÃO) DE 1ª CATEGORIA, COM COMPACTADOR DE SOLOS DE PERCUSSÃO. AF_08/2023 | D23: m³ | E23: =ROUND((E22-((E26*0.18)+(E27*0.72))),2) -> 127.54 | F23: 23.89 | G23: =TRUNC((F23*1.2423),2) -> 29.67 | H23: =TRUNC((E23*G23),2) -> 3784.11
A24: 3.1.7 | B24: 101623 | C24: PREPARO DE FUNDO DE VALA COM LARGURA MENOR QUE 1,5 M, COM CAMADA DE BRITA, LANÇAMENTO MECANIZADO. AF_08/2020 | D24: m³ | E24: =ROUND(((E26*0.5*0.1)+(E27*1*0.1)),2) -> 8.3 | F24: 253.05 | G24: =TRUNC((F24*1.2423),2) -> 314.36 | H24: =TRUNC((E24*G24),2) -> 2609.18
A25: 3.1.8 | B25: 93589 | C25: TRANSPORTE COM CAMINHÃO BASCULANTE DE 10 M³, EM VIA URBANA EM REVESTIMENTO PRIMÁRIO (UNIDADE: M3XKM). AF_07/2020 - DMT 12,5KM | D25: m³.Km | E25: =ROUND((E24*12.5),2) -> 103.75 | F25: 2.9 | G25: =TRUNC((F25*1.2423),2) -> 3.6 | H25: =TRUNC((E25*G25),2) -> 373.5
A26: 3.1.9 | B26: 92210 | C26: TUBO DE CONCRETO PARA REDES COLETORAS DE ÁGUAS PLUVIAIS, DIÂMETRO DE 400 MM, JUNTA RÍGIDA, INSTALADO EM LOCAL COM BAIXO NÍVEL DE INTERFERÊNCIAS - FORNECIMENTO E ASSENTAMENTO. AF_03/2024 | D26: m | E26: 10 | F26: 173.44 | G26: =TRUNC((F26*1.2423),2) -> 215.46 | H26: =TRUNC((E26*G26),2) -> 2154.6
A27: 3.1.10 | B27: 92214 | C27: TUBO DE CONCRETO PARA REDES COLETORAS DE ÁGUAS PLUVIAIS, DIÂMETRO DE 800 MM, JUNTA RÍGIDA, INSTALADO EM LOCAL COM BAIXO NÍVEL DE INTERFERÊNCIAS - FORNECIMENTO E ASSENTAMENTO. AF_03/2024 | D27: m | E27: =23+55 -> 78 | F27: 520.56 | G27: =TRUNC((F27*1.2423),2) -> 646.69 | H27: =TRUNC((E27*G27),2) -> 50441.82
A28: 3.1.11 | B28: 100947 | C28: TRANSPORTE COM CAMINHÃO CARROCERIA 9T, EM VIA URBANA PAVIMENTADA, DMT ATÉ 30KM (UNIDADE: TXKM). AF_07/2020 - DMT 26KM | D28: t.Km | E28: =ROUND((((E26*0.19)+(E27*0.57))*26),2) -> 1205.36 | F28: 2.4 | G28: =TRUNC((F28*1.2423),2) -> 2.98 | H28: =TRUNC((E28*G28),2) -> 3591.97
A29: 3.1.12 | B29: 102739 | C29: BOCA PARA BUEIRO SIMPLES TUBULAR D = 80 CM EM CONCRETO, ALAS COM ESCONSIDADE DE 0°, INCLUINDO FÔRMAS E MATERIAIS. AF_07/2021 | D29: Unid. | E29: 1 | F29: 3913.7 | G29: =TRUNC((F29*1.2423),2) -> 4861.98 | H29: =TRUNC((E29*G29),2) -> 4861.98
A30: 3.1.13 | B30: 97956 | C30: CAIXA PARA BOCA DE LOBO SIMPLES RETANGULAR, EM ALVENARIA COM BLOCOS DE CONCRETO, DIMENSÕES INTERNAS: 0,6X1X1,2 M. AF_12/2020 | D30: Unid. | E30: 1 | F30: 1683.94 | G30: =TRUNC((F30*1.2423),2) -> 2091.95 | H30: =TRUNC((E30*G30),2) -> 2091.95
A31: 3.1.14 | B31: 99290 | C31: BASE PARA POÇO DE VISITA RETANGULAR PARA DRENAGEM, EM ALVENARIA COM BLOCOS DE CONCRETO, DIMENSÕES INTERNAS = 1,5X1,5 M, PROFUNDIDADE = 1,40 M, EXCLUINDO TAMPÃO. AF_12/2020_PA | D31: Unid. | E31: 2 | F31: 4475.13 | G31: =TRUNC((F31*1.2423),2) -> 5559.45 | H31: =TRUNC((E31*G31),2) -> 11118.9
A32: 3.1.15 | B32: 99241 | C32: ACRÉSCIMO PARA POÇO DE VISITA RETANGULAR PARA DRENAGEM, EM ALVENARIA COM BLOCOS DE CONCRETO, DIMENSÕES INTERNAS = 1,5X1,5 M. AF_12/2020 | D32: m | E32: 1 | F32: 2045.58 | G32: =TRUNC((F32*1.2423),2) -> 2541.22 | H32: =TRUNC((E32*G32),2) -> 2541.22
A33: 3.1.16 | B33: CP 10 | C33: GRELHA PARA CAIXA - 1,50 X 1,50 | D33: Unid. | E33: 2 | F33: =COMPOSIÇÕES!F83 -> 2013.61 | G33: =TRUNC((F33*1.2423),2) -> 2501.5 | H33: =TRUNC((E33*G33),2) -> 5003
A34: TOTAL DO ITEM 3.1: | H34: =SUM(H18:H33) -> 109214.88
A35: 3.3 | B35: Rua Otylia Sibila Schmidt
A36: 3.3.1 | B36: 102281 | C36: ESCAVAÇÃO MECANIZADA DE VALA COM PROF. MAIOR QUE 1,5 M ATÉ 3,0 M (MÉDIA MONTANTE E JUSANTE/UMA COMPOSIÇÃO POR TRECHO),COM ESCAVADEIRA (1,2 M3),LARG. DE 1,5 M A 2,5 M, EM SOLO DE 1A CATEGORIA, LOCAIS COM BAIXO NÍVEL DE INTERFERÊNCIA. AF_02/2021 | D36: m³ | E36: =ROUND((E41*3),2) -> 600 | F36: 6.19 | G36: =TRUNC((F36*1.2423),2) -> 7.68 | H36: =TRUNC((E36*G36),2) -> 4608
A37: 3.3.2 | B37: CP 9 | C37: PREPARO DE FUNDO DE VALA COM LARGURA MENOR QUE 1,5 M, COM CAMADA DE RACHÃO, LANÇAMENTO MECANIZADO. AF_08/2020 | D37: m³ | E37: =ROUND((E41*1.5*0.2),2) -> 60 | F37: 133.04 | G37: =TRUNC((F37*1.2423),2) -> 165.27 | H37: =TRUNC((E37*G37),2) -> 9916.2
A38: 3.3.3 | B38: 100978 | C38: CARGA, MANOBRA E DESCARGA DE SOLOS E MATERIAIS GRANULARES EM CAMINHÃO BASCULANTE 10 M³ - CARGA COM ESCAVADEIRA HIDRÁULICA (CAÇAMBA DE 1,20 M³ / 155 HP) E DESCARGA LIVRE (UNIDADE: M3). AF_07/2020 | D38: m³ | E38: =E37 -> 60 | F38: 7.62 | G38: =TRUNC((F38*1.2423),2) -> 9.46 | H38: =TRUNC((E38*G38),2) -> 567.6
A39: 3.3.4 | B39: 93589 | C39: TRANSPORTE COM CAMINHÃO BASCULANTE DE 10 M³, EM VIA URBANA EM REVESTIMENTO PRIMÁRIO (UNIDADE: M3XKM). AF_07/2020 - DMT 8KM | D39: m³.Km | E39: =ROUND((E37*1.25*8),2) -> 600 | F39: 2.9 | G39: =TRUNC((F39*1.2423),2) -> 3.6 | H39: =TRUNC((E39*G39),2) -> 2160
A40: 3.3.5 | B40: 93368 | C40: REATERRO MECANIZADO DE VALA COM ESCAVADEIRA HIDRÁULICA (CAPACIDADE DA CAÇAMBA: 0,8 M³/POTÊNCIA: 111 HP), LARGURA ATÉ 1,5 M, PROFUNDIDADE DE 1,5 A 3,0 M, COM SOLO (SEM SUBSTITUIÇÃO) DE 1ª CATEGORIA, COM COMPACTADOR DE SOLOS DE PERCUSSÃO. AF_08/2023 | D40: m³ | E40: =ROUND((8.37*E41),2) -> 1674 | F40: 23.89 | G40: =TRUNC((F40*1.2423),2) -> 29.67 | H40: =TRUNC((E40*G40),2) -> 49667.58
A41: 3.3.6 | B41: 92216 | C41: TUBO DE CONCRETO PARA REDES COLETORAS DE ÁGUAS PLUVIAIS, DIÂMETRO DE 1000 MM, JUNTA RÍGIDA, INSTALADO EM LOCAL COM BAIXO NÍVEL DE INTERFERÊNCIAS - FORNECIMENTO E ASSENTAMENTO. AF_03/2024 | D41: m | E41: 200 | F41: 620.06 | G41: =TRUNC((F41*1.2423),2) -> 770.3 | H41: =TRUNC((E41*G41),2) -> 154060
A42: 3.3.7 | B42: 92839 | C42: TUBO DE CONCRETO PARA REDES COLETORAS DE ESGOTO SANITÁRIO, DIÂMETRO DE 600 MM, JUNTA ELÁSTICA, INSTALADO EM LOCAL COM BAIXO NÍVEL DE INTERFERÊNCIAS - FORNECIMENTO E ASSENTAMENTO. AF_03/2024 | D42: m | E42: 40 | F42: 545.37 | G42: =TRUNC((F42*1.2423),2) -> 677.51 | H42: =TRUNC((E42*G42),2) -> 27100.4
A43: 3.3.8 | B43: 100947 | C43: TRANSPORTE COM CAMINHÃO CARROCERIA 9T, EM VIA URBANA PAVIMENTADA, DMT ATÉ 30KM (UNIDADE: TXKM). AF_07/2020 - DMT 26KM | D43: t.Km | E43: =ROUND((((E41*1.08)+(E42*0.335))*26),2) -> 5964.4 | F43: 2.4 | G43: =TRUNC((F43*1.2423),2) -> 2.98 | H43: =TRUNC((E43*G43),2) -> 17773.91
A44: 3.3.9 | B44: 99290 | C44: BASE PARA POÇO DE VISITA RETANGULAR PARA DRENAGEM, EM ALVENARIA COM BLOCOS DE CONCRETO, DIMENSÕES INTERNAS = 1,5X1,5 M, PROFUNDIDADE = 1,40 M, EXCLUINDO TAMPÃO. AF_12/2020_PA | D44: Unid. | E44: 6 | F44: 4475.13 | G44: =TRUNC((F44*1.2423),2) -> 5559.45 | H44: =TRUNC((E44*G44),2) -> 33356.7
A45: 3.3.10 | B45: 99241 | C45: ACRÉSCIMO PARA POÇO DE VISITA RETANGULAR PARA DRENAGEM, EM ALVENARIA COM BLOCOS DE CONCRETO, DIMENSÕES INTERNAS = 1,5X1,5 M. AF_12/2020 | D45: m | E45: =6*1 -> 6 | F45: 2045.58 | G45: =TRUNC((F45*1.2423),2) -> 2541.22 | H45: =TRUNC((E45*G45),2) -> 15247.32
A46: 3.3.11 | B46: CP 7 | C46: TAMPA DE CONCRETO - 1,50 X 1,50 X 0,12 | D46: Unid. | E46: 6 | F46: =COMPOSIÇÕES!F57 -> 389.96 | G46: =TRUNC((F46*1.2423),2) -> 484.44 | H46: =TRUNC((E46*G46),2) -> 2906.64
A47: TOTAL DO ITEM 3.2: | H47: =SUM(H36:H46) -> 317364.35
A48: TOTAL DO ITEM 3: | H48: =H34+H47 -> 426579.23
A49: 4 | B49: SERVIÇOS COMPLEMENTARES
A50: 4.1 | B50: CP 3 | C50: DESMOBILIZAÇÃO DE EQUIPAMENTOS | D50: t.Km | E50: =E8 -> 780 | F50: =COMPOSIÇÕES!F20 -> 1.86 | G50: =TRUNC((F50*1.2423),2) -> 2.31 | H50: =TRUNC((E50*G50),2) -> 1801.8
A51: 4.2 | B51: E9775 (SICRO) | C51: Escavadeira hidráulica com martelo hidráulico de 1.700 kg - 103 kW | D51: CHP | E51: 20 | F51: 677.2 | G51: =TRUNC((F51*1.2423),2) -> 841.28 | H51: =TRUNC((E51*G51),2) -> 16825.6
A52: 4.3 | B52: 88908 | C52: ESCAVADEIRA HIDRÁULICA SOBRE ESTEIRAS, CAÇAMBA 1,20 M3, PESO OPERACIONAL 21 T, POTÊNCIA BRUTA 155 HP - CHI DIURNO. AF_06/2014 | D52: CHI | E52: 15 | F52: 112.37 | G52: =TRUNC((F52*1.2423),2) -> 139.59 | H52: =TRUNC((E52*G52),2) -> 2093.85
A53: 4.4 | B53: 88907 | C53: ESCAVADEIRA HIDRÁULICA SOBRE ESTEIRAS, CAÇAMBA 1,20 M3, PESO OPERACIONAL 21 T, POTÊNCIA BRUTA 155 HP - CHP DIURNO. AF_06/2014 | D53: CHP | E53: 30 | F53: 275.03 | G53: =TRUNC((F53*1.2423),2) -> 341.66 | H53: =TRUNC((E53*G53),2) -> 10249.8
A54: TOTAL DO ITEM 4: | H54: =SUM(H50:H53) -> 30971.05
A55: VALOR TOTAL OBRA: | H55: =H10+H15+H48+H54 -> 479144.97
C57: Bom Retiro do Sul, 12 de novembro de 2025
E60: Eng. Civil Giovana Mulinari
F71: 596900.88 | G71: =F71-H85 -> 479144.97 | H71: =G71*0.15 -> 71871.745
H72: =G71-H71 -> 407273.22
F74: Roberto | G74: 109214.88 | H74: =G74+(G77/2) -> 135497.75 | I74: =H74*0.15 -> 20324.662 | J74: =H74-I74 -> 115173.09
F75: Otylia | G75: 317364.35 | H75: =G75+(G77/2) -> 343647.22 | I75: =H75*0.15 -> 51547.083 | J75: =H75-I75 -> 292100.14
G77: =30971.05+21594.69 -> 52565.74 | H77: =SUM(H74:H76) -> 479144.97
A78: 3.2 | B78: Rua Henrique Schmidt
A79: 3.2.1 | B79: 99241 | C79: ACRÉSCIMO PARA POÇO DE VISITA RETANGULAR PARA DRENAGEM, EM ALVENARIA COM BLOCOS DE CONCRETO, DIMENSÕES INTERNAS = 1,5X1,5 M. AF_12/2020 | D79: m | E79: 2 | F79: 2045.58 | G79: =TRUNC((F79*1.2423),2) -> 2541.22 | H79: =TRUNC((E79*G79),2) -> 5082.44
A80: 3.2.2 | B80: 99252 | C80: BASE PARA POÇO DE VISITA RETANGULAR PARA DRENAGEM, EM ALVENARIA COM BLOCOS DE CONCRETO, DIMENSÕES INTERNAS = 1X1 M, PROFUNDIDADE = 1,40 M, EXCLUINDO TAMPÃO. AF_12/2020_PA | D80: Unid. | E80: 4 | F80: 2844.73 | G80: =TRUNC((F80*1.2423),2) -> 3534 | H80: =TRUNC((E80*G80),2) -> 14136
A81: 3.2.3 | B81: CP 5 | C81: GRELHA PARA CAIXA - 1,00 X 1,00 | D81: Unid. | E81: 4 | F81: =COMPOSIÇÕES!F41 -> 1086.6 | G81: =TRUNC((F81*1.2423),2) -> 1349.88 | H81: =TRUNC((E81*G81),2) -> 5399.52
A82: 3.2.4 | B82: 98525 | C82: LIMPEZA MECANIZADA DE CAMADA VEGETAL, VEGETAÇÃO E PEQUENAS ÁRVORES (DIÂMETRO DE TRONCO MENOR QUE 0,20 M), COM TRATOR DE ESTEIRAS. AF_03/2024 | D82: m² | E82: 6629.03 | F82: 0.71 | G82: =TRUNC((F82*1.2423),2) -> 0.88 | H82: =TRUNC((E82*G82),2) -> 5833.54
A83: 3.2.5 | B83: 101136 | C83: ESCAVAÇÃO HORIZONTAL, INCLUINDO CARGA, DESCARGA E TRANSPORTE EM SOLO DE 1A CATEGORIA COM TRATOR DE ESTEIRAS (170HP/LÂMINA: 5,20M3) E CAMINHÃO BASCULANTE DE 10M3, DMT ATÉ 200M. AF_07/2020 | D83: m³ | E83: =ROUND((E82*0.5),2) -> 3314.52 | F83: 14.93 | G83: =TRUNC((F83*1.2423),2) -> 18.54 | H83: =TRUNC((E83*G83),2) -> 61451.2
A84: 3.2.6 | B84: 100576 | C84: REGULARIZAÇÃO E COMPACTAÇÃO DE SUBLEITO DE SOLO PREDOMINANTEMENTE ARGILOSO. AF_11/2019 | D84: m² | E84: =E82 -> 6629.03 | F84: 3.14 | G84: =TRUNC((F84*1.2423),2) -> 3.9 | H84: =TRUNC((E84*G84),2) -> 25853.21
A85: TOTAL DO ITEM 3.2: | H85: =SUM(H79:H84) -> 117755.91

Sheet PLANILHA
C3: Total projeto | D3: Repasse | E3: Contrapartida
B5: Floriano | C5: 166018.13 | D5: 141115.41 | E5: 24902.72
B6: Minuano | C6: 121703.19 | D6: 103447.71 | E6: 18255.48
B7: Languiru 1 | C7: 116433.7 | D7: 98968.65 | E7: 17465.06
B8: Languiru 2 | C8: 73576.72 | D8: 62540.21 | E8: 11036.51
C11: 491333.97 | D11: 417633.87 | E11: 73700.1
C12: 87422.56 | D12: 74309.18 | E12: 13113.38
C13: 122069.41 | D13: 103759 | E13: 18310.41
C18: =SUM(C5:C17) -> 1178557.7 | D18: =SUM(D5:D17) -> 1001774 | E18: =SUM(E5:E17) -> 176783.66
C26: 302572.17 | D26: =C26-E26 -> 257186.34 | E26: =C26*0.15 -> 45385.825
C27: 180756.61 | D27: =C27-E27 -> 153643.12 | E27: =C27*0.15 -> 27113.491
C28: 185539.26 | D28: =C28-E28 -> 157708.37 | E28: =C28*0.15 -> 27830.889
C29: 135497.75 | D29: =C29-E29 -> 115173.09 | E29: =C29*0.15 -> 20324.662
C30: 343647.22 | D30: =C30-E30 -> 292100.14 | E30: =C30*0.15 -> 51547.083
C32: =SUM(C26:C31) -> 1148013 | D32: =SUM(D26:D31) -> 975811.06 | E32: =SUM(E26:E31) -> 172201.95
C35: =C18+C32 -> 2326570.7 | D35: =D18+D32 -> 1977585.1 | E35: =E18+E32 -> 348985.61

Sheet CRONOGRAMA
A1: CRONOGRAMA FÍSICO - FINANCEIRO
A2: ='[1]1.Orçamento'!A2:G2 -> PREFEITURA MUNICIPAL DE BOM RETIRO DO SUL
A3: OBRA - Drenagem Pluvial e aterro de pista
A4: ÍTEM | B4: FASE | C4: VALOR ORÇADO | D4: INCID. | E4: REALIZAÇÃO MENSAL
C5: ( R$ ) | D5: ( % ) | E5: 1º MÊS | F5: 2º MêS | G5: 3º MêS | H5: 4º MÊS | I5: 5º MÊS | J5: 6º MÊS | K5: 7º MÊS | L5: 8º MÊS | M5: 9º MÊS | N5: 10º MÊS | O5: 11º MÊS
A7: TRECHO: | B7: Localidade do Pinhal - sistema de drenagem pluvial próximo ao Campo do Floriano | C7: LOCAL: | D7: Localidade do Pinhal
A8: 1 | B8: SERVIÇOS PRELIMINARES | C8: 21282.84 | D8: 1 | E8: =C8*1 -> 21282.84
A9: 2 | B9: TERRAPLANAGEM | C9: 39816.9 | D9: 1 | E9: =C9*1 -> 39816.9
A10: 3 | B10: DRENAGEM PLUVIAL | C10: 78741.14 | D10: 1 | E10: =C10*1 -> 78741.14
A11: 4 | B11: SERVIÇOS COMPLEMENTARES | C11: 26177.25 | D11: 1 | E11: =C11*1 -> 26177.25
A12: VALOR TOTAL | C12: =SUM(C8:C11) -> 166018.13 | E12: =SUM(E8:E11) -> 166018.13
A14: TRECHO: | B14: Localidade do Pinhal - sistema de drenagem pluvial próximo a Minuano | C14: LOCAL: | D14: Localidade do Pinhal
A15: 1 | B15: SERVIÇOS PRELIMINARES | C15: 21456.09 | D15: 1 | F15: =C15*1 -> 21456.09
A16: 2 | B16: TERRAPLANAGEM | C16: 41962.08 | D16: 1 | F16: =C16*1 -> 41962.08
A17: 3 | B17: DRENAGEM PLUVIAL | C17: 56621.82 | D17: 1 | F17: =C17*1 -> 56621.82
A18: 4 | B18: SERVIÇOS COMPLEMENTARES | C18: 1663.2 | D18: 1 | F18: =C18*1 -> 1663.2
A19: VALOR TOTAL | C19: =SUM(C15:C18) -> 121703.19 | F19: =SUM(F15:F18) -> 121703.19
A21: TRECHO: | B21: Localidade da Fazenda Aurora – drenagem 01 pluvial próximo a Languiru | C21: LOCAL: | D21: Localidade do Pinhal
A22: 1 | B22: SERVIÇOS PRELIMINARES | C22: 21698.64 | D22: 1 | G22: =C22*1 -> 21698.64
A23: 2 | B23: TERRAPLANAGEM | C23: 0 | D23: 1 | G23: =C23*1 -> 0
A24: 3 | B24: DRENAGEM PLUVIAL | C24: 92829.31 | D24: 1 | G24: =C24*1 -> 92829.31
A25: 4 | B25: SERVIÇOS COMPLEMENTARES | C25: 1905.75 | D25: 1 | G25: =C25*1 -> 1905.75
A26: VALOR TOTAL | C26: =SUM(C22:C25) -> 116433.7 | G26: =SUM(G22:G25) -> 116433.7
A28: TRECHO: | B28: Localidade da Fazenda Aurora – drenagem 02 pluvial próximo a Languiru | C28: LOCAL: | D28: Localidade da Fazenda Aurora
A29: 1 | B29: SERVIÇOS PRELIMINARES | C29: 21698.64 | D29: 1 | H29: =C29*1 -> 21698.64
A30: 2 | B30: TERRAPLANAGEM | C30: 18469.79 | D30: 1 | H30: =C30*1 -> 18469.79
A31: 3 | B31: DRENAGEM PLUVIAL | C31: 31502.54 | D31: 1 | H31: =C31*1 -> 31502.54
A32: 4 | B32: SERVIÇOS COMPLEMENTARES | C32: 1905.75 | D32: 1 | H32: =C32*1 -> 1905.75
A33: VALOR TOTAL | C33: =SUM(C29:C32) -> 73576.72 | H33: =SUM(H29:H32) -> 73576.72
A35: TRECHO: | B35: Galeria sobre arroio nas proximidade da Granja Lunedo | C35: LOCAL: | D35: Localidade da Fazenda Aurora
A36: 1 | B36: SERVIÇOS PRELIMINARES | C36: 21871.89 | D36: 1 | I36: =C36*1 -> 21871.89
A37: 2 | B37: TERRAPLANAGEM | C37: 42316.02 | D37: 1 | I37: =C37*1 -> 42316.02
A38: 3 | B38: DRENAGEM PLUVIAL | C38: 236305.26 | D38: 1 | I38: =C38*1 -> 236305.26
A39: 4 | B39: SERVIÇOS COMPLEMENTARES | C39: 2079 | D39: 1 | I39: =C39*1 -> 2079
A40: VALOR TOTAL | C40: =SUM(C36:C39) -> 302572.17 | I40: =SUM(I36:I39) -> 302572.17
A42: TRECHO: | B42: Localidade da Barra do Silva Jorge – Galeria Sobre Arroio | C42: LOCAL: | D42: Barra do Silva Jorge
A43: 1 | B43: SERVIÇOS PRELIMINARES | C43: 21871.59 | D43: 1 | J43: =C43*1 -> 21871.59
A44: 2 | B44: TERRAPLANAGEM | C44: 49394.64 | D44: 1 | J44: =C44*1 -> 49394.64
A45: 3 | B45: DRENAGEM PLUVIAL | C45: 393301.14 | D45: 1 | J45: =C45*1 -> 393301.14
A46: 4 | B46: SERVIÇOS COMPLEMENTARES | C46: 26766.3 | D46: 1 | J46: =C46*1 -> 26766.3
A47: VALOR TOTAL | C47: =SUM(C43:C46) -> 491333.67 | J47: =SUM(J43:J46) -> 491333.67
A49: TRECHO: | B49: Galeria sobre o arroio Capivara | C49: LOCAL: | D49: Fazenda Aurora
A50: 1 | B50: SERVIÇOS PRELIMINARES | C50: 21871.89 | D50: 1 | K50: =C50*1 -> 21871.89
A51: 2 | B51: TERRAPLANAGEM | C51: 0 | D51: 1 | K51: =C51*1 -> 0
A52: 3 | B52: DRENAGEM PLUVIAL | C52: 132118.42 | D52: 1 | K52: =C52*1 -> 132118.42
A53: 4 | B53: SERVIÇOS COMPLEMENTARES | C53: 26766.3 | D53: 1 | K53: =C53*1 -> 26766.3
A54: VALOR TOTAL | C54: =SUM(C50:C53) -> 180756.61 | K54: =SUM(K50:K53) -> 180756.61
A56: TRECHO: | B56: Localidade da Barra do Silva Jorge – drenagem 01 | C56: LOCAL: | D56: Barra do Silva Jorge
A57: 1 | B57: SERVIÇOS PRELIMINARES | C57: 22218.39 | D57: 1 | L57: =C57*1 -> 22218.39
A58: 2 | B58: TERRAPLANAGEM | C58: 0 | D58: 1 | L58: =C58*1 -> 0
A59: 3 | B59: DRENAGEM PLUVIAL | C59: 38091.37 | D59: 1 | L59: =C59*1 -> 38091.37
A60: 4 | B60: SERVIÇOS COMPLEMENTARES | C60: 27112.8 | D60: 1 | L60: =C60*1 -> 27112.8
A61: VALOR TOTAL | C61: =SUM(C57:C60) -> 87422.56 | L61: =SUM(L57:L60) -> 87422.56
A63: TRECHO: | B63: Localidade da Barra do Silva Jorge – drenagem 02 | C63: LOCAL: | D63: Barra do Silva Jorge
A64: 1 | B64: SERVIÇOS PRELIMINARES | C64: 22149.09 | D64: 1 | M64: =C64*1 -> 22149.09
A65: 2 | B65: TERRAPLANAGEM | C65: 16848.68 | D65: 1 | M65: =C65*1 -> 16848.68
A66: 3 | B66: DRENAGEM PLUVIAL | C66: 56028.14 | D66: 1 | M66: =C66*1 -> 56028.14
A67: 4 | B67: SERVIÇOS COMPLEMENTARES | C67: 27043.5 | D67: 1 | M67: =C67*1 -> 27043.5
A68: VALOR TOTAL | C68: =SUM(C64:C67) -> 122069.41 | M68: =SUM(M64:M67) -> 122069.41
A70: TRECHO: | B70: Tavessa sobre arroio Curtume | C70: LOCAL: | D70: Rua Reinaldo Kollet
A71: 1 | B71: SERVIÇOS PRELIMINARES | C71: 21594.69 | D71: 1 | N71: =C71*1 -> 21594.69
A72: 2 | B72: TERRAPLANAGEM | C72: 16580.92 | D72: 1 | N72: =C72*1 -> 16580.92
A73: 3 | B73: DRENAGEM PLUVIAL | C73: 145561.85 | D73: 1 | N73: =C73*1 -> 145561.85
A74: 4 | B74: SERVIÇOS COMPLEMENTARES | C74: 1801.8 | D74: 1 | N74: =C74*1 -> 1801.8
A75: VALOR TOTAL | C75: =SUM(C71:C74) -> 185539.26 | N75: =SUM(N71:N74) -> 185539.26
A77: TRECHO: | B77: Rua Roberto J. Kerber e Rua Otylia Sibila Schmidt | C77: LOCAL: | D77: Rua Roberto J. Kerber e Rua Otylia Sibila Schmidt
A78: 1 | B78: SERVIÇOS PRELIMINARES | C78: 21594.69 | D78: 1 | O78: =C78*1 -> 21594.69
A79: 2 | B79: TERRAPLANAGEM | C79: 0 | D79: 1 | O79: =C79*1 -> 0
A80: 3 | B80: DRENAGEM PLUVIAL | O80: =C80*1 -> 0
A81: 3.1 | B81: Rua Roberto J. Kerber | C81: 109214.88 | D81: 1 | O81: =C81*1 -> 109214.88
A82: 3.2 | B82: Rua Otylia Sibila Schmidt | C82: 317364.35 | D82: 1 | O82: =C82*1 -> 317364.35
A83: 4 | B83: SERVIÇOS COMPLEMENTARES | C83: 30971.05 | D83: 1 | O83: =C83*1 -> 30971.05
A84: VALOR TOTAL | C84: =SUM(C78:C83) -> 479144.97 | O84: =C84*1 -> 479144.97
H87: Bom Retiro do Sul, 21 de novembro de 2025
L90: Eng. Civil Giovana Mulinari

Sheet PLANILHA GERAL
A1: PREFEITURA MUNICIPAL DE BOM RETIRO DO SUL/RS
A2: OBRA: | C2: Drenagem Pluvial e aterro de pista | D2: REFERÊNCIA: | E2: SINAPI (Não Desonerada) - 09/2025 / SICRO 07/2025
A4: ORÇAMENTO
A5: ITEM | B5: CÓDIGO SINAPI | C5: DESCRIÇÃO | D5: UNIDADE | E5: QUANTIDADE | F5: VALOR UNITÁRIO | G5: VALOR COM BDI (24,23%) | H5: VALOR TOTAL
A7: TRECHO: | C7: Localidade do Pinhal - sistema de drenagem pluvial próximo ao Campo do Floriano | D7: LOCAL: | E7: Localidade do Pinhal
A8: 1 | B8: SERVIÇOS PRELIMINARES
A9: 1.1 | B9: 103689 | C9: FORNECIMENTO E INSTALAÇÃO DE PLACA DE OBRA COM CHAPA GALVANIZADA E ESTRUTURA DE MADEIRA. AF_03/2022_PS | D9: m² | E9: 2.88 | F9: 462.39 | G9: =TRUNC((F9*1.2423),2) -> 574.42 | H9: =TRUNC((E9*G9),2) -> 1654.32
A10: 1.2 | B10: CP 1 | C10: MOBILIZAÇÃO DE EQUIPAMENTOS | D10: t.Km | E10: =ROUND((30*21.5),2) -> 645 | F10: =COMPOSIÇÕES!F5 -> 1.86 | G10: =TRUNC((F10*1.2423),2) -> 2.31 | H10: =TRUNC((E10*G10),2) -> 1489.95
A11: 1.3 | B11: CP 2 | C11: ADMINISTRAÇÃO DE OBRA - EQUIPE | D11: Mês | E11: 1 | F11: =COMPOSIÇÕES!F14 -> 14600.8 | G11: =TRUNC((F11*1.2423),2) -> 18138.57 | H11: =TRUNC((E11*G11),2) -> 18138.57
A12: TOTAL DO ITEM 1: | H12: =SUM(H9:H11) -> 21282.84
A13: 2 | B13: TERRAPLANAGEM
A14: 2.1 | B14: 100978 | C14: CARGA, MANOBRA E DESCARGA DE SOLOS E MATERIAIS GRANULARES EM CAMINHÃO BASCULANTE 10 M³ - CARGA COM ESCAVADEIRA HIDRÁULICA (CAÇAMBA DE 1,20 M³ / 155 HP) E DESCARGA LIVRE (UNIDADE: M3). AF_07/2020 | D14: m³ | E14: =ROUND((80.37*6),2) -> 482.22 | F14: 7.62 | G14: =TRUNC((F14*1.2423),2) -> 9.46 | H14: =TRUNC((E14*G14),2) -> 4561.8
A15: 2.2 | B15: 93589 | C15: TRANSPORTE COM CAMINHÃO BASCULANTE DE 10 M³, EM VIA URBANA EM REVESTIMENTO PRIMÁRIO (UNIDADE: M3XKM). AF_07/2020 - DMT 10,5KM | D15: m³.Km | E15: =ROUND((E14*1.25*10.5),2) -> 6329.14 | F15: 2.9 | G15: =TRUNC((F15*1.2423),2) -> 3.6 | H15: =TRUNC((E15*G15),2) -> 22784.9
A16: 2.3 | B16: CP 4 | C16: CONSTRUÇÃO DE BASE E SUB-BASE PARA PAVIMENTAÇÃO DE RACHÃO, COM ESPESSURA DE 30 CM - EXCLUSIVE CARGA E TRANSPORTE. AF_09/2024 | D16: m³ | E16: =E14 -> 482.22 | F16: 20.82 | G16: =TRUNC((F16*1.2423),2) -> 25.86 | H16: =TRUNC((E16*G16),2) -> 12470.2
A17: TOTAL DO ITEM 2: | H17: =SUM(H14:H16) -> 39816.9
A18: 3 | B18: DRENAGEM PLUVIAL
B19: 102281 | C19: ESCAVAÇÃO MECANIZADA DE VALA COM PROF. MAIOR QUE 1,5 M ATÉ 3,0 M (MÉDIA MONTANTE E JUSANTE/UMA COMPOSIÇÃO POR TRECHO),COM ESCAVADEIRA (1,2 M3),LARG. DE 1,5 M A 2,5 M, EM SOLO DE 1A CATEGORIA, LOCAIS COM BAIXO NÍVEL DE INTERFERÊNCIA. AF_02/2021 | D19: m³ | E19: =ROUND((2.2*1.5*E25),2) -> 148.5 | F19: 6.19 | G19: =TRUNC((F19*1.2423),2) -> 7.68 | H19: =TRUNC((E19*G19),2) -> 1140.48
B20: 93368 | C20: REATERRO MECANIZADO DE VALA COM ESCAVADEIRA HIDRÁULICA (CAPACIDADE DA CAÇAMBA: 0,8 M³/POTÊNCIA: 111 HP), LARGURA ATÉ 1,5 M, PROFUNDIDADE DE 1,5 A 3,0 M, COM SOLO (SEM SUBSTITUIÇÃO) DE 1ª CATEGORIA, COM COMPACTADOR DE SOLOS DE PERCUSSÃO. AF_08/2023 | D20: m³ | E20: =ROUND((E19-(E25*1.13)),2) -> 97.65 | F20: 23.89 | G20: =TRUNC((F20*1.2423),2) -> 29.67 | H20: =TRUNC((E20*G20),2) -> 2897.27
B21: CP 9 | C21: PREPARO DE FUNDO DE VALA COM LARGURA MENOR QUE 1,5 M, COM CAMADA DE RACHÃO, LANÇAMENTO MECANIZADO. AF_08/2020 | D21: m³ | E21: =ROUND((10*1.5*0.3),2) -> 4.5 | F21: =COMPOSIÇÕES!F73 -> 133.04 | G21: =TRUNC((F21*1.2423),2) -> 165.27 | H21: =TRUNC((E21*G21),2) -> 743.71
B22: 93589 | C22: TRANSPORTE COM CAMINHÃO BASCULANTE DE 10 M³, EM VIA URBANA EM REVESTIMENTO PRIMÁRIO (UNIDADE: M3XKM). AF_07/2020 - DMT 10,5KM | D22: m³.Km | E22: =ROUND((E21*1.25*10.5),2) -> 59.06 | F22: 2.9 | G22: =TRUNC((F22*1.2423),2) -> 3.6 | H22: =TRUNC((E22*G22),2) -> 212.61
B23: 101623 | C23: PREPARO DE FUNDO DE VALA COM LARGURA MENOR QUE 1,5 M, COM CAMADA DE BRITA, LANÇAMENTO MECANIZADO. AF_08/2020 | D23: m³ | E23: =ROUND((E25*1*0.1),2) -> 4.5 | F23: 253.05 | G23: =TRUNC((F23*1.2423),2) -> 314.36 | H23: =TRUNC((E23*G23),2) -> 1414.62
B24: 93589 | C24: TRANSPORTE COM CAMINHÃO BASCULANTE DE 10 M³, EM VIA URBANA EM REVESTIMENTO PRIMÁRIO (UNIDADE: M3XKM). AF_07/2020 - DMT 20KM | D24: m³.Km | E24: =ROUND((E23*20),2) -> 90 | F24: 2.9 | G24: =TRUNC((F24*1.2423),2) -> 3.6 | H24: =TRUNC((E24*G24),2) -> 324
B25: 92216 | C25: TUBO DE CONCRETO PARA REDES COLETORAS DE ÁGUAS PLUVIAIS, DIÂMETRO DE 1000 MM, JUNTA RÍGIDA, INSTALADO EM LOCAL COM BAIXO NÍVEL DE INTERFERÊNCIAS - FORNECIMENTO E ASSENTAMENTO. AF_03/2024 | D25: m | E25: 45 | F25: 620.06 | G25: =TRUNC((F25*1.2423),2) -> 770.3 | H25: =TRUNC((E25*G25),2) -> 34663.5
B26: 92214 | C26: TUBO DE CONCRETO PARA REDES COLETORAS DE ÁGUAS PLUVIAIS, DIÂMETRO DE 800 MM, JUNTA RÍGIDA, INSTALADO EM LOCAL COM BAIXO NÍVEL DE INTERFERÊNCIAS - FORNECIMENTO E ASSENTAMENTO. AF_03/2024 | D26: m | E26: 0 | F26: 520.56 | G26: =TRUNC((F26*1.2423),2) -> 646.69 | H26: =TRUNC((E26*G26),2) -> 0
B27: 100946 | C27: TRANSPORTE COM CAMINHÃO CARROCERIA 9T, EM VIA URBANA EM REVESTIMENTO PRIMÁRIO (UNIDADE: TXKM). AF_07/2020 - DMT 21,5KM | D27: t.Km | E27: =ROUND((E25*1.08*21.5),2) -> 1044.9 | F27: 2.6 | G27: =TRUNC((F27*1.2423),2) -> 3.22 | H27: =TRUNC((E27*G27),2) -> 3364.57
B28: 102740 | C28: BOCA PARA BUEIRO SIMPLES TUBULAR D = 100 CM EM CONCRETO, ALAS COM ESCONSIDADE DE 0°, INCLUINDO FÔRMAS E MATERIAIS. AF_07/2021 | D28: Unid. | E28: 4 | F28: 5859.78 | G28: =TRUNC((F28*1.2423),2) -> 7279.6 | H28: =TRUNC((E28*G28),2) -> 29118.4
B29: 102739 | C29: BOCA PARA BUEIRO SIMPLES TUBULAR D = 80 CM EM CONCRETO, ALAS COM ESCONSIDADE DE 0°, INCLUINDO FÔRMAS E MATERIAIS. AF_07/2021 | D29: Unid. | E29: 1 | F29: 3913.7 | G29: =TRUNC((F29*1.2423),2) -> 4861.98 | H29: =TRUNC((E29*G29),2) -> 4861.98
A30: TOTAL DO ITEM 3: | H30: =SUM(H19:H29) -> 78741.14
A31: 4 | B31: SERVIÇOS COMPLEMENTARES
A32: 4.1 | B32: CP 3 | C32: DESMOBILIZAÇÃO DE EQUIPAMENTOS | D32: t.Km | E32: =E10 -> 645 | F32: =COMPOSIÇÕES!F20 -> 1.86 | G32: =TRUNC((F32*1.2423),2) -> 2.31 | H32: =TRUNC((E32*G32),2) -> 1489.95
A33: 4.2 | B33: 88908 | C33: ESCAVADEIRA HIDRÁULICA SOBRE ESTEIRAS, CAÇAMBA 1,20 M3, PESO OPERACIONAL 21 T, POTÊNCIA BRUTA 155 HP - CHI DIURNO. AF_06/2014 - DESASSOREAMENTO DE VALA A JUSANTE E MONTANTE | D33: CHI | E33: 30 | F33: 112.37 | G33: =TRUNC((F33*1.2423),2) -> 139.59 | H33: =TRUNC((E33*G33),2) -> 4187.7
A34: 4.3 | B34: 88907 | C34: ESCAVADEIRA HIDRÁULICA SOBRE ESTEIRAS, CAÇAMBA 1,20 M3, PESO OPERACIONAL 21 T, POTÊNCIA BRUTA 155 HP - CHP DIURNO. AF_06/2014 - DESASSOREAMENTO DE VALA A JUSANTE E MONTANTE | D34: CHP | E34: 60 | F34: 275.03 | G34: =TRUNC((F34*1.2423),2) -> 341.66 | H34: =TRUNC((E34*G34),2) -> 20499.6
A35: TOTAL DO ITEM 4: | H35: =SUM(H32:H34) -> 26177.25
A36: VALOR TOTAL OBRA: | H36: =H12+H17+H30+H35 -> 166018.13
A38: TRECHO: | C38: Localidade do Pinhal - sistema de drenagem pluvial próximo a Minuano | D38: LOCAL: | E38: Localidade do Pinhal
A39: 1 | B39: SERVIÇOS PRELIMINARES
A40: 1.1 | B40: 103689 | C40: FORNECIMENTO E INSTALAÇÃO DE PLACA DE OBRA COM CHAPA GALVANIZADA E ESTRUTURA DE MADEIRA. AF_03/2022_PS | D40: m² | E40: 2.88 | F40: 462.39 | G40: =TRUNC((F40*1.2423),2) -> 574.42 | H40: =TRUNC((E40*G40),2) -> 1654.32
A41: 1.2 | B41: CP 1 | C41: MOBILIZAÇÃO DE EQUIPAMENTOS | D41: t.Km | E41: =ROUND((30*24),2) -> 720 | F41: =COMPOSIÇÕES!F5 -> 1.86 | G41: =TRUNC((F41*1.2423),2) -> 2.31 | H41: =TRUNC((E41*G41),2) -> 1663.2
A42: 1.3 | B42: CP 2 | C42: ADMINISTRAÇÃO DE OBRA - EQUIPE | D42: Mês | E42: 1 | F42: =COMPOSIÇÕES!F14 -> 14600.8 | G42: =TRUNC((F42*1.2423),2) -> 18138.57 | H42: =TRUNC((E42*G42),2) -> 18138.57
A43: TOTAL DO ITEM 1: | H43: =SUM(H40:H42) -> 21456.09
A44: 2 | B44: TERRAPLANAGEM
A45: 2.1 | B45: 100978 | C45: CARGA, MANOBRA E DESCARGA DE SOLOS E MATERIAIS GRANULARES EM CAMINHÃO BASCULANTE 10 M³ - CARGA COM ESCAVADEIRA HIDRÁULICA (CAÇAMBA DE 1,20 M³ / 155 HP) E DESCARGA LIVRE (UNIDADE: M3). AF_07/2020 | D45: m³ | E45: =ROUND((84.7*6),2) -> 508.2 | F45: 7.62 | G45: =TRUNC((F45*1.2423),2) -> 9.46 | H45: =TRUNC((E45*G45),2) -> 4807.57
A46: 2.2 | B46: 93589 | C46: TRANSPORTE COM CAMINHÃO BASCULANTE DE 10 M³, EM VIA URBANA EM REVESTIMENTO PRIMÁRIO (UNIDADE: M3XKM). AF_07/2020 - DMT 10,5KM | D46: m³.Km | E46: =ROUND((E45*1.25*10.5),2) -> 6670.13 | F46: 2.9 | G46: =TRUNC((F46*1.2423),2) -> 3.6 | H46: =TRUNC((E46*G46),2) -> 24012.46
A47: 2.3 | B47: CP 4 | C47: CONSTRUÇÃO DE BASE E SUB-BASE PARA PAVIMENTAÇÃO DE RACHÃO, COM ESPESSURA DE 30 CM - EXCLUSIVE CARGA E TRANSPORTE. AF_09/2024 | D47: m³ | E47: =E45 -> 508.2 | F47: 20.82 | G47: =TRUNC((F47*1.2423),2) -> 25.86 | H47: =TRUNC((E47*G47),2) -> 13142.05
A48: TOTAL DO ITEM 2: | H48: =SUM(H45:H47) -> 41962.08
A49: 3 | B49: DRENAGEM PLUVIAL
A50: 3.1 | B50: 102281 | C50: ESCAVAÇÃO MECANIZADA DE VALA COM PROF. MAIOR QUE 1,5 M ATÉ 3,0 M (MÉDIA MONTANTE E JUSANTE/UMA COMPOSIÇÃO POR TRECHO),COM ESCAVADEIRA (1,2 M3),LARG. DE 1,5 M A 2,5 M, EM SOLO DE 1A CATEGORIA, LOCAIS COM BAIXO NÍVEL DE INTERFERÊNCIA. AF_02/2021 | D50: m³ | E50: =ROUND((2.8*3*E56),2) -> 84 | F50: 6.19 | G50: =TRUNC((F50*1.2423),2) -> 7.68 | H50: =TRUNC((E50*G50),2) -> 645.12
A51: 3.2 | B51: 93368 | C51: REATERRO MECANIZADO DE VALA COM ESCAVADEIRA HIDRÁULICA (CAPACIDADE DA CAÇAMBA: 0,8 M³/POTÊNCIA: 111 HP), LARGURA ATÉ 1,5 M, PROFUNDIDADE DE 1,5 A 3,0 M, COM SOLO (SEM SUBSTITUIÇÃO) DE 1ª CATEGORIA, COM COMPACTADOR DE SOLOS DE PERCUSSÃO. AF_08/2023 | D51: m³ | E51: =ROUND((E50-(E56*2.54)),2) -> 58.6 | F51: 23.89 | G51: =TRUNC((F51*1.2423),2) -> 29.67 | H51: =TRUNC((E51*G51),2) -> 1738.66
A52: 3.3 | B52: CP 9 | C52: PREPARO DE FUNDO DE VALA COM LARGURA MENOR QUE 1,5 M, COM CAMADA DE RACHÃO, LANÇAMENTO MECANIZADO. AF_08/2020 | D52: m³ | E52: =ROUND((10*1.5*0.3),2) -> 4.5 | F52: =COMPOSIÇÕES!F73 -> 133.04 | G52: =TRUNC((F52*1.2423),2) -> 165.27 | H52: =TRUNC((E52*G52),2) -> 743.71
A53: 3.4 | B53: 93589 | C53: TRANSPORTE COM CAMINHÃO BASCULANTE DE 10 M³, EM VIA URBANA EM REVESTIMENTO PRIMÁRIO (UNIDADE: M3XKM). AF_07/2020 - DMT 10,5KM | D53: m³.Km | E53: =ROUND((E52*1.25*10.5),2) -> 59.06 | F53: 2.9 | G53: =TRUNC((F53*1.2423),2) -> 3.6 | H53: =TRUNC((E53*G53),2) -> 212.61
A54: 3.5 | B54: 101623 | C54: PREPARO DE FUNDO DE VALA COM LARGURA MENOR QUE 1,5 M, COM CAMADA DE BRITA, LANÇAMENTO MECANIZADO. AF_08/2020 | D54: m³ | E54: =ROUND((E56*1*0.1),2) -> 1 | F54: 253.05 | G54: =TRUNC((F54*1.2423),2) -> 314.36 | H54: =TRUNC((E54*G54),2) -> 314.36
A55: 3.6 | B55: 93589 | C55: TRANSPORTE COM CAMINHÃO BASCULANTE DE 10 M³, EM VIA URBANA EM REVESTIMENTO PRIMÁRIO (UNIDADE: M3XKM). AF_07/2020 - DMT 22KM | D55: m³.Km | E55: =ROUND((E54*22),2) -> 22 | F55: 2.9 | G55: =TRUNC((F55*1.2423),2) -> 3.6 | H55: =TRUNC((E55*G55),2) -> 79.2
A56: 3.7 | B56: 92818 | C56: TUBO DE CONCRETO PARA REDES COLETORAS DE ÁGUAS PLUVIAIS, DIÂMETRO DE 1500 MM, JUNTA RÍGIDA, INSTALADO EM LOCAL COM BAIXO NÍVEL DE INTERFERÊNCIAS - FORNECIMENTO E ASSENTAMENTO. AF_03/2024 | D56: m | E56: 10 | F56: 1282.89 | G56: =TRUNC((F56*1.2423),2) -> 1593.73 | H56: =TRUNC((E56*G56),2) -> 15937.3
A57: 3.8 | B57: 100946 | C57: TRANSPORTE COM CAMINHÃO CARROCERIA 9T, EM VIA URBANA EM REVESTIMENTO PRIMÁRIO (UNIDADE: TXKM). AF_07/2020 - DMT 24KM | D57: t.Km | E57: =ROUND((E56*2.1*24),2) -> 504 | F57: 2.6 | G57: =TRUNC((F57*1.2423),2) -> 3.22 | H57: =TRUNC((E57*G57),2) -> 1622.88
A58: 3.9 | B58: 102742 | C58: BOCA PARA BUEIRO SIMPLES TUBULAR D = 150 CM EM CONCRETO, ALAS COM ESCONSIDADE DE 0°, INCLUINDO FÔRMAS E MATERIAIS. AF_07/2021 | D58: Unid. | E58: 2 | F58: 14218.78 | G58: =TRUNC((F58*1.2423),2) -> 17663.99 | H58: =TRUNC((E58*G58),2) -> 35327.98
A59: TOTAL DO ITEM 3: | H59: =SUM(H50:H58) -> 56621.82
A60: 4 | B60: SERVIÇOS COMPLEMENTARES
A61: 4.1 | B61: CP 3 | C61: DESMOBILIZAÇÃO DE EQUIPAMENTOS | D61: t.Km | E61: =E41 -> 720 | F61: =COMPOSIÇÕES!F20 -> 1.86 | G61: =TRUNC((F61*1.2423),2) -> 2.31 | H61: =TRUNC((E61*G61),2) -> 1663.2
A62: 4.2 | B62: 88908 | C62: ESCAVADEIRA HIDRÁULICA SOBRE ESTEIRAS, CAÇAMBA 1,20 M3, PESO OPERACIONAL 21 T, POTÊNCIA BRUTA 155 HP - CHI DIURNO. AF_06/2014 - DESASSOREAMENTO DE VALA A JUSANTE E MONTANTE | D62: CHI | E62: 0 | F62: 112.37 | G62: =TRUNC((F62*1.2423),2) -> 139.59 | H62: =TRUNC((E62*G62),2) -> 0
A63: 4.3 | B63: 88907 | C63: ESCAVADEIRA HIDRÁULICA SOBRE ESTEIRAS, CAÇAMBA 1,20 M3, PESO OPERACIONAL 21 T, POTÊNCIA BRUTA 155 HP - CHP DIURNO. AF_06/2014 - DESASSOREAMENTO DE VALA A JUSANTE E MONTANTE | D63: CHP | E63: 0 | F63: 275.03 | G63: =TRUNC((F63*1.2423),2) -> 341.66 | H63: =TRUNC((E63*G63),2) -> 0
A64: TOTAL DO ITEM 4: | H64: =SUM(H61:H63) -> 1663.2
A65: VALOR TOTAL OBRA: | H65: =H43+H48+H59+H64 -> 121703.19
A67: TRECHO: | C67: Localidade da Fazenda Aurora – drenagem 01 pluvial próximo a Languiru | D67: LOCAL: | E67: Localidade da Fazenda Aurora
A68: 1 | B68: SERVIÇOS PRELIMINARES
A69: 1.1 | B69: 103689 | C69: FORNECIMENTO E INSTALAÇÃO DE PLACA DE OBRA COM CHAPA GALVANIZADA E ESTRUTURA DE MADEIRA. AF_03/2022_PS | D69: m² | E69: 2.88 | F69: 462.39 | G69: =TRUNC((F69*1.2423),2) -> 574.42 | H69: =TRUNC((E69*G69),2) -> 1654.32
A70: 1.2 | B70: CP 1 | C70: MOBILIZAÇÃO DE EQUIPAMENTOS | D70: t.Km | E70: =ROUND((30*27.5),2) -> 825 | F70: =COMPOSIÇÕES!F5 -> 1.86 | G70: =TRUNC((F70*1.2423),2) -> 2.31 | H70: =TRUNC((E70*G70),2) -> 1905.75
A71: 1.3 | B71: CP 2 | C71: ADMINISTRAÇÃO DE OBRA - EQUIPE | D71: Mês | E71: 1 | F71: =COMPOSIÇÕES!F14 -> 14600.8 | G71: =TRUNC((F71*1.2423),2) -> 18138.57 | H71: =TRUNC((E71*G71),2) -> 18138.57
A72: TOTAL DO ITEM 1: | H72: =SUM(H69:H71) -> 21698.64
A73: 2 | B73: TERRAPLANAGEM
A74: 2.1 | B74: 100978 | C74: CARGA, MANOBRA E DESCARGA DE SOLOS E MATERIAIS GRANULARES EM CAMINHÃO BASCULANTE 10 M³ - CARGA COM ESCAVADEIRA HIDRÁULICA (CAÇAMBA DE 1,20 M³ / 155 HP) E DESCARGA LIVRE (UNIDADE: M3). AF_07/2020 | D74: m³ | E74: 0 | F74: 7.62 | G74: =TRUNC((F74*1.2423),2) -> 9.46 | H74: =TRUNC((E74*G74),2) -> 0
A75: 2.2 | B75: 93589 | C75: TRANSPORTE COM CAMINHÃO BASCULANTE DE 10 M³, EM VIA URBANA EM REVESTIMENTO PRIMÁRIO (UNIDADE: M3XKM). AF_07/2020 - DMT 9KM | D75: m³.Km | E75: 0 | F75: 2.9 | G75: =TRUNC((F75*1.2423),2) -> 3.6 | H75: =TRUNC((E75*G75),2) -> 0
A76: 2.3 | B76: CP 4 | C76: CONSTRUÇÃO DE BASE E SUB-BASE PARA PAVIMENTAÇÃO DE RACHÃO, COM ESPESSURA DE 30 CM - EXCLUSIVE CARGA E TRANSPORTE. AF_09/2024 | D76: m³ | E76: 0 | F76: 20.82 | G76: =TRUNC((F76*1.2423),2) -> 25.86 | H76: =TRUNC((E76*G76),2) -> 0
A77: TOTAL DO ITEM 2: | H77: =SUM(H74:H76) -> 0
A78: 3 | B78: DRENAGEM PLUVIAL
A79: 3.1 | B79: 102281 | C79: ESCAVAÇÃO MECANIZADA DE VALA COM PROF. MAIOR QUE 1,5 M ATÉ 3,0 M (MÉDIA MONTANTE E JUSANTE/UMA COMPOSIÇÃO POR TRECHO),COM ESCAVADEIRA (1,2 M3),LARG. DE 1,5 M A 2,5 M, EM SOLO DE 1A CATEGORIA, LOCAIS COM BAIXO NÍVEL DE INTERFERÊNCIA. AF_02/2021 | D79: m³ | E79: =ROUND((2.8*3*E85),2) -> 151.2 | F79: 6.19 | G79: =TRUNC((F79*1.2423),2) -> 7.68 | H79: =TRUNC((E79*G79),2) -> 1161.21
A80: 3.2 | B80: 93368 | C80: REATERRO MECANIZADO DE VALA COM ESCAVADEIRA HIDRÁULICA (CAPACIDADE DA CAÇAMBA: 0,8 M³/POTÊNCIA: 111 HP), LARGURA ATÉ 1,5 M, PROFUNDIDADE DE 1,5 A 3,0 M, COM SOLO (SEM SUBSTITUIÇÃO) DE 1ª CATEGORIA, COM COMPACTADOR DE SOLOS DE PERCUSSÃO. AF_08/2023 | D80: m³ | E80: =ROUND((E79-(E85*2.54)),2) -> 105.48 | F80: 23.89 | G80: =TRUNC((F80*1.2423),2) -> 29.67 | H80: =TRUNC((E80*G80),2) -> 3129.59
A81: 3.3 | B81: CP 9 | C81: PREPARO DE FUNDO DE VALA COM LARGURA MENOR QUE 1,5 M, COM CAMADA DE RACHÃO, LANÇAMENTO MECANIZADO. AF_08/2020 | D81: m³ | E81: =ROUND((18*1.5*0.8),2) -> 21.6 | F81: =COMPOSIÇÕES!F73 -> 133.04 | G81: =TRUNC((F81*1.2423),2) -> 165.27 | H81: =TRUNC((E81*G81),2) -> 3569.83
A82: 3.4 | B82: 93589 | C82: TRANSPORTE COM CAMINHÃO BASCULANTE DE 10 M³, EM VIA URBANA EM REVESTIMENTO PRIMÁRIO (UNIDADE: M3XKM). AF_07/2020 - DMT 9KM | D82: m³.Km | E82: =ROUND((E81*1.25*9),2) -> 243 | F82: 2.9 | G82: =TRUNC((F82*1.2423),2) -> 3.6 | H82: =TRUNC((E82*G82),2) -> 874.8
A83: 3.5 | B83: 101623 | C83: PREPARO DE FUNDO DE VALA COM LARGURA MENOR QUE 1,5 M, COM CAMADA DE BRITA, LANÇAMENTO MECANIZADO. AF_08/2020 | D83: m³ | E83: =ROUND((E85*1*0.1),2) -> 1.8 | F83: 253.05 | G83: =TRUNC((F83*1.2423),2) -> 314.36 | H83: =TRUNC((E83*G83),2) -> 565.84
A84: 3.6 | B84: 93589 | C84: TRANSPORTE COM CAMINHÃO BASCULANTE DE 10 M³, EM VIA URBANA EM REVESTIMENTO PRIMÁRIO (UNIDADE: M3XKM). AF_07/2020 - DMT 24KM | D84: m³.Km | E84: =ROUND((E83*24),2) -> 43.2 | F84: 2.9 | G84: =TRUNC((F84*1.2423),2) -> 3.6 | H84: =TRUNC((E84*G84),2) -> 155.52
A85: 3.7 | B85: 92818 | C85: TUBO DE CONCRETO PARA REDES COLETORAS DE ÁGUAS PLUVIAIS, DIÂMETRO DE 1500 MM, JUNTA RÍGIDA, INSTALADO EM LOCAL COM BAIXO NÍVEL DE INTERFERÊNCIAS - FORNECIMENTO E ASSENTAMENTO. AF_03/2024 | D85: m | E85: 18 | F85: 1282.89 | G85: =TRUNC((F85*1.2423),2) -> 1593.73 | H85: =TRUNC((E85*G85),2) -> 28687.14
A86: 3.8 | B86: 92214 | C86: TUBO DE CONCRETO PARA REDES COLETORAS DE ÁGUAS PLUVIAIS, DIÂMETRO DE 800 MM, JUNTA RÍGIDA, INSTALADO EM LOCAL COM BAIXO NÍVEL DE INTERFERÊNCIAS - FORNECIMENTO E ASSENTAMENTO. AF_03/2024 | D86: m | E86: 5 | F86: 520.56 | G86: =TRUNC((F86*1.2423),2) -> 646.69 | H86: =TRUNC((E86*G86),2) -> 3233.45
A87: 3.9 | B87: 100946 | C87: TRANSPORTE COM CAMINHÃO CARROCERIA 9T, EM VIA URBANA EM REVESTIMENTO PRIMÁRIO (UNIDADE: TXKM). AF_07/2020 - DMT 27,5KM | D87: t.Km | E87: =ROUND((((E85*2.1)+(E86*0.57))*27.5),2) -> 1117.88 | F87: 2.6 | G87: =TRUNC((F87*1.2423),2) -> 3.22 | H87: =TRUNC((E87*G87),2) -> 3599.57
A88: 3.10 | B88: 102746 | C88: BOCA PARA BUEIRO DUPLO TUBULAR D = 150 CM EM CONCRETO, ALAS COM ESCONSIDADE DE 0°, INCLUINDO FÔRMAS E MATERIAIS. AF_07/2021 | D88: Unid. | E88: 2 | F88: 17302.74 | G88: =TRUNC((F88*1.2423),2) -> 21495.19 | H88: =TRUNC((E88*G88),2) -> 42990.38
A89: 3.11 | B89: 102739 | C89: BOCA PARA BUEIRO SIMPLES TUBULAR D = 80 CM EM CONCRETO, ALAS COM ESCONSIDADE DE 0°, INCLUINDO FÔRMAS E MATERIAIS. AF_07/2021 | D89: Unid. | E89: 1 | F89: 3913.7 | G89: =TRUNC((F89*1.2423),2) -> 4861.98 | H89: =TRUNC((E89*G89),2) -> 4861.98
A90: TOTAL DO ITEM 3: | H90: =SUM(H79:H89) -> 92829.31
A91: 4 | B91: SERVIÇOS COMPLEMENTARES
A92: 4.1 | B92: CP 3 | C92: DESMOBILIZAÇÃO DE EQUIPAMENTOS | D92: t.Km | E92: =E70 -> 825 | F92: =COMPOSIÇÕES!F20 -> 1.86 | G92: =TRUNC((F92*1.2423),2) -> 2.31 | H92: =TRUNC((E92*G92),2) -> 1905.75
A93: 4.2 | B93: 88908 | C93: ESCAVADEIRA HIDRÁULICA SOBRE ESTEIRAS, CAÇAMBA 1,20 M3, PESO OPERACIONAL 21 T, POTÊNCIA BRUTA 155 HP - CHI DIURNO. AF_06/2014 - DESASSOREAMENTO DE VALA A JUSANTE E MONTANTE | D93: CHI | E93: 0 | F93: 112.37 | G93: =TRUNC((F93*1.2423),2) -> 139.59 | H93: =TRUNC((E93*G93),2) -> 0
A94: 4.3 | B94: 88907 | C94: ESCAVADEIRA HIDRÁULICA SOBRE ESTEIRAS, CAÇAMBA 1,20 M3, PESO OPERACIONAL 21 T, POTÊNCIA BRUTA 155 HP - CHP DIURNO. AF_06/2014 - DESASSOREAMENTO DE VALA A JUSANTE E MONTANTE | D94: CHP | E94: 0 | F94: 275.03 | G94: =TRUNC((F94*1.2423),2) -> 341.66 | H94: =TRUNC((E94*G94),2) -> 0
A95: TOTAL DO ITEM 4: | H95: =SUM(H92:H94) -> 1905.75
A96: VALOR TOTAL OBRA: | H96: =H72+H77+H90+H95 -> 116433.7
A98: TRECHO: | C98: Localidade da Fazenda Aurora – drenagem 02 pluvial próximo a Languiru | D98: LOCAL: | E98: Localidade da Fazenda Aurora
A99: 1 | B99: SERVIÇOS PRELIMINARES
A100: 1.1 | B100: 103689 | C100: FORNECIMENTO E INSTALAÇÃO DE PLACA DE OBRA COM CHAPA GALVANIZADA E ESTRUTURA DE MADEIRA. AF_03/2022_PS | D100: m² | E100: 2.88 | F100: 462.39 | G100: =TRUNC((F100*1.2423),2) -> 574.42 | H100: =TRUNC((E100*G100),2) -> 1654.32
A101: 1.2 | B101: CP 1 | C101: MOBILIZAÇÃO DE EQUIPAMENTOS | D101: t.Km | E101: =ROUND((30*27.5),2) -> 825 | F101: =COMPOSIÇÕES!F5 -> 1.86 | G101: =TRUNC((F101*1.2423),2) -> 2.31 | H101: =TRUNC((E101*G101),2) -> 1905.75
A102: 1.3 | B102: CP 2 | C102: ADMINISTRAÇÃO DE OBRA - EQUIPE | D102: Mês | E102: 1 | F102: =COMPOSIÇÕES!F14 -> 14600.8 | G102: =TRUNC((F102*1.2423),2) -> 18138.57 | H102: =TRUNC((E102*G102),2) -> 18138.57
A103: TOTAL DO ITEM 1: | H103: =SUM(H100:H102) -> 21698.64
A104: 2 | B104: TERRAPLANAGEM
A105: 2.1 | B105: 100978 | C105: CARGA, MANOBRA E DESCARGA DE SOLOS E MATERIAIS GRANULARES EM CAMINHÃO BASCULANTE 10 M³ - CARGA COM ESCAVADEIRA HIDRÁULICA (CAÇAMBA DE 1,20 M³ / 155 HP) E DESCARGA LIVRE (UNIDADE: M3). AF_07/2020 | D105: m³ | E105: =ROUND((39.43*6),2) -> 236.58 | F105: 7.62 | G105: =TRUNC((F105*1.2423),2) -> 9.46 | H105: =TRUNC((E105*G105),2) -> 2238.04
...

Sheet COMPOSIÇÕES
A1: CP1 - MOBILIZAÇÃO DE EQUIPAMENTOS
A2: CÓDIGO SINAPI | B2: DESCRIÇÃO | C2: UNIDADE | D2: QUANTIDADE | E2: VALOR UNITÁRIO | F2: VALOR TOTAL
A3: 5914636 | B3: Transporte com cavalo mecânico com semirreboque com capacidade de 22 t - rodovia em revestimento primário | C3: T.KM | D3: 1 | E3: 1.04 | F3: =TRUNC((D3*E3),2) -> 1.04
A4: 88282 | B4: MOTORISTA DE CAMINHÃO COM ENCARGOS COMPLEMENTARES | C4: H | D4: 0.03 | E4: 27.54 | F4: =TRUNC((D4*E4),2) -> 0.82
A5: Valor por t.Km | F5: =SUM(F3:F4) -> 1.86
A7: CP2 - ADMINISTRAÇÃO DE OBRA/MÊS
A8: CÓDIGO SINAPI | B8: DESCRIÇÃO | C8: UNIDADE | D8: QUANTIDADE | E8: VALOR UNITÁRIO | F8: VALOR TOTAL
A9: 90778 | B9: ENGENHEIRO CIVIL DE OBRA PLENO COM ENCARGOS COMPLEMENTARES | C9: H | D9: 8 | E9: 135.8 | F9: =TRUNC((D9*E9),2) -> 1086.4
A10: 90776 | B10: ENCARREGADO GERAL COM ENCARGOS COMPLEMENTARES | C10: H | D10: 80 | E10: 75.41 | F10: =TRUNC((D10*E10),2) -> 6032.8
A11: 90781 | B11: TOPOGRAFO COM ENCARGOS COMPLEMENTARES | C11: H | D11: 40 | E11: 45.09 | F11: =TRUNC((D11*E11),2) -> 1803.6
A12: 92139 | B12: CAMINHONETE COM MOTOR A DIESEL, POTÊNCIA 180 CV, CABINE DUPLA, 4X4 - CHI DIURNO. AF_11/2015 | C12: CHI | D12: 40 | E12: 44.54 | F12: =TRUNC((D12*E12),2) -> 1781.6
A13: 91138 | B13: CAMINHONETE COM MOTOR A DIESEL, POTÊNCIA 180 CV, CABINE DUPLA, 4X4 - CHP DIURNO. AF_11/2015 | C13: CHP | D13: 40 | E13: 97.41 | F13: =TRUNC((D13*E13),2) -> 3896.4
A14: Valor por Mês | F14: =SUM(F9:F13) -> 14600.8
A16: CP3 - DESMOBILIZAÇÃO DE EQUIPAMENTOS
A17: CÓDIGO SINAPI | B17: DESCRIÇÃO | C17: UNIDADE | D17: QUANTIDADE | E17: VALOR UNITÁRIO | F17: VALOR TOTAL
A18: 5914636 | B18: Transporte com cavalo mecânico com semirreboque com capacidade de 22 t - rodovia em revestimento primário | C18: T.KM | D18: 1 | E18: 1.04 | F18: =TRUNC((D18*E18),2) -> 1.04
A19: 88282 | B19: MOTORISTA DE CAMINHÃO COM ENCARGOS COMPLEMENTARES | C19: H | D19: 0.03 | E19: 27.54 | F19: =TRUNC((D19*E19),2) -> 0.82
A20: Valor por t.Km | F20: =SUM(F18:F19) -> 1.86
A22: CP4 - CONSTRUÇÃO DE BASE E SUB-BASE PARA PAVIMENTAÇÃO DE RACHÃO, COM ESPESSURA DE 30 CM - EXCLUSIVE CARGA E TRANSPORTE. AF_09/2024
A23: CÓDIGO SINAPI | B23: DESCRIÇÃO | C23: UNIDADE | D23: QUANTIDADE | E23: VALOR UNITÁRIO | F23: VALOR TOTAL
A24: 5631 | B24: ESCAVADEIRA HIDRÁULICA SOBRE ESTEIRAS, CAÇAMBA 0,80 M3, PESO OPERACIONAL 17 T, POTENCIA BRUTA 111 HP - CHP DIURNO. AF_06/2014 | C24: CHP | D24: 0.0182385 | E24: 232.48 | F24: =TRUNC((D24*E24),2) -> 4.24
A25: 5632 | B25: ESCAVADEIRA HIDRÁULICA SOBRE ESTEIRAS, CAÇAMBA 0,80 M3, PESO OPERACIONAL 17 T, POTENCIA BRUTA 111 HP - CHI DIURNO. AF_06/2014 | C25: CHI | D25: 0.0441273 | E25: 104 | F25: =TRUNC((D25*E25),2) -> 4.58
A26: 5684 | B26: ROLO COMPACTADOR VIBRATÓRIO DE UM CILINDRO AÇO LISO, POTÊNCIA 80 HP, PESO OPERACIONAL MÁXIMO 8,1 T, IMPACTO DINÂMICO 16,15 / 9,5 T, LARGURA DE TRABALHO 1,68 M - CHP DIURNO. AF_06/2014 | C26: CHP | D26: 0.0030539 | E26: 175.57 | F26: =TRUNC((D26*E26),2) -> 0.53
A27: 5685 | B27: ROLO COMPACTADOR VIBRATÓRIO DE UM CILINDRO AÇO LISO, POTÊNCIA 80 HP, PESO OPERACIONAL MÁXIMO 8,1 T, IMPACTO DINÂMICO 16,15 / 9,5 T, LARGURA DE TRABALHO 1,68 M - CHI DIURNO. AF_06/2014 | C27: CHI | D27: 0.0593119 | E27: 77.4 | F27: =TRUNC((D27*E27),2) -> 4.59
A28: 73436 | B28: ROLO COMPACTADOR VIBRATÓRIO PÉ DE CARNEIRO PARA SOLOS, POTÊNCIA 80 HP, PESO OPERACIONAL SEM/COM LASTRO 7,4 / 8,8 T, LARGURA DE TRABALHO 1,68 M - CHP DIURNO. AF_02/2016 | C28: CHP | D28: 0.0045809 | E28: 178.85 | F28: =TRUNC((D28*E28),2) -> 0.81
A29: 88316 | B29: SERVENTE COM ENCARGOS COMPLEMENTARES | C29: H | D29: 0.0623658 | E29: 24.31 | F29: =TRUNC((D29*E29),2) -> 1.51
A30: 93244 | B30: ROLO COMPACTADOR VIBRATÓRIO PÉ DE CARNEIRO PARA SOLOS, POTÊNCIA 80 HP, PESO OPERACIONAL SEM/COM LASTRO 7,4 / 8,8 T, LARGURA DE TRABALHO 1,68 M - CHI DIURNO. AF_02/2016 | C30: CHI | D30: 0.0577849 | E30: 79.08 | F30: =TRUNC((D30*E30),2) -> 4.56
A31: Valor por m³ | F31: =SUM(F24:F30) -> 20.82
A33: CP5 - GRELHA PARA CAIXA - 1,00 X 1,00
A34: CÓDIGO SINAPI | B34: DESCRIÇÃO | C34: UNIDADE | D34: QUANTIDADE | E34: VALOR UNITÁRIO | F34: VALOR TOTAL
A35: 546 | B35: BARRA DE ACO CHATA, RETANGULAR (QUALQUER BITOLA) | C35: Kg | D35: 40.96 | E35: 8.39 | F35: =TRUNC((D35*E35),2) -> 343.65
A36: 6110 | B36: SERRALHEIRO (HORISTA) | C36: H | D36: 6 | E36: 22.85 | F36: =TRUNC((D36*E36),2) -> 137.1
A37: 4777 | B37: CANTONEIRA ACO ABAS IGUAIS (QUALQUER BITOLA), ESPESSURA ENTRE 1/8" E 1/4" | C37: Kg | D37: 32.9 | E37: 9.76 | F37: =TRUNC((D37*E37),2) -> 321.1
A38: 6160 | B38: SOLDADOR (HORISTA) | C38: H | D38: 6 | E38: 27.81 | F38: =TRUNC((D38*E38),2) -> 166.86
A39: 44495 | B39: DISCO DE CORTE PARA METAL COM DUAS TELAS 12 X 1/8 X 3/4" (300 X 3,2 X 19,05 MM) | C39: UNIDADE | D39: 2 | E39: 26.98 | F39: =TRUNC((D39*E39),2) -> 53.96
A40: 10998 | B40: ELETRODO REVESTIDO AWS - E-6010, DIAMETRO IGUAL A 4,00 MM | C40: Kg | D40: 1 | E40: 63.93 | F40: =TRUNC((D40*E40),2) -> 63.93
A41: Valor por Unidade | F41: =SUM(F35:F40) -> 1086.6
A43: CP6 - GRELHA PARA CAIXA - 1,00 X 0,60
A44: CÓDIGO SINAPI | B44: DESCRIÇÃO | C44: UNIDADE | D44: QUANTIDADE | E44: VALOR UNITÁRIO | F44: VALOR TOTAL
A45: 546 | B45: BARRA DE ACO CHATA, RETANGULAR (QUALQUER BITOLA) | C45: Kg | D45: 24.7 | E45: 8.39 | F45: =TRUNC((D45*E45),2) -> 207.23
A46: 6110 | B46: SERRALHEIRO (HORISTA) | C46: H | D46: 6 | E46: 22.85 | F46: =TRUNC((D46*E46),2) -> 137.1
A47: 4777 | B47: CANTONEIRA ACO ABAS IGUAIS (QUALQUER BITOLA), ESPESSURA ENTRE 1/8" E 1/4" | C47: Kg | D47: 26.47 | E47: 9.76 | F47: =TRUNC((D47*E47),2) -> 258.34
A48: 6160 | B48: SOLDADOR (HORISTA) | C48: H | D48: 6 | E48: 27.81 | F48: =TRUNC((D48*E48),2) -> 166.86
A49: 44495 | B49: DISCO DE CORTE PARA METAL COM DUAS TELAS 12 X 1/8 X 3/4" (300 X 3,2 X 19,05 MM) | C49: UNIDADE | D49: 2 | E49: 26.98 | F49: =TRUNC((D49*E49),2) -> 53.96
A50: 10998 | B50: ELETRODO REVESTIDO AWS - E-6010, DIAMETRO IGUAL A 4,00 MM | C50: Kg | D50: 0.8 | E50: 63.93 | F50: =TRUNC((D50*E50),2) -> 51.14
A51: Valor por Unidade | F51: =SUM(F45:F50) -> 874.63
A53: CP7 - TAMPA DE CONCRETO - 1,50 X 1,50 X 0,12
A54: CÓDIGO SINAPI | B54: DESCRIÇÃO | C54: UNIDADE | D54: QUANTIDADE | E54: VALOR UNITÁRIO | F54: VALOR TOTAL
A55: 92770 | B55: ARMAÇÃO DE LAJE DE ESTRUTURA CONVENCIONAL DE CONCRETO ARMADO UTILIZANDO AÇO CA-50 DE 8,0 MM - MONTAGEM. AF_06/2022 | C55: Kg | D55: 19.89 | E55: 12.31 | F55: =TRUNC((D55*E55),2) -> 244.84
A56: 34492 | B56: CONCRETO USINADO BOMBEAVEL, CLASSE DE RESISTENCIA C20, COM BRITA 0 E 1, SLUMP = 100 +/- 20 MM, EXCLUI SERVICO DE BOMBEAMENTO (NBR 8953) | C56: m³ | D56: 0.27 | E56: 537.5 | F56: =TRUNC((D56*E56),2) -> 145.12
A57: Valor por Unidade | F57: =SUM(F55:F56) -> 389.96
A59: CP8 - TAMPA DE CONCRETO - 2,00 X 2,00 X 0,12
A60: CÓDIGO SINAPI | B60: DESCRIÇÃO | C60: UNIDADE | D60: QUANTIDADE | E60: VALOR UNITÁRIO | F60: VALOR TOTAL
A61: 92770 | B61: ARMAÇÃO DE LAJE DE ESTRUTURA CONVENCIONAL DE CONCRETO ARMADO UTILIZANDO AÇO CA-50 DE 8,0 MM - MONTAGEM. AF_06/2022 | C61: Kg | D61: 35.36 | E61: 12.31 | F61: =TRUNC((D61*E61),2) -> 435.28
A62: 34492 | B62: CONCRETO USINADO BOMBEAVEL, CLASSE DE RESISTENCIA C20, COM BRITA 0 E 1, SLUMP = 100 +/- 20 MM, EXCLUI SERVICO DE BOMBEAMENTO (NBR 8953) | C62: m³ | D62: 0.48 | E62: 537.5 | F62: =TRUNC((D62*E62),2) -> 258
A63: Valor por Unidade | F63: =SUM(F61:F62) -> 693.28
A65: CP9 - PREPARO DE FUNDO DE VALA COM LARGURA MENOR QUE 1,5 M, COM CAMADA DE RACHÃO, LANÇAMENTO MECANIZADO. AF_08/2020
A66: CÓDIGO SINAPI | B66: DESCRIÇÃO | C66: UNIDADE | D66: QUANTIDADE | E66: VALOR UNITÁRIO | F66: VALOR TOTAL
A67: 5678 | B67: RETROESCAVADEIRA SOBRE RODAS COM CARREGADEIRA, TRAÇÃO 4X4, POTÊNCIA LÍQ. 88 HP, CAÇAMBA CARREG. CAP. MÍN. 1 M3, CAÇAMBA RETRO CAP. 0,26 M3, PESO OPERACIONAL MÍN. 6.674 KG, PROFUNDIDADE ESCAVAÇÃO MÁX. 4,37 M - CHP DIURNO. AF_06/2014 | C67: CHP | D67: 0.128 | E67: 154.89 | F67: =TRUNC((D67*E67),2) -> 19.82
A68: 5679 | B68: RETROESCAVADEIRA SOBRE RODAS COM CARREGADEIRA, TRAÇÃO 4X4, POTÊNCIA LÍQ. 88 HP, CAÇAMBA CARREG. CAP. MÍN. 1 M3, CAÇAMBA RETRO CAP. 0,26 M3, PESO OPERACIONAL MÍN. 6.674 KG, PROFUNDIDADE ESCAVAÇÃO MÁX. 4,37 M - CHI DIURNO. AF_06/2014 | C68: CHI | D68: 0.6398 | E68: 71.83 | F68: =TRUNC((D68*E68),2) -> 45.95
A69: 88309 | B69: PEDREIRO COM ENCARGOS COMPLEMENTARES | C69: H | D69: 0.9213 | E69: 29.39 | F69: =TRUNC((D69*E69),2) -> 27.07
A70: 88316 | B70: SERVENTE COM ENCARGOS COMPLEMENTARES | C70: H | D70: 1.3819 | E70: 24.31 | F70: =TRUNC((D70*E70),2) -> 33.59
A71: 91533 | B71: COMPACTADOR DE SOLOS DE PERCUSSÃO (SOQUETE) COM MOTOR A GASOLINA 4 TEMPOS, POTÊNCIA 4 CV - CHP DIURNO. AF_08/2015 | C71: CHP | D71: 0.0718 | E71: 51.42 | F71: =TRUNC((D71*E71),2) -> 3.69
A72: 91534 | B72: COMPACTADOR DE SOLOS DE PERCUSSÃO (SOQUETE) COM MOTOR A GASOLINA 4 TEMPOS, POTÊNCIA 4 CV - CHI DIURNO. AF_08/2015 | C72: CHI | D72: 0.0666 | E72: 43.99 | F72: =TRUNC((D72*E72),2) -> 2.92
A73: Valor por m³ | F73: =SUM(F67:F72) -> 133.04
A75: CP10 - GRELHA PARA CAIXA - 1,50 X 1,50
A76: CÓDIGO SINAPI | B76: DESCRIÇÃO | C76: UNIDADE | D76: QUANTIDADE | E76: VALOR UNITÁRIO | F76: VALOR TOTAL
A77: 546 | B77: BARRA DE ACO CHATA, RETANGULAR (QUALQUER BITOLA) | C77: Kg | D77: 92.16 | E77: 8.39 | F77: =TRUNC((D77*E77),2) -> 773.22
A78: 6110 | B78: SERRALHEIRO (HORISTA) | C78: H | D78: 7 | E78: 22.85 | F78: =TRUNC((D78*E78),2) -> 159.95
A79: 4777 | B79: CANTONEIRA ACO ABAS IGUAIS (QUALQUER BITOLA), ESPESSURA ENTRE 1/8" E 1/4" | C79: Kg | D79: 74.02 | E79: 9.76 | F79: =TRUNC((D79*E79),2) -> 722.43
A80: 6160 | B80: SOLDADOR (HORISTA) | C80: H | D80: 7 | E80: 27.81 | F80: =TRUNC((D80*E80),2) -> 194.67
A81: 44495 | B81: DISCO DE CORTE PARA METAL COM DUAS TELAS 12 X 1/8 X 3/4" (300 X 3,2 X 19,05 MM) | C81: UNIDADE | D81: 2.5 | E81: 26.98 | F81: =TRUNC((D81*E81),2) -> 67.45
A82: 10998 | B82: ELETRODO REVESTIDO AWS - E-6010, DIAMETRO IGUAL A 4,00 MM | C82: Kg | D82: 1.5 | E82: 63.93 | F82: =TRUNC((D82*E82),2) -> 95.89
A83: Valor por Unidade | F83: =SUM(F77:F82) -> 2013.61
