Workbook

Sheet 1. Floriano
A1: PREFEITURA MUNICIPAL DE BOM RETIRO DO SUL/RS
A2: OBRA: | C2: Drenagem Pluvial e aterro de pista | D2: LOCAL: | E2: Localidade do Pinhal
A3: TRECHO: | C3: Localidade do Pinhal - sistema de drenagem pluvial próximo ao Campo do Floriano | D3: REFERÊNCIA: | E3: SINAPI (Não Desonerada) - 09/2025 / SICRO 07/2025
A4: ORÇAMENTO
A5: ITEM | B5: CÓDIGO SINAPI | C5: DESCRIÇÃO | D5: UNIDADE | E5: QUANTIDADE | F5: VALOR UNITÁRIO | G5: VALOR COM BDI (24,23%) | H5: VALOR TOTAL
A6: 1 | B6: SERVIÇOS PRELIMINARES
A7: 1.1 | B7: 103689 | C7: FORNECIMENTO E INSTALAÇÃO DE PLACA DE OBRA COM CHAPA GALVANIZADA E ESTRUTURA DE MADEIRA. AF_03/2022_PS | D7: m² | E7: 2.88 | F7: 462.39 | G7: =TRUNC((F7*1.2423),2) -> 574.42 | H7: =TRUNC((E7*G7),2) -> 1654.32
A8: 1.2 | B8: CP 1 | C8: MOBILIZAÇÃO DE EQUIPAMENTOS | D8: t.Km | E8: =ROUND((30*21.5),2) -> 645 | F8: =COMPOSIÇÕES!F5 -> 1.86 | G8: =TRUNC((F8*1.2423),2) -> 2.31 | H8: =TRUNC((E8*G8),2) -> 1489.95
A9: 1.3 | B9: CP 2 | C9: ADMINISTRAÇÃO DE OBRA - EQUIPE | D9: Mês | E9: 1 | F9: =COMPOSIÇÕES!F14 -> 14600.8 | G9: =TRUNC((F9*1.2423),2) -> 18138.57 | H9: =TRUNC((E9*G9),2) -> 18138.57
A10: TOTAL DO ITEM 1: | H10: =SUM(H7:H9) -> 21282.84
A11: 2 | B11: TERRAPLANAGEM
A12: 2.1 | B12: 100978 | C12: CARGA, MANOBRA E DESCARGA DE SOLOS E MATERIAIS GRANULARES EM CAMINHÃO BASCULANTE 10 M³ - CARGA COM ESCAVADEIRA HIDRÁULICA (CAÇAMBA DE 1,20 M³ / 155 HP) E DESCARGA LIVRE (UNIDADE: M3). AF_07/2020 | D12: m³ | E12: =ROUND((80.37*6),2) -> 482.22 | F12: 7.62 | G12: =TRUNC((F12*1.2423),2) -> 9.46 | H12: =TRUNC((E12*G12),2) -> 4561.8
A13: 2.2 | B13: 93589 | C13: TRANSPORTE COM CAMINHÃO BASCULANTE DE 10 M³, EM VIA URBANA EM REVESTIMENTO PRIMÁRIO (UNIDADE: M3XKM). AF_07/2020 - DMT 10,5KM | D13: m³.Km | E13: =ROUND((E12*1.25*10.5),2) -> 6329.14 | F13: 2.9 | G13: =TRUNC((F13*1.2423),2) -> 3.6 | H13: =TRUNC((E13*G13),2) -> 22784.9
A14: 2.3 | B14: CP 4 | C14: CONSTRUÇÃO DE BASE E SUB-BASE PARA PAVIMENTAÇÃO DE RACHÃO, COM ESPESSURA DE 30 CM - EXCLUSIVE CARGA E TRANSPORTE. AF_09/2024 | D14: m³ | E14: =E12 -> 482.22 | F14: 20.82 | G14: =TRUNC((F14*1.2423),2) -> 25.86 | H14: =TRUNC((E14*G14),2) -> 12470.2
A15: TOTAL DO ITEM 2: | H15: =SUM(H12:H14) -> 39816.9
A16: 3 | B16: DRENAGEM PLUVIAL
B17: 102281 | C17: ESCAVAÇÃO MECANIZADA DE VALA COM PROF. MAIOR QUE 1,5 M ATÉ 3,0 M (MÉDIA MONTANTE E JUSANTE/UMA COMPOSIÇÃO POR TRECHO),COM ESCAVADEIRA (1,2 M3),LARG. DE 1,5 M A 2,5 M, EM SOLO DE 1A CATEGORIA, LOCAIS COM BAIXO NÍVEL DE INTERFERÊNCIA. AF_02/2021 | D17: m³ | E17: =ROUND((2.2*1.5*E23),2) -> 148.5 | F17: 6.19 | G17: =TRUNC((F17*1.2423),2) -> 7.68 | H17: =TRUNC((E17*G17),2) -> 1140.48
B18: 93368 | C18: REATERRO MECANIZADO DE VALA COM ESCAVADEIRA HIDRÁULICA (CAPACIDADE DA CAÇAMBA: 0,8 M³/POTÊNCIA: 111 HP), LARGURA ATÉ 1,5 M, PROFUNDIDADE DE 1,5 A 3,0 M, COM SOLO (SEM SUBSTITUIÇÃO) DE 1ª CATEGORIA, COM COMPACTADOR DE SOLOS DE PERCUSSÃO. AF_08/2023 | D18: m³ | E18: =ROUND((E17-(E23*1.13)),2) -> 97.65 | F18: 23.89 | G18: =TRUNC((F18*1.2423),2) -> 29.67 | H18: =TRUNC((E18*G18),2) -> 2897.27
B19: CP 9 | C19: PREPARO DE FUNDO DE VALA COM LARGURA MENOR QUE 1,5 M, COM CAMADA DE RACHÃO, LANÇAMENTO MECANIZADO. AF_08/2020 | D19: m³ | E19: =ROUND((10*1.5*0.3),2) -> 4.5 | F19: =COMPOSIÇÕES!F73 -> 133.04 | G19: =TRUNC((F19*1.2423),2) -> 165.27 | H19: =TRUNC((E19*G19),2) -> 743.71
B20: 93589 | C20: TRANSPORTE COM CAMINHÃO BASCULANTE DE 10 M³, EM VIA URBANA EM REVESTIMENTO PRIMÁRIO (UNIDADE: M3XKM). AF_07/2020 - DMT 10,5KM | D20: m³.Km | E20: =ROUND((E19*1.25*10.5),2) -> 59.06 | F20: 2.9 | G20: =TRUNC((F20*1.2423),2) -> 3.6 | H20: =TRUNC((E20*G20),2) -> 212.61
B21: 101623 | C21: PREPARO DE FUNDO DE VALA COM LARGURA MENOR QUE 1,5 M, COM CAMADA DE BRITA, LANÇAMENTO MECANIZADO. AF_08/2020 | D21: m³ | E21: =ROUND((E23*1*0.1),2) -> 4.5 | F21: 253.05 | G21: =TRUNC((F21*1.2423),2) -> 314.36 | H21: =TRUNC((E21*G21),2) -> 1414.62
B22: 93589 | C22: TRANSPORTE COM CAMINHÃO BASCULANTE DE 10 M³, EM VIA URBANA EM REVESTIMENTO PRIMÁRIO (UNIDADE: M3XKM). AF_07/2020 - DMT 20KM | D22: m³.Km | E22: =ROUND((E21*20),2) -> 90 | F22: 2.9 | G22: =TRUNC((F22*1.2423),2) -> 3.6 | H22: =TRUNC((E22*G22),2) -> 324
B23: 92216 | C23: TUBO DE CONCRETO PARA REDES COLETORAS DE ÁGUAS PLUVIAIS, DIÂMETRO DE 1000 MM, JUNTA RÍGIDA, INSTALADO EM LOCAL COM BAIXO NÍVEL DE INTERFERÊNCIAS - FORNECIMENTO E ASSENTAMENTO. AF_03/2024 | D23: m | E23: 45 | F23: 620.06 | G23: =TRUNC((F23*1.2423),2) -> 770.3 | H23: =TRUNC((E23*G23),2) -> 34663.5
B24: 92214 | C24: TUBO DE CONCRETO PARA REDES COLETORAS DE ÁGUAS PLUVIAIS, DIÂMETRO DE 800 MM, JUNTA RÍGIDA, INSTALADO EM LOCAL COM BAIXO NÍVEL DE INTERFERÊNCIAS - FORNECIMENTO E ASSENTAMENTO. AF_03/2024 | D24: m | E24: 0 | F24: 520.56 | G24: =TRUNC((F24*1.2423),2) -> 646.69 | H24: =TRUNC((E24*G24),2) -> 0
B25: 100946 | C25: TRANSPORTE COM CAMINHÃO CARROCERIA 9T, EM VIA URBANA EM REVESTIMENTO PRIMÁRIO (UNIDADE: TXKM). AF_07/2020 - DMT 21,5KM | D25: t.Km | E25: =ROUND((E23*1.08*21.5),2) -> 1044.9 | F25: 2.6 | G25: =TRUNC((F25*1.2423),2) -> 3.22 | H25: =TRUNC((E25*G25),2) -> 3364.57
B26: 102740 | C26: BOCA PARA BUEIRO SIMPLES TUBULAR D = 100 CM EM CONCRETO, ALAS COM ESCONSIDADE DE 0°, INCLUINDO FÔRMAS E MATERIAIS. AF_07/2021 | D26: Unid. | E26: 4 | F26: 5859.78 | G26: =TRUNC((F26*1.2423),2) -> 7279.6 | H26: =TRUNC((E26*G26),2) -> 29118.4
B27: 102739 | C27: BOCA PARA BUEIRO SIMPLES TUBULAR D = 80 CM EM CONCRETO, ALAS COM ESCONSIDADE DE 0°, INCLUINDO FÔRMAS E MATERIAIS. AF_07/2021 | D27: Unid. | E27: 1 | F27: 3913.7 | G27: =TRUNC((F27*1.2423),2) -> 4861.98 | H27: =TRUNC((E27*G27),2) -> 4861.98
A28: TOTAL DO ITEM 3: | H28: =SUM(H17:H27) -> 78741.14
A29: 4 | B29: SERVIÇOS COMPLEMENTARES
A30: 4.1 | B30: CP 3 | C30: DESMOBILIZAÇÃO DE EQUIPAMENTOS | D30: t.Km | E30: =E8 -> 645 | F30: =COMPOSIÇÕES!F20 -> 1.86 | G30: =TRUNC((F30*1.2423),2) -> 2.31 | H30: =TRUNC((E30*G30),2) -> 1489.95
A31: 4.2 | B31: 88908 | C31: ESCAVADEIRA HIDRÁULICA SOBRE ESTEIRAS, CAÇAMBA 1,20 M3, PESO OPERACIONAL 21 T, POTÊNCIA BRUTA 155 HP - CHI DIURNO. AF_06/2014 - DESASSOREAMENTO DE VALA A JUSANTE E MONTANTE | D31: CHI | E31: 30 | F31: 112.37 | G31: =TRUNC((F31*1.2423),2) -> 139.59 | H31: =TRUNC((E31*G31),2) -> 4187.7
A32: 4.3 | B32: 88907 | C32: ESCAVADEIRA HIDRÁULICA SOBRE ESTEIRAS, CAÇAMBA 1,20 M3, PESO OPERACIONAL 21 T, POTÊNCIA BRUTA 155 HP - CHP DIURNO. AF_06/2014 - DESASSOREAMENTO DE VALA A JUSANTE E MONTANTE | D32: CHP | E32: 60 | F32: 275.03 | G32: =TRUNC((F32*1.2423),2) -> 341.66 | H32: =TRUNC((E32*G32),2) -> 20499.6
A33: TOTAL DO ITEM 4: | H33: =SUM(H30:H32) -> 26177.25
A34: VALOR TOTAL OBRA: | H34: =H10+H15+H28+H33 -> 166018.13
C37: Bom Retiro do Sul, 12 de novembro de 2025
E40: Eng. Civil Giovana Mulinari

Sheet 2. Minuano
A1: PREFEITURA MUNICIPAL DE BOM RETIRO DO SUL/RS
A2: OBRA: | C2: Drenagem Pluvial e aterro de pista | D2: LOCAL: | E2: Localidade do Pinhal
A3: TRECHO: | C3: Localidade do Pinhal - sistema de drenagem pluvial próximo a Minuano | D3: REFERÊNCIA: | E3: SINAPI (Não Desonerada) - 09/2025 / SICRO 07/2025
A4: ORÇAMENTO
A5: ITEM | B5: CÓDIGO SINAPI | C5: DESCRIÇÃO | D5: UNIDADE | E5: QUANTIDADE | F5: VALOR UNITÁRIO | G5: VALOR COM BDI (24,23%) | H5: VALOR TOTAL
A6: 1 | B6: SERVIÇOS PRELIMINARES
A7: 1.1 | B7: 103689 | C7: FORNECIMENTO E INSTALAÇÃO DE PLACA DE OBRA COM CHAPA GALVANIZADA E ESTRUTURA DE MADEIRA. AF_03/2022_PS | D7: m² | E7: 2.88 | F7: 462.39 | G7: =TRUNC((F7*1.2423),2) -> 574.42 | H7: =TRUNC((E7*G7),2) -> 1654.32
A8: 1.2 | B8: CP 1 | C8: MOBILIZAÇÃO DE EQUIPAMENTOS | D8: t.Km | E8: =ROUND((30*24),2) -> 720 | F8: =COMPOSIÇÕES!F5 -> 1.86 | G8: =TRUNC((F8*1.2423),2) -> 2.31 | H8: =TRUNC((E8*G8),2) -> 1663.2
A9: 1.3 | B9: CP 2 | C9: ADMINISTRAÇÃO DE OBRA - EQUIPE | D9: Mês | E9: 1 | F9: =COMPOSIÇÕES!F14 -> 14600.8 | G9: =TRUNC((F9*1.2423),2) -> 18138.57 | H9: =TRUNC((E9*G9),2) -> 18138.57
A10: TOTAL DO ITEM 1: | H10: =SUM(H7:H9) -> 21456.09
A11: 2 | B11: TERRAPLANAGEM
A12: 2.1 | B12: 100978 | C12: CARGA, MANOBRA E DESCARGA DE SOLOS E MATERIAIS GRANULARES EM CAMINHÃO BASCULANTE 10 M³ - CARGA COM ESCAVADEIRA HIDRÁULICA (CAÇAMBA DE 1,20 M³ / 155 HP) E DESCARGA LIVRE (UNIDADE: M3). AF_07/2020 | D12: m³ | E12: =ROUND((84.7*6),2) -> 508.2 | F12: 7.62 | G12: =TRUNC((F12*1.2423),2) -> 9.46 | H12: =TRUNC((E12*G12),2) -> 4807.57
A13: 2.2 | B13: 93589 | C13: TRANSPORTE COM CAMINHÃO BASCULANTE DE 10 M³, EM VIA URBANA EM REVESTIMENTO PRIMÁRIO (UNIDADE: M3XKM). AF_07/2020 - DMT 10,5KM | D13: m³.Km | E13: =ROUND((E12*1.25*10.5),2) -> 6670.13 | F13: 2.9 | G13: =TRUNC((F13*1.2423),2) -> 3.6 | H13: =TRUNC((E13*G13),2) -> 24012.46
A14: 2.3 | B14: CP 4 | C14: CONSTRUÇÃO DE BASE E SUB-BASE PARA PAVIMENTAÇÃO DE RACHÃO, COM ESPESSURA DE 30 CM - EXCLUSIVE CARGA E TRANSPORTE. AF_09/2024 | D14: m³ | E14: =E12 -> 508.2 | F14: 20.82 | G14: =TRUNC((F14*1.2423),2) -> 25.86 | H14: =TRUNC((E14*G14),2) -> 13142.05
A15: TOTAL DO ITEM 2: | H15: =SUM(H12:H14) -> 41962.08
A16: 3 | B16: DRENAGEM PLUVIAL
A17: 3.1 | B17: 102281 | C17: ESCAVAÇÃO MECANIZADA DE VALA COM PROF. MAIOR QUE 1,5 M ATÉ 3,0 M (MÉDIA MONTANTE E JUSANTE/UMA COMPOSIÇÃO POR TRECHO),COM ESCAVADEIRA (1,2 M3),LARG. DE 1,5 M A 2,5 M, EM SOLO DE 1A CATEGORIA, LOCAIS COM BAIXO NÍVEL DE INTERFERÊNCIA. AF_02/2021 | D17: m³ | E17: =ROUND((2.8*3*E23),2) -> 84 | F17: 6.19 | G17: =TRUNC((F17*1.2423),2) -> 7.68 | H17: =TRUNC((E17*G17),2) -> 645.12
A18: 3.2 | B18: 93368 | C18: REATERRO MECANIZADO DE VALA COM ESCAVADEIRA HIDRÁULICA (CAPACIDADE DA CAÇAMBA: 0,8 M³/POTÊNCIA: 111 HP), LARGURA ATÉ 1,5 M, PROFUNDIDADE DE 1,5 A 3,0 M, COM SOLO (SEM SUBSTITUIÇÃO) DE 1ª CATEGORIA, COM COMPACTADOR DE SOLOS DE PERCUSSÃO. AF_08/2023 | D18: m³ | E18: =ROUND((E17-(E23*2.54)),2) -> 58.6 | F18: 23.89 | G18: =TRUNC((F18*1.2423),2) -> 29.67 | H18: =TRUNC((E18*G18),2) -> 1738.66
A19: 3.3 | B19: CP 9 | C19: PREPARO DE FUNDO DE VALA COM LARGURA MENOR QUE 1,5 M, COM CAMADA DE RACHÃO, LANÇAMENTO MECANIZADO. AF_08/2020 | D19: m³ | E19: =ROUND((10*1.5*0.3),2) -> 4.5 | F19: =COMPOSIÇÕES!F73 -> 133.04 | G19: =TRUNC((F19*1.2423),2) -> 165.27 | H19: =TRUNC((E19*G19),2) -> 743.71
A20: 3.4 | B20: 93589 | C20: TRANSPORTE COM CAMINHÃO BASCULANTE DE 10 M³, EM VIA URBANA EM REVESTIMENTO PRIMÁRIO (UNIDADE: M3XKM). AF_07/2020 - DMT 10,5KM | D20: m³.Km | E20: =ROUND((E19*1.25*10.5),2) -> 59.06 | F20: 2.9 | G20: =TRUNC((F20*1.2423),2) -> 3.6 | H20: =TRUNC((E20*G20),2) -> 212.61
A21: 3.5 | B21: 101623 | C21: PREPARO DE FUNDO DE VALA COM LARGURA MENOR QUE 1,5 M, COM CAMADA DE BRITA, LANÇAMENTO MECANIZADO. AF_08/2020 | D21: m³ | E21: =ROUND((E23*1*0.1),2) -> 1 | F21: 253.05 | G21: =TRUNC((F21*1.2423),2) -> 314.36 | H21: =TRUNC((E21*G21),2) -> 314.36
A22: 3.6 | B22: 93589 | C22: TRANSPORTE COM CAMINHÃO BASCULANTE DE 10 M³, EM VIA URBANA EM REVESTIMENTO PRIMÁRIO (UNIDADE: M3XKM). AF_07/2020 - DMT 22KM | D22: m³.Km | E22: =ROUND((E21*22),2) -> 22 | F22: 2.9 | G22: =TRUNC((F22*1.2423),2) -> 3.6 | H22: =TRUNC((E22*G22),2) -> 79.2
A23: 3.7 | B23: 92818 | C23: TUBO DE CONCRETO PARA REDES COLETORAS DE ÁGUAS PLUVIAIS, DIÂMETRO DE 1500 MM, JUNTA RÍGIDA, INSTALADO EM LOCAL COM BAIXO NÍVEL DE INTERFERÊNCIAS - FORNECIMENTO E ASSENTAMENTO. AF_03/2024 | D23: m | E23: 10 | F23: 1282.89 | G23: =TRUNC((F23*1.2423),2) -> 1593.73 | H23: =TRUNC((E23*G23),2) -> 15937.3
A24: 3.8 | B24: 100946 | C24: TRANSPORTE COM CAMINHÃO CARROCERIA 9T, EM VIA URBANA EM REVESTIMENTO PRIMÁRIO (UNIDADE: TXKM). AF_07/2020 - DMT 24KM | D24: t.Km | E24: =ROUND((E23*2.1*24),2) -> 504 | F24: 2.6 | G24: =TRUNC((F24*1.2423),2) -> 3.22 | H24: =TRUNC((E24*G24),2) -> 1622.88
A25: 3.9 | B25: 102742 | C25: BOCA PARA BUEIRO SIMPLES TUBULAR D = 150 CM EM CONCRETO, ALAS COM ESCONSIDADE DE 0°, INCLUINDO FÔRMAS E MATERIAIS. AF_07/2021 | D25: Unid. | E25: 2 | F25: 14218.78 | G25: =TRUNC((F25*1.2423),2) -> 17663.99 | H25: =TRUNC((E25*G25),2) -> 35327.98
A26: TOTAL DO ITEM 3: | H26: =SUM(H17:H25) -> 56621.82
A27: 4 | B27: SERVIÇOS COMPLEMENTARES
A28: 4.1 | B28: CP 3 | C28: DESMOBILIZAÇÃO DE EQUIPAMENTOS | D28: t.Km | E28: =E8 -> 720 | F28: =COMPOSIÇÕES!F20 -> 1.86 | G28: =TRUNC((F28*1.2423),2) -> 2.31 | H28: =TRUNC((E28*G28),2) -> 1663.2
A29: 4.2 | B29: 88908 | C29: ESCAVADEIRA HIDRÁULICA SOBRE ESTEIRAS, CAÇAMBA 1,20 M3, PESO OPERACIONAL 21 T, POTÊNCIA BRUTA 155 HP - CHI DIURNO. AF_06/2014 - DESASSOREAMENTO DE VALA A JUSANTE E MONTANTE | D29: CHI | E29: 0 | F29: 112.37 | G29: =TRUNC((F29*1.2423),2) -> 139.59 | H29: =TRUNC((E29*G29),2) -> 0
A30: 4.3 | B30: 88907 | C30: ESCAVADEIRA HIDRÁULICA SOBRE ESTEIRAS, CAÇAMBA 1,20 M3, PESO OPERACIONAL 21 T, POTÊNCIA BRUTA 155 HP - CHP DIURNO. AF_06/2014 - DESASSOREAMENTO DE VALA A JUSANTE E MONTANTE | D30: CHP | E30: 0 | F30: 275.03 | G30: =TRUNC((F30*1.2423),2) -> 341.66 | H30: =TRUNC((E30*G30),2) -> 0
A31: TOTAL DO ITEM 4: | H31: =SUM(H28:H30) -> 1663.2
A32: VALOR TOTAL OBRA: | H32: =H10+H15+H26+H31 -> 121703.19
C35: Bom Retiro do Sul, 12 de novembro de 2025
E38: Eng. Civil Giovana Mulinari

Sheet 3. Languiru
A1: PREFEITURA MUNICIPAL DE BOM RETIRO DO SUL/RS
A2: OBRA: | C2: Drenagem Pluvial e aterro de pista | D2: LOCAL: | E2: Localidade da Fazenda Aurora
A3: TRECHO: | C3: Localidade da Fazenda Aurora – drenagem 01 pluvial próximo a Languiru | D3: REFERÊNCIA: | E3: SINAPI (Não Desonerada) - 09/2025 / SICRO 07/2025
A4: ORÇAMENTO
A5: ITEM | B5: CÓDIGO SINAPI | C5: DESCRIÇÃO | D5: UNIDADE | E5: QUANTIDADE | F5: VALOR UNITÁRIO | G5: VALOR COM BDI (24,23%) | H5: VALOR TOTAL
A6: 1 | B6: SERVIÇOS PRELIMINARES
A7: 1.1 | B7: 103689 | C7: FORNECIMENTO E INSTALAÇÃO DE PLACA DE OBRA COM CHAPA GALVANIZADA E ESTRUTURA DE MADEIRA. AF_03/2022_PS | D7: m² | E7: 2.88 | F7: 462.39 | G7: =TRUNC((F7*1.2423),2) -> 574.42 | H7: =TRUNC((E7*G7),2) -> 1654.32
A8: 1.2 | B8: CP 1 | C8: MOBILIZAÇÃO DE EQUIPAMENTOS | D8: t.Km | E8: =ROUND((30*27.5),2) -> 825 | F8: =COMPOSIÇÕES!F5 -> 1.86 | G8: =TRUNC((F8*1.2423),2) -> 2.31 | H8: =TRUNC((E8*G8),2) -> 1905.75
A9: 1.3 | B9: CP 2 | C9: ADMINISTRAÇÃO DE OBRA - EQUIPE | D9: Mês | E9: 1 | F9: =COMPOSIÇÕES!F14 -> 14600.8 | G9: =TRUNC((F9*1.2423),2) -> 18138.57 | H9: =TRUNC((E9*G9),2) -> 18138.57
A10: TOTAL DO ITEM 1: | H10: =SUM(H7:H9) -> 21698.64
A11: 2 | B11: TERRAPLANAGEM
A12: 2.1 | B12: 100978 | C12: CARGA, MANOBRA E DESCARGA DE SOLOS E MATERIAIS GRANULARES EM CAMINHÃO BASCULANTE 10 M³ - CARGA COM ESCAVADEIRA HIDRÁULICA (CAÇAMBA DE 1,20 M³ / 155 HP) E DESCARGA LIVRE (UNIDADE: M3). AF_07/2020 | D12: m³ | E12: 0 | F12: 7.62 | G12: =TRUNC((F12*1.2423),2) -> 9.46 | H12: =TRUNC((E12*G12),2) -> 0
A13: 2.2 | B13: 93589 | C13: TRANSPORTE COM CAMINHÃO BASCULANTE DE 10 M³, EM VIA URBANA EM REVESTIMENTO PRIMÁRIO (UNIDADE: M3XKM). AF_07/2020 - DMT 9KM | D13: m³.Km | E13: 0 | F13: 2.9 | G13: =TRUNC((F13*1.2423),2) -> 3.6 | H13: =TRUNC((E13*G13),2) -> 0
A14: 2.3 | B14: CP 4 | C14: CONSTRUÇÃO DE BASE E SUB-BASE PARA PAVIMENTAÇÃO DE RACHÃO, COM ESPESSURA DE 30 CM - EXCLUSIVE CARGA E TRANSPORTE. AF_09/2024 | D14: m³ | E14: 0 | F14: 20.82 | G14: =TRUNC((F14*1.2423),2) -> 25.86 | H14: =TRUNC((E14*G14),2) -> 0
A15: TOTAL DO ITEM 2: | H15: =SUM(H12:H14) -> 0
A16: 3 | B16: DRENAGEM PLUVIAL
A17: 3.1 | B17: 102281 | C17: ESCAVAÇÃO MECANIZADA DE VALA COM PROF. MAIOR QUE 1,5 M ATÉ 3,0 M (MÉDIA MONTANTE E JUSANTE/UMA COMPOSIÇÃO POR TRECHO),COM ESCAVADEIRA (1,2 M3),LARG. DE 1,5 M A 2,5 M, EM SOLO DE 1A CATEGORIA, LOCAIS COM BAIXO NÍVEL DE INTERFERÊNCIA. AF_02/2021 | D17: m³ | E17: =ROUND((2.8*3*E23),2) -> 151.2 | F17: 6.19 | G17: =TRUNC((F17*1.2423),2) -> 7.68 | H17: =TRUNC((E17*G17),2) -> 1161.21
A18: 3.2 | B18: 93368 | C18: REATERRO MECANIZADO DE VALA COM ESCAVADEIRA HIDRÁULICA (CAPACIDADE DA CAÇAMBA: 0,8 M³/POTÊNCIA: 111 HP), LARGURA ATÉ 1,5 M, PROFUNDIDADE DE 1,5 A 3,0 M, COM SOLO (SEM SUBSTITUIÇÃO) DE 1ª CATEGORIA, COM COMPACTADOR DE SOLOS DE PERCUSSÃO. AF_08/2023 | D18: m³ | E18: =ROUND((E17-(E23*2.54)),2) -> 105.48 | F18: 23.89 | G18: =TRUNC((F18*1.2423),2) -> 29.67 | H18: =TRUNC((E18*G18),2) -> 3129.59
A19: 3.3 | B19: CP 9 | C19: PREPARO DE FUNDO DE VALA COM LARGURA MENOR QUE 1,5 M, COM CAMADA DE RACHÃO, LANÇAMENTO MECANIZADO. AF_08/2020 | D19: m³ | E19: =ROUND((18*1.5*0.8),2) -> 21.6 | F19: =COMPOSIÇÕES!F73 -> 133.04 | G19: =TRUNC((F19*1.2423),2) -> 165.27 | H19: =TRUNC((E19*G19),2) -> 3569.83
A20: 3.4 | B20: 93589 | C20: TRANSPORTE COM CAMINHÃO BASCULANTE DE 10 M³, EM VIA URBANA EM REVESTIMENTO PRIMÁRIO (UNIDADE: M3XKM). AF_07/2020 - DMT 9KM | D20: m³.Km | E20: =ROUND((E19*1.25*9),2) -> 243 | F20: 2.9 | G20: =TRUNC((F20*1.2423),2) -> 3.6 | H20: =TRUNC((E20*G20),2) -> 874.8
A21: 3.5 | B21: 101623 | C21: PREPARO DE FUNDO DE VALA COM LARGURA MENOR QUE 1,5 M, COM CAMADA DE BRITA, LANÇAMENTO MECANIZADO. AF_08/2020 | D21: m³ | E21: =ROUND((E23*1*0.1),2) -> 1.8 | F21: 253.05 | G21: =TRUNC((F21*1.2423),2) -> 314.36 | H21: =TRUNC((E21*G21),2) -> 565.84
A22: 3.6 | B22: 93589 | C22: TRANSPORTE COM CAMINHÃO BASCULANTE DE 10 M³, EM VIA URBANA EM REVESTIMENTO PRIMÁRIO (UNIDADE: M3XKM). AF_07/2020 - DMT 24KM | D22: m³.Km | E22: =ROUND((E21*24),2) -> 43.2 | F22: 2.9 | G22: =TRUNC((F22*1.2423),2) -> 3.6 | H22: =TRUNC((E22*G22),2) -> 155.52
A23: 3.7 | B23: 92818 | C23: TUBO DE CONCRETO PARA REDES COLETORAS DE ÁGUAS PLUVIAIS, DIÂMETRO DE 1500 MM, JUNTA RÍGIDA, INSTALADO EM LOCAL COM BAIXO NÍVEL DE INTERFERÊNCIAS - FORNECIMENTO E ASSENTAMENTO. AF_03/2024 | D23: m | E23: 18 | F23: 1282.89 | G23: =TRUNC((F23*1.2423),2) -> 1593.73 | H23: =TRUNC((E23*G23),2) -> 28687.14
A24: 3.8 | B24: 92214 | C24: TUBO DE CONCRETO PARA REDES COLETORAS DE ÁGUAS PLUVIAIS, DIÂMETRO DE 800 MM, JUNTA RÍGIDA, INSTALADO EM LOCAL COM BAIXO NÍVEL DE INTERFERÊNCIAS - FORNECIMENTO E ASSENTAMENTO. AF_03/2024 | D24: m | E24: 5 | F24: 520.56 | G24: =TRUNC((F24*1.2423),2) -> 646.69 | H24: =TRUNC((E24*G24),2) -> 3233.45
A25: 3.9 | B25: 100946 | C25: TRANSPORTE COM CAMINHÃO CARROCERIA 9T, EM VIA URBANA EM REVESTIMENTO PRIMÁRIO (UNIDADE: TXKM). AF_07/2020 - DMT 27,5KM | D25: t.Km | E25: =ROUND((((E23*2.1)+(E24*0.57))*27.5),2) -> 1117.88 | F25: 2.6 | G25: =TRUNC((F25*1.2423),2) -> 3.22 | H25: =TRUNC((E25*G25),2) -> 3599.57
A26: 3.10 | B26: 102746 | C26: BOCA PARA BUEIRO DUPLO TUBULAR D = 150 CM EM CONCRETO, ALAS COM ESCONSIDADE DE 0°, INCLUINDO FÔRMAS E MATERIAIS. AF_07/2021 | D26: Unid. | E26: 2 | F26: 17302.74 | G26: =TRUNC((F26*1.2423),2) -> 21495.19 | H26: =TRUNC((E26*G26),2) -> 42990.38
A27: 3.11 | B27: 102739 | C27: BOCA PARA BUEIRO SIMPLES TUBULAR D = 80 CM EM CONCRETO, ALAS COM ESCONSIDADE DE 0°, INCLUINDO FÔRMAS E MATERIAIS. AF_07/2021 | D27: Unid. | E27: 1 | F27: 3913.7 | G27: =TRUNC((F27*1.2423),2) -> 4861.98 | H27: =TRUNC((E27*G27),2) -> 4861.98
A28: TOTAL DO ITEM 3: | H28: =SUM(H17:H27) -> 92829.31
A29: 4 | B29: SERVIÇOS COMPLEMENTARES
A30: 4.1 | B30: CP 3 | C30: DESMOBILIZAÇÃO DE EQUIPAMENTOS | D30: t.Km | E30: =E8 -> 825 | F30: =COMPOSIÇÕES!F20 -> 1.86 | G30: =TRUNC((F30*1.2423),2) -> 2.31 | H30: =TRUNC((E30*G30),2) -> 1905.75
A31: 4.2 | B31: 88908 | C31: ESCAVADEIRA HIDRÁULICA SOBRE ESTEIRAS, CAÇAMBA 1,20 M3, PESO OPERACIONAL 21 T, POTÊNCIA BRUTA 155 HP - CHI DIURNO. AF_06/2014 - DESASSOREAMENTO DE VALA A JUSANTE E MONTANTE | D31: CHI | E31: 0 | F31: 112.37 | G31: =TRUNC((F31*1.2423),2) -> 139.59 | H31: =TRUNC((E31*G31),2) -> 0
A32: 4.3 | B32: 88907 | C32: ESCAVADEIRA HIDRÁULICA SOBRE ESTEIRAS, CAÇAMBA 1,20 M3, PESO OPERACIONAL 21 T, POTÊNCIA BRUTA 155 HP - CHP DIURNO. AF_06/2014 - DESASSOREAMENTO DE VALA A JUSANTE E MONTANTE | D32: CHP | E32: 0 | F32: 275.03 | G32: =TRUNC((F32*1.2423),2) -> 341.66 | H32: =TRUNC((E32*G32),2) -> 0
A33: TOTAL DO ITEM 4: | H33: =SUM(H30:H32) -> 1905.75
A34: VALOR TOTAL OBRA: | H34: =H10+H15+H28+H33 -> 116433.7
C36: Bom Retiro do Sul, 12 de novembro de 2025
E39: Eng. Civil Giovana Mulinari

Sheet 4. Languiru
A1: PREFEITURA MUNICIPAL DE BOM RETIRO DO SUL/RS
A2: OBRA: | C2: Drenagem Pluvial e aterro de pista | D2: LOCAL: | E2: Localidade da Fazenda Aurora
A3: TRECHO: | C3: Localidade da Fazenda Aurora – drenagem 02 pluvial próximo a Languiru | D3: REFERÊNCIA: | E3: SINAPI (Não Desonerada) - 09/2025 / SICRO 07/2025
A4: ORÇAMENTO
A5: ITEM | B5: CÓDIGO SINAPI | C5: DESCRIÇÃO | D5: UNIDADE | E5: QUANTIDADE | F5: VALOR UNITÁRIO | G5: VALOR COM BDI (24,23%) | H5: VALOR TOTAL
A6: 1 | B6: SERVIÇOS PRELIMINARES
A7: 1.1 | B7: 103689 | C7: FORNECIMENTO E INSTALAÇÃO DE PLACA DE OBRA COM CHAPA GALVANIZADA E ESTRUTURA DE MADEIRA. AF_03/2022_PS | D7: m² | E7: 2.88 | F7: 462.39 | G7: =TRUNC((F7*1.2423),2) -> 574.42 | H7: =TRUNC((E7*G7),2) -> 1654.32
A8: 1.2 | B8: CP 1 | C8: MOBILIZAÇÃO DE EQUIPAMENTOS | D8: t.Km | E8: =ROUND((30*27.5),2) -> 825 | F8: =COMPOSIÇÕES!F5 -> 1.86 | G8: =TRUNC((F8*1.2423),2) -> 2.31 | H8: =TRUNC((E8*G8),2) -> 1905.75
A9: 1.3 | B9: CP 2 | C9: ADMINISTRAÇÃO DE OBRA - EQUIPE | D9: Mês | E9: 1 | F9: =COMPOSIÇÕES!F14 -> 14600.8 | G9: =TRUNC((F9*1.2423),2) -> 18138.57 | H9: =TRUNC((E9*G9),2) -> 18138.57
A10: TOTAL DO ITEM 1: | H10: =SUM(H7:H9) -> 21698.64
A11: 2 | B11: TERRAPLANAGEM
A12: 2.1 | B12: 100978 | C12: CARGA, MANOBRA E DESCARGA DE SOLOS E MATERIAIS GRANULARES EM CAMINHÃO BASCULANTE 10 M³ - CARGA COM ESCAVADEIRA HIDRÁULICA (CAÇAMBA DE 1,20 M³ / 155 HP) E DESCARGA LIVRE (UNIDADE: M3). AF_07/2020 | D12: m³ | E12: =ROUND((39.43*6),2) -> 236.58 | F12: 7.62 | G12: =TRUNC((F12*1.2423),2) -> 9.46 | H12: =TRUNC((E12*G12),2) -> 2238.04
A13: 2.2 | B13: 93589 | C13: TRANSPORTE COM CAMINHÃO BASCULANTE DE 10 M³, EM VIA URBANA EM REVESTIMENTO PRIMÁRIO (UNIDADE: M3XKM). AF_07/2020 - DMT 9,5KM | D13: m³.Km | E13: =ROUND((E12*1.25*9.5),2) -> 2809.39 | F13: 2.9 | G13: =TRUNC((F13*1.2423),2) -> 3.6 | H13: =TRUNC((E13*G13),2) -> 10113.8
A14: 2.3 | B14: CP 4 | C14: CONSTRUÇÃO DE BASE E SUB-BASE PARA PAVIMENTAÇÃO DE RACHÃO, COM ESPESSURA DE 30 CM - EXCLUSIVE CARGA E TRANSPORTE. AF_09/2024 | D14: m³ | E14: =E12 -> 236.58 | F14: 20.82 | G14: =TRUNC((F14*1.2423),2) -> 25.86 | H14: =TRUNC((E14*G14),2) -> 6117.95
A15: TOTAL DO ITEM 2: | H15: =SUM(H12:H14) -> 18469.79
A16: 3 | B16: DRENAGEM PLUVIAL
A17: 3.1 | B17: 102281 | C17: ESCAVAÇÃO MECANIZADA DE VALA COM PROF. MAIOR QUE 1,5 M ATÉ 3,0 M (MÉDIA MONTANTE E JUSANTE/UMA COMPOSIÇÃO POR TRECHO),COM ESCAVADEIRA (1,2 M3),LARG. DE 1,5 M A 2,5 M, EM SOLO DE 1A CATEGORIA, LOCAIS COM BAIXO NÍVEL DE INTERFERÊNCIA. AF_02/2021 | D17: m³ | E17: =ROUND((2.2*1.5*E23),2) -> 33 | F17: 6.19 | G17: =TRUNC((F17*1.2423),2) -> 7.68 | H17: =TRUNC((E17*G17),2) -> 253.44
A18: 3.2 | B18: 93368 | C18: REATERRO MECANIZADO DE VALA COM ESCAVADEIRA HIDRÁULICA (CAPACIDADE DA CAÇAMBA: 0,8 M³/POTÊNCIA: 111 HP), LARGURA ATÉ 1,5 M, PROFUNDIDADE DE 1,5 A 3,0 M, COM SOLO (SEM SUBSTITUIÇÃO) DE 1ª CATEGORIA, COM COMPACTADOR DE SOLOS DE PERCUSSÃO. AF_08/2023 | D18: m³ | E18: =ROUND((E17-(E23*1.13)),2) -> 21.7 | F18: 23.89 | G18: =TRUNC((F18*1.2423),2) -> 29.67 | H18: =TRUNC((E18*G18),2) -> 643.83
A19: 3.3 | B19: CP 9 | C19: PREPARO DE FUNDO DE VALA COM LARGURA MENOR QUE 1,5 M, COM CAMADA DE RACHÃO, LANÇAMENTO MECANIZADO. AF_08/2020 | D19: m³ | E19: =ROUND((10*1.5*0.8),2) -> 12 | F19: =COMPOSIÇÕES!F73 -> 133.04 | G19: =TRUNC((F19*1.2423),2) -> 165.27 | H19: =TRUNC((E19*G19),2) -> 1983.24
A20: 3.4 | B20: 93589 | C20: TRANSPORTE COM CAMINHÃO BASCULANTE DE 10 M³, EM VIA URBANA EM REVESTIMENTO PRIMÁRIO (UNIDADE: M3XKM). AF_07/2020 - DMT 9,5KM | D20: m³.Km | E20: =ROUND((E19*1.25*9),2) -> 135 | F20: 2.9 | G20: =TRUNC((F20*1.2423),2) -> 3.6 | H20: =TRUNC((E20*G20),2) -> 486
A21: 3.5 | B21: 101623 | C21: PREPARO DE FUNDO DE VALA COM LARGURA MENOR QUE 1,5 M, COM CAMADA DE BRITA, LANÇAMENTO MECANIZADO. AF_08/2020 | D21: m³ | E21: =ROUND((E23*1*0.1),2) -> 1 | F21: 253.05 | G21: =TRUNC((F21*1.2423),2) -> 314.36 | H21: =TRUNC((E21*G21),2) -> 314.36
A22: 3.6 | B22: 93589 | C22: TRANSPORTE COM CAMINHÃO BASCULANTE DE 10 M³, EM VIA URBANA EM REVESTIMENTO PRIMÁRIO (UNIDADE: M3XKM). AF_07/2020 - DMT 24,5KM | D22: m³.Km | E22: =ROUND((E21*24.5),2) -> 24.5 | F22: 2.9 | G22: =TRUNC((F22*1.2423),2) -> 3.6 | H22: =TRUNC((E22*G22),2) -> 88.2
A23: 3.7 | B23: 92815 | C23: ASSENTAMENTO DE TUBO DE CONCRETO PARA REDES COLETORAS DE ÁGUAS PLUVIAIS, DIÂMETRO DE 1000 MM, JUNTA RÍGIDA, INSTALADO EM LOCAL COM BAIXO NÍVEL DE INTERFERÊNCIAS (NÃO INCLUI FORNECIMENTO). AF_03/2024 - TUBOS REAPROVEITADOS | D23: m | E23: 10 | F23: 107.01 | G23: =TRUNC((F23*1.2423),2) -> 132.93 | H23: =TRUNC((E23*G23),2) -> 1329.3
A24: 3.8 | B24: 92216 | C24: TUBO DE CONCRETO PARA REDES COLETORAS DE ÁGUAS PLUVIAIS, DIÂMETRO DE 1000 MM, JUNTA RÍGIDA, INSTALADO EM LOCAL COM BAIXO NÍVEL DE INTERFERÊNCIAS - FORNECIMENTO E ASSENTAMENTO. AF_03/2024 | D24: m | E24: 10 | F24: 620.06 | G24: =TRUNC((F24*1.2423),2) -> 770.3 | H24: =TRUNC((E24*G24),2) -> 7703
A25: 3.9 | B25: 100946 | C25: TRANSPORTE COM CAMINHÃO CARROCERIA 9T, EM VIA URBANA EM REVESTIMENTO PRIMÁRIO (UNIDADE: TXKM). AF_07/2020 - DMT 27,5KM | D25: t.Km | E25: =ROUND((E24*1.08*27.5),2) -> 297 | F25: 2.6 | G25: =TRUNC((F25*1.2423),2) -> 3.22 | H25: =TRUNC((E25*G25),2) -> 956.34
A26: 3.10 | B26: 100946 | C26: TRANSPORTE COM CAMINHÃO CARROCERIA 9T, EM VIA URBANA EM REVESTIMENTO PRIMÁRIO (UNIDADE: TXKM). AF_07/2020 - DMT 2KM (REAPROVEITADOS) | D26: t.Km | E26: =ROUND((E23*1.08*2),2) -> 21.6 | F26: 2.6 | G26: =TRUNC((F26*1.2423),2) -> 3.22 | H26: =TRUNC((E26*G26),2) -> 69.55
A27: 3.11 | B27: 102744 | C27: BOCA PARA BUEIRO DUPLO TUBULAR D = 100 CM EM CONCRETO, ALAS COM ESCONSIDADE DE 0°, INCLUINDO FÔRMAS E MATERIAIS. AF_07/2021 | D27: Unid. | E27: 2 | F27: 7113.94 | G27: =TRUNC((F27*1.2423),2) -> 8837.64 | H27: =TRUNC((E27*G27),2) -> 17675.28
A28: TOTAL DO ITEM 3: | H28: =SUM(H17:H27) -> 31502.54
A29: 4 | B29: SERVIÇOS COMPLEMENTARES
A30: 4.1 | B30: CP 3 | C30: DESMOBILIZAÇÃO DE EQUIPAMENTOS | D30: t.Km | E30: =E8 -> 825 | F30: =COMPOSIÇÕES!F20 -> 1.86 | G30: =TRUNC((F30*1.2423),2) -> 2.31 | H30: =TRUNC((E30*G30),2) -> 1905.75
A31: 4.2 | B31: 88908 | C31: ESCAVADEIRA HIDRÁULICA SOBRE ESTEIRAS, CAÇAMBA 1,20 M3, PESO OPERACIONAL 21 T, POTÊNCIA BRUTA 155 HP - CHI DIURNO. AF_06/2014 - DESASSOREAMENTO DE VALA A JUSANTE E MONTANTE | D31: CHI | E31: 0 | F31: 112.37 | G31: =TRUNC((F31*1.2423),2) -> 139.59 | H31: =TRUNC((E31*G31),2) -> 0
A32: 4.3 | B32: 88907 | C32: ESCAVADEIRA HIDRÁULICA SOBRE ESTEIRAS, CAÇAMBA 1,20 M3, PESO OPERACIONAL 21 T, POTÊNCIA BRUTA 155 HP - CHP DIURNO. AF_06/2014 - DESASSOREAMENTO DE VALA A JUSANTE E MONTANTE | D32: CHP | E32: 0 | F32: 275.03 | G32: =TRUNC((F32*1.2423),2) -> 341.66 | H32: =TRUNC((E32*G32),2) -> 0
A33: TOTAL DO ITEM 4: | H33: =SUM(H30:H32) -> 1905.75
A34: VALOR TOTAL OBRA: | H34: =H10+H15+H28+H33 -> 73576.72
C36: Bom Retiro do Sul, 12 de novembro de 2025
E39: Eng. Civil Giovana Mulinari

Sheet 5. Cavalos
A1: PREFEITURA MUNICIPAL DE BOM RETIRO DO SUL/RS
A2: OBRA: | C2: Drenagem Pluvial | D2: LOCAL: | E2: Fazenda Aurora
A3: TRECHO: | C3: Galeria sobre arroio nas proximidade da Granja Lunedo | D3: REFERÊNCIA: | E3: SINAPI (Não Desonerada) - 09/2025 / SICRO 07/2025
A4: ORÇAMENTO
A5: ITEM | B5: CÓDIGO SINAPI | C5: DESCRIÇÃO | D5: UNIDADE | E5: QUANTIDADE | F5: VALOR UNITÁRIO | G5: VALOR COM BDI (24,23%) | H5: VALOR TOTAL
A6: 1 | B6: SERVIÇOS PRELIMINARES
A7: 1.1 | B7: 103689 | C7: FORNECIMENTO E INSTALAÇÃO DE PLACA DE OBRA COM CHAPA GALVANIZADA E ESTRUTURA DE MADEIRA. AF_03/2022_PS | D7: m² | E7: 2.88 | F7: 462.39 | G7: =TRUNC((F7*1.2423),2) -> 574.42 | H7: =TRUNC((E7*G7),2) -> 1654.32
A8: 1.2 | B8: CP 1 | C8: MOBILIZAÇÃO DE EQUIPAMENTOS | D8: t.Km | E8: =ROUND((30*30),2) -> 900 | F8: =COMPOSIÇÕES!F5 -> 1.86 | G8: =TRUNC((F8*1.2423),2) -> 2.31 | H8: =TRUNC((E8*G8),2) -> 2079
A9: 1.3 | B9: CP 2 | C9: ADMINISTRAÇÃO DE OBRA - EQUIPE | D9: Mês | E9: 1 | F9: =COMPOSIÇÕES!F14 -> 14600.8 | G9: =TRUNC((F9*1.2423),2) -> 18138.57 | H9: =TRUNC((E9*G9),2) -> 18138.57
A10: TOTAL DO ITEM 1: | H10: =SUM(H7:H9) -> 21871.89
A11: 2 | B11: TERRAPLANAGEM
A12: 2.1 | B12: 100978 | C12: CARGA, MANOBRA E DESCARGA DE SOLOS E MATERIAIS GRANULARES EM CAMINHÃO BASCULANTE 10 M³ - CARGA COM ESCAVADEIRA HIDRÁULICA (CAÇAMBA DE 1,20 M³ / 155 HP) E DESCARGA LIVRE (UNIDADE: M3). AF_07/2020 | D12: m³ | E12: =ROUND((81*6),2) -> 486 | F12: 7.62 | G12: =TRUNC((F12*1.2423),2) -> 9.46 | H12: =TRUNC((E12*G12),2) -> 4597.56
A13: 2.2 | B13: 93589 | C13: TRANSPORTE COM CAMINHÃO BASCULANTE DE 10 M³, EM VIA URBANA EM REVESTIMENTO PRIMÁRIO (UNIDADE: M3XKM). AF_07/2020 - DMT 11,5KM | D13: m³.Km | E13: =ROUND((E12*1.25*11.5),2) -> 6986.25 | F13: 2.9 | G13: =TRUNC((F13*1.2423),2) -> 3.6 | H13: =TRUNC((E13*G13),2) -> 25150.5
A14: 2.3 | B14: CP 4 | C14: CONSTRUÇÃO DE BASE E SUB-BASE PARA PAVIMENTAÇÃO DE RACHÃO, COM ESPESSURA DE 30 CM - EXCLUSIVE CARGA E TRANSPORTE. AF_09/2024 | D14: m³ | E14: =E12 -> 486 | F14: 20.82 | G14: =TRUNC((F14*1.2423),2) -> 25.86 | H14: =TRUNC((E14*G14),2) -> 12567.96
A15: TOTAL DO ITEM 2: | H15: =SUM(H12:H14) -> 42316.02
A16: 3 | B16: DRENAGEM PLUVIAL
A17: 3.1 | B17: 102281 | C17: ESCAVAÇÃO MECANIZADA DE VALA COM PROF. MAIOR QUE 1,5 M ATÉ 3,0 M (MÉDIA MONTANTE E JUSANTE/UMA COMPOSIÇÃO POR TRECHO),COM ESCAVADEIRA (1,2 M3),LARG. DE 1,5 M A 2,5 M, EM SOLO DE 1A CATEGORIA, LOCAIS COM BAIXO NÍVEL DE INTERFERÊNCIA. AF_02/2021 | D17: m³ | E17: =ROUND((10*3*3),2) -> 90 | F17: 6.19 | G17: =TRUNC((F17*1.2423),2) -> 7.68 | H17: =TRUNC((E17*G17),2) -> 691.2
A18: 3.2 | B18: 1600405 (SICRO) | C18: Remoção de tubos de concreto com diâmetro de 1,20 m a 1,50 m em valas e bueiros | D18: m | E18: 18 | F18: 11.5 | G18: =TRUNC((F18*1.2423),2) -> 14.28 | H18: =TRUNC((E18*G18),2) -> 257.04
A19: 3.3 | B19: 93368 | C19: REATERRO MECANIZADO DE VALA COM ESCAVADEIRA HIDRÁULICA (CAPACIDADE DA CAÇAMBA: 0,8 M³/POTÊNCIA: 111 HP), LARGURA ATÉ 1,5 M, PROFUNDIDADE DE 1,5 A 3,0 M, COM SOLO (SEM SUBSTITUIÇÃO) DE 1ª CATEGORIA, COM COMPACTADOR DE SOLOS DE PERCUSSÃO. AF_08/2023 - TUBOS PARA REAPROVEITAMENTO | D19: m³ | E19: =ROUND((E17-(E21*9)),2) -> 0 | F19: 23.89 | G19: =TRUNC((F19*1.2423),2) -> 29.67 | H19: =TRUNC((E19*G19),2) -> 0
A20: 3.4 | B20: 97103 | C20: EXECUÇÃO DE RADIER, ESPESSURA DE 20 CM, FCK = 30 MPA, COM USO DE FORMAS EM MADEIRA SERRADA. AF_09/2021 | D20: m² | E20: =ROUND((10*3.5),2) -> 35 | F20: 274.74 | G20: =TRUNC((F20*1.2423),2) -> 341.3 | H20: =TRUNC((E20*G20),2) -> 11945.5
A21: 3.5 | B21: 104497 | C21: ADUELA/ GALERIA FECHADA PRE-MOLDADA DE CONCRETO ARMADO, SECAO QUADRANGULAR INTERNA DE 3,00 X 3,00 M (L X A), MISULA DE 20 X 20 CM, C = 1,00 M, ESPESSURA MIN = 20 CM, TB-45 E FCK DO CONCRETO = 30 MPA FORNECIMENTO E ASSENTAMENTO. AF_01/2023 | D21: m | E21: 10 | F21: 8880.93 | G21: =TRUNC((F21*1.2423),2) -> 11032.77 | H21: =TRUNC((E21*G21),2) -> 110327.7
A22: 3.6 | B22: 100947 | C22: TRANSPORTE COM CAMINHÃO CARROCERIA 9T, EM VIA URBANA PAVIMENTADA, DMT ATÉ 30KM (UNIDADE: TXKM). AF_07/2020 - DMT 30KM | D22: t.Km | E22: =ROUND((E21*6.2*30),2) -> 1860 | F22: 2.4 | G22: =TRUNC((F22*1.2423),2) -> 2.98 | H22: =TRUNC((E22*G22),2) -> 5542.8
A23: 3.7 | B23: 100948 | C23: TRANSPORTE COM CAMINHÃO CARROCERIA 9T, EM VIA URBANA PAVIMENTADA, ADICIONAL PARA DMT EXCEDENTE A 30 KM (UNIDADE: TXKM). AF_07/2020 - DMT 75KM | D23: t.Km | E23: =ROUND((E21*6.2*75),2) -> 4650 | F23: 0.95 | G23: =TRUNC((F23*1.2423),2) -> 1.18 | H23: =TRUNC((E23*G23),2) -> 5487
A24: 3.8 | B24: 102764 | C24: BOCA PARA BUEIRO SIMPLES CELULAR 300 X 300 CM EM CONCRETO, ALAS COM ESCONSIDADE DE 30°, INCLUINDO FÔRMAS E MATERIAIS. AF_07/2021 | D24: Unid. | E24: 2 | F24: 41074.63 | G24: =TRUNC((F24*1.2423),2) -> 51027.01 | H24: =TRUNC((E24*G24),2) -> 102054.02
A25: TOTAL DO ITEM 3: | H25: =SUM(H17:H24) -> 236305.26
A26: 4 | B26: SERVIÇOS COMPLEMENTARES
A27: 4.1 | B27: CP 3 | C27: DESMOBILIZAÇÃO DE EQUIPAMENTOS | D27: t.Km | E27: =E8 -> 900 | F27: =COMPOSIÇÕES!F20 -> 1.86 | G27: =TRUNC((F27*1.2423),2) -> 2.31 | H27: =TRUNC((E27*G27),2) -> 2079
A28: 4.2 | B28: 88908 | C28: ESCAVADEIRA HIDRÁULICA SOBRE ESTEIRAS, CAÇAMBA 1,20 M3, PESO OPERACIONAL 21 T, POTÊNCIA BRUTA 155 HP - CHI DIURNO. AF_06/2014 - DESASSOREAMENTO DE VALA A JUSANTE E MONTANTE | D28: CHI | E28: 0 | F28: 112.37 | G28: =TRUNC((F28*1.2423),2) -> 139.59 | H28: =TRUNC((E28*G28),2) -> 0
A29: 4.3 | B29: 88907 | C29: ESCAVADEIRA HIDRÁULICA SOBRE ESTEIRAS, CAÇAMBA 1,20 M3, PESO OPERACIONAL 21 T, POTÊNCIA BRUTA 155 HP - CHP DIURNO. AF_06/2014 - DESASSOREAMENTO DE VALA A JUSANTE E MONTANTE | D29: CHP | E29: 0 | F29: 275.03 | G29: =TRUNC((F29*1.2423),2) -> 341.66 | H29: =TRUNC((E29*G29),2) -> 0
A30: TOTAL DO ITEM 4: | H30: =SUM(H27:H29) -> 2079
A31: VALOR TOTAL OBRA: | H31: =H10+H15+H25+H30 -> 302572.17
C33: Bom Retiro do Sul, 12 de novembro de 2025
E36: Eng. Civil Giovana Mulinari

Sheet 6. Barra
A1: PREFEITURA MUNICIPAL DE BOM RETIRO DO SUL/RS
A2: OBRA: | C2: Drenagem Pluvial e aterro de pista | D2: LOCAL: | E2: Barra do Silva Jorge
A3: TRECHO: | C3: Localidade da Barra do Silva Jorge – Galeria Sobre Arroio | D3: REFERÊNCIA: | E3: SINAPI (Não Desonerada) - 09/2025 / SICRO 07/2025
A4: ORÇAMENTO
A5: ITEM | B5: CÓDIGO SINAPI | C5: DESCRIÇÃO | D5: UNIDADE | E5: QUANTIDADE | F5: VALOR UNITÁRIO | G5: VALOR COM BDI (24,23%) | H5: VALOR TOTAL
A6: 1 | B6: SERVIÇOS PRELIMINARES
A7: 1.1 | B7: 103689 | C7: FORNECIMENTO E INSTALAÇÃO DE PLACA DE OBRA COM CHAPA GALVANIZADA E ESTRUTURA DE MADEIRA. AF_03/2022_PS | D7: m² | E7: 2.88 | F7: 462.39 | G7: =TRUNC((F7*1.2423),2) -> 574.42 | H7: =TRUNC((E7*G7),2) -> 1654.32
A8: 1.2 | B8: CP 1 | C8: MOBILIZAÇÃO DE EQUIPAMENTOS | D8: t.Km | E8: =ROUND((30*30),2) -> 900 | F8: =COMPOSIÇÕES!F5 -> 1.86 | G8: =TRUNC((F8*1.2423),2) -> 2.31 | H8: =TRUNC((E8*G8),2) -> 2079
A9: 1.3 | B9: CP 2 | C9: ADMINISTRAÇÃO DE OBRA - EQUIPE | D9: Mês | E9: 1 | F9: =COMPOSIÇÕES!F14 -> 14600.8 | G9: =TRUNC((F9*1.2423),2) -> 18138.57 | H9: =TRUNC((E9*G9),2) -> 18138.57
A10: TOTAL DO ITEM 1: | H10: =SUM(H7:H9) -> 21871.89
A11: 2 | B11: TERRAPLANAGEM
A12: 2.1 | B12: 100978 | C12: CARGA, MANOBRA E DESCARGA DE SOLOS E MATERIAIS GRANULARES EM CAMINHÃO BASCULANTE 10 M³ - CARGA COM ESCAVADEIRA HIDRÁULICA (CAÇAMBA DE 1,20 M³ / 155 HP) E DESCARGA LIVRE (UNIDADE: M3). AF_07/2020 | D12: m³ | E12: =ROUND((185.75*6),2) -> 1114.5 | F12: 7.62 | G12: =TRUNC((F12*1.2423),2) -> 9.46 | H12: =TRUNC((E12*G12),2) -> 10543.17
A13: 2.2 | B13: 93589 | C13: TRANSPORTE COM CAMINHÃO BASCULANTE DE 10 M³, EM VIA URBANA EM REVESTIMENTO PRIMÁRIO (UNIDADE: M3XKM). AF_07/2020 - DMT 2KM | D13: m³.Km | E13: =ROUND((E12*1.25*2),2) -> 2786.25 | F13: 2.9 | G13: =TRUNC((F13*1.2423),2) -> 3.6 | H13: =TRUNC((E13*G13),2) -> 10030.5
A14: 2.3 | B14: 105742 (Composição) | C14: CONSTRUÇÃO DE BASE E SUB-BASE PARA PAVIMENTAÇÃO DE RACHÃO, COM ESPESSURA DE 30 CM - EXCLUSIVE CARGA E TRANSPORTE. AF_09/2024 | D14: m³ | E14: =E12 -> 1114.5 | F14: 20.82 | G14: =TRUNC((F14*1.2423),2) -> 25.86 | H14: =TRUNC((E14*G14),2) -> 28820.97
A15: TOTAL DO ITEM 2: | H15: =SUM(H12:H14) -> 49394.64
A16: 3 | B16: DRENAGEM PLUVIAL
A17: 3.1 | B17: 102281 | C17: ESCAVAÇÃO MECANIZADA DE VALA COM PROF. MAIOR QUE 1,5 M ATÉ 3,0 M (MÉDIA MONTANTE E JUSANTE/UMA COMPOSIÇÃO POR TRECHO),COM ESCAVADEIRA (1,2 M3),LARG. DE 1,5 M A 2,5 M, EM SOLO DE 1A CATEGORIA, LOCAIS COM BAIXO NÍVEL DE INTERFERÊNCIA. AF_02/2021 | D17: m³ | E17: =ROUND((20*3*3),2) -> 180 | F17: 6.19 | G17: =TRUNC((F17*1.2423),2) -> 7.68 | H17: =TRUNC((E17*G17),2) -> 1382.4
A18: 3.2 | B18: 93368 | C18: REATERRO MECANIZADO DE VALA COM ESCAVADEIRA HIDRÁULICA (CAPACIDADE DA CAÇAMBA: 0,8 M³/POTÊNCIA: 111 HP), LARGURA ATÉ 1,5 M, PROFUNDIDADE DE 1,5 A 3,0 M, COM SOLO (SEM SUBSTITUIÇÃO) DE 1ª CATEGORIA, COM COMPACTADOR DE SOLOS DE PERCUSSÃO. AF_08/2023 | D18: m³ | E18: 0 | F18: 23.89 | G18: =TRUNC((F18*1.2423),2) -> 29.67 | H18: =TRUNC((E18*G18),2) -> 0
A19: 3.3 | B19: 97103 | C19: EXECUÇÃO DE RADIER, ESPESSURA DE 20 CM, FCK = 30 MPA, COM USO DE FORMAS EM MADEIRA SERRADA. AF_09/2021 | D19: m² | E19: =ROUND((10*7),2) -> 70 | F19: 274.74 | G19: =TRUNC((F19*1.2423),2) -> 341.3 | H19: =TRUNC((E19*G19),2) -> 23891
A20: 3.4 | B20: 104497 | C20: ADUELA/ GALERIA FECHADA PRE-MOLDADA DE CONCRETO ARMADO, SECAO QUADRANGULAR INTERNA DE 3,00 X 3,00 M (L X A), MISULA DE 20 X 20 CM, C = 1,00 M, ESPESSURA MIN = 20 CM, TB-45 E FCK DO CONCRETO = 30 MPA FORNECIMENTO E ASSENTAMENTO. AF_01/2023 | D20: m | E20: 20 | F20: 8880.93 | G20: =TRUNC((F20*1.2423),2) -> 11032.77 | H20: =TRUNC((E20*G20),2) -> 220655.4
A21: 3.5 | B21: 100947 | C21: TRANSPORTE COM CAMINHÃO CARROCERIA 9T, EM VIA URBANA PAVIMENTADA, DMT ATÉ 30KM (UNIDADE: TXKM). AF_07/2020 - DMT 30KM | D21: t.Km | E21: =ROUND((E20*6.2*30),2) -> 3720 | F21: 2.4 | G21: =TRUNC((F21*1.2423),2) -> 2.98 | H21: =TRUNC((E21*G21),2) -> 11085.6
A22: 3.6 | B22: 100948 | C22: TRANSPORTE COM CAMINHÃO CARROCERIA 9T, EM VIA URBANA PAVIMENTADA, ADICIONAL PARA DMT EXCEDENTE A 30 KM (UNIDADE: TXKM). AF_07/2020 - DMT 85KM | D22: t.Km | E22: =ROUND((E20*6.2*85),2) -> 10540 | F22: 0.95 | G22: =TRUNC((F22*1.2423),2) -> 1.18 | H22: =TRUNC((E22*G22),2) -> 12437.2
A23: 3.7 | B23: 102768 | C23: BOCA PARA BUEIRO DUPLO CELULAR 300 X 300 CM EM CONCRETO, ALAS COM ESCONSIDADE DE 30°, INCLUINDO FÔRMAS E MATERIAIS. AF_07/2021 | D23: Unid. | E23: 2 | F23: 49846.88 | G23: =TRUNC((F23*1.2423),2) -> 61924.77 | H23: =TRUNC((E23*G23),2) -> 123849.54
A24: TOTAL DO ITEM 3: | H24: =SUM(H17:H23) -> 393301.14
A25: 4 | B25: SERVIÇOS COMPLEMENTARES
A26: 4.1 | B26: CP 3 | C26: DESMOBILIZAÇÃO DE EQUIPAMENTOS | D26: t.Km | E26: =E8 -> 900 | F26: =COMPOSIÇÕES!F20 -> 1.86 | G26: =TRUNC((F26*1.2423),2) -> 2.31 | H26: =TRUNC((E26*G26),2) -> 2079
A27: 4.2 | B27: 88908 | C27: ESCAVADEIRA HIDRÁULICA SOBRE ESTEIRAS, CAÇAMBA 1,20 M3, PESO OPERACIONAL 21 T, POTÊNCIA BRUTA 155 HP - CHI DIURNO. AF_06/2014 - DESASSOREAMENTO DE VALA A JUSANTE E MONTANTE | D27: CHI | E27: 30 | F27: 112.37 | G27: =TRUNC((F27*1.2423),2) -> 139.59 | H27: =TRUNC((E27*G27),2) -> 4187.7
A28: 4.3 | B28: 88907 | C28: ESCAVADEIRA HIDRÁULICA SOBRE ESTEIRAS, CAÇAMBA 1,20 M3, PESO OPERACIONAL 21 T, POTÊNCIA BRUTA 155 HP - CHP DIURNO. AF_06/2014 - DESASSOREAMENTO DE VALA A JUSANTE E MONTANTE | D28: CHP | E28: 60 | F28: 275.03 | G28: =TRUNC((F28*1.2423),2) -> 341.66 | H28: =TRUNC((E28*G28),2) -> 20499.6
A29: TOTAL DO ITEM 4: | H29: =SUM(H26:H28) -> 26766.3
A30: VALOR TOTAL OBRA: | H30: =H10+H15+H24+H29 -> 491333.97
C32: Bom Retiro do Sul, 12 de novembro de 2025
E35: Eng. Civil Giovana Mulinari

Sheet 7. Aurora
A1: PREFEITURA MUNICIPAL DE BOM RETIRO DO SUL/RS
A2: OBRA: | C2: Drenagem Pluvial e aterro de pista | D2: LOCAL: | E2: Fazenda Aurora
A3: TRECHO: | C3: Galeria sobre o arroio Capivara | D3: REFERÊNCIA: | E3: SINAPI (Não Desonerada) - 09/2025 / SICRO 07/2025
A4: ORÇAMENTO
A5: ITEM | B5: CÓDIGO SINAPI | C5: DESCRIÇÃO | D5: UNIDADE | E5: QUANTIDADE | F5: VALOR UNITÁRIO | G5: VALOR COM BDI (24,23%) | H5: VALOR TOTAL
A6: 1 | B6: SERVIÇOS PRELIMINARES
A7: 1.1 | B7: 103689 | C7: FORNECIMENTO E INSTALAÇÃO DE PLACA DE OBRA COM CHAPA GALVANIZADA E ESTRUTURA DE MADEIRA. AF_03/2022_PS | D7: m² | E7: 2.88 | F7: 462.39 | G7: =TRUNC((F7*1.2423),2) -> 574.42 | H7: =TRUNC((E7*G7),2) -> 1654.32
A8: 1.2 | B8: CP 1 | C8: MOBILIZAÇÃO DE EQUIPAMENTOS | D8: t.Km | E8: =ROUND((30*30),2) -> 900 | F8: =COMPOSIÇÕES!F5 -> 1.86 | G8: =TRUNC((F8*1.2423),2) -> 2.31 | H8: =TRUNC((E8*G8),2) -> 2079
A9: 1.3 | B9: CP 2 | C9: ADMINISTRAÇÃO DE OBRA - EQUIPE | D9: Mês | E9: 1 | F9: =COMPOSIÇÕES!F14 -> 14600.8 | G9: =TRUNC((F9*1.2423),2) -> 18138.57 | H9: =TRUNC((E9*G9),2) -> 18138.57
A10: TOTAL DO ITEM 1: | H10: =SUM(H7:H9) -> 21871.89
A11: 2 | B11: TERRAPLANAGEM
A12: 2.1 | B12: 100978 | C12: CARGA, MANOBRA E DESCARGA DE SOLOS E MATERIAIS GRANULARES EM CAMINHÃO BASCULANTE 10 M³ - CARGA COM ESCAVADEIRA HIDRÁULICA (CAÇAMBA DE 1,20 M³ / 155 HP) E DESCARGA LIVRE (UNIDADE: M3). AF_07/2020 | D12: m³ | E12: 0 | F12: 7.62 | G12: =TRUNC((F12*1.2423),2) -> 9.46 | H12: =TRUNC((E12*G12),2) -> 0
A13: 2.2 | B13: 93589 | C13: TRANSPORTE COM CAMINHÃO BASCULANTE DE 10 M³, EM VIA URBANA EM REVESTIMENTO PRIMÁRIO (UNIDADE: M3XKM). AF_07/2020 - DMT 8,5KM | D13: m³.Km | E13: 0 | F13: 2.9 | G13: =TRUNC((F13*1.2423),2) -> 3.6 | H13: =TRUNC((E13*G13),2) -> 0
A14: 2.3 | B14: 105742 (Composição) | C14: CONSTRUÇÃO DE BASE E SUB-BASE PARA PAVIMENTAÇÃO DE RACHÃO, COM ESPESSURA DE 30 CM - EXCLUSIVE CARGA E TRANSPORTE. AF_09/2024 | D14: m³ | E14: 0 | F14: 20.82 | G14: =TRUNC((F14*1.2423),2) -> 25.86 | H14: =TRUNC((E14*G14),2) -> 0
A15: TOTAL DO ITEM 2: | H15: =SUM(H12:H14) -> 0
A16: 3 | B16: DRENAGEM PLUVIAL
A17: 3.1 | B17: 102281 | C17: ESCAVAÇÃO MECANIZADA DE VALA COM PROF. MAIOR QUE 1,5 M ATÉ 3,0 M (MÉDIA MONTANTE E JUSANTE/UMA COMPOSIÇÃO POR TRECHO),COM ESCAVADEIRA (1,2 M3),LARG. DE 1,5 M A 2,5 M, EM SOLO DE 1A CATEGORIA, LOCAIS COM BAIXO NÍVEL DE INTERFERÊNCIA. AF_02/2021 | D17: m³ | E17: =ROUND((E21*3*3),2) -> 45 | F17: 6.19 | G17: =TRUNC((F17*1.2423),2) -> 7.68 | H17: =TRUNC((E17*G17),2) -> 345.6
A18: 3.2 | B18: 93368 | C18: REATERRO MECANIZADO DE VALA COM ESCAVADEIRA HIDRÁULICA (CAPACIDADE DA CAÇAMBA: 0,8 M³/POTÊNCIA: 111 HP), LARGURA ATÉ 1,5 M, PROFUNDIDADE DE 1,5 A 3,0 M, COM SOLO (SEM SUBSTITUIÇÃO) DE 1ª CATEGORIA, COM COMPACTADOR DE SOLOS DE PERCUSSÃO. AF_08/2023 | D18: m³ | E18: 0 | F18: 23.89 | G18: =TRUNC((F18*1.2423),2) -> 29.67 | H18: =TRUNC((E18*G18),2) -> 0
A19: 3.3 | B19: 97625 | C19: DEMOLIÇÃO DE ALVENARIA PARA QUALQUER TIPO DE BLOCO, DE FORMA MECANIZADA, SEM REAPROVEITAMENTO. AF_09/2023 | D19: m³ | E19: =ROUND((2.6*1.6*5),2) -> 20.8 | F19: 58.37 | G19: =TRUNC((F19*1.2423),2) -> 72.51 | H19: =TRUNC((E19*G19),2) -> 1508.2
A20: 3.4 | B20: 97103 | C20: EXECUÇÃO DE RADIER, ESPESSURA DE 20 CM, FCK = 30 MPA, COM USO DE FORMAS EM MADEIRA SERRADA. AF_09/2021 | D20: m² | E20: =ROUND((5*3.5),2) -> 17.5 | F20: 274.74 | G20: =TRUNC((F20*1.2423),2) -> 341.3 | H20: =TRUNC((E20*G20),2) -> 5972.75
A21: 3.5 | B21: 104494 | C21: ADUELA/ GALERIA FECHADA PRE-MOLDADA DE CONCRETO ARMADO, SECAO QUADRANGULAR INTERNA DE 2,50 X 2,50 M (L X A), MISULA DE 20 X 20 CM, C = 1,00 M, ESPESSURA MIN = 15 CM, TB-45 E FCK DO CONCRETO = 30 MPA FORNECIMENTO E ASSENTAMENTO. AF_01/2023 | D21: m | E21: 5 | F21: 7406.74 | G21: =TRUNC((F21*1.2423),2) -> 9201.39 | H21: =TRUNC((E21*G21),2) -> 46006.95
A22: 3.6 | B22: 100947 | C22: TRANSPORTE COM CAMINHÃO CARROCERIA 9T, EM VIA URBANA PAVIMENTADA, DMT ATÉ 30KM (UNIDADE: TXKM). AF_07/2020 - DMT 30KM | D22: t.Km | E22: =ROUND((E21*6.2*30),2) -> 930 | F22: 2.4 | G22: =TRUNC((F22*1.2423),2) -> 2.98 | H22: =TRUNC((E22*G22),2) -> 2771.4
A23: 3.7 | B23: 100948 | C23: TRANSPORTE COM CAMINHÃO CARROCERIA 9T, EM VIA URBANA PAVIMENTADA, ADICIONAL PARA DMT EXCEDENTE A 30 KM (UNIDADE: TXKM). AF_07/2020 - DMT 85KM | D23: t.Km | E23: =ROUND((E21*6.2*85),2) -> 2635 | F23: 0.95 | G23: =TRUNC((F23*1.2423),2) -> 1.18 | H23: =TRUNC((E23*G23),2) -> 3109.3
A24: 3.8 | B24: 102763 | C24: BOCA PARA BUEIRO SIMPLES CELULAR 250 X 250 CM EM CONCRETO, ALAS COM ESCONSIDADE DE 30°, INCLUINDO FÔRMAS E MATERIAIS. AF_07/2021 | D24: Unid. | E24: 2 | F24: 29141.2 | G24: =TRUNC((F24*1.2423),2) -> 36202.11 | H24: =TRUNC((E24*G24),2) -> 72404.22
A25: TOTAL DO ITEM 3: | H25: =SUM(H17:H24) -> 132118.42
A26: 4 | B26: SERVIÇOS COMPLEMENTARES
A27: 4.1 | B27: CP 3 | C27: DESMOBILIZAÇÃO DE EQUIPAMENTOS | D27: t.Km | E27: =E8 -> 900 | F27: =COMPOSIÇÕES!F20 -> 1.86 | G27: =TRUNC((F27*1.2423),2) -> 2.31 | H27: =TRUNC((E27*G27),2) -> 2079
A28: 4.2 | B28: 88908 | C28: ESCAVADEIRA HIDRÁULICA SOBRE ESTEIRAS, CAÇAMBA 1,20 M3, PESO OPERACIONAL 21 T, POTÊNCIA BRUTA 155 HP - CHI DIURNO. AF_06/2014 - DESASSOREAMENTO DE VALA A JUSANTE E MONTANTE | D28: CHI | E28: 30 | F28: 112.37 | G28: =TRUNC((F28*1.2423),2) -> 139.59 | H28: =TRUNC((E28*G28),2) -> 4187.7
A29: 4.3 | B29: 88907 | C29: ESCAVADEIRA HIDRÁULICA SOBRE ESTEIRAS, CAÇAMBA 1,20 M3, PESO OPERACIONAL 21 T, POTÊNCIA BRUTA 155 HP - CHP DIURNO. AF_06/2014 - DESASSOREAMENTO DE VALA A JUSANTE E MONTANTE | D29: CHP | E29: 60 | F29: 275.03 | G29: =TRUNC((F29*1.2423),2) -> 341.66 | H29: =TRUNC((E29*G29),2) -> 20499.6
A30: TOTAL DO ITEM 4: | H30: =SUM(H27:H29) -> 26766.3
A31: VALOR TOTAL OBRA: | H31: =H10+H15+H25+H30 -> 180756.61
C33: Bom Retiro do Sul, 12 de novembro de 2025
E36: Eng. Civil Giovana Mulinari

Sheet 8. Barra 1
A1: PREFEITURA MUNICIPAL DE BOM RETIRO DO SUL/RS
A2: OBRA: | C2: Drenagem Pluvial e aterro de pista | D2: LOCAL: | E2: Barra do Silva Jorge
A3: TRECHO: | C3: Localidade da Barra do Silva Jorge – drenagem 01 | D3: REFERÊNCIA: | E3: SINAPI (Não Desonerada) - 09/2025 / SICRO 07/2025
A4: ORÇAMENTO
A5: ITEM | B5: CÓDIGO SINAPI | C5: DESCRIÇÃO | D5: UNIDADE | E5: QUANTIDADE | F5: VALOR UNITÁRIO | G5: VALOR COM BDI (24,23%) | H5: VALOR TOTAL
A6: 1 | B6: SERVIÇOS PRELIMINARES
A7: 1.1 | B7: 103689 | C7: FORNECIMENTO E INSTALAÇÃO DE PLACA DE OBRA COM CHAPA GALVANIZADA E ESTRUTURA DE MADEIRA. AF_03/2022_PS | D7: m² | E7: 2.88 | F7: 462.39 | G7: =TRUNC((F7*1.2423),2) -> 574.42 | H7: =TRUNC((E7*G7),2) -> 1654.32
A8: 1.2 | B8: CP 1 | C8: MOBILIZAÇÃO DE EQUIPAMENTOS | D8: t.Km | E8: =ROUND((30*35),2) -> 1050 | F8: =COMPOSIÇÕES!F5 -> 1.86 | G8: =TRUNC((F8*1.2423),2) -> 2.31 | H8: =TRUNC((E8*G8),2) -> 2425.5
A9: 1.3 | B9: CP 2 | C9: ADMINISTRAÇÃO DE OBRA - EQUIPE | D9: Mês | E9: 1 | F9: =COMPOSIÇÕES!F14 -> 14600.8 | G9: =TRUNC((F9*1.2423),2) -> 18138.57 | H9: =TRUNC((E9*G9),2) -> 18138.57
A10: TOTAL DO ITEM 1: | H10: =SUM(H7:H9) -> 22218.39
A11: 2 | B11: TERRAPLANAGEM
A12: 2.1 | B12: 100978 | C12: CARGA, MANOBRA E DESCARGA DE SOLOS E MATERIAIS GRANULARES EM CAMINHÃO BASCULANTE 10 M³ - CARGA COM ESCAVADEIRA HIDRÁULICA (CAÇAMBA DE 1,20 M³ / 155 HP) E DESCARGA LIVRE (UNIDADE: M3). AF_07/2020 | D12: m³ | E12: 0 | F12: 7.62 | G12: =TRUNC((F12*1.2423),2) -> 9.46 | H12: =TRUNC((E12*G12),2) -> 0
A13: 2.2 | B13: 93589 | C13: TRANSPORTE COM CAMINHÃO BASCULANTE DE 10 M³, EM VIA URBANA EM REVESTIMENTO PRIMÁRIO (UNIDADE: M3XKM). AF_07/2020 - DMT 9,5KM | D13: m³.Km | E13: 0 | F13: 2.9 | G13: =TRUNC((F13*1.2423),2) -> 3.6 | H13: =TRUNC((E13*G13),2) -> 0
A14: 2.3 | B14: CP 4 | C14: CONSTRUÇÃO DE BASE E SUB-BASE PARA PAVIMENTAÇÃO DE RACHÃO, COM ESPESSURA DE 30 CM - EXCLUSIVE CARGA E TRANSPORTE. AF_09/2024 | D14: m³ | E14: 0 | F14: 20.82 | G14: =TRUNC((F14*1.2423),2) -> 25.86 | H14: =TRUNC((E14*G14),2) -> 0
A15: TOTAL DO ITEM 2: | H15: =SUM(H12:H14) -> 0
A16: 3 | B16: DRENAGEM PLUVIAL
A17: 3.1 | B17: 102281 | C17: ESCAVAÇÃO MECANIZADA DE VALA COM PROF. MAIOR QUE 1,5 M ATÉ 3,0 M (MÉDIA MONTANTE E JUSANTE/UMA COMPOSIÇÃO POR TRECHO),COM ESCAVADEIRA (1,2 M3),LARG. DE 1,5 M A 2,5 M, EM SOLO DE 1A CATEGORIA, LOCAIS COM BAIXO NÍVEL DE INTERFERÊNCIA. AF_02/2021 | D17: m³ | E17: =ROUND((2.2*1.5*(E21+E22)),2) -> 85.8 | F17: 6.19 | G17: =TRUNC((F17*1.2423),2) -> 7.68 | H17: =TRUNC((E17*G17),2) -> 658.94
A18: 3.2 | B18: 93368 | C18: REATERRO MECANIZADO DE VALA COM ESCAVADEIRA HIDRÁULICA (CAPACIDADE DA CAÇAMBA: 0,8 M³/POTÊNCIA: 111 HP), LARGURA ATÉ 1,5 M, PROFUNDIDADE DE 1,5 A 3,0 M, COM SOLO (SEM SUBSTITUIÇÃO) DE 1ª CATEGORIA, COM COMPACTADOR DE SOLOS DE PERCUSSÃO. AF_08/2023 | D18: m³ | E18: =ROUND((E17-((E21+E22)*1.13)),2) -> 56.42 | F18: 23.89 | G18: =TRUNC((F18*1.2423),2) -> 29.67 | H18: =TRUNC((E18*G18),2) -> 1673.98
A19: 3.3 | B19: 101623 | C19: PREPARO DE FUNDO DE VALA COM LARGURA MENOR QUE 1,5 M, COM CAMADA DE BRITA, LANÇAMENTO MECANIZADO. AF_08/2020 | D19: m³ | E19: =ROUND(((E21+E22)*1*0.1),2) -> 2.6 | F19: 253.05 | G19: =TRUNC((F19*1.2423),2) -> 314.36 | H19: =TRUNC((E19*G19),2) -> 817.33
A20: 3.4 | B20: 93589 | C20: TRANSPORTE COM CAMINHÃO BASCULANTE DE 10 M³, EM VIA URBANA EM REVESTIMENTO PRIMÁRIO (UNIDADE: M3XKM). AF_07/2020 - DMT 25KM | D20: m³.Km | E20: =ROUND((E19*25),2) -> 65 | F20: 2.9 | G20: =TRUNC((F20*1.2423),2) -> 3.6 | H20: =TRUNC((E20*G20),2) -> 234
A21: 3.5 | B21: 92216 | C21: TUBO DE CONCRETO PARA REDES COLETORAS DE ÁGUAS PLUVIAIS, DIÂMETRO DE 1000 MM, JUNTA RÍGIDA, INSTALADO EM LOCAL COM BAIXO NÍVEL DE INTERFERÊNCIAS - FORNECIMENTO E ASSENTAMENTO. AF_03/2024 | D21: m | E21: =5+13 -> 18 | F21: 620.06 | G21: =TRUNC((F21*1.2423),2) -> 770.3 | H21: =TRUNC((E21*G21),2) -> 13865.4
A22: 3.6 | B22: 92815 | C22: ASSENTAMENTO DE TUBO DE CONCRETO PARA REDES COLETORAS DE ÁGUAS PLUVIAIS, DIÂMETRO DE 1000 MM, JUNTA RÍGIDA, INSTALADO EM LOCAL COM BAIXO NÍVEL DE INTERFERÊNCIAS (NÃO INCLUI FORNECIMENTO). AF_03/2024 - REAPROVEITAMENTO | D22: m | E22: 8 | F22: 107.01 | G22: =TRUNC((F22*1.2423),2) -> 132.93 | H22: =TRUNC((E22*G22),2) -> 1063.44
A23: 3.7 | B23: 100947 | C23: TRANSPORTE COM CAMINHÃO CARROCERIA 9T, EM VIA URBANA PAVIMENTADA, DMT ATÉ 30KM (UNIDADE: TXKM). AF_07/2020 - DMT 30KM | D23: t.Km | E23: =ROUND((E21*1.08*30),2) -> 583.2 | F23: 2.4 | G23: =TRUNC((F23*1.2423),2) -> 2.98 | H23: =TRUNC((E23*G23),2) -> 1737.93
A24: 3.8 | B24: 100948 | C24: TRANSPORTE COM CAMINHÃO CARROCERIA 9T, EM VIA URBANA PAVIMENTADA, ADICIONAL PARA DMT EXCEDENTE A 30 KM (UNIDADE: TXKM). AF_07/2020 - DMT 5KM | D24: t.Km | E24: =ROUND((E21*1.08*5),2) -> 97.2 | F24: 0.95 | G24: =TRUNC((F24*1.2423),2) -> 1.18 | H24: =TRUNC((E24*G24),2) -> 114.69
A25: 3.9 | B25: 100946 | C25: TRANSPORTE COM CAMINHÃO CARROCERIA 9T, EM VIA URBANA EM REVESTIMENTO PRIMÁRIO (UNIDADE: TXKM). AF_07/2020 - DMT 9KM - REAPROVEITAMENTO | D25: t.Km | E25: =ROUND((E22*1.08*9),2) -> 77.76 | F25: 2.6 | G25: =TRUNC((F25*1.2423),2) -> 3.22 | H25: =TRUNC((E25*G25),2) -> 250.38
A26: 3.10 | B26: 102744 | C26: BOCA PARA BUEIRO DUPLO TUBULAR D = 100 CM EM CONCRETO, ALAS COM ESCONSIDADE DE 0°, INCLUINDO FÔRMAS E MATERIAIS. AF_07/2021 | D26: Unid. | E26: 2 | F26: 7113.94 | G26: =TRUNC((F26*1.2423),2) -> 8837.64 | H26: =TRUNC((E26*G26),2) -> 17675.28
A27: TOTAL DO ITEM 3: | H27: =SUM(H17:H26) -> 38091.37
A28: 4 | B28: SERVIÇOS COMPLEMENTARES
A29: 4.1 | B29: CP 3 | C29: DESMOBILIZAÇÃO DE EQUIPAMENTOS | D29: t.Km | E29: =E8 -> 1050 | F29: =COMPOSIÇÕES!F20 -> 1.86 | G29: =TRUNC((F29*1.2423),2) -> 2.31 | H29: =TRUNC((E29*G29),2) -> 2425.5
A30: 4.2 | B30: 88908 | C30: ESCAVADEIRA HIDRÁULICA SOBRE ESTEIRAS, CAÇAMBA 1,20 M3, PESO OPERACIONAL 21 T, POTÊNCIA BRUTA 155 HP - CHI DIURNO. AF_06/2014 | D30: CHI | E30: 30 | F30: 112.37 | G30: =TRUNC((F30*1.2423),2) -> 139.59 | H30: =TRUNC((E30*G30),2) -> 4187.7
A31: 4.3 | B31: 88907 | C31: ESCAVADEIRA HIDRÁULICA SOBRE ESTEIRAS, CAÇAMBA 1,20 M3, PESO OPERACIONAL 21 T, POTÊNCIA BRUTA 155 HP - CHP DIURNO. AF_06/2014 | D31: CHP | E31: 60 | F31: 275.03 | G31: =TRUNC((F31*1.2423),2) -> 341.66 | H31: =TRUNC((E31*G31),2) -> 20499.6
A32: TOTAL DO ITEM 4: | H32: =SUM(H29:H31) -> 27112.8
A33: VALOR TOTAL OBRA: | H33: =H10+H15+H27+H32 -> 87422.56
C35: Bom Retiro do Sul, 12 de novembro de 2025
E38: Eng. Civil Giovana Mulinari

Sheet 8. Barra 2
A1: PREFEITURA MUNICIPAL DE BOM RETIRO DO SUL/RS
A2: OBRA: | C2: Drenagem Pluvial e aterro de pista | D2: LOCAL: | E2: Barra do Silva Jorge
A3: TRECHO: | C3: Localidade da Barra do Silva Jorge – drenagem 02 | D3: REFERÊNCIA: | E3: SINAPI (Não Desonerada) - 09/2025 / SICRO 07/2025
A4: ORÇAMENTO
A5: ITEM | B5: CÓDIGO SINAPI | C5: DESCRIÇÃO | D5: UNIDADE | E5: QUANTIDADE | F5: VALOR UNITÁRIO | G5: VALOR COM BDI (24,23%) | H5: VALOR TOTAL
A6: 1 | B6: SERVIÇOS PRELIMINARES
A7: 1.1 | B7: 103689 | C7: FORNECIMENTO E INSTALAÇÃO DE PLACA DE OBRA COM CHAPA GALVANIZADA E ESTRUTURA DE MADEIRA. AF_03/2022_PS | D7: m² | E7: 2.88 | F7: 462.39 | G7: =TRUNC((F7*1.2423),2) -> 574.42 | H7: =TRUNC((E7*G7),2) -> 1654.32
A8: 1.2 | B8: CP 1 | C8: MOBILIZAÇÃO DE EQUIPAMENTOS | D8: t.Km | E8: =ROUND((30*34),2) -> 1020 | F8: =COMPOSIÇÕES!F5 -> 1.86 | G8: =TRUNC((F8*1.2423),2) -> 2.31 | H8: =TRUNC((E8*G8),2) -> 2356.2
A9: 1.3 | B9: CP 2 | C9: ADMINISTRAÇÃO DE OBRA - EQUIPE | D9: Mês | E9: 1 | F9: =COMPOSIÇÕES!F14 -> 14600.8 | G9: =TRUNC((F9*1.2423),2) -> 18138.57 | H9: =TRUNC((E9*G9),2) -> 18138.57
A10: TOTAL DO ITEM 1: | H10: =SUM(H7:H9) -> 22149.09
A11: 2 | B11: TERRAPLANAGEM
A12: 2.1 | B12: 100978 | C12: CARGA, MANOBRA E DESCARGA DE SOLOS E MATERIAIS GRANULARES EM CAMINHÃO BASCULANTE 10 M³ - CARGA COM ESCAVADEIRA HIDRÁULICA (CAÇAMBA DE 1,20 M³ / 155 HP) E DESCARGA LIVRE (UNIDADE: M3). AF_07/2020 | D12: m³ | E12: =ROUND((63.36*6),2) -> 380.16 | F12: 7.62 | G12: =TRUNC((F12*1.2423),2) -> 9.46 | H12: =TRUNC((E12*G12),2) -> 3596.31
A13: 2.2 | B13: 93589 | C13: TRANSPORTE COM CAMINHÃO BASCULANTE DE 10 M³, EM VIA URBANA EM REVESTIMENTO PRIMÁRIO (UNIDADE: M3XKM). AF_07/2020 - DMT 2KM | D13: m³.Km | E13: =ROUND((E12*1.25*2),2) -> 950.4 | F13: 2.9 | G13: =TRUNC((F13*1.2423),2) -> 3.6 | H13: =TRUNC((E13*G13),2) -> 3421.44
A14: 2.3 | B14: CP 4 | C14: CONSTRUÇÃO DE BASE E SUB-BASE PARA PAVIMENTAÇÃO DE RACHÃO, COM ESPESSURA DE 30 CM - EXCLUSIVE CARGA E TRANSPORTE. AF_09/2024 | D14: m³ | E14: =E12 -> 380.16 | F14: 20.82 | G14: =TRUNC((F14*1.2423),2) -> 25.86 | H14: =TRUNC((E14*G14),2) -> 9830.93
A15: TOTAL DO ITEM 2: | H15: =SUM(H12:H14) -> 16848.68
A16: 3 | B16: DRENAGEM PLUVIAL
A17: 3.1 | B17: 102281 | C17: ESCAVAÇÃO MECANIZADA DE VALA COM PROF. MAIOR QUE 1,5 M ATÉ 3,0 M (MÉDIA MONTANTE E JUSANTE/UMA COMPOSIÇÃO POR TRECHO),COM ESCAVADEIRA (1,2 M3),LARG. DE 1,5 M A 2,5 M, EM SOLO DE 1A CATEGORIA, LOCAIS COM BAIXO NÍVEL DE INTERFERÊNCIA. AF_02/2021 | D17: m³ | E17: =ROUND((2.8*3*E21),2) -> 84 | F17: 6.19 | G17: =TRUNC((F17*1.2423),2) -> 7.68 | H17: =TRUNC((E17*G17),2) -> 645.12
A18: 3.2 | B18: 93368 | C18: REATERRO MECANIZADO DE VALA COM ESCAVADEIRA HIDRÁULICA (CAPACIDADE DA CAÇAMBA: 0,8 M³/POTÊNCIA: 111 HP), LARGURA ATÉ 1,5 M, PROFUNDIDADE DE 1,5 A 3,0 M, COM SOLO (SEM SUBSTITUIÇÃO) DE 1ª CATEGORIA, COM COMPACTADOR DE SOLOS DE PERCUSSÃO. AF_08/2023 | D18: m³ | E18: =ROUND((E17-(E21*2.54)),2) -> 58.6 | F18: 23.89 | G18: =TRUNC((F18*1.2423),2) -> 29.67 | H18: =TRUNC((E18*G18),2) -> 1738.66
A19: 3.3 | B19: 101623 | C19: PREPARO DE FUNDO DE VALA COM LARGURA MENOR QUE 1,5 M, COM CAMADA DE BRITA, LANÇAMENTO MECANIZADO. AF_08/2020 | D19: m³ | E19: =ROUND((E21*1*0.1),2) -> 1 | F19: 253.05 | G19: =TRUNC((F19*1.2423),2) -> 314.36 | H19: =TRUNC((E19*G19),2) -> 314.36
A20: 3.4 | B20: 93589 | C20: TRANSPORTE COM CAMINHÃO BASCULANTE DE 10 M³, EM VIA URBANA EM REVESTIMENTO PRIMÁRIO (UNIDADE: M3XKM). AF_07/2020 - DMT 24,5KM | D20: m³.Km | E20: =ROUND((E19*24.5),2) -> 24.5 | F20: 2.9 | G20: =TRUNC((F20*1.2423),2) -> 3.6 | H20: =TRUNC((E20*G20),2) -> 88.2
A21: 3.5 | B21: 92818 | C21: TUBO DE CONCRETO PARA REDES COLETORAS DE ÁGUAS PLUVIAIS, DIÂMETRO DE 1500 MM, JUNTA RÍGIDA, INSTALADO EM LOCAL COM BAIXO NÍVEL DE INTERFERÊNCIAS - FORNECIMENTO E ASSENTAMENTO. AF_03/2024 | D21: m | E21: 10 | F21: 1282.89 | G21: =TRUNC((F21*1.2423),2) -> 1593.73 | H21: =TRUNC((E21*G21),2) -> 15937.3
A22: 3.6 | B22: 100947 | C22: TRANSPORTE COM CAMINHÃO CARROCERIA 9T, EM VIA URBANA PAVIMENTADA, DMT ATÉ 30KM (UNIDADE: TXKM). AF_07/2020 - DMT 30KM | D22: t.Km | E22: =ROUND((E21*2.1*30),2) -> 630 | F22: 2.4 | G22: =TRUNC((F22*1.2423),2) -> 2.98 | H22: =TRUNC((E22*G22),2) -> 1877.4
A23: 3.7 | B23: 100948 | C23: TRANSPORTE COM CAMINHÃO CARROCERIA 9T, EM VIA URBANA PAVIMENTADA, ADICIONAL PARA DMT EXCEDENTE A 30 KM (UNIDADE: TXKM). AF_07/2020 - DMT 4KM | D23: t.Km | E23: =ROUND((E21*2.1*4),2) -> 84 | F23: 0.95 | G23: =TRUNC((F23*1.2423),2) -> 1.18 | H23: =TRUNC((E23*G23),2) -> 99.12
A24: 3.8 | B24: 102742 | C24: BOCA PARA BUEIRO SIMPLES TUBULAR D = 150 CM EM CONCRETO, ALAS COM ESCONSIDADE DE 0°, INCLUINDO FÔRMAS E MATERIAIS. AF_07/2021 | D24: Unid. | E24: 2 | F24: 14218.78 | G24: =TRUNC((F24*1.2423),2) -> 17663.99 | H24: =TRUNC((E24*G24),2) -> 35327.98
A25: TOTAL DO ITEM 3: | H25: =SUM(H17:H24) -> 56028.14
A26: 4 | B26: SERVIÇOS COMPLEMENTARES
A27: 4.1 | B27: CP 3 | C27: DESMOBILIZAÇÃO DE EQUIPAMENTOS | D27: t.Km | E27: =E8 -> 1020 | F27: =COMPOSIÇÕES!F20 -> 1.86 | G27: =TRUNC((F27*1.2423),2) -> 2.31 | H27: =TRUNC((E27*G27),2) -> 2356.2
A28: 4.2 | B28: 88908 | C28: ESCAVADEIRA HIDRÁULICA SOBRE ESTEIRAS, CAÇAMBA 1,20 M3, PESO OPERACIONAL 21 T, POTÊNCIA BRUTA 155 HP - CHI DIURNO. AF_06/2014 | D28: CHI | E28: 30 | F28: 112.37 | G28: =TRUNC((F28*1.2423),2) -> 139.59 | H28: =TRUNC((E28*G28),2) -> 4187.7
A29: 4.3 | B29: 88907 | C29: ESCAVADEIRA HIDRÁULICA SOBRE ESTEIRAS, CAÇAMBA 1,20 M3, PESO OPERACIONAL 21 T, POTÊNCIA BRUTA 155 HP - CHP DIURNO. AF_06/2014 | D29: CHP | E29: 60 | F29: 275.03 | G29: =TRUNC((F29*1.2423),2) -> 341.66 | H29: =TRUNC((E29*G29),2) -> 20499.6
A30: TOTAL DO ITEM 4: | H30: =SUM(H27:H29) -> 27043.5
A31: VALOR TOTAL OBRA: | H31: =H10+H15+H25+H30 -> 122069.41
C34: Bom Retiro do Sul, 12 de novembro de 2025
E37: Eng. Civil Giovana Mulinari

Sheet 9. DAER
A1: PREFEITURA MUNICIPAL DE BOM RETIRO DO SUL/RS
A2: OBRA: | C2: Drenagem Pluvial e aterro de pista | D2: LOCAL: | E2: Rua Reinaldo Kollet
A3: TRECHO: | C3: Tavessa sobre arroio Curtume | D3: REFERÊNCIA: | E3: SINAPI (Não Desonerada) - 09/2025 / SICRO 07/2025
A4: ORÇAMENTO
A5: ITEM | B5: CÓDIGO SINAPI | C5: DESCRIÇÃO | D5: UNIDADE | E5: QUANTIDADE | F5: VALOR UNITÁRIO | G5: VALOR COM BDI (24,23%) | H5: VALOR TOTAL
A6: 1 | B6: SERVIÇOS PRELIMINARES
A7: 1.1 | B7: 103689 | C7: FORNECIMENTO E INSTALAÇÃO DE PLACA DE OBRA COM CHAPA GALVANIZADA E ESTRUTURA DE MADEIRA. AF_03/2022_PS | D7: m² | E7: 2.88 | F7: 462.39 | G7: =TRUNC((F7*1.2423),2) -> 574.42 | H7: =TRUNC((E7*G7),2) -> 1654.32
A8: 1.2 | B8: CP 1 | C8: MOBILIZAÇÃO DE EQUIPAMENTOS | D8: t.Km | E8: =ROUND((30*26),2) -> 780 | F8: =COMPOSIÇÕES!F5 -> 1.86 | G8: =TRUNC((F8*1.2423),2) -> 2.31 | H8: =TRUNC((E8*G8),2) -> 1801.8
A9: 1.3 | B9: CP 2 | C9: ADMINISTRAÇÃO DE OBRA - EQUIPE | D9: Mês | E9: 1 | F9: =COMPOSIÇÕES!F14 -> 14600.8 | G9: =TRUNC((F9*1.2423),2) -> 18138.57 | H9: =TRUNC((E9*G9),2) -> 18138.57
A10: TOTAL DO ITEM 1: | H10: =SUM(H7:H9) -> 21594.69
A11: 2 | B11: TERRAPLANAGEM
A12: 2.1 | B12: 100978 | C12: CARGA, MANOBRA E DESCARGA DE SOLOS E MATERIAIS GRANULARES EM CAMINHÃO BASCULANTE 10 M³ - CARGA COM ESCAVADEIRA HIDRÁULICA (CAÇAMBA DE 1,20 M³ / 155 HP) E DESCARGA LIVRE (UNIDADE: M3). AF_07/2020 | D12: m³ | E12: =ROUND((40.01*6),2) -> 240.06 | F12: 7.62 | G12: =TRUNC((F12*1.2423),2) -> 9.46 | H12: =TRUNC((E12*G12),2) -> 2270.96
A13: 2.2 | B13: 93589 | C13: TRANSPORTE COM CAMINHÃO BASCULANTE DE 10 M³, EM VIA URBANA EM REVESTIMENTO PRIMÁRIO (UNIDADE: M3XKM). AF_07/2020 - DMT 7,5KM | D13: m³.Km | E13: =ROUND((E12*1.25*7.5),2) -> 2250.56 | F13: 2.9 | G13: =TRUNC((F13*1.2423),2) -> 3.6 | H13: =TRUNC((E13*G13),2) -> 8102.01
A14: 2.3 | B14: CP 4 | C14: CONSTRUÇÃO DE BASE E SUB-BASE PARA PAVIMENTAÇÃO DE RACHÃO, COM ESPESSURA DE 30 CM - EXCLUSIVE CARGA E TRANSPORTE. AF_09/2024 | D14: m³ | E14: =E12 -> 240.06 | F14: 20.82 | G14: =TRUNC((F14*1.2423),2) -> 25.86 | H14: =TRUNC((E14*G14),2) -> 6207.95
A15: TOTAL DO ITEM 2: | H15: =SUM(H12:H14) -> 16580.92
A16: 3 | B16: DRENAGEM PLUVIAL
A17: 3.1 | B17: 102281 | C17: ESCAVAÇÃO MECANIZADA DE VALA COM PROF. MAIOR QUE 1,5 M ATÉ 3,0 M (MÉDIA MONTANTE E JUSANTE/UMA COMPOSIÇÃO POR TRECHO),COM ESCAVADEIRA (1,2 M3),LARG. DE 1,5 M A 2,5 M, EM SOLO DE 1A CATEGORIA, LOCAIS COM BAIXO NÍVEL DE INTERFERÊNCIA. AF_02/2021 | D17: m³ | E17: =ROUND((10*2*2),2) -> 40 | F17: 6.19 | G17: =TRUNC((F17*1.2423),2) -> 7.68 | H17: =TRUNC((E17*G17),2) -> 307.2
A18: 3.2 | B18: 93368 | C18: REATERRO MECANIZADO DE VALA COM ESCAVADEIRA HIDRÁULICA (CAPACIDADE DA CAÇAMBA: 0,8 M³/POTÊNCIA: 111 HP), LARGURA ATÉ 1,5 M, PROFUNDIDADE DE 1,5 A 3,0 M, COM SOLO (SEM SUBSTITUIÇÃO) DE 1ª CATEGORIA, COM COMPACTADOR DE SOLOS DE PERCUSSÃO. AF_08/2023 | D18: m³ | E18: 0 | F18: 23.89 | G18: =TRUNC((F18*1.2423),2) -> 29.67 | H18: =TRUNC((E18*G18),2) -> 0
A19: 3.3 | B19: 97103 | C19: EXECUÇÃO DE RADIER, ESPESSURA DE 20 CM, FCK = 30 MPA, COM USO DE FORMAS EM MADEIRA SERRADA. AF_09/2021 | D19: m² | E19: =ROUND((10*2.5),2) -> 25 | F19: 274.74 | G19: =TRUNC((F19*1.2423),2) -> 341.3 | H19: =TRUNC((E19*G19),2) -> 8532.5
A20: 3.4 | B20: 104492 | C20: ADUELA/ GALERIA FECHADA PRE-MOLDADA DE CONCRETO ARMADO, SECAO QUADRANGULAR INTERNA DE 2,00 X 2,00 M (L X A), MISULA DE 20 X 20 CM, C = 1,00 M, ESPESSURA MIN = 15 CM, TB-45 E FCK DO CONCRETO = 30 MPA FORNECIMENTO E ASSENTAMENTO. AF_01/2023 | D20: m | E20: 10 | F20: 5483.5 | G20: =TRUNC((F20*1.2423),2) -> 6812.15 | H20: =TRUNC((E20*G20),2) -> 68121.5
A21: 3.5 | B21: 100947 | C21: TRANSPORTE COM CAMINHÃO CARROCERIA 9T, EM VIA URBANA PAVIMENTADA, DMT ATÉ 30KM (UNIDADE: TXKM). AF_07/2020 - DMT 30KM | D21: t.Km | E21: =ROUND((E20*3.3*30),2) -> 990 | F21: 2.4 | G21: =TRUNC((F21*1.2423),2) -> 2.98 | H21: =TRUNC((E21*G21),2) -> 2950.2
