Workbook

Sheet Orçamento Sintético
D1: Obra | E1: Bancos | I1: B.D.I. | L1: Encargos Sociais
D2: REVITALIZAÇÃO PRÉDIO DA POLAR | E2: SINAPI - 03/2026 - Rio Grande do Sul | I2: 25,0% - COMPOSIÇÕES - MAT + M.O. (EM VERDE) 15,0% - INSUMOS - SOMENTE MAT. (EM AMARELO) | L2: Desonerado: Horista: 0,00% Mensalista: 46,32%
A3: Planilha Orçamentária Sintética Com Valor do Material e da Mão de Obra
A4: Item | B4: Código | C4: Banco | D4: Descrição | E4: Und | F4: Quant. | G4: Valor Unit | H4: BDI | I4: Valor Unit com BDI | L4: Total | O4: Peso (%) | Q4: 9406.96
I5: M. O. | J5: MAT. | K5: Total | L5: M. O. | M5: MAT. | N5: Total | Q5: =58000-Q4 -> 48593.04
A6: 1.1 | D6: PROJETOS DOS ITENS PARAMÉTRICOS - ETAPA 1 | N6: =SUM(N7:N11) -> 130592 | O6: =N6/$N$176 -> 0.0074982763 | Q6: TRUNC TOTAL | S6: TRUNC BDI | U6: MAT + MO | W6: MAT + MO
A7: 1.1.1 | B7: 90778 | C7: SINAPI | D7: ENGENHEIRO CIVIL - PROJETO ESTRUTURAL | E7: H | F7: 220 | G7: 135.68 | H7: 0.25 | I7: 164.19 | J7: 5.41 | K7: 169.6 | L7: =TRUNC(F7*I7,2) -> 36121.8 | M7: =N7-L7 -> 1190.2 | N7: =TRUNC(K7*F7,2) -> 37312 | O7: =N7/$N$176 -> 0.0021423647 | Q7: =TRUNC(K7*F7,2) -> 37312 | R7: =Q7=N7 -> TRUE | S7: =TRUNC(G7*1.25,2) -> 169.6 | T7: =S7=K7 -> TRUE | U7: =L7+M7 -> 37312 | V7: =U7=N7 -> TRUE | W7: =I7+J7 -> 169.6 | X7: =W7=K7 -> TRUE
A8: 1.1.2 | B8: 90778 | C8: SINAPI | D8: ENGENHEIRO ELETRICISTA - PROJETO INSTALAÇÕES ELÉTRICAS E SPDA | E8: H | F8: 160 | G8: 135.68 | H8: 0.25 | I8: 164.19 | J8: 5.41 | K8: 169.6 | L8: =TRUNC(F8*I8,2) -> 26270.4 | M8: =N8-L8 -> 865.6 | N8: =TRUNC(K8*F8,2) -> 27136 | O8: =N8/$N$176 -> 0.0015580834 | Q8: =TRUNC(K8*F8,2) -> 27136 | R8: =Q8=N8 -> TRUE | S8: =TRUNC(G8*1.25,2) -> 169.6 | T8: =S8=K8 -> TRUE | U8: =L8+M8 -> 27136 | V8: =U8=N8 -> TRUE | W8: =I8+J8 -> 169.6 | X8: =W8=K8 -> TRUE
A9: 1.1.3 | B9: 90778 | C9: SINAPI | D9: ENGENHEIRO CIVIL - PROJETO HIDROSSANITÁRIO | E9: H | F9: 160 | G9: 135.68 | H9: 0.25 | I9: 164.19 | J9: 5.41 | K9: 169.6 | L9: =TRUNC(F9*I9,2) -> 26270.4 | M9: =N9-L9 -> 865.6 | N9: =TRUNC(K9*F9,2) -> 27136 | O9: =N9/$N$176 -> 0.0015580834 | Q9: =TRUNC(K9*F9,2) -> 27136 | R9: =Q9=N9 -> TRUE | S9: =TRUNC(G9*1.25,2) -> 169.6 | T9: =S9=K9 -> TRUE | U9: =L9+M9 -> 27136 | V9: =U9=N9 -> TRUE | W9: =I9+J9 -> 169.6 | X9: =W9=K9 -> TRUE
A10: 1.1.4 | B10: 90778 | C10: SINAPI | D10: ENGENHEIRO CIVIL - PROJETO PPCI | E10: H | F10: 100 | G10: 135.68 | H10: 0.25 | I10: 164.19 | J10: 5.41 | K10: 169.6 | L10: =TRUNC(F10*I10,2) -> 16419 | M10: =N10-L10 -> 541 | N10: =TRUNC(K10*F10,2) -> 16960 | O10: =N10/$N$176 -> 0.00097380212 | Q10: =TRUNC(K10*F10,2) -> 16960 | R10: =Q10=N10 -> TRUE | S10: =TRUNC(G10*1.25,2) -> 169.6 | T10: =S10=K10 -> TRUE | U10: =L10+M10 -> 16960 | V10: =U10=N10 -> TRUE | W10: =I10+J10 -> 169.6 | X10: =W10=K10 -> TRUE
A11: 1.1.5 | B11: 90778 | C11: SINAPI | D11: ENGENHEIRO CIVIL - PROJETO DE REFORÇO E RECUPERAÇÃO ESTRUTURAL + LAUDO DE ESTABILIDADE | E11: H | F11: 130 | G11: 135.68 | H11: 0.25 | I11: 164.19 | J11: 5.41 | K11: 169.6 | L11: =TRUNC(F11*I11,2) -> 21344.7 | M11: =N11-L11 -> 703.3 | N11: =TRUNC(K11*F11,2) -> 22048 | O11: =N11/$N$176 -> 0.0012659428 | Q11: =TRUNC(K11*F11,2) -> 22048 | R11: =Q11=N11 -> TRUE | S11: =TRUNC(G11*1.25,2) -> 169.6 | T11: =S11=K11 -> TRUE | U11: =L11+M11 -> 22048 | V11: =U11=N11 -> TRUE | W11: =I11+J11 -> 169.6 | X11: =W11=K11 -> TRUE
A12: 2 | D12: ETAPA 1 | N12: =N13+N22+N32+N56+N62+N73+N78+N82+N90+N104+N108+N114+N121+N135+N137+N153+N156+N161+N163+N165+N167+N169+N171+N173 -> 17285677 | O12: =N12/$N$176 -> 0.99250172
A13: 2.1 | D13: SERVIÇOS PRELIMINARES | N13: =SUM(N14:N21) -> 250656.9 | O13: =N13/$N$176 -> 0.014392112
A14: 2.1.1 | B14: 103689 | C14: SINAPI | D14: FORNECIMENTO E INSTALAÇÃO DE PLACA DE OBRA COM CHAPA GALVANIZADA E ESTRUTURA DE MADEIRA. AF_03/2022_PS | E14: m² | F14: 6 | G14: 493.03 | H14: 0.25 | I14: 39.55 | J14: 576.73 | K14: 616.28 | L14: 237.3 | M14: 3460.38 | N14: 3697.68 | O14: =N14/$N$176 -> 0.00021231183 | Q14: =TRUNC(K14*F14,2) -> 3697.68 | R14: =Q14=N14 -> TRUE | S14: =TRUNC(G14*1.25,2) -> 616.28 | T14: =S14=K14 -> TRUE | U14: =L14+M14 -> 3697.68 | V14: =U14=N14 -> TRUE | W14: =I14+J14 -> 616.28 | X14: =W14=K14 -> TRUE
A15: 2.1.2 | B15: 97063 | C15: SINAPI | D15: MONTAGEM E DESMONTAGEM DE ANDAIME MODULAR FACHADEIRO, COM PISO METÁLICO, PARA EDIFÍCIOS COM MULTIPLOS PAVIMENTOS (EXCLUSIVE ANDAIME E LIMPEZA). AF_03/2024 | E15: m² | F15: 2425 | G15: 21.08 | H15: 0.25 | I15: 20.88 | J15: 5.47 | K15: 26.35 | L15: 50634 | M15: 13264.75 | N15: 63898.75 | O15: =N15/$N$176 -> 0.0036689115 | Q15: =TRUNC(K15*F15,2) -> 63898.75 | R15: =Q15=N15 -> TRUE | S15: =TRUNC(G15*1.25,2) -> 26.35 | T15: =S15=K15 -> TRUE | U15: =L15+M15 -> 63898.75 | V15: =U15=N15 -> TRUE | W15: =I15+J15 -> 26.35 | X15: =W15=K15 -> TRUE
A16: 2.1.3 | B16: 98459 | C16: SINAPI | D16: TAPUME COM TELHA METÁLICA. AF_03/2024 | E16: m² | F16: 270 | G16: 79.7 | H16: 0.25 | I16: 32.7 | J16: 66.92 | K16: 99.62 | L16: 8829 | M16: 18068.4 | N16: 26897.4 | O16: =N16/$N$176 -> 0.0015443836 | Q16: =TRUNC(K16*F16,2) -> 26897.4 | R16: =Q16=N16 -> TRUE | S16: =TRUNC(G16*1.25,2) -> 99.62 | T16: =S16=K16 -> TRUE | U16: =L16+M16 -> 26897.4 | V16: =U16=N16 -> TRUE | W16: =I16+J16 -> 99.62 | X16: =W16=K16 -> TRUE
A17: 2.1.4 | B17: 97061 | C17: SINAPI | D17: COLOCAÇÃO DE TELA FACHADEIRA PERIMETRAL. AF_03/2024 | E17: m² | F17: 2425 | G17: 6.83 | H17: 0.25 | I17: 1.26 | J17: 7.27 | K17: 8.53 | L17: 3055.5 | M17: 17629.75 | N17: 20685.25 | O17: =N17/$N$176 -> 0.001187697 | Q17: =TRUNC(K17*F17,2) -> 20685.25 | R17: =Q17=N17 -> TRUE | S17: =TRUNC(G17*1.25,2) -> 8.53 | T17: =S17=K17 -> TRUE | U17: =L17+M17 -> 20685.25 | V17: =U17=N17 -> TRUE | W17: =I17+J17 -> 8.53 | X17: =W17=K17 -> TRUE
A18: 2.1.5 | B18: 102903 | C18: SINAPI | D18: TORRE, COMPOSTA POR GUINCHO MECÂNICO, GUINCHO MANUAL, CABOS DE AÇO, PITEIRA E SOQUETE - MATERIAIS NA OPERAÇÃO. AF_05/2023 | E18: H | F18: 1400 | G18: 14.05 | H18: 0.25 | I18: 0 | J18: 17.56 | K18: 17.56 | L18: 0 | M18: 24584 | N18: 24584 | O18: =N18/$N$176 -> 0.0014115537 | Q18: =TRUNC(K18*F18,2) -> 24584 | R18: =Q18=N18 -> TRUE | S18: =TRUNC(G18*1.25,2) -> 17.56 | T18: =S18=K18 -> TRUE | U18: =L18+M18 -> 24584 | V18: =U18=N18 -> TRUE | W18: =I18+J18 -> 17.56 | X18: =W18=K18 -> TRUE
A19: 2.1.6 | B19: 97031 | C19: SINAPI | D19: GUARDA-CORPO EM LAJE PÓS-DESFÔRMA COM ESCORAS DE MADEIRA ESTRONCADAS NA ESTRUTURA, TRAVESSÕES DE MADEIRA E FECHAMENTO EM TELA DE POLIPROPILENO PARA EDIFÍCIOS COM ATÉ 4 PAVIMENTOS (1 MONTAGEM). AF_03/2024 | E19: M | F19: 860 | G19: 89.77 | H19: 0.25 | I19: 16.94 | J19: 95.27 | K19: 112.21 | L19: 14568.4 | M19: 81932.2 | N19: 96500.6 | O19: =N19/$N$176 -> 0.0055408307 | Q19: =TRUNC(K19*F19,2) -> 96500.6 | R19: =Q19=N19 -> TRUE | S19: =TRUNC(G19*1.25,2) -> 112.21 | T19: =S19=K19 -> TRUE | U19: =L19+M19 -> 96500.6 | V19: =U19=N19 -> TRUE | W19: =I19+J19 -> 112.21 | X19: =W19=K19 -> TRUE
A20: 2.1.7 | B20: 97042 | C20: SINAPI | D20: LINHA DE VIDA INSTALADA JUNTO AO PISO PARA EDIFÍCIOS DE ATÉ 4 PAVIMENTOS. AF_03/2024 | E20: M | F20: 400 | G20: 19.88 | H20: 0.25 | I20: 1 | J20: 23.85 | K20: 24.85 | L20: 400 | M20: 9540 | N20: 9940 | O20: =N20/$N$176 -> 0.00057073073 | Q20: =TRUNC(K20*F20,2) -> 9940 | R20: =Q20=N20 -> TRUE | S20: =TRUNC(G20*1.25,2) -> 24.85 | T20: =S20=K20 -> TRUE | U20: =L20+M20 -> 9940 | V20: =U20=N20 -> TRUE | W20: =I20+J20 -> 24.85 | X20: =W20=K20 -> TRUE
A21: 2.1.8 | B21: 98525 | C21: SINAPI | D21: LIMPEZA MECANIZADA DE CAMADA VEGETAL, VEGETAÇÃO E PEQUENAS ÁRVORES (DIÂMETRO DE TRONCO MENOR QUE 0,20 M), COM TRATOR DE ESTEIRAS. AF_03/2024 | E21: m² | F21: 5118.65 | G21: 0.7 | H21: 0.25 | I21: 0.26 | J21: 0.61 | K21: 0.87 | L21: 1330.85 | M21: 3122.37 | N21: 4453.22 | O21: =N21/$N$176 -> 0.00025569311 | Q21: =TRUNC(K21*F21,2) -> 4453.22 | R21: =Q21=N21 -> TRUE | S21: =TRUNC(G21*1.25,2) -> 0.87 | T21: =S21=K21 -> TRUE | U21: =L21+M21 -> 4453.22 | V21: =U21=N21 -> TRUE | W21: =I21+J21 -> 0.87 | X21: =W21=K21 -> TRUE
A22: 2.2 | D22: ADMINISTRAÇÃO E SERVIÇOS TÉCNICOS | N22: =SUM(N23:N31) -> 1086597.4 | O22: =N22/$N$176 -> 0.062389789
A23: 2.2.1 | B23: 90779 | C23: SINAPI | D23: ENGENHEIRO CIVIL DE OBRA SENIOR COM ENCARGOS COMPLEMENTARES | E23: H | F23: 1408 | G23: 148.9 | H23: 0.25 | I23: 180.72 | J23: 5.4 | K23: 186.12 | L23: 254453.76 | M23: 7603.2 | N23: 262056.96 | O23: =N23/$N$176 -> 0.015046676 | Q23: =TRUNC(K23*F23,2) -> 262056.96 | R23: =Q23=N23 -> TRUE | S23: =TRUNC(G23*1.25,2) -> 186.12 | T23: =S23=K23 -> TRUE | U23: =L23+M23 -> 262056.96 | V23: =U23=N23 -> TRUE | W23: =I23+J23 -> 186.12 | X23: =W23=K23 -> TRUE
A24: 2.2.2 | B24: 90778 | C24: SINAPI | D24: ENGENHEIRO CIVIL DE OBRA PLENO COM ENCARGOS COMPLEMENTARES | E24: H | F24: 1408 | G24: 135.68 | H24: 0.25 | I24: 164.19 | J24: 5.41 | K24: 169.6 | L24: 231179.52 | M24: 7617.28 | N24: 238796.8 | O24: =N24/$N$176 -> 0.013711134 | Q24: =TRUNC(K24*F24,2) -> 238796.8 | R24: =Q24=N24 -> TRUE | S24: =TRUNC(G24*1.25,2) -> 169.6 | T24: =S24=K24 -> TRUE | U24: =L24+M24 -> 238796.8 | V24: =U24=N24 -> TRUE | W24: =I24+J24 -> 169.6 | X24: =W24=K24 -> TRUE
A25: 2.2.3 | B25: 88255 | C25: SINAPI | D25: AUXILIAR TÉCNICO DE ENGENHARIA COM ENCARGOS COMPLEMENTARES | E25: H | F25: 1408 | G25: 38.65 | H25: 0.25 | I25: 41.63 | J25: 6.68 | K25: 48.31 | L25: 58615.04 | M25: 9405.44 | N25: 68020.48 | O25: =N25/$N$176 -> 0.0039055712 | Q25: =TRUNC(K25*F25,2) -> 68020.48 | R25: =Q25=N25 -> TRUE | S25: =TRUNC(G25*1.25,2) -> 48.31 | T25: =S25=K25 -> TRUE | U25: =L25+M25 -> 68020.48 | V25: =U25=N25 -> TRUE | W25: =I25+J25 -> 48.31 | X25: =W25=K25 -> TRUE
A26: 2.2.4 | B26: 90780 | C26: SINAPI | D26: MESTRE DE OBRAS COM ENCARGOS COMPLEMENTARES | E26: H | F26: 1408 | G26: 117.83 | H26: 0.25 | I26: 139.98 | J26: 7.3 | K26: 147.28 | L26: 197091.84 | M26: 10278.4 | N26: 207370.24 | O26: =N26/$N$176 -> 0.011906697 | Q26: =TRUNC(K26*F26,2) -> 207370.24 | R26: =Q26=N26 -> TRUE | S26: =TRUNC(G26*1.25,2) -> 147.28 | T26: =S26=K26 -> TRUE | U26: =L26+M26 -> 207370.24 | V26: =U26=N26 -> TRUE | W26: =I26+J26 -> 147.28 | X26: =W26=K26 -> TRUE
A27: 2.2.5 | B27: 90776 | C27: SINAPI | D27: ENCARREGADO GERAL COM ENCARGOS COMPLEMENTARES | E27: H | F27: 1408 | G27: 72.68 | H27: 0.25 | I27: 83.54 | J27: 7.31 | K27: 90.85 | L27: 117624.32 | M27: 10292.48 | N27: 127916.8 | O27: =N27/$N$176 -> 0.0073446728 | Q27: =TRUNC(K27*F27,2) -> 127916.8 | R27: =Q27=N27 -> TRUE | S27: =TRUNC(G27*1.25,2) -> 90.85 | T27: =S27=K27 -> TRUE | U27: =L27+M27 -> 127916.8 | V27: =U27=N27 -> TRUE | W27: =I27+J27 -> 90.85 | X27: =W27=K27 -> TRUE
A28: 2.2.6 | B28: 88243 | C28: SINAPI | D28: AJUDANTE ESPECIALIZADO COM ENCARGOS COMPLEMENTARES | E28: H | F28: 1408 | G28: 24.48 | H28: 0.25 | I28: 22.37 | J28: 8.23 | K28: 30.6 | L28: 31496.96 | M28: 11587.84 | N28: 43084.8 | O28: =N28/$N$176 -> 0.0024738249 | Q28: =TRUNC(K28*F28,2) -> 43084.8 | R28: =Q28=N28 -> TRUE | S28: =TRUNC(G28*1.25,2) -> 30.6 | T28: =S28=K28 -> TRUE | U28: =L28+M28 -> 43084.8 | V28: =U28=N28 -> TRUE | W28: =I28+J28 -> 30.6 | X28: =W28=K28 -> TRUE
A29: 2.2.7 | B29: 90766 | C29: SINAPI | D29: ALMOXARIFE COM ENCARGOS COMPLEMENTARES | E29: H | F29: 1408 | G29: 29.59 | H29: 0.25 | I29: 30.51 | J29: 6.47 | K29: 36.98 | L29: 42958.08 | M29: 9109.76 | N29: 52067.84 | O29: =N29/$N$176 -> 0.0029896093 | Q29: =TRUNC(K29*F29,2) -> 52067.84 | R29: =Q29=N29 -> TRUE | S29: =TRUNC(G29*1.25,2) -> 36.98 | T29: =S29=K29 -> TRUE | U29: =L29+M29 -> 52067.84 | V29: =U29=N29 -> TRUE | W29: =I29+J29 -> 36.98 | X29: =W29=K29 -> TRUE
A30: 2.2.8 | B30: 100309 | C30: SINAPI | D30: TÉCNICO EM SEGURANÇA DO TRABALHO COM ENCARGOS COMPLEMENTARES | E30: H | F30: 1408 | G30: 44.25 | H30: 0.25 | I30: 48.83 | J30: 6.48 | K30: 55.31 | L30: 68752.64 | M30: 9123.84 | N30: 77876.48 | O30: =N30/$N$176 -> 0.0044714789 | Q30: =TRUNC(K30*F30,2) -> 77876.48 | R30: =Q30=N30 -> TRUE | S30: =TRUNC(G30*1.25,2) -> 55.31 | T30: =S30=K30 -> TRUE | U30: =L30+M30 -> 77876.48 | V30: =U30=N30 -> TRUE | W30: =I30+J30 -> 55.31 | X30: =W30=K30 -> TRUE
A31: 2.2.9 | B31: COT 4 | C31: Próprio | D31: Seguro de Risco de Engenharia | E31: VB | M31: =N31 -> 9406.96 | N31: 9406.96 | O31: =N31/$N$176 -> 0.00054012486
A32: 2.3 | D32: DEMOLIÇÕES E REMOÇÕES | N32: =SUM(N33:N55) -> 443023.68 | O32: =N32/$N$176 -> 0.025437347
A33: 2.3.1 | B33: 97624 | C33: SINAPI | D33: DEMOLIÇÃO DE ALVENARIA DE TIJOLO MACIÇO, DE FORMA MANUAL, SEM REAPROVEITAMENTO. AF_09/2023 | E33: m³ | F33: 413.11 | G33: 115.65 | H33: 0.25 | I33: 105 | J33: 39.56 | K33: 144.56 | L33: 43376.55 | M33: 16342.63 | N33: 59719.18 | O33: =N33/$N$176 -> 0.0034289307 | Q33: =TRUNC(K33*F33,2) -> 59719.18 | R33: =Q33=N33 -> TRUE | S33: =TRUNC(G33*1.25,2) -> 144.56 | T33: =S33=K33 -> TRUE | U33: =L33+M33 -> 59719.18 | V33: =U33=N33 -> TRUE | W33: =I33+J33 -> 144.56 | X33: =W33=K33 -> TRUE
A34: 2.3.2 | B34: 97626 | C34: SINAPI | D34: DEMOLIÇÃO DE PILARES E VIGAS EM CONCRETO ARMADO, DE FORMA MANUAL, SEM REAPROVEITAMENTO. AF_09/2023 | E34: m³ | F34: 58 | G34: 618.18 | H34: 0.25 | I34: 561.35 | J34: 211.37 | K34: 772.72 | L34: 32558.3 | M34: 12259.46 | N34: 44817.76 | O34: =N34/$N$176 -> 0.0025733272 | Q34: =TRUNC(K34*F34,2) -> 44817.76 | R34: =Q34=N34 -> TRUE | S34: =TRUNC(G34*1.25,2) -> 772.72 | T34: =S34=K34 -> TRUE | U34: =L34+M34 -> 44817.76 | V34: =U34=N34 -> TRUE | W34: =I34+J34 -> 772.72 | X34: =W34=K34 -> TRUE
A35: 2.3.3 | B35: 97633 | C35: SINAPI | D35: DEMOLIÇÃO DE REVESTIMENTO CERÂMICO, DE FORMA MANUAL, SEM REAPROVEITAMENTO. AF_09/2023 | E35: m² | F35: 85.51 | G35: 24.61 | H35: 0.25 | I35: 22.46 | J35: 8.3 | K35: 30.76 | L35: 1920.55 | M35: 709.73 | N35: 2630.28 | O35: =N35/$N$176 -> 0.00015102431 | Q35: =TRUNC(K35*F35,2) -> 2630.28 | R35: =Q35=N35 -> TRUE | S35: =TRUNC(G35*1.25,2) -> 30.76 | T35: =S35=K35 -> TRUE | U35: =L35+M35 -> 2630.28 | V35: =U35=N35 -> TRUE | W35: =I35+J35 -> 30.76 | X35: =W35=K35 -> TRUE
A36: 2.3.4 | B36: 97629 | C36: SINAPI | D36: DEMOLIÇÃO DE LAJES, EM CONCRETO ARMADO, DE FORMA MECANIZADA COM MARTELETE, SEM REAPROVEITAMENTO. AF_09/2023 | E36: m³ | F36: 30 | G36: 105.1 | H36: 0.25 | I36: 98.87 | J36: 32.5 | K36: 131.37 | L36: 2966.1 | M36: 975 | N36: 3941.1 | O36: =N36/$N$176 -> 0.00022628842 | Q36: =TRUNC(K36*F36,2) -> 3941.1 | R36: =Q36=N36 -> TRUE | S36: =TRUNC(G36*1.25,2) -> 131.37 | T36: =S36=K36 -> TRUE | U36: =L36+M36 -> 3941.1 | V36: =U36=N36 -> TRUE | W36: =I36+J36 -> 131.37 | X36: =W36=K36 -> TRUE
A37: 2.3.5 | B37: 97631 | C37: SINAPI | D37: DEMOLIÇÃO DE ARGAMASSAS, DE FORMA MANUAL, SEM REAPROVEITAMENTO. AF_09/2023 | E37: m² | F37: 9338.67 | G37: 12.32 | H37: 0.25 | I37: 11.25 | J37: 4.15 | K37: 15.4 | L37: 105060.04 | M37: 38755.47 | N37: 143815.51 | O37: =N37/$N$176 -> 0.0082575383 | Q37: =TRUNC(K37*F37,2) -> 143815.51 | R37: =Q37=N37 -> TRUE | S37: =TRUNC(G37*1.25,2) -> 15.4 | T37: =S37=K37 -> TRUE | U37: =L37+M37 -> 143815.51 | V37: =U37=N37 -> TRUE | W37: =I37+J37 -> 15.4 | X37: =W37=K37 -> TRUE
A38: 2.3.6 | B38: 97647 | C38: SINAPI | D38: REMOÇÃO DE TELHAS DE FIBROCIMENTO METÁLICA E CERÂMICA, DE FORMA MANUAL, SEM REAPROVEITAMENTO. AF_09/2023 | E38: m² | F38: 1107.78 | G38: 3.81 | H38: 0.25 | I38: 3.48 | J38: 1.28 | K38: 4.76 | L38: 3855.07 | M38: 1417.96 | N38: 5273.03 | O38: =N38/$N$176 -> 0.00030276461 | Q38: =TRUNC(K38*F38,2) -> 5273.03 | R38: =Q38=N38 -> TRUE | S38: =TRUNC(G38*1.25,2) -> 4.76 | T38: =S38=K38 -> TRUE | U38: =L38+M38 -> 5273.03 | V38: =U38=N38 -> TRUE | W38: =I38+J38 -> 4.76 | X38: =W38=K38 -> TRUE
A39: 2.3.7 | B39: 97658 | C39: SINAPI | D39: REMOÇÃO DE TESOURAS METÁLICAS, COM VÃO MENOR QUE 8M, DE FORMA MECANIZADA, COM REAPROVEITAMENTO. AF_09/2023 | E39: UN | F39: 11 | G39: 238.22 | H39: 0.25 | I39: 95.76 | J39: 202.01 | K39: 297.77 | L39: 1053.36 | M39: 2222.11 | N39: 3275.47 | O39: =N39/$N$176 -> 0.00018806955 | Q39: =TRUNC(K39*F39,2) -> 3275.47 | R39: =Q39=N39 -> TRUE | S39: =TRUNC(G39*1.25,2) -> 297.77 | T39: =S39=K39 -> TRUE | U39: =L39+M39 -> 3275.47 | V39: =U39=N39 -> TRUE | W39: =I39+J39 -> 297.77 | X39: =W39=K39 -> TRUE
A40: 2.3.8 | B40: 97652 | C40: SINAPI | D40: REMOÇÃO DE TESOURAS DE MADEIRA, COM VÃO MAIOR OU IGUAL A 8M, DE FORMA MANUAL, SEM REAPROVEITAMENTO. AF_09/2023 | E40: UN | F40: 10 | G40: 203.18 | H40: 0.25 | I40: 186.58 | J40: 67.39 | K40: 253.97 | L40: 1865.8 | M40: 673.9 | N40: 2539.7 | O40: =N40/$N$176 -> 0.00014582342 | Q40: =TRUNC(K40*F40,2) -> 2539.7 | R40: =Q40=N40 -> TRUE | S40: =TRUNC(G40*1.25,2) -> 253.97 | T40: =S40=K40 -> TRUE | U40: =L40+M40 -> 2539.7 | V40: =U40=N40 -> TRUE | W40: =I40+J40 -> 253.97 | X40: =W40=K40 -> TRUE
A41: 2.3.9 | B41: 104803 | C41: SINAPI | D41: REMOÇÃO CALHAS E RUFOS, DE FORMA MANUAL, SEM REAPROVEITAMENTO. AF_09/2023 | E41: M | F41: 356 | G41: 4.85 | H41: 0.25 | I41: 4.5 | J41: 1.56 | K41: 6.06 | L41: 1602 | M41: 555.36 | N41: 2157.36 | O41: =N41/$N$176 -> 0.00012387039 | Q41: =TRUNC(K41*F41,2) -> 2157.36 | R41: =Q41=N41 -> TRUE | S41: =TRUNC(G41*1.25,2) -> 6.06 | T41: =S41=K41 -> TRUE | U41: =L41+M41 -> 2157.36 | V41: =U41=N41 -> TRUE | W41: =I41+J41 -> 6.06 | X41: =W41=K41 -> TRUE
A42: 2.3.10 | B42: 97663 | C42: SINAPI | D42: REMOÇÃO DE LOUÇAS, DE FORMA MANUAL, SEM REAPROVEITAMENTO. AF_09/2023 | E42: UN | F42: 25 | G42: 13.61 | H42: 0.25 | I42: 12.52 | J42: 4.49 | K42: 17.01 | L42: 313 | M42: 112.25 | N42: 425.25 | O42: =N42/$N$176 -> 2.4416825e-05 | Q42: =TRUNC(K42*F42,2) -> 425.25 | R42: =Q42=N42 -> TRUE | S42: =TRUNC(G42*1.25,2) -> 17.01 | T42: =S42=K42 -> TRUE | U42: =L42+M42 -> 425.25 | V42: =U42=N42 -> TRUE | W42: =I42+J42 -> 17.01 | X42: =W42=K42 -> TRUE
A43: 2.3.11 | B43: 97644 | C43: SINAPI | D43: REMOÇÃO DE PORTAS, DE FORMA MANUAL, SEM REAPROVEITAMENTO. AF_09/2023 | E43: m² | F43: 95.23 | G43: 10.27 | H43: 0.25 | I43: 9.39 | J43: 3.44 | K43: 12.83 | L43: 894.21 | M43: 327.59 | N43: 1221.8 | O43: =N43/$N$176 -> 7.0152797e-05 | Q43: =TRUNC(K43*F43,2) -> 1221.8 | R43: =Q43=N43 -> TRUE | S43: =TRUNC(G43*1.25,2) -> 12.83 | T43: =S43=K43 -> TRUE | U43: =L43+M43 -> 1221.8 | V43: =U43=N43 -> TRUE | W43: =I43+J43 -> 12.83 | X43: =W43=K43 -> TRUE
A44: 2.3.12 | B44: 97645 | C44: SINAPI | D44: REMOÇÃO DE JANELAS, DE FORMA MANUAL, SEM REAPROVEITAMENTO. AF_09/2023 | E44: m² | F44: 284 | G44: 26.52 | H44: 0.25 | I44: 24.28 | J44: 8.87 | K44: 33.15 | L44: 6895.52 | M44: 2519.08 | N44: 9414.6 | O44: =N44/$N$176 -> 0.00054056353 | Q44: =TRUNC(K44*F44,2) -> 9414.6 | R44: =Q44=N44 -> TRUE | S44: =TRUNC(G44*1.25,2) -> 33.15 | T44: =S44=K44 -> TRUE | U44: =L44+M44 -> 9414.6 | V44: =U44=N44 -> TRUE | W44: =I44+J44 -> 33.15 | X44: =W44=K44 -> TRUE
... A55: 2.3.23 | B55: 104791 | C55: SINAPI | D55: DEMOLIÇÃO DE ARGAMASSAS FORRO, DE FORMA DE FORMA MECANIZADA COM MARTELETE, SEM REAPROVEITAMENTO. AF_09/2023 | E55: m² | F55: 200 | G55: 7.29 | H55: 0.25 | I55: 6.8 | J55: 2.31 | K55: 9.11 | L55: 1360 | M55: 462 | N55: 1822 | O55: =N55/$N$176 -> 0.00010461483 | Q55: =TRUNC(K55*F55,2) -> 1822 | R55: =Q55=N55 -> TRUE | S55: =TRUNC(G55*1.25,2) -> 9.11 | T55: =S55=K55 -> TRUE | U55: =L55+M55 -> 1822 | V55: =U55=N55 -> TRUE | W55: =I55+J55 -> 9.11 | X55: =W55=K55 -> TRUE
A56: 2.4 | D56: INFRAESTRUTURA | N56: =SUM(N57:N61) -> 36527.39 | O56: =N56/$N$176 -> 0.0020973143
A57: 2.4.1 | B57: 102323 | C57: SINAPI | D57: ESCAVAÇÃO MECANIZADA DE VALA COM PROF. ATÉ 1,5 M (MÉDIA MONTANTE E JUSANTE/UMA COMPOSIÇÃO POR TRECHO), RETROESCAV. (0,26 M3), LARG. DE 0,8 M A 1,5 M, EM SOLO DE 2A CATEGORIA, EM LOCAIS COM ALTO NÍVEL DE INTERFERÊNCIA. AF_09/2024 | E57: m³ | F57: 61.4 | G57: 17.27 | H57: 0.25 | I57: 7.29 | J57: 14.29 | K57: 21.58 | L57: 447.61 | M57: 877.4 | N57: 1325.01 | O57: =N57/$N$176 -> 7.6078865e-05 | Q57: =TRUNC(K57*F57,2) -> 1325.01 | R57: =Q57=N57 -> TRUE | S57: =TRUNC(G57*1.25,2) -> 21.58 | T57: =S57=K57 -> TRUE | U57: =L57+M57 -> 1325.01 | V57: =U57=N57 -> TRUE | W57: =I57+J57 -> 21.58 | X57: =W57=K57 -> TRUE
A58: 2.4.2 | B58: 100974 | C58: SINAPI | D58: CARGA, MANOBRA E DESCARGA DE SOLOS E MATERIAIS GRANULARES EM CAMINHÃO BASCULANTE 10 M³ - CARGA COM PÁ CARREGADEIRA (CAÇAMBA DE 1,7 A 2,8 M³ / 128 HP) E DESCARGA LIVRE (UNIDADE: M3). AF_07/2020 | E58: m³ | F58: 61 | G58: 9.15 | H58: 0.25 | I58: 1.48 | J58: 9.95 | K58: 11.43 | L58: 90.28 | M58: 606.95 | N58: 697.23 | O58: =N58/$N$176 -> 4.0033258e-05 | Q58: =TRUNC(K58*F58,2) -> 697.23 | R58: =Q58=N58 -> TRUE | S58: =TRUNC(G58*1.25,2) -> 11.43 | T58: =S58=K58 -> TRUE | U58: =L58+M58 -> 697.23 | V58: =U58=N58 -> TRUE | W58: =I58+J58 -> 11.43 | X58: =W58=K58 -> TRUE
A59: 2.4.3 | B59: 96535 | C59: SINAPI | D59: FABRICAÇÃO, MONTAGEM E DESMONTAGEM DE FÔRMA PARA SAPATA, EM MADEIRA SERRADA, E=25 MM, 4 UTILIZAÇÕES. AF_01/2024 | E59: m² | F59: 35.6 | G59: 130.26 | H59: 0.25 | I59: 101.45 | J59: 61.37 | K59: 162.82 | L59: 3611.62 | M59: 2184.77 | N59: 5796.39 | O59: =N59/$N$176 -> 0.00033281467 | Q59: =TRUNC(K59*F59,2) -> 5796.39 | R59: =Q59=N59 -> TRUE | S59: =TRUNC(G59*1.25,2) -> 162.82 | T59: =S59=K59 -> TRUE | U59: =L59+M59 -> 5796.39 | V59: =U59=N59 -> TRUE | W59: =I59+J59 -> 162.82 | X59: =W59=K59 -> TRUE
A60: 2.4.4 | B60: 104920 | C60: SINAPI | D60: ARMAÇÃO DE BLOCO, SAPATA ISOLADA, VIGA BALDRAME E SAPATA CORRIDA UTILIZANDO AÇO CA-50 DE 12,5 MM - MONTAGEM. AF_01/2024 | E60: KG | F60: 691 | G60: 10.95 | H60: 0.25 | I60: 2.39 | J60: 11.29 | K60: 13.68 | L60: 1651.49 | M60: 7801.39 | N60: 9452.88 | O60: =N60/$N$176 -> 0.00054276147 | Q60: =TRUNC(K60*F60,2) -> 9452.88 | R60: =Q60=N60 -> TRUE | S60: =TRUNC(G60*1.25,2) -> 13.68 | T60: =S60=K60 -> TRUE | U60: =L60+M60 -> 9452.88 | V60: =U60=N60 -> TRUE | W60: =I60+J60 -> 13.68 | X60: =W60=K60 -> TRUE
A61: 2.4.5 | B61: 96558 | C61: SINAPI | D61: CONCRETAGEM DE SAPATA, FCK 30 MPA, COM USO DE BOMBA - LANÇAMENTO, ADENSAMENTO E ACABAMENTO. AF_01/2024 | E61: m³ | F61: 18.9 | G61: 815.07 | H61: 0.25 | I61: 34.35 | J61: 984.48 | K61: 1018.83 | L61: 649.215 | M61: 18606.665 | N61: 19255.88 | O61: =N61/$N$176 -> 0.001105626 | Q61: =TRUNC(K61*F61,2) -> 19255.88 | R61: =Q61=N61 -> TRUE | S61: =TRUNC(G61*1.25,2) -> 1018.83 | T61: =S61=K61 -> TRUE | U61: =L61+M61 -> 19255.88 | V61: =U61=N61 -> TRUE | W61: =I61+J61 -> 1018.83 | X61: =W61=K61 -> TRUE
A62: 2.5 | D62: SUPRAESTRUTURA | N62: =SUM(N63:N72) -> 2301768.7 | O62: =N62/$N$176 -> 0.13216198
A63: 2.5.1 | B63: 92268 | C63: SINAPI | D63: FABRICAÇÃO DE FÔRMA PARA LAJES, EM CHAPA DE MADEIRA COMPENSADA PLASTIFICADA, E = 18 MM. AF_09/2020 | E63: m² | F63: 634.9 | G63: 113.12 | H63: 0.25 | I63: 1.24 | J63: 140.16 | K63: 141.4 | L63: 787.276 | M63: 88987.584 | N63: 89774.86 | O63: =N63/$N$176 -> 0.005154655 | Q63: =TRUNC(K63*F63,2) -> 89774.86 | R63: =Q63=N63 -> TRUE | S63: =TRUNC(G63*1.25,2) -> 141.4 | T63: =S63=K63 -> TRUE | U63: =L63+M63 -> 89774.86 | V63: =U63=N63 -> TRUE | W63: =I63+J63 -> 141.4 | X63: =W63=K63 -> TRUE
A64: 2.5.2 | B64: 102087 | C64: SINAPI | D64: FABRICAÇÃO DE FÔRMA PARA ESCADA DUPLA COM 2 LANCES EM "X" E LAJE PLANA, EM CHAPA DE MADEIRA COMPENSADA RESINADA, E= 17 MM. AF_11/2020 | E64: m² | F64: 119.2 | G64: 168.52 | H64: 0.25 | I64: 33.85 | J64: 176.8 | K64: 210.65 | L64: 4034.92 | M64: 21074.56 | N64: 25109.48 | O64: =N64/$N$176 -> 0.0014417255 | Q64: =TRUNC(K64*F64,2) -> 25109.48 | R64: =Q64=N64 -> TRUE | S64: =TRUNC(G64*1.25,2) -> 210.65 | T64: =S64=K64 -> TRUE | U64: =L64+M64 -> 25109.48 | V64: =U64=N64 -> TRUE | W64: =I64+J64 -> 210.65 | X64: =W64=K64 -> TRUE
A65: 2.5.3 | B65: 92270 | C65: SINAPI | D65: FABRICAÇÃO DE FÔRMA PARA VIGAS, COM MADEIRA SERRADA, E = 25 MM. AF_09/2020 | E65: m² | F65: 1647.6 | G65: 163.74 | H65: 0.25 | I65: 35.75 | J65: 168.92 | K65: 204.67 | L65: 58901.7 | M65: 278312.59 | N65: 337214.29 | O65: =N65/$N$176 -> 0.019362028 | Q65: =TRUNC(K65*F65,2) -> 337214.29 | R65: =Q65=N65 -> TRUE | S65: =TRUNC(G65*1.25,2) -> 204.67 | T65: =S65=K65 -> TRUE | U65: =L65+M65 -> 337214.29 | V65: =U65=N65 -> TRUE | W65: =I65+J65 -> 204.67 | X65: =W65=K65 -> TRUE
A66: 2.5.4 | B66: 92269 | C66: SINAPI | D66: FABRICAÇÃO DE FÔRMA PARA PILARES E ESTRUTURAS SIMILARES, EM MADEIRA SERRADA, E=25 MM. AF_09/2020 | E66: m² | F66: 1421.82 | G66: 120.34 | H66: 0.25 | I66: 28.92 | J66: 121.5 | K66: 150.42 | L66: 41119.034 | M66: 172751.13 | N66: 213870.16 | O66: =N66/$N$176 -> 0.012279907 | Q66: =TRUNC(K66*F66,2) -> 213870.16 | R66: =Q66=N66 -> TRUE | S66: =TRUNC(G66*1.25,2) -> 150.42 | T66: =S66=K66 -> TRUE | U66: =L66+M66 -> 213870.16 | V66: =U66=N66 -> TRUE | W66: =I66+J66 -> 150.42 | X66: =W66=K66 -> TRUE
A67: 2.5.5 | B67: 92762 | C67: SINAPI | D67: ARMAÇÃO DE PILAR OU VIGA DE ESTRUTURA CONVENCIONAL DE CONCRETO ARMADO UTILIZANDO AÇO CA-50 DE 10,0 MM - MONTAGEM. AF_06/2022 | E67: KG | F67: 13467 | G67: 11.17 | H67: 0.25 | I67: 1.4 | J67: 12.56 | K67: 13.96 | L67: 18853.8 | M67: 169145.52 | N67: 187999.32 | O67: =N67/$N$176 -> 0.010794466 | Q67: =TRUNC(K67*F67,2) -> 187999.32 | R67: =Q67=N67 -> TRUE | S67: =TRUNC(G67*1.25,2) -> 13.96 | T67: =S67=K67 -> TRUE | U67: =L67+M67 -> 187999.32 | V67: =U67=N67 -> TRUE | W67: =I67+J67 -> 13.96 | X67: =W67=K67 -> TRUE
A68: 2.5.6 | B68: 104107 | C68: SINAPI | D68: ARMAÇÃO DE PILAR OU VIGA DE ESTRUTURA DE CONCRETO ARMADO EMBUTIDA EM ALVENARIA DE VEDAÇÃO UTILIZANDO AÇO CA-50 DE 12,5 MM - MONTAGEM. AF_06/2022 | E68: KG | F68: 38461.5 | G68: 10.93 | H68: 0.25 | I68: 2.36 | J68: 11.3 | K68: 13.66 | L68: 90769.14 | M68: 434614.95 | N68: 525384.09 | O68: =N68/$N$176 -> 0.030166282 | Q68: =TRUNC(K68*F68,2) -> 525384.09 | R68: =Q68=N68 -> TRUE | S68: =TRUNC(G68*1.25,2) -> 13.66 | T68: =S68=K68 -> TRUE | U68: =L68+M68 -> 525384.09 | V68: =U68=N68 -> TRUE | W68: =I68+J68 -> 13.66 | X68: =W68=K68 -> TRUE
A69: 2.5.7 | B69: 104111 | C69: SINAPI | D69: ARMAÇÃO DE PILAR OU VIGA DE ESTRUTURA DE CONCRETO ARMADO EMBUTIDA EM ALVENARIA DE VEDAÇÃO UTILIZANDO AÇO CA-60 DE 5,0 MM - MONTAGEM. AF_06/2022 | E69: KG | F69: 5043.4 | G69: 20.69 | H69: 0.25 | I69: 11.09 | J69: 14.77 | K69: 25.86 | L69: 55931.306 | M69: 74491.014 | N69: 130422.32 | O69: =N69/$N$176 -> 0.0074885337 | Q69: =TRUNC(K69*F69,2) -> 130422.32 | R69: =Q69=N69 -> TRUE | S69: =TRUNC(G69*1.25,2) -> 25.86 | T69: =S69=K69 -> TRUE | U69: =L69+M69 -> 130422.32 | V69: =U69=N69 -> TRUE | W69: =I69+J69 -> 25.86 | X69: =W69=K69 -> TRUE
A70: 2.5.8 | B70: 103686 | C70: SINAPI | D70: CONCRETAGEM DE ESCADAS, FCK=25 MPA, COM USO DE BOMBA - LANÇAMENTO, ADENSAMENTO E ACABAMENTO. AF_02/2022_PS | E70: m³ | F70: 15.3 | G70: 770.6 | H70: 0.25 | I70: 104 | J70: 859.25 | K70: 963.25 | L70: 1591.2 | M70: 13146.52 | N70: 14737.72 | O70: =N70/$N$176 -> 0.00084620419 | Q70: =TRUNC(K70*F70,2) -> 14737.72 | R70: =Q70=N70 -> TRUE | S70: =TRUNC(G70*1.25,2) -> 963.25 | T70: =S70=K70 -> TRUE | U70: =L70+M70 -> 14737.72 | V70: =U70=N70 -> TRUE | W70: =I70+J70 -> 963.25 | X70: =W70=K70 -> TRUE
A71: 2.5.9 | B71: 103674 | C71: SINAPI | D71: CONCRETAGEM DE VIGAS E LAJES, FCK=25 MPA, PARA LAJES PREMOLDADAS COM USO DE BOMBA - LANÇAMENTO, ADENSAMENTO E ACABAMENTO. AF_02/2022_PS | E71: m³ | F71: 615.2 | G71: 725.32 | H71: 0.25 | I71: 60.14 | J71: 846.51 | K71: 906.65 | L71: 36998.128 | M71: 520772.95 | N71: 557771.08 | O71: =N71/$N$176 -> 0.032025864 | Q71: =TRUNC(K71*F71,2) -> 557771.08 | R71: =Q71=N71 -> TRUE | S71: =TRUNC(G71*1.25,2) -> 906.65 | T71: =S71=K71 -> TRUE | U71: =L71+M71 -> 557771.08 | V71: =U71=N71 -> TRUE | W71: =I71+J71 -> 906.65 | X71: =W71=K71 -> TRUE
A72: 2.5.10 | B72: 103672 | C72: SINAPI | D72: CONCRETAGEM DE PILARES, FCK = 25 MPA, COM USO DE BOMBA - LANÇAMENTO, ADENSAMENTO E ACABAMENTO. AF_02/2022_PS | E72: m³ | F72: 249.2 | G72: 704.61 | H72: 0.25 | I72: 40.36 | J72: 840.4 | K72: 880.76 | L72: 10057.712 | M72: 209427.68 | N72: 219485.39 | O72: =N72/$N$176 -> 0.012602319 | Q72: =TRUNC(K72*F72,2) -> 219485.39 | R72: =Q72=N72 -> TRUE | S72: =TRUNC(G72*1.25,2) -> 880.76 | T72: =S72=K72 -> TRUE | U72: =L72+M72 -> 219485.39 | V72: =U72=N72 -> TRUE | W72: =I72+J72 -> 880.76 | X72: =W72=K72 -> TRUE
A73: 2.6 | D73: ALVENARIAS | N73: =SUM(N74:N77) -> 510419.95 | O73: =N73/$N$176 -> 0.029307077
A74: 2.6.1 | B74: 104721 | C74: SINAPI | D74: PAREDE COM SISTEMA EM CHAPAS DE GESSO PARA DRYWALL, USO INTERNO, COM UMA FACE SIMPLES E OUTRA FACE DUPLA E ESTRUTURA METÁLICA COM GUIAS DUPLAS PARA PAREDES COM ÁREA LÍQUIDA MENOR QUE 6 M2, COM VÃOS. AF_07/2023_PS | E74: m² | F74: 660.5 | G74: 228.42 | H74: 0.25 | I74: 40.54 | J74: 244.98 | K74: 285.52 | L74: 26776.67 | M74: 161809.29 | N74: 188585.96 | O74: =N74/$N$176 -> 0.010828149 | Q74: =TRUNC(K74*F74,2) -> 188585.96 | R74: =Q74=N74 -> TRUE | S74: =TRUNC(G74*1.25,2) -> 285.52 | T74: =S74=K74 -> TRUE | U74: =L74+M74 -> 188585.96 | V74: =U74=N74 -> TRUE | W74: =I74+J74 -> 285.52 | X74: =W74=K74 -> TRUE
A75: 2.6.2 | B75: 102253 | C75: SINAPI | D75: DIVISORIA SANITÁRIA, TIPO CABINE, EM GRANITO CINZA POLIDO, ESP = 3CM, ASSENTADO COM ARGAMASSA COLANTE AC III-E, EXCLUSIVE FERRAGENS. AF_01/2021 | E75: m² | F75: 170.28 | G75: 956.41 | H75: 0.25 | I75: 138.02 | J75: 1057.49 | K75: 1195.51 | L75: 23502.046 | M75: 180069.39 | N75: 203571.44 | O75: =N75/$N$176 -> 0.011688579 | Q75: =TRUNC(K75*F75,2) -> 203571.44 | R75: =Q75=N75 -> TRUE | S75: =TRUNC(G75*1.25,2) -> 1195.51 | T75: =S75=K75 -> TRUE | U75: =L75+M75 -> 203571.44 | V75: =U75=N75 -> TRUE | W75: =I75+J75 -> 1195.51 | X75: =W75=K75 -> TRUE
A76: 2.6.3 | B76: 89299 | C76: SINAPI | D76: ALVENARIA ESTRUTURAL DE BLOCOS CERÂMICOS 14X19X39, (ESPESSURA DE 14 CM), UTILIZANDO COLHER DE PEDREIRO E ARGAMASSA DE ASSENTAMENTO COM PREPARO MANUAL. AF_03/2023 | E76: m² | F76: 360.27 | G76: 86 | H76: 0.25 | I76: 36.99 | J76: 70.51 | K76: 107.5 | L76: 13326.387 | M76: 25402.633 | N76: 38729.02 | O76: =N76/$N$176 -> 0.0022237265 | Q76: =TRUNC(K76*F76,2) -> 38729.02 | R76: =Q76=N76 -> TRUE | S76: =TRUNC(G76*1.25,2) -> 107.5 | T76: =S76=K76 -> TRUE | U76: =L76+M76 -> 38729.02 | V76: =U76=N76 -> TRUE | W76: =I76+J76 -> 107.5 | X76: =W76=K76 -> TRUE
A77: 2.6.4 | B77: 103363 | C77: SINAPI | D77: ALVENARIA DE VEDAÇÃO DE BLOCOS CERÂMICOS FURADOS NA HORIZONTAL DE 19X19X29 CM (ESPESSURA 19 CM) E ARGAMASSA DE ASSENTAMENTO COM PREPARO MANUAL. AF_12/2021 | E77: m² | F77: 629.47 | G77: 101.08 | H77: 0.25 | I77: 51.02 | J77: 75.33 | K77: 126.35 | L77: 32115.559 | M77: 47417.971 | N77: 79533.53 | O77: =N77/$N$176 -> 0.0045666227 | Q77: =TRUNC(K77*F77,2) -> 79533.53 | R77: =Q77=N77 -> TRUE | S77: =TRUNC(G77*1.25,2) -> 126.35 | T77: =S77=K77 -> TRUE | U77: =L77+M77 -> 79533.53 | V77: =U77=N77 -> TRUE | W77: =I77+J77 -> 126.35 | X77: =W77=K77 -> TRUE
A78: 2.7 | D78: IMPERMEABILIZAÇÃO | N78: =SUM(N79:N81) -> 95436.95 | O78: =N78/$N$176 -> 0.0054797585
A79: 2.7.1 | B79: 98546 | C79: SINAPI | D79: IMPERMEABILIZAÇÃO DE SUPERFÍCIE COM MANTA ASFÁLTICA, UMA CAMADA, INCLUSIVE APLICAÇÃO DE PRIMER ASFÁLTICO, E=4MM. AF_09/2023 | E79: m² | F79: 526.31 | G79: 133.07 | H79: 0.25 | I79: 31.43 | J79: 134.9 | K79: 166.33 | L79: 16541.923 | M79: 70999.217 | N79: 87541.14 | O79: =N79/$N$176 -> 0.0050264002 | Q79: =TRUNC(K79*F79,2) -> 87541.14 | R79: =Q79=N79 -> TRUE | S79: =TRUNC(G79*1.25,2) -> 166.33 | T79: =S79=K79 -> TRUE | U79: =L79+M79 -> 87541.14 | V79: =U79=N79 -> TRUE | W79: =I79+J79 -> 166.33 | X79: =W79=K79 -> TRUE
A80: 2.7.2 | B80: 98557 | C80: SINAPI | D80: IMPERMEABILIZAÇÃO DE SUPERFÍCIE COM EMULSÃO ASFÁLTICA, 2 DEMÃOS. AF_09/2023 (FUNDAÇÕES E FOSSO ELEVADOR) | E80: m² | F80: 70 | G80: 48.43 | H80: 0.25 | I80: 14.49 | J80: 46.04 | K80: 60.53 | L80: 1014.3 | M80: 3222.8 | N80: 4237.1 | O80: =N80/$N$176 -> 0.00024328402 | Q80: =TRUNC(K80*F80,2) -> 4237.1 | R80: =Q80=N80 -> TRUE | S80: =TRUNC(G80*1.25,2) -> 60.53 | T80: =S80=K80 -> TRUE | U80: =L80+M80 -> 4237.1 | V80: =U80=N80 -> TRUE | W80: =I80+J80 -> 60.53 | X80: =W80=K80 -> TRUE
A81: 2.7.3 | B81: 98571 | C81: SINAPI | D81: PROTEÇÃO MECÂNICA DE SUPERFICIE HORIZONTAL COM CONCRETO 15 MPA, E=4CM. AF_09/2023 | E81: m² | F81: 61.74 | G81: 47.41 | H81: 0.25 | I81: 21.04 | J81: 38.22 | K81: 59.26 | L81: 1299.0096 | M81: 2359.7004 | N81: 3658.71 | O81: =N81/$N$176 -> 0.00021007427 | Q81: =TRUNC(K81*F81,2) -> 3658.71 | R81: =Q81=N81 -> TRUE | S81: =TRUNC(G81*1.25,2) -> 59.26 | T81: =S81=K81 -> TRUE | U81: =L81+M81 -> 3658.71 | V81: =U81=N81 -> TRUE | W81: =I81+J81 -> 59.26 | X81: =W81=K81 -> TRUE
A82: 2.8 | D82: COBERTURA | N82: =SUM(N83:N89) -> 451697.08 | O82: =N82/$N$176 -> 0.025935352
A83: 2.8.1 | B83: 92543 | C83: SINAPI | D83: TRAMA DE MADEIRA COMPOSTA POR TERÇAS PARA TELHADOS DE ATÉ 2 ÁGUAS PARA TELHA ONDULADA DE FIBROCIMENTO, METÁLICA, PLÁSTICA OU TERMOACÚSTICA, INCLUSO TRANSPORTE VERTICAL. AF_07/2019 | E83: m² | F83: 939 | G83: 25.42 | H83: 0.25 | I83: 7.85 | J83: 23.92 | K83: 31.77 | L83: 7371.15 | M83: 22460.88 | N83: 29832.03 | O83: =N83/$N$176 -> 0.0017128829 | Q83: =TRUNC(K83*F83,2) -> 29832.03 | R83: =Q83=N83 -> TRUE | S83: =TRUNC(G83*1.25,2) -> 31.77 | T83: =S83=K83 -> TRUE | U83: =L83+M83 -> 29832.03 | V83: =U83=N83 -> TRUE | W83: =I83+J83 -> 31.77 | X83: =W83=K83 -> TRUE
A84: 2.8.2 | B84: 94216 | C84: SINAPI | D84: TELHAMENTO COM TELHA METÁLICA TERMOACÚSTICA E = 30 MM, COM ATÉ 2 ÁGUAS, INCLUSO IÇAMENTO. AF_07/2019 | E84: m² | F84: 1236.08 | G84: 162.21 | H84: 0.25 | I84: 2.81 | J84: 199.95 | K84: 202.76 | L84: 3473.3848 | M84: 247154.2 | N84: 250627.58 | O84: =N84/$N$176 -> 0.014390429 | Q84: =TRUNC(K84*F84,2) -> 250627.58 | R84: =Q84=N84 -> TRUE | S84: =TRUNC(G84*1.25,2) -> 202.76 | T84: =S84=K84 -> TRUE | U84: =L84+M84 -> 250627.58 | V84: =U84=N84 -> TRUE | W84: =I84+J84 -> 202.76 | X84: =W84=K84 -> TRUE
A85: 2.8.3 | B85: 94229 | C85: SINAPI | D85: CALHA EM CHAPA DE AÇO GALVANIZADO NÚMERO 24, DESENVOLVIMENTO DE 100 CM, INCLUSO TRANSPORTE VERTICAL. AF_07/2019 | E85: M | F85: 199.2 | G85: 194.15 | H85: 0.25 | I85: 28.52 | J85: 214.16 | K85: 242.68 | L85: 5681.184 | M85: 42660.666 | N85: 48341.85 | O85: =N85/$N$176 -> 0.0027756719 | Q85: =TRUNC(K85*F85,2) -> 48341.85 | R85: =Q85=N85 -> TRUE | S85: =TRUNC(G85*1.25,2) -> 242.68 | T85: =S85=K85 -> TRUE | U85: =L85+M85 -> 48341.85 | V85: =U85=N85 -> TRUE | W85: =I85+J85 -> 242.68 | X85: =W85=K85 -> TRUE
A86: 2.8.4 | B86: 100327 | C86: SINAPI | D86: RUFO EXTERNO/INTERNO EM CHAPA DE AÇO GALVANIZADO NÚMERO 26, CORTE DE 33 CM, INCLUSO IÇAMENTO. AF_07/2019 | E86: M | F86: 390 | G86: 67.26 | H86: 0.25 | I86: 9.84 | J86: 74.23 | K86: 84.07 | L86: 3837.6 | M86: 28949.7 | N86: 32787.3 | O86: =N86/$N$176 -> 0.0018825674 | Q86: =TRUNC(K86*F86,2) -> 32787.3 | R86: =Q86=N86 -> TRUE | S86: =TRUNC(G86*1.25,2) -> 84.07 | T86: =S86=K86 -> TRUE | U86: =L86+M86 -> 32787.3 | V86: =U86=N86 -> TRUE | W86: =I86+J86 -> 84.07 | X86: =W86=K86 -> TRUE
A87: 2.8.5 | B87: 92620 | C87: SINAPI | D87: FABRICAÇÃO E INSTALAÇÃO DE TESOURA INTEIRA EM AÇO, VÃO DE 12 M, PARA TELHA ONDULADA DE FIBROCIMENTO, METÁLICA, PLÁSTICA OU TERMOACÚSTICA, INCLUSO IÇAMENTO. AF_07/2019 | E87: UN | F87: 14 | G87: 2267.15 | H87: 0.25 | I87: 551.6 | J87: 2282.33 | K87: 2833.93 | L87: 7722.4 | M87: 31952.62 | N87: 39675.02 | O87: =N87/$N$176 -> 0.0022780436 | Q87: =TRUNC(K87*F87,2) -> 39675.02 | R87: =Q87=N87 -> TRUE | S87: =TRUNC(G87*1.25,2) -> 2833.93 | T87: =S87=K87 -> TRUE | U87: =L87+M87 -> 39675.02 | V87: =U87=N87 -> TRUE | W87: =I87+J87 -> 2833.93 | X87: =W87=K87 -> TRUE
A88: 2.8.6 | B88: 92562 | C88: SINAPI | D88: FABRICAÇÃO E INSTALAÇÃO DE TESOURA INTEIRA EM MADEIRA NÃO APARELHADA, VÃO DE 10 M, PARA TELHA ONDULADA DE FIBROCIMENTO, METÁLICA, PLÁSTICA OU TERMOACÚSTICA, INCLUSO IÇAMENTO. AF_07/2019 | E88: UN | F88: 10 | G88: 2536.08 | H88: 0.25 | I88: 1084.38 | J88: 2085.72 | K88: 3170.1 | L88: 10843.8 | M88: 20857.2 | N88: 31701 | O88: =N88/$N$176 -> 0.0018201946 | Q88: =TRUNC(K88*F88,2) -> 31701 | R88: =Q88=N88 -> TRUE | S88: =TRUNC(G88*1.25,2) -> 3170.1 | T88: =S88=K88 -> TRUE | U88: =L88+M88 -> 31701 | V88: =U88=N88 -> TRUE | W88: =I88+J88 -> 3170.1 | X88: =W88=K88 -> TRUE
A89: 2.8.7 | B89: 92580 | C89: SINAPI | D89: TRAMA DE AÇO COMPOSTA POR TERÇAS PARA TELHADOS DE ATÉ 2 ÁGUAS PARA TELHA ONDULADA DE FIBROCIMENTO, METÁLICA, PLÁSTICA OU TERMOACÚSTICA, INCLUSO TRANSPORTE VERTICAL. AF_07/2019 | E89: m² | F89: 293.84 | G89: 51 | H89: 0.25 | I89: 11.01 | J89: 52.74 | K89: 63.75 | L89: 3235.1784 | M89: 15497.122 | N89: 18732.3 | O89: =N89/$N$176 -> 0.0010755633 | Q89: =TRUNC(K89*F89,2) -> 18732.3 | R89: =Q89=N89 -> TRUE | S89: =TRUNC(G89*1.25,2) -> 63.75 | T89: =S89=K89 -> TRUE | U89: =L89+M89 -> 18732.3 | V89: =U89=N89 -> TRUE | W89: =I89+J89 -> 63.75 | X89: =W89=K89 -> TRUE
A90: 2.9 | D90: PAVIMENTAÇÃO | N90: =SUM(N91:N103) -> 1038844.2 | O90: =N90/$N$176 -> 0.05964792
A91: 2.9.1 | B91: 104598 | C91: SINAPI | D91: REVESTIMENTO CERÂMICO PARA PISO COM PLACAS TIPO PORCELANATO RETIFICADO DE DIMENSÕES 80X80 CM APLICADA EM AMBIENTES DE ÁREA MAIOR QUE 10 M². AF_02/2023_PE | E91: m² | F91: 2782.76 | G91: 116.66 | H91: 0.25 | I91: 17.84 | J91: 127.98 | K91: 145.82 | L91: 49644.438 | M91: 356137.62 | N91: 405782.06 | O91: =N91/$N$176 -> 0.023299023 | Q91: =TRUNC(K91*F91,2) -> 405782.06 | R91: =Q91=N91 -> TRUE | S91: =TRUNC(G91*1.25,2) -> 145.82 | T91: =S91=K91 -> TRUE | U91: =L91+M91 -> 405782.06 | V91: =U91=N91 -> TRUE | W91: =I91+J91 -> 145.82 | X91: =W91=K91 -> TRUE
A92: 2.9.2 | B92: 98678 | C92: SINAPI | D92: PISO ELEVADO COM ESTRUTURA EM AÇO, COMPOSTO POR PEDESTAIS E LONGARINAS. AF_09/2020 | E92: m² | F92: 338.51 | G92: 15.5 | H92: 0.25 | I92: 14.53 | J92: 4.84 | K92: 19.37 | L92: 4918.5503 | M92: 1638.3797 | N92: 6556.93 | O92: =N92/$N$176 -> 0.00037648304 | Q92: =TRUNC(K92*F92,2) -> 6556.93 | R92: =Q92=N92 -> TRUE | S92: =TRUNC(G92*1.25,2) -> 19.37 | T92: =S92=K92 -> TRUE | U92: =L92+M92 -> 6556.93 | V92: =U92=N92 -> TRUE | W92: =I92+J92 -> 19.37 | X92: =W92=K92 -> TRUE
A93: 2.9.3 | B93: 00010737 | C93: SINAPI | D93: PEDRA BASALTO (PISO E DEGRAU DE ESCADAS), CACO, RETALHO, CAVACO, TIPO MIRACEMA, MADEIRA, PADUANA, RACHINHA, SANTA ISABEL OU OUTRAS SIMILARES, E= *1,0 A *2,0 CM | E93: m² | F93: 1161.07 | G93: 141.41 | H93: 0.15 | I93: 0 | J93: =K93 -> 162.62 | K93: =TRUNC(G93*1.15,2) -> 162.62 | L93: 0 | M93: =N93 -> 188813.2 | N93: =TRUNC(K93*F93,2) -> 188813.2 | O93: =N93/$N$176 -> 0.010841197 | Q93: =TRUNC(K93*F93,2) -> 188813.2 | R93: =Q93=N93 -> TRUE | S93: =TRUNC(G93*1.15,2) -> 162.62 | T93: =S93=K93 -> TRUE | U93: =L93+M93 -> 188813.2 | V93: =U93=N93 -> TRUE | W93: =I93+J93 -> 162.62 | X93: =W93=K93 -> TRUE
A94: 2.9.4 | B94: 95001 | C94: SINAPI | D94: EXECUÇÃO DE PASSEIO (CALÇADA) COM CONCRETO MOLDADO IN LOCO, FEITO EM OBRA, ACABAMENTO ESTAMPADO, ESPESSURA 6 CM, ARMADO. AF_08/2022 | E94: m² | F94: 290 | G94: 92.91 | H94: 0.25 | I94: 21.67 | J94: 94.46 | K94: 116.13 | L94: 6284.3 | M94: 27393.4 | N94: 33677.7 | O94: =N94/$N$176 -> 0.001933692 | Q94: =TRUNC(K94*F94,2) -> 33677.7 | R94: =Q94=N94 -> TRUE | S94: =TRUNC(G94*1.25,2) -> 116.13 | T94: =S94=K94 -> TRUE | U94: =L94+M94 -> 33677.7 | V94: =U94=N94 -> TRUE | W94: =I94+J94 -> 116.13 | X94: =W94=K94 -> TRUE
A95: 2.9.5 | B95: 104313 | C95: SINAPI | D95: EXECUÇÃO DE PASSEIO (CALÇADA) COM PLACAS DE CONCRETO PRÉ-FABRICADAS, ASSENTADAS COM ARGAMASSA, PLACAS DE 100 X 100 CM, NÃO ARMADO. AF_08/2022 | E95: m² | F95: 1161.07 | G95: 47.07 | H95: 0.25 | I95: 25.69 | J95: 33.14 | K95: 58.83 | L95: 29827.888 | M95: 38477.852 | N95: 68305.74 | O95: =N95/$N$176 -> 0.0039219502 | Q95: =TRUNC(K95*F95,2) -> 68305.74 | R95: =Q95=N95 -> TRUE | S95: =TRUNC(G95*1.25,2) -> 58.83 | T95: =S95=K95 -> TRUE | U95: =L95+M95 -> 68305.74 | V95: =U95=N95 -> TRUE | W95: =I95+J95 -> 58.83 | X95: =W95=K95 -> TRUE
A96: 2.9.6 | B96: 103781 | C96: SINAPI | D96: PISO DE GRAMA SINTÉTICA PARA QUADRA POLIESPORTIVA - FORNECIMENTO E INSTALAÇÃO. AF_03/2022 | E96: m² | F96: 425 | G96: 18.61 | H96: 0.25 | I96: 16.1 | J96: 7.16 | K96: 23.26 | L96: 6842.5 | M96: 3043 | N96: 9885.5 | O96: =N96/$N$176 -> 0.00056760147 | Q96: =TRUNC(K96*F96,2) -> 9885.5 | R96: =Q96=N96 -> TRUE | S96: =TRUNC(G96*1.25,2) -> 23.26 | T96: =S96=K96 -> TRUE | U96: =L96+M96 -> 9885.5 | V96: =U96=N96 -> TRUE | W96: =I96+J96 -> 23.26 | X96: =W96=K96 -> TRUE
A97: 2.9.7 | B97: 98688 | C97: SINAPI | D97: RODAPÉ EM POLIESTIRENO, ALTURA 5 CM. AF_09/2020 | E97: M | F97: 1155.51 | G97: 57.96 | H97: 0.25 | I97: 2.52 | J97: 69.93 | K97: 72.45 | L97: 2911.8852 | M97: 80804.805 | N97: 83716.69 | O97: =N97/$N$176 -> 0.0048068096 | Q97: =TRUNC(K97*F97,2) -> 83716.69 | R97: =Q97=N97 -> TRUE | S97: =TRUNC(G97*1.25,2) -> 72.45 | T97: =S97=K97 -> TRUE | U97: =L97+M97 -> 83716.69 | V97: =U97=N97 -> TRUE | W97: =I97+J97 -> 72.45 | X97: =W97=K97 -> TRUE
A98: 2.9.8 | B98: 101727 | C98: SINAPI | D98: PISO VINÍLICO SEMI-FLEXÍVEL EM PLACAS, PADRÃO LISO, ESPESSURA 3,2 MM, FIXADO COM COLA. AF_09/2020 | E98: m² | F98: 196.65 | G98: 161.46 | H98: 0.25 | I98: 4.71 | J98: 197.11 | K98: 201.82 | L98: 926.2215 | M98: 38761.679 | N98: 39687.9 | O98: =N98/$N$176 -> 0.0022787831 | Q98: =TRUNC(K98*F98,2) -> 39687.9 | R98: =Q98=N98 -> TRUE | S98: =TRUNC(G98*1.25,2) -> 201.82 | T98: =S98=K98 -> TRUE | U98: =L98+M98 -> 39687.9 | V98: =U98=N98 -> TRUE | W98: =I98+J98 -> 201.82 | X98: =W98=K98 -> TRUE
A99: 2.9.9 | B99: 101740 | C99: SINAPI | D99: RODAPÉ EM ARDÓSIA ALTURA 10CM. AF_09/2020 | E99: M | F99: 775.27 | G99: 54.61 | H99: 0.25 | I99: 30.55 | J99: 37.71 | K99: 68.26 | L99: 23684.499 | M99: 29235.431 | N99: 52919.93 | O99: =N99/$N$176 -> 0.0030385342 | Q99: =TRUNC(K99*F99,2) -> 52919.93 | R99: =Q99=N99 -> TRUE | S99: =TRUNC(G99*1.25,2) -> 68.26 | T99: =S99=K99 -> TRUE | U99: =L99+M99 -> 52919.93 | V99: =U99=N99 -> TRUE | W99: =I99+J99 -> 68.26 | X99: =W99=K99 -> TRUE
A100: 2.9.10 | B100: 98671 | C100: SINAPI | D100: PEITORIL EMBASALTO APLICADO EM AMBIENTES INTERNOS. AF_09/2020 | E100: m² | F100: 105.12 | G100: 456.91 | H100: 0.25 | I100: 37.93 | J100: 533.2 | K100: 571.13 | L100: 3987.2016 | M100: 56049.978 | N100: 60037.18 | O100: =N100/$N$176 -> 0.0034471895 | Q100: =TRUNC(K100*F100,2) -> 60037.18 | R100: =Q100=N100 -> TRUE | S100: =TRUNC(G100*1.25,2) -> 571.13 | T100: =S100=K100 -> TRUE | U100: =L100+M100 -> 60037.18 | V100: =U100=N100 -> TRUE | W100: =I100+J100 -> 571.13 | X100: =W100=K100 -> TRUE
A101: 2.9.11 | B101: 98671 | C101: SINAPI | D101: SOLEIRA EM BASALTO APLICADO EM AMBIENTES INTERNOS. AF_09/2020 | E101: m² | F101: 47.62 | G101: 456.91 | H101: 0.25 | I101: 37.93 | J101: 533.2 | K101: 571.13 | L101: 1806.2266 | M101: 25390.983 | N101: 27197.21 | O101: =N101/$N$176 -> 0.0015615979 | Q101: =TRUNC(K101*F101,2) -> 27197.21 | R101: =Q101=N101 -> TRUE | S101: =TRUNC(G101*1.25,2) -> 571.13 | T101: =S101=K101 -> TRUE | U101: =L101+M101 -> 27197.21 | V101: =U101=N101 -> TRUE | W101: =I101+J101 -> 571.13 | X101: =W101=K101 -> TRUE
A102: 2.9.12 | B102: 104658 | C102: SINAPI | D102: PISO PODOTÁTIL DE ALERTA OU DIRECIONAL, DE CONCRETO, ASSENTADO SOBRE ARGAMASSA. AF_03/2024 | E102: m² | F102: 160 | G102: 152.1 | H102: 0.25 | I102: 44.15 | J102: 145.97 | K102: 190.12 | L102: 7064 | M102: 23355.2 | N102: 30419.2 | O102: =N102/$N$176 -> 0.0017465968 | Q102: =TRUNC(K102*F102,2) -> 30419.2 | R102: =Q102=N102 -> TRUE | S102: =TRUNC(G102*1.25,2) -> 190.12 | T102: =S102=K102 -> TRUE | U102: =L102+M102 -> 30419.2 | V102: =U102=N102 -> TRUE | W102: =I102+J102 -> 190.12 | X102: =W102=K102 -> TRUE
A103: 2.9.13 | B103: 101094 | C103: SINAPI | D103: PISO PODOTÁTIL DE ALERTA OU DIRECIONAL, DE BORRACHA, ASSENTADO SOBRE ARGAMASSA. AF_05/2020 | E103: M | F103: 150 | G103: 169.84 | H103: 0.25 | I103: 42.75 | J103: 169.55 | K103: 212.3 | L103: 6412.5 | M103: 25432.5 | N103: 31845 | O103: =N103/$N$176 -> 0.0018284628 | Q103: =TRUNC(K103*F103,2) -> 31845 | R103: =Q103=N103 -> TRUE | S103: =TRUNC(G103*1.25,2) -> 212.3 | T103: =S103=K103 -> TRUE | U103: =L103+M103 -> 31845 | V103: =U103=N103 -> TRUE | W103: =I103+J103 -> 212.3 | X103: =W103=K103 -> TRUE
A104: 2.10 | D104: REVESTIMENTOS EXTERNOS | N104: =SUM(N105:N107) -> 224015.78 | O104: =N104/$N$176 -> 0.012862444 | W104: =I104+J104 -> 0 | X104: =W104=K104 -> TRUE
A105: 2.10.1 | B105: 87905 | C105: SINAPI | D105: CHAPISCO APLICADO EM ALVENARIA (COM PRESENÇA DE VÃOS) E ESTRUTURAS DE CONCRETO DE FACHADA, COM COLHER DE PEDREIRO. ARGAMASSA TRAÇO 1:3 COM PREPARO EM BETONEIRA 400L. AF_10/2022 | E105: m² | F105: 2048.8 | G105: 8.42 | H105: 0.25 | I105: 6.34 | J105: 4.18 | K105: 10.52 | L105: 12989.392 | M105: 8563.978 | N105: 21553.37 | O105: =N105/$N$176 -> 0.0012375423 | Q105: =TRUNC(K105*F105,2) -> 21553.37 | R105: =Q105=N105 -> TRUE | S105: =TRUNC(G105*1.25,2) -> 10.52 | T105: =S105=K105 -> TRUE | U105: =L105+M105 -> 21553.37 | V105: =U105=N105 -> TRUE | W105: =I105+J105 -> 10.52 | X105: =W105=K105 -> TRUE
A106: 2.10.2 | B106: 87777 | C106: SINAPI | D106: EMBOÇO OU MASSA ÚNICA EM ARGAMASSA TRAÇO 1:2:8, PREPARO MANUAL, APLICADA MANUALMENTE EM PANOS DE FACHADA COM PRESENÇA DE VÃOS, ESPESSURA DE 25 MM. AF_08/2022 | E106: m² | F106: 2048.8 | G106: 59.92 | H106: 0.25 | I106: 39.9 | J106: 35 | K106: 74.9 | L106: 81747.12 | M106: 71708 | N106: 153455.12 | O106: =N106/$N$176 -> 0.0088110213 | Q106: =TRUNC(K106*F106,2) -> 153455.12 | R106: =Q106=N106 -> TRUE | S106: =TRUNC(G106*1.25,2) -> 74.9 | T106: =S106=K106 -> TRUE | U106: =L106+M106 -> 153455.12 | V106: =U106=N106 -> TRUE | W106: =I106+J106 -> 74.9 | X106: =W106=K106 -> TRUE
A107: 2.10.3 | B107: 96126 | C107: SINAPI | D107: APLICAÇÃO MANUAL DE MASSA ACRÍLICA EM PANOS DE FACHADA COM PRESENÇA DE VÃOS, DE EDIFÍCIOS DE MÚLTIPLOS PAVIMENTOS, UMA DEMÃO. AF_03/2024 | E107: m² | F107: 2048.8 | G107: 19.14 | H107: 0.25 | I107: 11.54 | J107: 12.38 | K107: 23.92 | L107: 23643.152 | M107: 25364.138 | N107: 49007.29 | O107: =N107/$N$176 -> 0.0028138799 | Q107: =TRUNC(K107*F107,2) -> 49007.29 | R107: =Q107=N107 -> TRUE | S107: =TRUNC(G107*1.25,2) -> 23.92 | T107: =S107=K107 -> TRUE | U107: =L107+M107 -> 49007.29 | V107: =U107=N107 -> TRUE | W107: =I107+J107 -> 23.92 | X107: =W107=K107 -> TRUE
A108: 2.11 | D108: REVESTIMENTOS INTERNOS | N108: =SUM(N109:N113) -> 1257728 | O108: =N108/$N$176 -> 0.072215696 | W108: =I108+J108 -> 0 | X108: =W108=K108 -> TRUE
A109: 2.11.1 | B109: 87905 | C109: SINAPI | D109: CHAPISCO APLICADO EM ALVENARIA (COM PRESENÇA DE VÃOS) E ESTRUTURAS DE CONCRETO DE FACHADA, COM COLHER DE PEDREIRO. ARGAMASSA TRAÇO 1:3 COM PREPARO EM BETONEIRA 400L. AF_10/2022 | E109: m² | F109: 7289.9 | G109: 8.42 | H109: 0.25 | I109: 6.34 | J109: 4.18 | K109: 10.52 | L109: 46217.966 | M109: 30471.774 | N109: 76689.74 | O109: =N109/$N$176 -> 0.0044033391 | Q109: =TRUNC(K109*F109,2) -> 76689.74 | R109: =Q109=N109 -> TRUE | S109: =TRUNC(G109*1.25,2) -> 10.52 | T109: =S109=K109 -> TRUE | U109: =L109+M109 -> 76689.74 | V109: =U109=N109 -> TRUE | W109: =I109+J109 -> 10.52 | X109: =W109=K109 -> TRUE
A110: 2.11.2 | B110: 87777 | C110: SINAPI | D110: EMBOÇO OU MASSA ÚNICA EM ARGAMASSA TRAÇO 1:2:8, PREPARO MANUAL, APLICADA MANUALMENTE EM PANOS DE FACHADA COM PRESENÇA DE VÃOS, ESPESSURA DE 25 MM. AF_08/2022 | E110: m² | F110: 7289.9 | G110: 59.92 | H110: 0.25 | I110: 39.9 | J110: 35 | K110: 74.9 | L110: 290867.01 | M110: 255146.5 | N110: 546013.51 | O110: =N110/$N$176 -> 0.031350773 | Q110: =TRUNC(K110*F110,2) -> 546013.51 | R110: =Q110=N110 -> TRUE | S110: =TRUNC(G110*1.25,2) -> 74.9 | T110: =S110=K110 -> TRUE | U110: =L110+M110 -> 546013.51 | V110: =U110=N110 -> TRUE | W110: =I110+J110 -> 74.9 | X110: =W110=K110 -> TRUE
...

Sheet CRONOGRAMA
B1: Obra
B2: REVITALIZAÇÃO PRÉDIO DA POLAR
A4: CRONOGRAMA FÍSICO-FINANCEIRO
A5: ITEM | B5: DESCRIÇÃO | C5: VALOR | D5: MÊS 1 | E5: MÊS 2 | F5: MÊS 3 | G5: MÊS 4 | H5: MÊS 5 | I5: MÊS 6 | J5: MÊS 7 | K5: TOTAL
A6: 1 | B6: PROJETOS DOS ITENS PARAMÉTRICOS - ETAPA 1 | C6: ='Orçamento Sintético'!N6 -> 130592 | D6: 1 | K6: =SUM(D6:J6) -> 1
D7: =TRUNC($C$6*D6,2) -> 130592 | E7: =TRUNC($C$6*E6,2) -> 0 | I7: =TRUNC($C$6*I6,2) -> 0 | J7: =TRUNC($C$6*J6,2) -> 0 | K7: =SUM(D7:J7) -> 130592
A8: 2 | B8: ETAPA 1
A9: 2.1 | B9: SERVIÇOS PRELIMINARES | C9: ='Orçamento Sintético'!N13 -> 250656.9 | D9: 1 | K9: =SUM(D9:J9) -> 1
D10: =TRUNC($C$9*D9,2) -> 250656.9 | E10: =TRUNC($C$9*E9,2) -> 0 | F10: =TRUNC($C$9*F9,2) -> 0 | G10: =TRUNC($C$9*G9,2) -> 0 | H10: =TRUNC($C$9*H9,2) -> 0 | I10: =TRUNC($C$9*I9,2) -> 0 | J10: =TRUNC($C$9*J9,2) -> 0 | K10: =SUM(D10:J10) -> 250656.9
A11: 2.2 | B11: ADMINISTRAÇÃO E SERVIÇOS TÉCNICOS | C11: ='Orçamento Sintético'!N22 -> 1086597.4 | D11: 0.143 | E11: 0.143 | F11: 0.143 | G11: 0.143 | H11: 0.143 | I11: 0.143 | J11: 0.142 | K11: =SUM(D11:J11) -> 1
D12: =TRUNC($C$11*D11,2) -> 155383.42 | E12: =TRUNC($C$11*E11,2) -> 155383.42 | F12: =TRUNC($C$11*F11,2) -> 155383.42 | G12: =TRUNC($C$11*G11,2) -> 155383.42 | H12: =TRUNC($C$11*H11,2) -> 155383.42 | I12: =TRUNC($C$11*I11,2) -> 155383.42 | J12: =TRUNC($C$11*J11,2)+0.02 -> 154296.84 | K12: =SUM(D12:J12) -> 1086597.4
A13: 2.3 | B13: DEMOLIÇÕES E REMOÇÕES | C13: ='Orçamento Sintético'!N32 -> 443023.68 | D13: 1 | K13: =SUM(D13:J13) -> 1
D14: =TRUNC($C$13*D13,2) -> 443023.68 | E14: =TRUNC($C$13*E13,2) -> 0 | F14: =TRUNC($C$13*F13,2) -> 0 | G14: =TRUNC($C$13*G13,2) -> 0 | H14: =TRUNC($C$13*H13,2) -> 0 | I14: =TRUNC($C$13*I13,2) -> 0 | J14: =TRUNC($C$13*J13,2) -> 0 | K14: =SUM(D14:J14) -> 443023.68
A15: 2.4 | B15: INFRAESTRUTURA | C15: ='Orçamento Sintético'!N56 -> 36527.39 | D15: 0.5 | E15: 0.5 | K15: =SUM(D15:J15) -> 1
D16: =TRUNC($C$15*D15,2)+0.01 -> 18263.7 | E16: =TRUNC($C$15*E15,2) -> 18263.69 | F16: =TRUNC($C$15*F15,2) -> 0 | G16: =TRUNC($C$15*G15,2) -> 0 | H16: =TRUNC($C$15*H15,2) -> 0 | I16: =TRUNC($C$15*I15,2) -> 0 | J16: =TRUNC($C$15*J15,2) -> 0 | K16: =SUM(D16:J16) -> 36527.39
A17: 2.5 | B17: SUPRAESTRUTURA | C17: ='Orçamento Sintético'!N62 -> 2301768.7 | D17: 0.5 | E17: 0.5 | K17: =SUM(D17:J17) -> 1
D18: =TRUNC($C$17*D17,2) -> 1150884.4 | E18: =TRUNC($C$17*E17,2)+0.01 -> 1150884.4 | F18: =TRUNC($C$17*F17,2) -> 0 | G18: =TRUNC($C$17*G17,2) -> 0 | H18: =TRUNC($C$17*H17,2) -> 0 | I18: =TRUNC($C$17*I17,2) -> 0 | J18: =TRUNC($C$17*J17,2) -> 0 | K18: =SUM(D18:J18) -> 2301768.7
A19: 2.6 | B19: ALVENARIAS | C19: ='Orçamento Sintético'!N73 -> 510419.95 | D19: 0.25 | E19: 0.25 | F19: 0.5 | K19: =SUM(D19:J19) -> 1
D20: =TRUNC($C$19*D19,2) -> 127604.98 | E20: =TRUNC($C$19*E19,2)+0.01 -> 127604.99 | F20: =TRUNC($C$19*F19,2)+0.01 -> 255209.98 | G20: =TRUNC($C$19*G19,2) -> 0 | H20: =TRUNC($C$19*H19,2) -> 0 | I20: =TRUNC($C$19*I19,2) -> 0 | J20: =TRUNC($C$19*J19,2) -> 0 | K20: =SUM(D20:J20) -> 510419.95
A21: 2.7 | B21: IMPERMEABILIZAÇÃO | C21: ='Orçamento Sintético'!N78 -> 95436.95 | D21: 0.5 | E21: 0.5 | K21: =SUM(D21:J21) -> 1
D22: =TRUNC($C$21*D21,2) -> 47718.47 | E22: =TRUNC($C$21*E21,2)+0.01 -> 47718.48 | F22: =TRUNC($C$21*F21,2) -> 0 | G22: =TRUNC($C$21*G21,2) -> 0 | H22: =TRUNC($C$21*H21,2) -> 0 | I22: =TRUNC($C$21*I21,2) -> 0 | J22: =TRUNC($C$21*J21,2) -> 0 | K22: =SUM(D22:J22) -> 95436.95
A23: 2.8 | B23: COBERTURA | C23: ='Orçamento Sintético'!N82 -> 451697.08 | E23: 0.5 | F23: 0.5 | K23: =SUM(D23:J23) -> 1
D24: =TRUNC($C$23*D23,2) -> 0 | E24: =TRUNC($C$23*E23,2) -> 225848.54 | F24: =TRUNC($C$23*F23,2) -> 225848.54 | G24: =TRUNC($C$23*G23,2) -> 0 | H24: =TRUNC($C$23*H23,2) -> 0 | I24: =TRUNC($C$23*I23,2) -> 0 | J24: =TRUNC($C$23*J23,2) -> 0 | K24: =SUM(D24:J24) -> 451697.08
A25: 2.9 | B25: PAVIMENTAÇÃO | C25: ='Orçamento Sintético'!N90 -> 1038844.2 | F25: 0.25 | G25: 0.5 | H25: 0.25 | K25: =SUM(D25:J25) -> 1
D26: =TRUNC($C$25*D25,2) -> 0 | E26: =TRUNC($C$25*E25,2) -> 0 | F26: =TRUNC($C$25*F25,2) -> 259711.06 | G26: =TRUNC($C$25*G25,2) -> 519422.12 | H26: =TRUNC($C$25*H25,2) -> 259711.06 | I26: =TRUNC($C$25*I25,2) -> 0 | J26: =TRUNC($C$25*J25,2) -> 0 | K26: =SUM(D26:J26) -> 1038844.2
A27: 2.10 | B27: REVESTIMENTOS EXTERNOS | C27: ='Orçamento Sintético'!N104 -> 224015.78 | D27: 0.3 | E27: 0.3 | F27: 0.4 | K27: =SUM(D27:J27) -> 1
D28: =TRUNC($C$27*D27,2) -> 67204.73 | E28: =TRUNC($C$27*E27,2) -> 67204.73 | F28: =TRUNC($C$27*F27,2)+0.01 -> 89606.32 | G28: =TRUNC($C$27*G27,2) -> 0 | H28: =TRUNC($C$27*H27,2) -> 0 | I28: =TRUNC($C$27*I27,2) -> 0 | J28: =TRUNC($C$27*J27,2) -> 0 | K28: =SUM(D28:J28) -> 224015.78
A29: 2.11 | B29: REVESTIMENTOS INTERNOS | C29: ='Orçamento Sintético'!N108 -> 1257728 | E29: 0.3 | F29: 0.3 | G29: 0.3 | I29: 0.1 | K29: =SUM(D29:J29) -> 1
D30: =TRUNC($C$29*D29,2) -> 0 | E30: =TRUNC($C$29*E29,2) -> 377318.4 | F30: =TRUNC($C$29*F29,2) -> 377318.4 | G30: =TRUNC($C$29*G29,2) -> 377318.4 | H30: =TRUNC($C$29*H29,2) -> 0 | I30: =TRUNC($C$29*I29,2)+0.01 -> 125772.81 | J30: =TRUNC($C$29*J29,2) -> 0 | K30: =SUM(D30:J30) -> 1257728
A31: 2.12 | B31: PINTURA | C31: ='Orçamento Sintético'!N114 -> 208301.01 | G31: 0.3 | H31: 0.3 | I31: 0.3 | J31: 0.1 | K31: =SUM(D31:J31) -> 1
D32: =TRUNC($C$31*D31,2) -> 0 | E32: =TRUNC($C$31*E31,2) -> 0 | F32: =TRUNC($C$31*F31,2) -> 0 | G32: =TRUNC($C$31*G31,2) -> 62490.3 | H32: =TRUNC($C$31*H31,2) -> 62490.3 | I32: =TRUNC($C$31*I31,2) -> 62490.3 | J32: =TRUNC($C$31*J31,2)+0.01 -> 20830.11 | K32: =SUM(D32:J32) -> 208301.01
A33: 2.13 | B33: ESQUADRIAS | C33: ='Orçamento Sintético'!N121 -> 1832155.1 | H33: 0.25 | I33: 0.5 | J33: 0.25 | K33: =SUM(D33:J33) -> 1
D34: =TRUNC($C$33*D33,2) -> 0 | E34: =TRUNC($C$33*E33,2) -> 0 | F34: =TRUNC($C$33*F33,2) -> 0 | G34: =TRUNC($C$33*G33,2) -> 0 | H34: =TRUNC($C$33*H33,2) -> 458038.77 | I34: =TRUNC($C$33*I33,2) -> 916077.55 | J34: =TRUNC($C$33*J33,2)+0.01 -> 458038.78 | K34: =SUM(D34:J34) -> 1832155.1
A35: 2.14 | B35: RESERVATÓRIOS | C35: ='Orçamento Sintético'!N135 -> 41812.26 | I35: 1 | K35: =SUM(D35:J35) -> 1
D36: =TRUNC($C$35*D35,2) -> 0 | E36: =TRUNC($C$35*E35,2) -> 0 | F36: =TRUNC($C$35*F35,2) -> 0 | G36: =TRUNC($C$35*G35,2) -> 0 | H36: =TRUNC($C$35*H35,2) -> 0 | I36: =TRUNC($C$35*I35,2) -> 41812.26 | J36: =TRUNC($C$35*J35,2) -> 0 | K36: =SUM(D36:J36) -> 41812.26
A37: 2.15 | B37: LOUÇAS E METAIS | C37: ='Orçamento Sintético'!N137 -> 261466.01 | J37: 1 | K37: =SUM(D37:J37) -> 1
D38: =TRUNC($C$37*D37,2) -> 0 | E38: =TRUNC($C$37*E37,2) -> 0 | F38: =TRUNC($C$37*F37,2) -> 0 | G38: =TRUNC($C$37*G37,2) -> 0 | H38: =TRUNC($C$37*H37,2) -> 0 | I38: =TRUNC($C$37*I37,2) -> 0 | J38: =TRUNC($C$37*J37,2) -> 261466.01 | K38: =SUM(D38:J38) -> 261466.01
A39: 2.16 | B39: FORRO | C39: ='Orçamento Sintético'!N153 -> 426725.67 | I39: 0.5 | J39: 0.5 | K39: =SUM(D39:J39) -> 1
D40: =TRUNC($C$39*D39,2) -> 0 | E40: =TRUNC($C$39*E39,2) -> 0 | F40: =TRUNC($C$39*F39,2) -> 0 | G40: =TRUNC($C$39*G39,2) -> 0 | H40: =TRUNC($C$39*H39,2) -> 0 | I40: =TRUNC($C$39*I39,2) -> 213362.83 | J40: =TRUNC($C$39*J39,2)+0.01 -> 213362.84 | K40: =SUM(D40:J40) -> 426725.67
A41: 2.17 | B41: EQUIPAMENTOS | C41: ='Orçamento Sintético'!N156 -> 515241.35 | J41: 1 | K41: =SUM(D41:J41) -> 1
D42: =TRUNC($C$41*D41,2) -> 0 | E42: =TRUNC($C$41*E41,2) -> 0 | F42: =TRUNC($C$41*F41,2) -> 0 | G42: =TRUNC($C$41*G41,2) -> 0 | H42: =TRUNC($C$41*H41,2) -> 0 | I42: =TRUNC($C$41*I41,2) -> 0 | J42: =TRUNC($C$41*J41,2) -> 515241.35 | K42: =SUM(D42:J42) -> 515241.35
A43: 2.18 | B43: INSTALAÇÕES CLIMATIZAÇÃO | C43: ='Orçamento Sintético'!N161 -> 1478670.9 | F43: 0.2 | G43: 0.4 | H43: 0.3 | I43: 0.1 | K43: =SUM(D43:J43) -> 1
D44: =TRUNC($C$43*D43,2) -> 0 | E44: =TRUNC($C$43*E43,2) -> 0 | F44: =TRUNC($C$43*F43,2) -> 295734.18 | G44: =TRUNC($C$43*G43,2) -> 591468.36 | H44: =TRUNC($C$43*H43,2)+0.01 -> 443601.28 | I44: =TRUNC($C$43*I43,2)+0.01 -> 147867.1 | J44: =TRUNC($C$43*J43,2) -> 0 | K44: =SUM(D44:J44) -> 1478670.9
A45: 2.19 | B45: INSTALAÇÕES ELÉTRICAS E SPDA | C45: ='Orçamento Sintético'!N163 -> 2578896.3 | F45: 0.2 | G45: 0.2 | H45: 0.2 | I45: 0.2 | J45: 0.2 | K45: =SUM(D45:J45) -> 1
D46: =TRUNC($C$45*D45,2) -> 0 | E46: =TRUNC($C$45*E45,2) -> 0 | F46: =TRUNC($C$45*F45,2) -> 515779.25 | G46: =TRUNC($C$45*G45,2) -> 515779.25 | H46: =TRUNC($C$45*H45,2) -> 515779.25 | I46: =TRUNC($C$45*I45,2)+0.01 -> 515779.26 | J46: =TRUNC($C$45*J45,2)+0.01 -> 515779.26 | K46: =SUM(D46:J46) -> 2578896.3
A47: 2.20 | B47: INSTALAÇÕES PLUVIAIS | C47: ='Orçamento Sintético'!N165 -> 316642.3 | D47: 0.25 | E47: 0.25 | F47: 0.25 | G47: 0.25 | K47: =SUM(D47:J47) -> 1
D48: =TRUNC($C$47*D47,2) -> 79160.57 | E48: =TRUNC($C$47*E47,2)+0.01 -> 79160.58 | F48: =TRUNC($C$47*F47,2)+0.01 -> 79160.58 | G48: =TRUNC($C$47*G47,2) -> 79160.57 | H48: =TRUNC($C$47*H47,2) -> 0 | I48: =TRUNC($C$47*I47,2) -> 0 | J48: =TRUNC($C$47*J47,2) -> 0 | K48: =SUM(D48:J48) -> 316642.3
A49: 2.21 | B49: INSTALAÇÕES PPCI | C49: ='Orçamento Sintético'!N167 -> 363385.22 | F49: 0.75 | I49: 0.25 | K49: =SUM(D49:J49) -> 1
D50: =TRUNC($C$49*D49,2) -> 0 | E50: =TRUNC($C$49*E49,2) -> 0 | F50: =TRUNC($C$49*F49,2) -> 272538.91 | G50: =TRUNC($C$49*G49,2) -> 0 | H50: =TRUNC($C$49*H49,2) -> 0 | I50: =TRUNC($C$49*I49,2)+0.01 -> 90846.31 | J50: =TRUNC($C$49*J49,2) -> 0 | K50: =SUM(D50:J50) -> 363385.22
A51: 2.22 | B51: INSTALAÇÕES HIDROSSANITÁRIO (ESGOTO, ÁGUA FRIA) | C51: ='Orçamento Sintético'!N169 -> 828631.08 | D51: 0.25 | E51: 0.25 | F51: 0.25 | G51: 0.25 | K51: =SUM(D51:J51) -> 1
D52: =TRUNC($C$51*D51,2) -> 207157.77 | E52: =TRUNC($C$51*E51,2) -> 207157.77 | F52: =TRUNC($C$51*F51,2) -> 207157.77 | G52: =TRUNC($C$51*G51,2) -> 207157.77 | H52: =TRUNC($C$51*H51,2) -> 0 | I52: =TRUNC($C$51*I51,2) -> 0 | J52: =TRUNC($C$51*J51,2) -> 0 | K52: =SUM(D52:J52) -> 828631.08
A53: 2.23 | B53: INSTALAÇÕES GÁS | C53: ='Orçamento Sintético'!N171 -> 49264.01 | E53: 0.25 | F53: 0.25 | G53: 0.5 | K53: =SUM(D53:J53) -> 1
D54: =TRUNC($C$53*D53,2) -> 0 | E54: =TRUNC($C$53*E53,2) -> 12316 | F54: =TRUNC($C$53*F53,2) -> 12316 | G54: =TRUNC($C$53*G53,2)+0.01 -> 24632.01 | H54: =TRUNC($C$53*H53,2) -> 0 | I54: =TRUNC($C$53*I53,2) -> 0 | J54: =TRUNC($C$53*J53,2) -> 0 | K54: =SUM(D54:J54) -> 49264.01
A55: 2.24 | B55: SERVIÇOS FINAIS | C55: ='Orçamento Sintético'!N173 -> 687770.04 | H55: 0.5 | J55: 0.5 | K55: =SUM(D55:J55) -> 1
D56: =TRUNC($C$55*D55,2) -> 0 | E56: =TRUNC($C$55*E55,2) -> 0 | F56: =TRUNC($C$55*F55,2) -> 0 | G56: =TRUNC($C$55*G55,2) -> 0 | H56: =TRUNC($C$55*H55,2) -> 343885.02 | I56: =TRUNC($C$55*I55,2) -> 0 | J56: =TRUNC($C$55*J55,2) -> 343885.02 | K56: =SUM(D56:J56) -> 687770.04
B57: TOTAL GLOBAL | C57: =SUM(C6:C56) -> 17416269
C59: MENSAL (%) | D59: =D60/$C$57 -> 0.15374421 | E59: =E60/$C$57 -> 0.14175602 | F59: =F60/$C$57 -> 0.15765514 | G59: =G60/$C$57 -> 0.14542794 | H59: =H60/$C$57 -> 0.12855159 | I59: =I60/$C$57 -> 0.13030298 | J59: =J60/$C$57 -> 0.14256212
C60: MENSAL (R$) | D60: =SUM(D7,D10,D12,D14,D16,D18,D20,D22,D24,D26,D28,D30,D32,D34,D36,D38,D40,D42,D44,D48,D46,D50,D52,D54,D56) -> 2677650.6 | E60: =SUM(E7,E10,E12,E14,E16,E18,E20,E22,E24,E26,E28,E30,E32,E34,E36,E38,E40,E42,E44,E48,E46,E50,E52,E54,E56) -> 2468861 | F60: =SUM(F7,F10,F12,F14,F16,F18,F20,F22,F24,F26,F28,F30,F32,F34,F36,F38,F40,F42,F44,F48,F46,F50,F52,F54,F56) -> 2745764.4 | G60: =SUM(G7,G10,G12,G14,G16,G18,G20,G22,G24,G26,G28,G30,G32,G34,G36,G38,G40,G42,G44,G48,G46,G50,G52,G54,G56) -> 2532812.2 | H60: =SUM(H7,H10,H12,H14,H16,H18,H20,H22,H24,H26,H28,H30,H32,H34,H36,H38,H40,H42,H44,H48,H46,H50,H52,H54,H56) -> 2238889.1 | I60: =SUM(I7,I10,I12,I14,I16,I18,I20,I22,I24,I26,I28,I30,I32,I34,I36,I38,I40,I42,I44,I48,I46,I50,I52,I54,I56) -> 2269391.8 | J60: =SUM(J7,J10,J12,J14,J16,J18,J20,J22,J24,J26,J28,J30,J32,J34,J36,J38,J40,J42,J44,J48,J46,J50,J52,J54,J56) -> 2482900.2
C61: ACUMULADO (%) | D61: =D62/$C$57 -> 0.15374421 | E61: =E62/$C$57 -> 0.29550023 | F61: =F62/$C$57 -> 0.45315537 | G61: =G62/$C$57 -> 0.59858331 | H61: =H62/$C$57 -> 0.7271349 | I61: =I62/$C$57 -> 0.85743788 | J61: =J62/$C$57 -> 1
C62: ACUMULADO (R$) | D62: =D60 -> 2677650.6 | E62: =D62+E60 -> 5146511.5 | F62: =E62+F60 -> 7892275.9 | G62: =F62+G60 -> 10425088 | H62: =G62+H60 -> 12663977 | I62: =H62+I60 -> 14933369 | J62: =I62+J60 -> 17416269
K64: Estrela/RS, 21 de julho de 2026
E67: _________________________________________________ ENG° MATHEUS PETTER BARTH Setor de Engenharia | I67: _____________________________ ARQ° FREDERICO ROMALDO ELY BIRKHOLZ Setor de Engenharia

Sheet Eventograma
A1: PREFEITURA MUNICIPAL DE ESTRELA/RS
A2: REVITALIZAÇÃO DO PRÉDIO DA POLAR
A3: EVENTOGRAMA - 7 MESES
A5: EVENTO | B5: DESCRIÇÃO | C5: Nº ITEM DO ORÇAMENTO | D5: SERVIÇOS VINCULADOS | E5: MARCO FÍSICO | F5: MÊS 01 | G5: MÊS 02 | H5: MÊS 03 | I5: MÊS 04 | J5: MÊS 05 | K5: MÊS 06 | L5: MÊS 07 | M5: TOTAL DO EVENTO
A6: 1 | B6: Projetos executivos dos itens paramétricos | C6: 1 | D6: Projetos estrutural, instalações elétricas e SPDA, hidrossanitário, PPCI e reforço/recuperação estrutural com laudo de estabilidade. | E6: Projetos executivos da Etapa 1 entregues, compatibilizados e aptos à execução. | F6: =CRONOGRAMA!D7 -> 130592 | G6: =CRONOGRAMA!E7 -> 0 | H6: =CRONOGRAMA!F7 -> 0 | I6: =CRONOGRAMA!G7 -> 0 | J6: =CRONOGRAMA!H7 -> 0 | K6: =CRONOGRAMA!I7 -> 0 | L6: =CRONOGRAMA!J7 -> 0 | M6: ='Orçamento Sintético'!N6 -> 130592
A7: 2 | B7: Implantação, preliminares, demolições e infraestrutura inicial | C7: 2.1;2.3;2.4 | D7: Placa, tapumes, andaimes, tela fachadeira, linhas de vida, limpeza, demolições, remoções, escavações, formas, armaduras e concretagem de sapatas. | E7: Obra implantada, canteiro protegido, demolições executadas e infraestrutura inicial concluída. | F7: =CRONOGRAMA!D10+CRONOGRAMA!D14+CRONOGRAMA!D16 -> 711944.28 | G7: =CRONOGRAMA!E10+CRONOGRAMA!E14+CRONOGRAMA!E16 -> 18263.69 | H7: =CRONOGRAMA!F10+CRONOGRAMA!F14+CRONOGRAMA!F16 -> 0 | I7: =CRONOGRAMA!G10+CRONOGRAMA!G14+CRONOGRAMA!G16 -> 0 | J7: =CRONOGRAMA!H10+CRONOGRAMA!H14+CRONOGRAMA!H16 -> 0 | K7: =CRONOGRAMA!I10+CRONOGRAMA!I14+CRONOGRAMA!I16 -> 0 | L7: =CRONOGRAMA!J10+CRONOGRAMA!J14+CRONOGRAMA!J16 -> 0 | M7: ='Orçamento Sintético'!N13+'Orçamento Sintético'!N32+'Orçamento Sintético'!N56 -> 730207.97
A8: 3 | B8: Administração local e serviços técnicos | C8: 2.2 | D8: Engenheiro civil sênior, engenheiro pleno, auxiliar técnico, mestre de obras, encarregado, almoxarife, ajudante especializado e técnico de segurança. | E8: Administração técnica da obra executada proporcionalmente ao avanço físico previsto. | F8: =CRONOGRAMA!D12 -> 155383.42 | G8: =CRONOGRAMA!E12 -> 155383.42 | H8: =CRONOGRAMA!F12 -> 155383.42 | I8: =CRONOGRAMA!G12 -> 155383.42 | J8: =CRONOGRAMA!H12 -> 155383.42 | K8: =CRONOGRAMA!I12 -> 155383.42 | L8: =CRONOGRAMA!J12 -> 154296.84 | M8: ='Orçamento Sintético'!N22 -> 1086597.4
A9: 4 | B9: Supraestrutura e impermeabilizações iniciais | C9: 2.5;2.7 | D9: Formas, armaduras e concretagens de pilares, vigas, lajes e escadas; impermeabilização com manta/emulsão asfáltica e proteção mecânica. | E9: Estrutura principal executada e áreas previstas impermeabilizadas. | F9: =CRONOGRAMA!D18+CRONOGRAMA!D22 -> 1198602.8 | G9: =CRONOGRAMA!E18+CRONOGRAMA!E22 -> 1198602.8 | H9: =CRONOGRAMA!F18+CRONOGRAMA!F22 -> 0 | I9: =CRONOGRAMA!G18+CRONOGRAMA!G22 -> 0 | J9: =CRONOGRAMA!H18+CRONOGRAMA!H22 -> 0 | K9: =CRONOGRAMA!I18+CRONOGRAMA!I22 -> 0 | L9: =CRONOGRAMA!J18+CRONOGRAMA!J22 -> 0 | M9: ='Orçamento Sintético'!N62+'Orçamento Sintético'!N78 -> 2397205.7
A10: 5 | B10: Alvenarias, divisórias e fechamentos internos | C10: 2.6 | D10: Paredes em drywall, divisórias sanitárias, alvenaria estrutural e alvenaria de vedação. | E10: Fechamentos e compartimentações principais executados. | F10: =CRONOGRAMA!D20 -> 127604.98 | G10: =CRONOGRAMA!E20 -> 127604.99 | H10: =CRONOGRAMA!F20 -> 255209.98 | I10: =CRONOGRAMA!G20 -> 0 | J10: =CRONOGRAMA!H20 -> 0 | K10: =CRONOGRAMA!I20 -> 0 | L10: =CRONOGRAMA!J20 -> 0 | M10: ='Orçamento Sintético'!N73 -> 510419.95
A11: 6 | B11: Cobertura | C11: 2.8 | D11: Estrutura de madeira/aço, terças, tesouras, telhamento termoacústico, calhas e rufos. | E11: Cobertura executada e arrematada, com proteção superior da edificação concluída. | F11: =CRONOGRAMA!D24 -> 0 | G11: =CRONOGRAMA!E24 -> 225848.54 | H11: =CRONOGRAMA!F24 -> 225848.54 | I11: =CRONOGRAMA!G24 -> 0 | J11: =CRONOGRAMA!H24 -> 0 | K11: =CRONOGRAMA!I24 -> 0 | L11: =CRONOGRAMA!J24 -> 0 | M11: ='Orçamento Sintético'!N82 -> 451697.08
A12: 7 | B12: Revestimentos externos | C12: 2.10 | D12: Chapisco, emboço/massa única e massa acrílica em fachadas. | E12: Fachadas preparadas e revestimentos externos concluídos. | F12: =CRONOGRAMA!D28 -> 67204.73 | G12: =CRONOGRAMA!E28 -> 67204.73 | H12: =CRONOGRAMA!F28 -> 89606.32 | I12: =CRONOGRAMA!G28 -> 0 | J12: =CRONOGRAMA!H28 -> 0 | K12: =CRONOGRAMA!I28 -> 0 | L12: =CRONOGRAMA!J28 -> 0 | M12: ='Orçamento Sintético'!N104 -> 224015.78
A13: 8 | B13: Revestimentos internos | C13: 2.11 | D13: Chapisco, emboço/massa única, massa projetada, revestimentos cerâmicos internos e revestimento em granito. | E13: Revestimentos internos concluídos e bases prontas para acabamento final. | F13: =CRONOGRAMA!D30 -> 0 | G13: =CRONOGRAMA!E30 -> 377318.4 | H13: =CRONOGRAMA!F30 -> 377318.4 | I13: =CRONOGRAMA!G30 -> 377318.4 | J13: =CRONOGRAMA!H30 -> 0 | K13: =CRONOGRAMA!I30 -> 125772.81 | L13: =CRONOGRAMA!J30 -> 0 | M13: ='Orçamento Sintético'!N108 -> 1257728
A14: 9 | B14: Instalações hidrossanitárias, pluviais e gás | C14: 2.20;2.22;2.23 | D14: Instalações pluviais, esgoto, água fria e gás, incluindo redes, tubulações, conexões e complementos. | E14: Redes hidrossanitárias, pluviais e gás executadas e passíveis de conferência. | F14: =CRONOGRAMA!D48+CRONOGRAMA!D52+CRONOGRAMA!D54 -> 286318.34 | G14: =CRONOGRAMA!E48+CRONOGRAMA!E52+CRONOGRAMA!E54 -> 298634.35 | H14: =CRONOGRAMA!F48+CRONOGRAMA!F52+CRONOGRAMA!F54 -> 298634.35 | I14: =CRONOGRAMA!G48+CRONOGRAMA!G52+CRONOGRAMA!G54 -> 310950.35 | J14: =CRONOGRAMA!H48+CRONOGRAMA!H52+CRONOGRAMA!H54 -> 0 | K14: =CRONOGRAMA!I48+CRONOGRAMA!I52+CRONOGRAMA!I54 -> 0 | L14: =CRONOGRAMA!J48+CRONOGRAMA!J52+CRONOGRAMA!J54 -> 0 | M14: ='Orçamento Sintético'!N165+'Orçamento Sintético'!N169+'Orçamento Sintético'!N171 -> 1194537.4
A15: 10 | B15: Pavimentações, pisos, soleiras e podotáteis | C15: 2.9 | D15: Porcelanato, piso elevado, piso basalto, passeios, placas pré-fabricadas, grama sintética, rodapés, peitoris, soleiras e podotáteis. | E15: Pisos internos, passeios, rodapés, soleiras, peitoris e podotáteis executados. | F15: =CRONOGRAMA!D26 -> 0 | G15: =CRONOGRAMA!E26 -> 0 | H15: =CRONOGRAMA!F26 -> 259711.06 | I15: =CRONOGRAMA!G26 -> 519422.12 | J15: =CRONOGRAMA!H26 -> 259711.06 | K15: =CRONOGRAMA!I26 -> 0 | L15: =CRONOGRAMA!J26 -> 0 | M15: ='Orçamento Sintético'!N90 -> 1038844.2
A16: 11 | B16: Instalações de climatização | C16: 2.18 | D16: Execução das instalações de climatização e infraestrutura vinculada. | E16: Sistema de climatização instalado conforme avanço físico previsto. | F16: =CRONOGRAMA!D44 -> 0 | G16: =CRONOGRAMA!E44 -> 0 | H16: =CRONOGRAMA!F44 -> 295734.18 | I16: =CRONOGRAMA!G44 -> 591468.36 | J16: =CRONOGRAMA!H44 -> 443601.28 | K16: =CRONOGRAMA!I44 -> 147867.1 | L16: =CRONOGRAMA!J44 -> 0 | M16: ='Orçamento Sintético'!N161 -> 1478670.9
A17: 12 | B17: Instalações elétricas, SPDA e PPCI | C17: 2.19;2.21 | D17: Instalações elétricas, SPDA, quadros, cabos, tomadas, iluminação, telefonia/comunicações vinculadas e instalações PPCI. | E17: Sistemas elétricos, SPDA e PPCI executados, testáveis e compatíveis com os projetos. | F17: =CRONOGRAMA!D46+CRONOGRAMA!D50 -> 0 | G17: =CRONOGRAMA!E46+CRONOGRAMA!E50 -> 0 | H17: =CRONOGRAMA!F46+CRONOGRAMA!F50 -> 788318.16 | I17: =CRONOGRAMA!G46+CRONOGRAMA!G50 -> 515779.25 | J17: =CRONOGRAMA!H46+CRONOGRAMA!H50 -> 515779.25 | K17: =CRONOGRAMA!I46+CRONOGRAMA!I50 -> 606625.57 | L17: =CRONOGRAMA!J46+CRONOGRAMA!J50 -> 515779.26 | M17: ='Orçamento Sintético'!N163+'Orçamento Sintético'!N167 -> 2942281.5
A18: 13 | B18: Pintura | C18: 2.12 | D18: Pintura anticorrosiva, fundo selador, pintura acrílica em paredes/tetos, imunizante para madeira e emassamento. | E18: Pinturas internas, externas e tratamentos de superfícies concluídos. | F18: =CRONOGRAMA!D32 -> 0 | G18: =CRONOGRAMA!E32 -> 0 | H18: =CRONOGRAMA!F32 -> 0 | I18: =CRONOGRAMA!G32 -> 62490.3 | J18: =CRONOGRAMA!H32 -> 62490.3 | K18: =CRONOGRAMA!I32 -> 62490.3 | L18: =CRONOGRAMA!J32 -> 20830.11 | M18: ='Orçamento Sintético'!N114 -> 208301.01
A19: 14 | B19: Esquadrias, vidros, guarda-corpos e corrimãos | C19: 2.13 | D19: Portas, janelas, vidros laminados, guarda-corpos, corrimãos, barras antipânico e esquadrias de alumínio/ferro. | E19: Edificação fechada, protegida e com elementos de segurança instalados. | F19: =CRONOGRAMA!D34 -> 0 | G19: =CRONOGRAMA!E34 -> 0 | H19: =CRONOGRAMA!F34 -> 0 | I19: =CRONOGRAMA!G34 -> 0 | J19: =CRONOGRAMA!H34 -> 458038.77 | K19: =CRONOGRAMA!I34 -> 916077.55 | L19: =CRONOGRAMA!J34 -> 458038.78 | M19: ='Orçamento Sintético'!N121 -> 1832155.1
A20: 15 | B20: Reservatórios, louças/metais, forro e equipamentos | C20: 2.14;2.15;2.16;2.17 | D20: Caixas d'água, louças e metais sanitários, forros e equipamentos previstos para a Etapa 1. | E20: Reservação, sanitários, forros e equipamentos instalados. | F20: =CRONOGRAMA!D36+CRONOGRAMA!D38+CRONOGRAMA!D40+CRONOGRAMA!D42 -> 0 | G20: =CRONOGRAMA!E36+CRONOGRAMA!E38+CRONOGRAMA!E40+CRONOGRAMA!E42 -> 0 | H20: =CRONOGRAMA!F36+CRONOGRAMA!F38+CRONOGRAMA!F40+CRONOGRAMA!F42 -> 0 | I20: =CRONOGRAMA!G36+CRONOGRAMA!G38+CRONOGRAMA!G40+CRONOGRAMA!G42 -> 0 | J20: =CRONOGRAMA!H36+CRONOGRAMA!H38+CRONOGRAMA!H40+CRONOGRAMA!H42 -> 0 | K20: =CRONOGRAMA!I36+CRONOGRAMA!I38+CRONOGRAMA!I40+CRONOGRAMA!I42 -> 255175.09 | L20: =CRONOGRAMA!J36+CRONOGRAMA!J38+CRONOGRAMA!J40+CRONOGRAMA!J42 -> 990070.2 | M20: ='Orçamento Sintético'!N135+'Orçamento Sintético'!N137+'Orçamento Sintético'!N153+'Orçamento Sintético'!N156 -> 1245245.3
A21: 16 | B21: Serviços finais | C21: 2.24 | D21: Serviços finais, acabamentos complementares, arremates, limpeza e entrega operacional. | E21: Obra finalizada, limpa, conferida e pronta para recebimento. | F21: =CRONOGRAMA!D56 -> 0 | G21: =CRONOGRAMA!E56 -> 0 | H21: =CRONOGRAMA!F56 -> 0 | I21: =CRONOGRAMA!G56 -> 0 | J21: =CRONOGRAMA!H56 -> 343885.02 | K21: =CRONOGRAMA!I56 -> 0 | L21: =CRONOGRAMA!J56 -> 343885.02 | M21: ='Orçamento Sintético'!N173 -> 687770.04
A24: RESUMO DO EVENTOGRAMA | F24: MÊS 1 | G24: MÊS 2 | H24: MÊS 3 | I24: MÊS 4 | J24: MÊS 5 | K24: MÊS 6 | L24: MÊS 7 | M24: TOTAL
E25: Porcentagem mensal | F25: =F26/$M$26 -> 0.15374421 | G25: =G26/$M$26 -> 0.14175602 | H25: =H26/$M$26 -> 0.15765514 | I25: =I26/$M$26 -> 0.14542794 | J25: =J26/$M$26 -> 0.12855159 | K25: =K26/$M$26 -> 0.13030298 | L25: =L26/$M$26 -> 0.14256212 | M25: =SUM(F25:L25) -> 1
E26: Valor mensal | F26: =SUM(F6:F21) -> 2677650.6 | G26: =SUM(G6:G21) -> 2468861 | H26: =SUM(H6:H21) -> 2745764.4 | I26: =SUM(I6:I21) -> 2532812.2 | J26: =SUM(J6:J21) -> 2238889.1 | K26: =SUM(K6:K21) -> 2269391.8 | L26: =SUM(L6:L21) -> 2482900.2 | M26: =SUM(M6:M21) -> 17416269
E27: Porcentagem acumulada | F27: =F28/$M$26 -> 0.15374421 | G27: =G28/$M$26 -> 0.29550023 | H27: =H28/$M$26 -> 0.29941116 | I27: =I28/$M$26 -> 0.30308308 | J27: =J28/$M$26 -> 0.27397953 | K27: =K28/$M$26 -> 0.25885457 | L27: =L28/$M$26 -> 0.2728651 | M27: =L27 -> 0.2728651
E28: Valor acumulado | F28: =F26 -> 2677650.6 | G28: =F26+G26 -> 5146511.5 | H28: =G26+H26 -> 5214625.4 | I28: =H26+I26 -> 5278576.6 | J28: =I26+J26 -> 4771701.3 | K28: =J26+K26 -> 4508280.9 | L28: =K26+L26 -> 4752292 | M28: =M26 -> 17416269
L30: Estrela/RS, 21 de julho de 2026
A32: _______________________________________________ ENG° MATHEUS PETTER BARTH Setor de Engenharia | F32: _______________________________________________ ARQ° FREDERICO ROMALDO ELY BIRKHOLZ Setor de Engenharia
