Workbook

Sheet Orçamento Sintético
D1: Obra | E1: Bancos | I1: B.D.I. | L1: Encargos Sociais
D2: REVITALIZAÇÃO PRÉDIO DA POLAR | E2: SINAPI - 03/2026 - Rio Grande do Sul | I2: 25,0% - COMPOSIÇÕES - MAT + M.O. (EM VERDE) 15,0% - INSUMOS - SOMENTE MAT. (EM AMARELO) | L2: Desonerado: Horista: 0,00% Mensalista: 46,32%
A3: Planilha Orçamentária Sintética Com Valor do Material e da Mão de Obra
A4: Item | B4: Código | C4: Banco | D4: Descrição | E4: Und | F4: Quant. | G4: Valor Unit | H4: BDI | I4: Valor Unit com BDI | L4: Total | O4: Peso (%) | Q4: 9406.96
I5: M. O. | J5: MAT. | K5: Total | L5: M. O. | M5: MAT. | N5: Total | Q5: =58000-Q4 -> 48593.04
A6: 1.1 | D6: PROJETOS DOS ITENS PARAMÉTRICOS - ETAPA 1 | N6: =SUM(N7:N11) -> 130592 | O6: =N6/$N$176 -> 0.0074982763 | Q6: TRUNC TOTAL | S6: TRUNC BDI | U6: MAT + MO | W6: MAT + MO
A7: 1.1.1 | B7: 90778 | C7: SINAPI | D7: ENGENHEIRO CIVIL - PROJETO ESTRUTURAL | E7: H | F7: 220 | G7: 135.68 | H7: 0.25 | I7: 164.19 | J7: 5.41 | K7: 169.6 | L7: =TRUNC(F7*I7,2) -> 36121.8 | M7: =N7-L7 -> 1190.2 | N7: =TRUNC(K7*F7,2) -> 37312 | O7: =N7/$N$176 -> 0.0021423647 | Q7: =TRUNC(K7*F7,2) -> 37312 | R7: =Q7=N7 -> TRUE | S7: =TRUNC(G7*1.25,2) -> 169.6 | T7: =S7=K7 -> TRUE | U7: =L7+M7 -> 37312 | V7: =U7=N7 -> TRUE | W7: =I7+J7 -> 169.6 | X7: =W7=K7 -> TRUE
A8: 1.1.2 | B8: 90778 | C8: SINAPI | D8: ENGENHEIRO ELETRICISTA - PROJETO INSTALAÇÕES ELÉTRICAS E SPDA | E8: H | F8: 160 | G8: 135.68 | H8: 0.25 | I8: 164.19 | J8: 5.41 | K8: 169.6 | L8: =TRUNC(F8*I8,2) -> 26270.4 | M8: =N8-L8 -> 865.6 | N8: =TRUNC(K8*F8,2) -> 27136 | O8: =N8/$N$176 -> 0.0015580834 | Q8: =TRUNC(K8*F8,2) -> 27136 | R8: =Q8=N8 -> TRUE | S8: =TRUNC(G8*1.25,2) -> 169.6 | T8: =S8=K8 -> TRUE | U8: =L8+M8 -> 27136 | V8: =U8=N8 -> TRUE | W8: =I8+J8 -> 169.6 | X8: =W8=K8 -> TRUE
A9: 1.1.3 | B9: 90778 | C9: SINAPI | D9: ENGENHEIRO CIVIL - PROJETO HIDROSSANITÁRIO | E9: H | F9: 160 | G9: 135.68 | H9: 0.25 | I9: 164.19 | J9: 5.41 | K9: 169.6 | L9: =TRUNC(F9*I9,2) -> 26270.4 | M9: =N9-L9 -> 865.6 | N9: =TRUNC(K9*F9,2) -> 27136 | O9: =N9/$N$176 -> 0.0015580834 | Q9: =TRUNC(K9*F9,2) -> 27136 | R9: =Q9=N9 -> TRUE | S9: =TRUNC(G9*1.25,2) -> 169.6 | T9: =S9=K9 -> TRUE | U9: =L9+M9 -> 27136 | V9: =U9=N9 -> TRUE | W9: =I9+J9 -> 169.6 | X9: =W9=K9 -> TRUE
A10: 1.1.4 | B10: 90778 | C10: SINAPI | D10: ENGENHEIRO CIVIL - PROJETO PPCI | E10: H | F10: 100 | G10: 135.68 | H10: 0.25 | I10: 164.19 | J10: 5.41 | K10: 169.6 | L10: =TRUNC(F10*I10,2) -> 16419 | M10: =N10-L10 -> 541 | N10: =TRUNC(K10*F10,2) -> 16960 | O10: =N10/$N$176 -> 0.00097380212 | Q10: =TRUNC(K10*F10,2) -> 16960 | R10: =Q10=N10 -> TRUE | S10: =TRUNC(G10*1.25,2) -> 169.6 | T10: =S10=K10 -> TRUE | U10: =L10+M10 -> 16960 | V10: =U10=N10 -> TRUE | W10: =I10+J10 -> 169.6 | X10: =W10=K10 -> TRUE
A11: 1.1.5 | B11: 90778 | C11: SINAPI | D11: ENGENHEIRO CIVIL - PROJETO DE REFORÇO E RECUPERAÇÃO ESTRUTURAL + LAUDO DE ESTABILIDADE | E11: H | F11: 130 | G11: 135.68 | H11: 0.25 | I11: 164.19 | J11: 5.41 | K11: 169.6 | L11: =TRUNC(F11*I11,2) -> 21344.7 | M11: =N11-L11 -> 703.3 | N11: =TRUNC(K11*F11,2) -> 22048 | O11: =N11/$N$176 -> 0.0012659428 | Q11: =TRUNC(K11*F11,2) -> 22048 | R11: =Q11=N11 -> TRUE | S11: =TRUNC(G11*1.25,2) -> 169.6 | T11: =S11=K11 -> TRUE | U11: =L11+M11 -> 22048 | V11: =U11=N11 -> TRUE | W11: =I11+J11 -> 169.6 | X11: =W11=K11 -> TRUE
A12: 2 | D12: ETAPA 1 | N12: =N13+N22+N32+N56+N62+N73+N78+N82+N90+N104+N108+N114+N121+N135+N137+N153+N156+N161+N163+N165+N167+N169+N171+N173 -> 17285677 | O12: =N12/$N$176 -> 0.99250172
A13: 2.1 | D13: SERVIÇOS PRELIMINARES | N13: =SUM(N14:N21) -> 250656.9 | O13: =N13/$N$176 -> 0.014392112
A14: 2.1.1 | B14: 103689 | C14: SINAPI | D14: FORNECIMENTO E INSTALAÇÃO DE PLACA DE OBRA COM CHAPA GALVANIZADA E ESTRUTURA DE MADEIRA. AF_03/2022_PS | E14: m² | F14: 6 | G14: 493.03 | H14: 0.25 | I14: 39.55 | J14: 576.73 | K14: 616.28 | L14: 237.3 | M14: 3460.38 | N14: 3697.68 | O14: =N14/$N$176 -> 0.00021231183 | Q14: =TRUNC(K14*F14,2) -> 3697.68 | R14: =Q14=N14 -> TRUE | S14: =TRUNC(G14*1.25,2) -> 616.28 | T14: =S14=K14 -> TRUE | U14: =L14+M14 -> 3697.68 | V14: =U14=N14 -> TRUE | W14: =I14+J14 -> 616.28 | X14: =W14=K14 -> TRUE
A15: 2.1.2 | B15: 97063 | C15: SINAPI | D15: MONTAGEM E DESMONTAGEM DE ANDAIME MODULAR FACHADEIRO, COM PISO METÁLICO, PARA EDIFÍCIOS COM MULTIPLOS PAVIMENTOS (EXCLUSIVE ANDAIME E LIMPEZA). AF_03/2024 | E15: m² | F15: 2425 | G15: 21.08 | H15: 0.25 | I15: 20.88 | J15: 5.47 | K15: 26.35 | L15: 50634 | M15: 13264.75 | N15: 63898.75 | O15: =N15/$N$176 -> 0.0036689115 | Q15: =TRUNC(K15*F15,2) -> 63898.75 | R15: =Q15=N15 -> TRUE | S15: =TRUNC(G15*1.25,2) -> 26.35 | T15: =S15=K15 -> TRUE | U15: =L15+M15 -> 63898.75 | V15: =U15=N15 -> TRUE | W15: =I15+J15 -> 26.35 | X15: =W15=K15 -> TRUE
A16: 2.1.3 | B16: 98459 | C16: SINAPI | D16: TAPUME COM TELHA METÁLICA. AF_03/2024 | E16: m² | F16: 270 | G16: 79.7 | H16: 0.25 | I16: 32.7 | J16: 66.92 | K16: 99.62 | L16: 8829 | M16: 18068.4 | N16: 26897.4 | O16: =N16/$N$176 -> 0.0015443836 | Q16: =TRUNC(K16*F16,2) -> 26897.4 | R16: =Q16=N16 -> TRUE | S16: =TRUNC(G16*1.25,2) -> 99.62 | T16: =S16=K16 -> TRUE | U16: =L16+M16 -> 26897.4 | V16: =U16=N16 -> TRUE | W16: =I16+J16 -> 99.62 | X16: =W16=K16 -> TRUE
A17: 2.1.4 | B17: 97061 | C17: SINAPI | D17: COLOCAÇÃO DE TELA FACHADEIRA PERIMETRAL. AF_03/2024 | E17: m² | F17: 2425 | G17: 6.83 | H17: 0.25 | I17: 1.26 | J17: 7.27 | K17: 8.53 | L17: 3055.5 | M17: 17629.75 | N17: 20685.25 | O17: =N17/$N$176 -> 0.001187697 | Q17: =TRUNC(K17*F17,2) -> 20685.25 | R17: =Q17=N17 -> TRUE | S17: =TRUNC(G17*1.25,2) -> 8.53 | T17: =S17=K17 -> TRUE | U17: =L17+M17 -> 20685.25 | V17: =U17=N17 -> TRUE | W17: =I17+J17 -> 8.53 | X17: =W17=K17 -> TRUE
A18: 2.1.5 | B18: 102903 | C18: SINAPI | D18: TORRE, COMPOSTA POR GUINCHO MECÂNICO, GUINCHO MANUAL, CABOS DE AÇO, PITEIRA E SOQUETE - MATERIAIS NA OPERAÇÃO. AF_05/2023 | E18: H | F18: 1400 | G18: 14.05 | H18: 0.25 | I18: 0 | J18: 17.56 | K18: 17.56 | L18: 0 | M18: 24584 | N18: 24584 | O18: =N18/$N$176 -> 0.0014115537 | Q18: =TRUNC(K18*F18,2) -> 24584 | R18: =Q18=N18 -> TRUE | S18: =TRUNC(G18*1.25,2) -> 17.56 | T18: =S18=K18 -> TRUE | U18: =L18+M18 -> 24584 | V18: =U18=N18 -> TRUE | W18: =I18+J18 -> 17.56 | X18: =W18=K18 -> TRUE
A19: 2.1.6 | B19: 97031 | C19: SINAPI | D19: GUARDA-CORPO EM LAJE PÓS-DESFÔRMA COM ESCORAS DE MADEIRA ESTRONCADAS NA ESTRUTURA, TRAVESSÕES DE MADEIRA E FECHAMENTO EM TELA DE POLIPROPILENO PARA EDIFÍCIOS COM ATÉ 4 PAVIMENTOS (1 MONTAGEM). AF_03/2024 | E19: M | F19: 860 | G19: 89.77 | H19: 0.25 | I19: 16.94 | J19: 95.27 | K19: 112.21 | L19: 14568.4 | M19: 81932.2 | N19: 96500.6 | O19: =N19/$N$176 -> 0.0055408307 | Q19: =TRUNC(K19*F19,2) -> 96500.6 | R19: =Q19=N19 -> TRUE | S19: =TRUNC(G19*1.25,2) -> 112.21 | T19: =S19=K19 -> TRUE | U19: =L19+M19 -> 96500.6 | V19: =U19=N19 -> TRUE | W19: =I19+J19 -> 112.21 | X19: =W19=K19 -> TRUE
A20: 2.1.7 | B20: 97042 | C20: SINAPI | D20: LINHA DE VIDA INSTALADA JUNTO AO PISO PARA EDIFÍCIOS DE ATÉ 4 PAVIMENTOS. AF_03/2024 | E20: M | F20: 400 | G20: 19.88 | H20: 0.25 | I20: 1 | J20: 23.85 | K20: 24.85 | L20: 400 | M20: 9540 | N20: 9940 | O20: =N20/$N$176 -> 0.00057073073 | Q20: =TRUNC(K20*F20,2) -> 9940 | R20: =Q20=N20 -> TRUE | S20: =TRUNC(G20*1.25,2) -> 24.85 | T20: =S20=K20 -> TRUE | U20: =L20+M20 -> 9940 | V20: =U20=N20 -> TRUE | W20: =I20+J20 -> 24.85 | X20: =W20=K20 -> TRUE
A21: 2.1.8 | B21: 98525 | C21: SINAPI | D21: LIMPEZA MECANIZADA DE CAMADA VEGETAL, VEGETAÇÃO E PEQUENAS ÁRVORES (DIÂMETRO DE TRONCO MENOR QUE 0,20 M), COM TRATOR DE ESTEIRAS. AF_03/2024 | E21: m² | F21: 5118.65 | G21: 0.7 | H21: 0.25 | I21: 0.26 | J21: 0.61 | K21: 0.87 | L21: 1330.85 | M21: 3122.37 | N21: 4453.22 | O21: =N21/$N$176 -> 0.00025569311 | Q21: =TRUNC(K21*F21,2) -> 4453.22 | R21: =Q21=N21 -> TRUE | S21: =TRUNC(G21*1.25,2) -> 0.87 | T21: =S21=K21 -> TRUE | U21: =L21+M21 -> 4453.22 | V21: =U21=N21 -> TRUE | W21: =I21+J21 -> 0.87 | X21: =W21=K21 -> TRUE
A22: 2.2 | D22: ADMINISTRAÇÃO E SERVIÇOS TÉCNICOS | N22: =SUM(N23:N31) -> 1086597.4 | O22: =N22/$N$176 -> 0.062389789
A23: 2.2.1 | B23: 90779 | C23: SINAPI | D23: ENGENHEIRO CIVIL DE OBRA SENIOR COM ENCARGOS COMPLEMENTARES | E23: H | F23: 1408 | G23: 148.9 | H23: 0.25 | I23: 180.72 | J23: 5.4 | K23: 186.12 | L23: 254453.76 | M23: 7603.2 | N23: 262056.96 | O23: =N23/$N$176 -> 0.015046676 | Q23: =TRUNC(K23*F23,2) -> 262056.96 | R23: =Q23=N23 -> TRUE | S23: =TRUNC(G23*1.25,2) -> 186.12 | T23: =S23=K23 -> TRUE | U23: =L23+M23 -> 262056.96 | V23: =U23=N23 -> TRUE | W23: =I23+J23 -> 186.12 | X23: =W23=K23 -> TRUE
A24: 2.2.2 | B24: 90778 | C24: SINAPI | D24: ENGENHEIRO CIVIL DE OBRA PLENO COM ENCARGOS COMPLEMENTARES | E24: H | F24: 1408 | G24: 135.68 | H24: 0.25 | I24: 164.19 | J24: 5.41 | K24: 169.6 | L24: 231179.52 | M24: 7617.28 | N24: 238796.8 | O24: =N24/$N$176 -> 0.013711134 | Q24: =TRUNC(K24*F24,2) -> 238796.8 | R24: =Q24=N24 -> TRUE | S24: =TRUNC(G24*1.25,2) -> 169.6 | T24: =S24=K24 -> TRUE | U24: =L24+M24 -> 238796.8 | V24: =U24=N24 -> TRUE | W24: =I24+J24 -> 169.6 | X24: =W24=K24 -> TRUE
A25: 2.2.3 | B25: 88255 | C25: SINAPI | D25: AUXILIAR TÉCNICO DE ENGENHARIA COM ENCARGOS COMPLEMENTARES | E25: H | F25: 1408 | G25: 38.65 | H25: 0.25 | I25: 41.63 | J25: 6.68 | K25: 48.31 | L25: 58615.04 | M25: 9405.44 | N25: 68020.48 | O25: =N25/$N$176 -> 0.0039055712 | Q25: =TRUNC(K25*F25,2) -> 68020.48 | R25: =Q25=N25 -> TRUE | S25: =TRUNC(G25*1.25,2) -> 48.31 | T25: =S25=K25 -> TRUE | U25: =L25+M25 -> 68020.48 | V25: =U25=N25 -> TRUE | W25: =I25+J25 -> 48.31 | X25: =W25=K25 -> TRUE
A26: 2.2.4 | B26: 90780 | C26: SINAPI | D26: MESTRE DE OBRAS COM ENCARGOS COMPLEMENTARES | E26: H | F26: 1408 | G26: 117.83 | H26: 0.25 | I26: 139.98 | J26: 7.3 | K26: 147.28 | L26: 197091.84 | M26: 10278.4 | N26: 207370.24 | O26: =N26/$N$176 -> 0.011906697 | Q26: =TRUNC(K26*F26,2) -> 207370.24 | R26: =Q26=N26 -> TRUE | S26: =TRUNC(G26*1.25,2) -> 147.28 | T26: =S26=K26 -> TRUE | U26: =L26+M26 -> 207370.24 | V26: =U26=N26 -> TRUE | W26: =I26+J26 -> 147.28 | X26: =W26=K26 -> TRUE
A27: 2.2.5 | B27: 90776 | C27: SINAPI | D27: ENCARREGADO GERAL COM ENCARGOS COMPLEMENTARES | E27: H | F27: 1408 | G27: 72.68 | H27: 0.25 | I27: 83.54 | J27: 7.31 | K27: 90.85 | L27: 117624.32 | M27: 10292.48 | N27: 127916.8 | O27: =N27/$N$176 -> 0.0073446728 | Q27: =TRUNC(K27*F27,2) -> 127916.8 | R27: =Q27=N27 -> TRUE | S27: =TRUNC(G27*1.25,2) -> 90.85 | T27: =S27=K27 -> TRUE | U27: =L27+M27 -> 127916.8 | V27: =U27=N27 -> TRUE | W27: =I27+J27 -> 90.85 | X27: =W27=K27 -> TRUE
A28: 2.2.6 | B28: 88243 | C28: SINAPI | D28: AJUDANTE ESPECIALIZADO COM ENCARGOS COMPLEMENTARES | E28: H | F28: 1408 | G28: 24.48 | H28: 0.25 | I28: 22.37 | J28: 8.23 | K28: 30.6 | L28: 31496.96 | M28: 11587.84 | N28: 43084.8 | O28: =N28/$N$176 -> 0.0024738249 | Q28: =TRUNC(K28*F28,2) -> 43084.8 | R28: =Q28=N28 -> TRUE | S28: =TRUNC(G28*1.25,2) -> 30.6 | T28: =S28=K28 -> TRUE | U28: =L28+M28 -> 43084.8 | V28: =U28=N28 -> TRUE | W28: =I28+J28 -> 30.6 | X28: =W28=K28 -> TRUE
A29: 2.2.7 | B29: 90766 | C29: SINAPI | D29: ALMOXARIFE COM ENCARGOS COMPLEMENTARES | E29: H | F29: 1408 | G29: 29.59 | H29: 0.25 | I29: 30.51 | J29: 6.47 | K29: 36.98 | L29: 42958.08 | M29: 9109.76 | N29: 52067.84 | O29: =N29/$N$176 -> 0.0029896093 | Q29: =TRUNC(K29*F29,2) -> 52067.84 | R29: =Q29=N29 -> TRUE | S29: =TRUNC(G29*1.25,2) -> 36.98 | T29: =S29=K29 -> TRUE | U29: =L29+M29 -> 52067.84 | V29: =U29=N29 -> TRUE | W29: =I29+J29 -> 36.98 | X29: =W29=K29 -> TRUE
A30: 2.2.8 | B30: 100309 | C30: SINAPI | D30: TÉCNICO EM SEGURANÇA DO TRABALHO COM ENCARGOS COMPLEMENTARES | E30: H | F30: 1408 | G30: 44.25 | H30: 0.25 | I30: 48.83 | J30: 6.48 | K30: 55.31 | L30: 68752.64 | M30: 9123.84 | N30: 77876.48 | O30: =N30/$N$176 -> 0.0044714789 | Q30: =TRUNC(K30*F30,2) -> 77876.48 | R30: =Q30=N30 -> TRUE | S30: =TRUNC(G30*1.25,2) -> 55.31 | T30: =S30=K30 -> TRUE | U30: =L30+M30 -> 77876.48 | V30: =U30=N30 -> TRUE | W30: =I30+J30 -> 55.31 | X30: =W30=K30 -> TRUE
A31: 2.2.9 | B31: COT 4 | C31: Próprio | D31: Seguro de Risco de Engenharia | E31: VB | M31: =N31 -> 9406.96 | N31: 9406.96 | O31: =N31/$N$176 -> 0.00054012486
A32: 2.3 | D32: DEMOLIÇÕES E REMOÇÕES | N32: =SUM(N33:N55) -> 443023.68 | O32: =N32/$N$176 -> 0.025437347
A33: 2.3.1 | B33: 97624 | C33: SINAPI | D33: DEMOLIÇÃO DE ALVENARIA DE TIJOLO MACIÇO, DE FORMA MANUAL, SEM REAPROVEITAMENTO. AF_09/2023 | E33: m³ | F33: 413.11 | G33: 115.65 | H33: 0.25 | I33: 105 | J33: 39.56 | K33: 144.56 | L33: 43376.55 | M33: 16342.63 | N33: 59719.18 | O33: =N33/$N$176 -> 0.0034289307 | Q33: =TRUNC(K33*F33,2) -> 59719.18 | R33: =Q33=N33 -> TRUE | S33: =TRUNC(G33*1.25,2) -> 144.56 | T33: =S33=K33 -> TRUE | U33: =L33+M33 -> 59719.18 | V33: =U33=N33 -> TRUE | W33: =I33+J33 -> 144.56 | X33: =W33=K33 -> TRUE
A34: 2.3.2 | B34: 97626 | C34: SINAPI | D34: DEMOLIÇÃO DE PILARES E VIGAS EM CONCRETO ARMADO, DE FORMA MANUAL, SEM REAPROVEITAMENTO. AF_09/2023 | E34: m³ | F34: 58 | G34: 618.18 | H34: 0.25 | I34: 561.35 | J34: 211.37 | K34: 772.72 | L34: 32558.3 | M34: 12259.46 | N34: 44817.76 | O34: =N34/$N$176 -> 0.0025733272 | Q34: =TRUNC(K34*F34,2) -> 44817.76 | R34: =Q34=N34 -> TRUE | S34: =TRUNC(G34*1.25,2) -> 772.72 | T34: =S34=K34 -> TRUE | U34: =L34+M34 -> 44817.76 | V34: =U34=N34 -> TRUE | W34: =I34+J34 -> 772.72 | X34: =W34=K34 -> TRUE
A35: 2.3.3 | B35: 97633 | C35: SINAPI | D35: DEMOLIÇÃO DE REVESTIMENTO CERÂMICO, DE FORMA MANUAL, SEM REAPROVEITAMENTO. AF_09/2023 | E35: m² | F35: 85.51 | G35: 24.61 | H35: 0.25 | I35: 22.46 | J35: 8.3 | K35: 30.76 | L35: 1920.55 | M35: 709.73 | N35: 2630.28 | O35: =N35/$N$176 -> 0.00015102431 | Q35: =TRUNC(K35*F35,2) -> 2630.28 | R35: =Q35=N35 -> TRUE | S35: =TRUNC(G35*1.25,2) -> 30.76 | T35: =S35=K35 -> TRUE | U35: =L35+M35 -> 2630.28 | V35: =U35=N35 -> TRUE | W35: =I35+J35 -> 30.76 | X35: =W35=K35 -> TRUE
A36: 2.3.4 | B36: 97629 | C36: SINAPI | D36: DEMOLIÇÃO DE LAJES, EM CONCRETO ARMADO, DE FORMA MECANIZADA COM MARTELETE, SEM REAPROVEITAMENTO. AF_09/2023 | E36: m³ | F36: 30 | G36: 105.1 | H36: 0.25 | I36: 98.87 | J36: 32.5 | K36: 131.37 | L36: 2966.1 | M36: 975 | N36: 3941.1 | O36: =N36/$N$176 -> 0.00022628842 | Q36: =TRUNC(K36*F36,2) -> 3941.1 | R36: =Q36=N36 -> TRUE | S36: =TRUNC(G36*1.25,2) -> 131.37 | T36: =S36=K36 -> TRUE | U36: =L36+M36 -> 3941.1 | V36: =U36=N36 -> TRUE | W36: =I36+J36 -> 131.37 | X36: =W36=K36 -> TRUE
A37: 2.3.5 | B37: 97631 | C37: SINAPI | D37: DEMOLIÇÃO DE ARGAMASSAS, DE FORMA MANUAL, SEM REAPROVEITAMENTO. AF_09/2023 | E37: m² | F37: 9338.67 | G37: 12.32 | H37: 0.25 | I37: 11.25 | J37: 4.15 | K37: 15.4 | L37: 105060.04 | M37: 38755.47 | N37: 143815.51 | O37: =N37/$N$176 -> 0.0082575383 | Q37: =TRUNC(K37*F37,2) -> 143815.51 | R37: =Q37=N37 -> TRUE | S37: =TRUNC(G37*1.25,2) -> 15.4 | T37: =S37=K37 -> TRUE | U37: =L37+M37 -> 143815.51 | V37: =U37=N37 -> TRUE | W37: =I37+J37 -> 15.4 | X37: =W37=K37 -> TRUE
A38: 2.3.6 | B38: 97647 | C38: SINAPI | D38: REMOÇÃO DE TELHAS DE FIBROCIMENTO METÁLICA E CERÂMICA, DE FORMA MANUAL, SEM REAPROVEITAMENTO. AF_09/2023 | E38: m² | F38: 1107.78 | G38: 3.81 | H38: 0.25 | I38: 3.48 | J38: 1.28 | K38: 4.76 | L38: 3855.07 | M38: 1417.96 | N38: 5273.03 | O38: =N38/$N$176 -> 0.00030276461 | Q38: =TRUNC(K38*F38,2) -> 5273.03 | R38: =Q38=N38 -> TRUE | S38: =TRUNC(G38*1.25,2) -> 4.76 | T38: =S38=K38 -> TRUE | U38: =L38+M38 -> 5273.03 | V38: =U38=N38 -> TRUE | W38: =I38+J38 -> 4.76 | X38: =W38=K38 -> TRUE
A39: 2.3.7 | B39: 97658 | C39: SINAPI | D39: REMOÇÃO DE TESOURAS METÁLICAS, COM VÃO MENOR QUE 8M, DE FORMA MECANIZADA, COM REAPROVEITAMENTO. AF_09/2023 | E39: UN | F39: 11 | G39: 238.22 | H39: 0.25 | I39: 95.76 | J39: 202.01 | K39: 297.77 | L39: 1053.36 | M39: 2222.11 | N39: 3275.47 | O39: =N39/$N$176 -> 0.00018806955 | Q39: =TRUNC(K39*F39,2) -> 3275.47 | R39: =Q39=N39 -> TRUE | S39: =TRUNC(G39*1.25,2) -> 297.77 | T39: =S39=K39 -> TRUE | U39: =L39+M39 -> 3275.47 | V39: =U39=N39 -> TRUE | W39: =I39+J39 -> 297.77 | X39: =W39=K39 -> TRUE
A40: 2.3.8 | B40: 97652 | C40: SINAPI | D40: REMOÇÃO DE TESOURAS DE MADEIRA, COM VÃO MAIOR OU IGUAL A 8M, DE FORMA MANUAL, SEM REAPROVEITAMENTO. AF_09/2023 | E40: UN | F40: 10 | G40: 203.18 | H40: 0.25 | I40: 186.58 | J40: 67.39 | K40: 253.97 | L40: 1865.8 | M40: 673.9 | N40: 2539.7 | O40: =N40/$N$176 -> 0.00014582342 | Q40: =TRUNC(K40*F40,2) -> 2539.7 | R40: =Q40=N40 -> TRUE | S40: =TRUNC(G40*1.25,2) -> 253.97 | T40: =S40=K40 -> TRUE | U40: =L40+M40 -> 2539.7 | V40: =U40=N40 -> TRUE | W40: =I40+J40 -> 253.97 | X40: =W40=K40 -> TRUE
...

Sheet CRONOGRAMA
B1: Obra
B2: REVITALIZAÇÃO PRÉDIO DA POLAR
A4: CRONOGRAMA FÍSICO-FINANCEIRO
A5: ITEM | B5: DESCRIÇÃO | C5: VALOR | D5: MÊS 1 | E5: MÊS 2 | F5: MÊS 3 | G5: MÊS 4 | H5: MÊS 5 | I5: MÊS 6 | J5: MÊS 7 | K5: TOTAL
A6: 1 | B6: PROJETOS DOS ITENS PARAMÉTRICOS - ETAPA 1 | C6: ='Orçamento Sintético'!N6 -> 130592 | D6: 1 | K6: =SUM(D6:J6) -> 1
D7: =TRUNC($C$6*D6,2) -> 130592 | E7: =TRUNC($C$6*E6,2) -> 0 | I7: =TRUNC($C$6*I6,2) -> 0 | J7: =TRUNC($C$6*J6,2) -> 0 | K7: =SUM(D7:J7) -> 130592
A8: 2 | B8: ETAPA 1
A9: 2.1 | B9: SERVIÇOS PRELIMINARES | C9: ='Orçamento Sintético'!N13 -> 250656.9 | D9: 1 | K9: =SUM(D9:J9) -> 1
D10: =TRUNC($C$9*D9,2) -> 250656.9 | E10: =TRUNC($C$9*E9,2) -> 0 | F10: =TRUNC($C$9*F9,2) -> 0 | G10: =TRUNC($C$9*G9,2) -> 0 | H10: =TRUNC($C$9*H9,2) -> 0 | I10: =TRUNC($C$9*I9,2) -> 0 | J10: =TRUNC($C$9*J9,2) -> 0 | K10: =SUM(D10:J10) -> 250656.9
A11: 2.2 | B11: ADMINISTRAÇÃO E SERVIÇOS TÉCNICOS | C11: ='Orçamento Sintético'!N22 -> 1086597.4 | D11: 0.143 | E11: 0.143 | F11: 0.143 | G11: 0.143 | H11: 0.143 | I11: 0.143 | J11: 0.142 | K11: =SUM(D11:J11) -> 1
D12: =TRUNC($C$11*D11,2) -> 155383.42 | E12: =TRUNC($C$11*E11,2) -> 155383.42 | F12: =TRUNC($C$11*F11,2) -> 155383.42 | G12: =TRUNC($C$11*G11,2) -> 155383.42 | H12: =TRUNC($C$11*H11,2) -> 155383.42 | I12: =TRUNC($C$11*I11,2) -> 155383.42 | J12: =TRUNC($C$11*J11,2)+0.02 -> 154296.84 | K12: =SUM(D12:J12) -> 1086597.4
A13: 2.3 | B13: DEMOLIÇÕES E REMOÇÕES | C13: ='Orçamento Sintético'!N32 -> 443023.68 | D13: 1 | K13: =SUM(D13:J13) -> 1
D14: =TRUNC($C$13*D13,2) -> 443023.68 | E14: =TRUNC($C$13*E13,2) -> 0 | F14: =TRUNC($C$13*F13,2) -> 0 | G14: =TRUNC($C$13*G13,2) -> 0 | H14: =TRUNC($C$13*H13,2) -> 0 | I14: =TRUNC($C$13*I13,2) -> 0 | J14: =TRUNC($C$13*J13,2) -> 0 | K14: =SUM(D14:J14) -> 443023.68
A15: 2.4 | B15: INFRAESTRUTURA | C15: ='Orçamento Sintético'!N56 -> 36527.39 | D15: 0.5 | E15: 0.5 | K15: =SUM(D15:J15) -> 1
D16: =TRUNC($C$15*D15,2)+0.01 -> 18263.7 | E16: =TRUNC($C$15*E15,2) -> 18263.69 | F16: =TRUNC($C$15*F15,2) -> 0 | G16: =TRUNC($C$15*G15,2) -> 0 | H16: =TRUNC($C$15*H15,2) -> 0 | I16: =TRUNC($C$15*I15,2) -> 0 | J16: =TRUNC($C$15*J15,2) -> 0 | K16: =SUM(D16:J16) -> 36527.39
A17: 2.5 | B17: SUPRAESTRUTURA | C17: ='Orçamento Sintético'!N62 -> 2301768.7 | D17: 0.5 | E17: 0.5 | K17: =SUM(D17:J17) -> 1
D18: =TRUNC($C$17*D17,2) -> 1150884.4 | E18: =TRUNC($C$17*E17,2)+0.01 -> 1150884.4 | F18: =TRUNC($C$17*F17,2) -> 0 | G18: =TRUNC($C$17*G17,2) -> 0 | H18: =TRUNC($C$17*H17,2) -> 0 | I18: =TRUNC($C$17*I17,2) -> 0 | J18: =TRUNC($C$17*J17,2) -> 0 | K18: =SUM(D18:J18) -> 2301768.7
A19: 2.6 | B19: ALVENARIAS | C19: ='Orçamento Sintético'!N73 -> 510419.95 | D19: 0.25 | E19: 0.25 | F19: 0.5 | K19: =SUM(D19:J19) -> 1
D20: =TRUNC($C$19*D19,2) -> 127604.98 | E20: =TRUNC($C$19*E19,2)+0.01 -> 127604.99 | F20: =TRUNC($C$19*F19,2)+0.01 -> 255209.98 | G20: =TRUNC($C$19*G19,2) -> 0 | H20: =TRUNC($C$19*H19,2) -> 0 | I20: =TRUNC($C$19*I19,2) -> 0 | J20: =TRUNC($C$19*J19,2) -> 0 | K20: =SUM(D20:J20) -> 510419.95
A21: 2.7 | B21: IMPERMEABILIZAÇÃO | C21: ='Orçamento Sintético'!N78 -> 95436.95 | D21: 0.5 | E21: 0.5 | K21: =SUM(D21:J21) -> 1
D22: =TRUNC($C$21*D21,2) -> 47718.47 | E22: =TRUNC($C$21*E21,2)+0.01 -> 47718.48 | F22: =TRUNC($C$21*F21,2) -> 0 | G22: =TRUNC($C$21*G21,2) -> 0 | H22: =TRUNC($C$21*H21,2) -> 0 | I22: =TRUNC($C$21*I21,2) -> 0 | J22: =TRUNC($C$21*J21,2) -> 0 | K22: =SUM(D22:J22) -> 95436.95
A23: 2.8 | B23: COBERTURA | C23: ='Orçamento Sintético'!N82 -> 451697.08 | E23: 0.5 | F23: 0.5 | K23: =SUM(D23:J23) -> 1
D24: =TRUNC($C$23*D23,2) -> 0 | E24: =TRUNC($C$23*E23,2) -> 225848.54 | F24: =TRUNC($C$23*F23,2) -> 225848.54 | G24: =TRUNC($C$23*G23,2) -> 0 | H24: =TRUNC($C$23*H23,2) -> 0 | I24: =TRUNC($C$23*I23,2) -> 0 | J24: =TRUNC($C$23*J23,2) -> 0 | K24: =SUM(D24:J24) -> 451697.08
A25: 2.9 | B25: PAVIMENTAÇÃO | C25: ='Orçamento Sintético'!N90 -> 1038844.2 | F25: 0.25 | G25: 0.5 | H25: 0.25 | K25: =SUM(D25:J25) -> 1
D26: =TRUNC($C$25*D25,2) -> 0 | E26: =TRUNC($C$25*E25,2) -> 0 | F26: =TRUNC($C$25*F25,2) -> 259711.06 | G26: =TRUNC($C$25*G25,2) -> 519422.12 | H26: =TRUNC($C$25*H25,2) -> 259711.06 | I26: =TRUNC($C$25*I25,2) -> 0 | J26: =TRUNC($C$25*J25,2) -> 0 | K26: =SUM(D26:J26) -> 1038844.2
A27: 2.10 | B27: REVESTIMENTOS EXTERNOS | C27: ='Orçamento Sintético'!N104 -> 224015.78 | D27: 0.3 | E27: 0.3 | F27: 0.4 | K27: =SUM(D27:J27) -> 1
D28: =TRUNC($C$27*D27,2) -> 67204.73 | E28: =TRUNC($C$27*E27,2) -> 67204.73 | F28: =TRUNC($C$27*F27,2)+0.01 -> 89606.32 | G28: =TRUNC($C$27*G27,2) -> 0 | H28: =TRUNC($C$27*H27,2) -> 0 | I28: =TRUNC($C$27*I27,2) -> 0 | J28: =TRUNC($C$27*J27,2) -> 0 | K28: =SUM(D28:J28) -> 224015.78
A29: 2.11 | B29: REVESTIMENTOS INTERNOS | C29: ='Orçamento Sintético'!N108 -> 1257728 | E29: 0.3 | F29: 0.3 | G29: 0.3 | I29: 0.1 | K29: =SUM(D29:J29) -> 1
D30: =TRUNC($C$29*D29,2) -> 0 | E30: =TRUNC($C$29*E29,2) -> 377318.4 | F30: =TRUNC($C$29*F29,2) -> 377318.4 | G30: =TRUNC($C$29*G29,2) -> 377318.4 | H30: =TRUNC($C$29*H29,2) -> 0 | I30: =TRUNC($C$29*I29,2)+0.01 -> 125772.81 | J30: =TRUNC($C$29*J29,2) -> 0 | K30: =SUM(D30:J30) -> 1257728
A31: 2.12 | B31: PINTURA | C31: ='Orçamento Sintético'!N114 -> 208301.01 | G31: 0.3 | H31: 0.3 | I31: 0.3 | J31: 0.1 | K31: =SUM(D31:J31) -> 1
D32: =TRUNC($C$31*D31,2) -> 0 | E32: =TRUNC($C$31*E31,2) -> 0 | F32: =TRUNC($C$31*F31,2) -> 0 | G32: =TRUNC($C$31*G31,2) -> 62490.3 | H32: =TRUNC($C$31*H31,2) -> 62490.3 | I32: =TRUNC($C$31*I31,2) -> 62490.3 | J32: =TRUNC($C$31*J31,2)+0.01 -> 20830.11 | K32: =SUM(D32:J32) -> 208301.01
A33: 2.13 | B33: ESQUADRIAS | C33: ='Orçamento Sintético'!N121 -> 1832155.1 | H33: 0.25 | I33: 0.5 | J33: 0.25 | K33: =SUM(D33:J33) -> 1
D34: =TRUNC($C$33*D33,2) -> 0 | E34: =TRUNC($C$33*E33,2) -> 0 | F34: =TRUNC($C$33*F33,2) -> 0 | G34: =TRUNC($C$33*G33,2) -> 0 | H34: =TRUNC($C$33*H33,2) -> 458038.77 | I34: =TRUNC($C$33*I33,2) -> 916077.55 | J34: =TRUNC($C$33*J33,2)+0.01 -> 458038.78 | K34: =SUM(D34:J34) -> 1832155.1
A35: 2.14 | B35: RESERVATÓRIOS | C35: ='Orçamento Sintético'!N135 -> 41812.26 | I35: 1 | K35: =SUM(D35:J35) -> 1
D36: =TRUNC($C$35*D35,2) -> 0 | E36: =TRUNC($C$35*E35,2) -> 0 | F36: =TRUNC($C$35*F35,2) -> 0 | G36: =TRUNC($C$35*G35,2) -> 0 | H36: =TRUNC($C$35*H35,2) -> 0 | I36: =TRUNC($C$35*I35,2) -> 41812.26 | J36: =TRUNC($C$35*J35,2) -> 0 | K36: =SUM(D36:J36) -> 41812.26
A37: 2.15 | B37: LOUÇAS E METAIS | C37: ='Orçamento Sintético'!N137 -> 261466.01 | J37: 1 | K37: =SUM(D37:J37) -> 1
D38: =TRUNC($C$37*D37,2) -> 0 | E38: =TRUNC($C$37*E37,2) -> 0 | F38: =TRUNC($C$37*F37,2) -> 0 | G38: =TRUNC($C$37*G37,2) -> 0 | H38: =TRUNC($C$37*H37,2) -> 0 | I38: =TRUNC($C$37*I37,2) -> 0 | J38: =TRUNC($C$37*J37,2) -> 261466.01 | K38: =SUM(D38:J38) -> 261466.01
A39: 2.16 | B39: FORRO | C39: ='Orçamento Sintético'!N153 -> 426725.67 | I39: 0.5 | J39: 0.5 | K39: =SUM(D39:J39) -> 1
D40: =TRUNC($C$39*D39,2) -> 0 | E40: =TRUNC($C$39*E39,2) -> 0 | F40: =TRUNC($C$39*F39,2) -> 0 | G40: =TRUNC($C$39*G39,2) -> 0 | H40: =TRUNC($C$39*H39,2) -> 0 | I40: =TRUNC($C$39*I39,2) -> 213362.83 | J40: =TRUNC($C$39*J39,2)+0.01 -> 213362.84 | K40: =SUM(D40:J40) -> 426725.67
A41: 2.17 | B41: EQUIPAMENTOS | C41: ='Orçamento Sintético'!N156 -> 515241.35 | J41: 1 | K41: =SUM(D41:J41) -> 1
...

Sheet Eventograma
A1: PREFEITURA MUNICIPAL DE ESTRELA/RS
A2: REVITALIZAÇÃO DO PRÉDIO DA POLAR
A3: EVENTOGRAMA - 7 MESES
A5: EVENTO | B5: DESCRIÇÃO | C5: Nº ITEM DO ORÇAMENTO | D5: SERVIÇOS VINCULADOS | E5: MARCO FÍSICO | F5: MÊS 01 | G5: MÊS 02 | H5: MÊS 03 | I5: MÊS 04 | J5: MÊS 05 | K5: MÊS 06 | L5: MÊS 07 | M5: TOTAL DO EVENTO
A6: 1 | B6: Projetos executivos dos itens paramétricos | C6: 1 | D6: Projetos estrutural, instalações elétricas e SPDA, hidrossanitário, PPCI e reforço/recuperação estrutural com laudo de estabilidade. | E6: Projetos executivos da Etapa 1 entregues, compatibilizados e aptos à execução. | F6: =CRONOGRAMA!D7 -> 130592 | G6: =CRONOGRAMA!E7 -> 0 | H6: =CRONOGRAMA!F7 -> 0 | I6: =CRONOGRAMA!G7 -> 0 | J6: =CRONOGRAMA!H7 -> 0 | K6: =CRONOGRAMA!I7 -> 0 | L6: =CRONOGRAMA!J7 -> 0 | M6: ='Orçamento Sintético'!N6 -> 130592
A7: 2 | B7: Implantação, preliminares, demolições e infraestrutura inicial | C7: 2.1;2.3;2.4 | D7: Placa, tapumes, andaimes, tela fachadeira, linhas de vida, limpeza, demolições, remoções, escavações, formas, armaduras e concretagem de sapatas. | E7: Obra implantada, canteiro protegido, demolições executadas e infraestrutura inicial concluída. | F7: =CRONOGRAMA!D10+CRONOGRAMA!D14+CRONOGRAMA!D16 -> 711944.28 | G7: =CRONOGRAMA!E10+CRONOGRAMA!E14+CRONOGRAMA!E16 -> 18263.69 | H7: =CRONOGRAMA!F10+CRONOGRAMA!F14+CRONOGRAMA!F16 -> 0 | I7: =CRONOGRAMA!G10+CRONOGRAMA!G14+CRONOGRAMA!G16 -> 0 | J7: =CRONOGRAMA!H10+CRONOGRAMA!H14+CRONOGRAMA!H16 -> 0 | K7: =CRONOGRAMA!I10+CRONOGRAMA!I14+CRONOGRAMA!I16 -> 0 | L7: =CRONOGRAMA!J10+CRONOGRAMA!J14+CRONOGRAMA!J16 -> 0 | M7: ='Orçamento Sintético'!N13+'Orçamento Sintético'!N32+'Orçamento Sintético'!N56 -> 730207.97
A8: 3 | B8: Administração local e serviços técnicos | C8: 2.2 | D8: Engenheiro civil sênior, engenheiro pleno, auxiliar técnico, mestre de obras, encarregado, almoxarife, ajudante especializado e técnico de segurança. | E8: Administração técnica da obra executada proporcionalmente ao avanço físico previsto. | F8: =CRONOGRAMA!D12 -> 155383.42 | G8: =CRONOGRAMA!E12 -> 155383.42 | H8: =CRONOGRAMA!F12 -> 155383.42 | I8: =CRONOGRAMA!G12 -> 155383.42 | J8: =CRONOGRAMA!H12 -> 155383.42 | K8: =CRONOGRAMA!I12 -> 155383.42 | L8: =CRONOGRAMA!J12 -> 154296.84 | M8: ='Orçamento Sintético'!N22 -> 1086597.4
A9: 4 | B9: Supraestrutura e impermeabilizações iniciais | C9: 2.5;2.7 | D9: Formas, armaduras e concretagens de pilares, vigas, lajes e escadas; impermeabilização com manta/emulsão asfáltica e proteção mecânica. | E9: Estrutura principal executada e áreas previstas impermeabilizadas. | F9: =CRONOGRAMA!D18+CRONOGRAMA!D22 -> 1198602.8 | G9: =CRONOGRAMA!E18+CRONOGRAMA!E22 -> 1198602.8 | H9: =CRONOGRAMA!F18+CRONOGRAMA!F22 -> 0 | I9: =CRONOGRAMA!G18+CRONOGRAMA!G22 -> 0 | J9: =CRONOGRAMA!H18+CRONOGRAMA!H22 -> 0 | K9: =CRONOGRAMA!I18+CRONOGRAMA!I22 -> 0 | L9: =CRONOGRAMA!J18+CRONOGRAMA!J22 -> 0 | M9: ='Orçamento Sintético'!N62+'Orçamento Sintético'!N78 -> 2397205.7
A10: 5 | B10: Alvenarias, divisórias e fechamentos internos | C10: 2.6 | D10: Paredes em drywall, divisórias sanitárias, alvenaria estrutural e alvenaria de vedação. | E10: Fechamentos e compartimentações principais executados. | F10: =CRONOGRAMA!D20 -> 127604.98 | G10: =CRONOGRAMA!E20 -> 127604.99 | H10: =CRONOGRAMA!F20 -> 255209.98 | I10: =CRONOGRAMA!G20 -> 0 | J10: =CRONOGRAMA!H20 -> 0 | K10: =CRONOGRAMA!I20 -> 0 | L10: =CRONOGRAMA!J20 -> 0 | M10: ='Orçamento Sintético'!N73 -> 510419.95
A11: 6 | B11: Cobertura | C11: 2.8 | D11: Estrutura de madeira/aço, terças, tesouras, telhamento termoacústico, calhas e rufos. | E11: Cobertura executada e arrematada, com proteção superior da edificação concluída. | F11: =CRONOGRAMA!D24 -> 0 | G11: =CRONOGRAMA!E24 -> 225848.54 | H11: =CRONOGRAMA!F24 -> 225848.54 | I11: =CRONOGRAMA!G24 -> 0 | J11: =CRONOGRAMA!H24 -> 0 | K11: =CRONOGRAMA!I24 -> 0 | L11: =CRONOGRAMA!J24 -> 0 | M11: ='Orçamento Sintético'!N82 -> 451697.08
A12: 7 | B12: Revestimentos externos | C12: 2.10 | D12: Chapisco, emboço/massa única e massa acrílica em fachadas. | E12: Fachadas preparadas e revestimentos externos concluídos. | F12: =CRONOGRAMA!D28 -> 67204.73 | G12: =CRONOGRAMA!E28 -> 67204.73 | H12: =CRONOGRAMA!F28 -> 89606.32 | I12: =CRONOGRAMA!G28 -> 0 | J12: =CRONOGRAMA!H28 -> 0 | K12: =CRONOGRAMA!I28 -> 0 | L12: =CRONOGRAMA!J28 -> 0 | M12: ='Orçamento Sintético'!N104 -> 224015.78
A13: 8 | B13: Revestimentos internos | C13: 2.11 | D13: Chapisco, emboço/massa única, massa projetada, revestimentos cerâmicos internos e revestimento em granito. | E13: Revestimentos internos concluídos e bases prontas para acabamento final. | F13: =CRONOGRAMA!D30 -> 0 | G13: =CRONOGRAMA!E30 -> 377318.4 | H13: =CRONOGRAMA!F30 -> 377318.4 | I13: =CRONOGRAMA!G30 -> 377318.4 | J13: =CRONOGRAMA!H30 -> 0 | K13: =CRONOGRAMA!I30 -> 125772.81 | L13: =CRONOGRAMA!J30 -> 0 | M13: ='Orçamento Sintético'!N108 -> 1257728
A14: 9 | B14: Instalações hidrossanitárias, pluviais e gás | C14: 2.20;2.22;2.23 | D14: Instalações pluviais, esgoto, água fria e gás, incluindo redes, tubulações, conexões e complementos. | E14: Redes hidrossanitárias, pluviais e gás executadas e passíveis de conferência. | F14: =CRONOGRAMA!D48+CRONOGRAMA!D52+CRONOGRAMA!D54 -> 286318.34 | G14: =CRONOGRAMA!E48+CRONOGRAMA!E52+CRONOGRAMA!E54 -> 298634.35 | H14: =CRONOGRAMA!F48+CRONOGRAMA!F52+CRONOGRAMA!F54 -> 298634.35 | I14: =CRONOGRAMA!G48+CRONOGRAMA!G52+CRONOGRAMA!G54 -> 310950.35 | J14: =CRONOGRAMA!H48+CRONOGRAMA!H52+CRONOGRAMA!H54 -> 0 | K14: =CRONOGRAMA!I48+CRONOGRAMA!I52+CRONOGRAMA!I54 -> 0 | L14: =CRONOGRAMA!J48+CRONOGRAMA!J52+CRONOGRAMA!J54 -> 0 | M14: ='Orçamento Sintético'!N165+'Orçamento Sintético'!N169+'Orçamento Sintético'!N171 -> 1194537.4
A15: 10 | B15: Pavimentações, pisos, soleiras e podotáteis | C15: 2.9 | D15: Porcelanato, piso elevado, piso basalto, passeios, placas pré-fabricadas, grama sintética, rodapés, peitoris, soleiras e podotáteis. | E15: Pisos internos, passeios, rodapés, soleiras, peitoris e podotáteis executados. | F15: =CRONOGRAMA!D26 -> 0 | G15: =CRONOGRAMA!E26 -> 0 | H15: =CRONOGRAMA!F26 -> 259711.06 | I15: =CRONOGRAMA!G26 -> 519422.12 | J15: =CRONOGRAMA!H26 -> 259711.06 | K15: =CRONOGRAMA!I26 -> 0 | L15: =CRONOGRAMA!J26 -> 0 | M15: ='Orçamento Sintético'!N90 -> 1038844.2
A16: 11 | B16: Instalações de climatização | C16: 2.18 | D16: Execução das instalações de climatização e infraestrutura vinculada. | E16: Sistema de climatização instalado conforme avanço físico previsto. | F16: =CRONOGRAMA!D44 -> 0 | G16: =CRONOGRAMA!E44 -> 0 | H16: =CRONOGRAMA!F44 -> 295734.18 | I16: =CRONOGRAMA!G44 -> 591468.36 | J16: =CRONOGRAMA!H44 -> 443601.28 | K16: =CRONOGRAMA!I44 -> 147867.1 | L16: =CRONOGRAMA!J44 -> 0 | M16: ='Orçamento Sintético'!N161 -> 1478670.9
A17: 12 | B17: Instalações elétricas, SPDA e PPCI | C17: 2.19;2.21 | D17: Instalações elétricas, SPDA, quadros, cabos, tomadas, iluminação, telefonia/comunicações vinculadas e instalações PPCI. | E17: Sistemas elétricos, SPDA e PPCI executados, testáveis e compatíveis com os projetos. | F17: =CRONOGRAMA!D46+CRONOGRAMA!D50 -> 0 | G17: =CRONOGRAMA!E46+CRONOGRAMA!E50 -> 0 | H17: =CRONOGRAMA!F46+CRONOGRAMA!F50 -> 788318.16 | I17: =CRONOGRAMA!G46+CRONOGRAMA!G50 -> 515779.25 | J17: =CRONOGRAMA!H46+CRONOGRAMA!H50 -> 515779.25 | K17: =CRONOGRAMA!I46+CRONOGRAMA!I50 -> 606625.57 | L17: =CRONOGRAMA!J46+CRONOGRAMA!J50 -> 515779.26 | M17: ='Orçamento Sintético'!N163+'Orçamento Sintético'!N167 -> 2942281.5
A18: 13 | B18: Pintura | C18: 2.12 | D18: Pintura anticorrosiva, fundo selador, pintura acrílica em paredes/tetos, imunizante para madeira e emassamento. | E18: Pinturas internas, externas e tratamentos de superfícies concluídos. | F18: =CRONOGRAMA!D32 -> 0 | G18: =CRONOGRAMA!E32 -> 0 | H18: =CRONOGRAMA!F32 -> 0 | I18: =CRONOGRAMA!G32 -> 62490.3 | J18: =CRONOGRAMA!H32 -> 62490.3 | K18: =CRONOGRAMA!I32 -> 62490.3 | L18: =CRONOGRAMA!J32 -> 20830.11 | M18: ='Orçamento Sintético'!N114 -> 208301.01
A19: 14 | B19: Esquadrias, vidros, guarda-corpos e corrimãos | C19: 2.13 | D19: Portas, janelas, vidros laminados, guarda-corpos, corrimãos, barras antipânico e esquadrias de alumínio/ferro. | E19: Edificação fechada, protegida e com elementos de segurança instalados. | F19: =CRONOGRAMA!D34 -> 0 | G19: =CRONOGRAMA!E34 -> 0 | H19: =CRONOGRAMA!F34 -> 0 | I19: =CRONOGRAMA!G34 -> 0 | J19: =CRONOGRAMA!H34 -> 458038.77 | K19: =CRONOGRAMA!I34 -> 916077.55 | L19: =CRONOGRAMA!J34 -> 458038.78 | M19: ='Orçamento Sintético'!N121 -> 1832155.1
A20: 15 | B20: Reservatórios, louças/metais, forro e equipamentos | C20: 2.14;2.15;2.16;2.17 | D20: Caixas d'água, louças e metais sanitários, forros e equipamentos previstos para a Etapa 1. | E20: Reservação, sanitários, forros e equipamentos instalados. | F20: =CRONOGRAMA!D36+CRONOGRAMA!D38+CRONOGRAMA!D40+CRONOGRAMA!D42 -> 0 | G20: =CRONOGRAMA!E36+CRONOGRAMA!E38+CRONOGRAMA!E40+CRONOGRAMA!E42 -> 0 | H20: =CRONOGRAMA!F36+CRONOGRAMA!F38+CRONOGRAMA!F40+CRONOGRAMA!F42 -> 0 | I20: =CRONOGRAMA!G36+CRONOGRAMA!G38+CRONOGRAMA!G40+CRONOGRAMA!G42 -> 0 | J20: =CRONOGRAMA!H36+CRONOGRAMA!H38+CRONOGRAMA!H40+CRONOGRAMA!H42 -> 0 | K20: =CRONOGRAMA!I36+CRONOGRAMA!I38+CRONOGRAMA!I40+CRONOGRAMA!I42 -> 255175.09 | L20: =CRONOGRAMA!J36+CRONOGRAMA!J38+CRONOGRAMA!J40+CRONOGRAMA!J42 -> 990070.2 | M20: ='Orçamento Sintético'!N135+'Orçamento Sintético'!N137+'Orçamento Sintético'!N153+'Orçamento Sintético'!N156 -> 1245245.3
A21: 16 | B21: Serviços finais | C21: 2.24 | D21: Serviços finais, acabamentos complementares, arremates, limpeza e entrega operacional. | E21: Obra finalizada, limpa, conferida e pronta para recebimento. | F21: =CRONOGRAMA!D56 -> 0 | G21: =CRONOGRAMA!E56 -> 0 | H21: =CRONOGRAMA!F56 -> 0 | I21: =CRONOGRAMA!G56 -> 0 | J21: =CRONOGRAMA!H56 -> 343885.02 | K21: =CRONOGRAMA!I56 -> 0 | L21: =CRONOGRAMA!J56 -> 343885.02 | M21: ='Orçamento Sintético'!N173 -> 687770.04
A24: RESUMO DO EVENTOGRAMA | F24: MÊS 1 | G24: MÊS 2 | H24: MÊS 3 | I24: MÊS 4 | J24: MÊS 5 | K24: MÊS 6 | L24: MÊS 7 | M24: TOTAL
E25: Porcentagem mensal | F25: =F26/$M$26 -> 0.15374421 | G25: =G26/$M$26 -> 0.14175602 | H25: =H26/$M$26 -> 0.15765514 | I25: =I26/$M$26 -> 0.14542794 | J25: =J26/$M$26 -> 0.12855159 | K25: =K26/$M$26 -> 0.13030298 | L25: =L26/$M$26 -> 0.14256212 | M25: =SUM(F25:L25) -> 1
E26: Valor mensal | F26: =SUM(F6:F21) -> 2677650.6 | G26: =SUM(G6:G21) -> 2468861 | H26: =SUM(H6:H21) -> 2745764.4 | I26: =SUM(I6:I21) -> 2532812.2 | J26: =SUM(J6:J21) -> 2238889.1 | K26: =SUM(K6:K21) -> 2269391.8 | L26: =SUM(L6:L21) -> 2482900.2 | M26: =SUM(M6:M21) -> 17416269
E27: Porcentagem acumulada | F27: =F28/$M$26 -> 0.15374421 | G27: =G28/$M$26 -> 0.29550023 | H27: =H28/$M$26 -> 0.29941116 | I27: =I28/$M$26 -> 0.30308308 | J27: =J28/$M$26 -> 0.27397953 | K27: =K28/$M$26 -> 0.25885457 | L27: =L28/$M$26 -> 0.2728651 | M27: =L27 -> 0.2728651
E28: Valor acumulado | F28: =F26 -> 2677650.6 | G28: =F26+G26 -> 5146511.5 | H28: =G26+H26 -> 5214625.4 | I28: =H26+I26 -> 5278576.6 | J28: =I26+J26 -> 4771701.3 | K28: =J26+K26 -> 4508280.9 | L28: =K26+L26 -> 4752292 | M28: =M26 -> 17416269
L30: Estrela/RS, 21 de julho de 2026
A32: _______________________________________________ ENG° MATHEUS PETTER BARTH Setor de Engenharia | F32: _______________________________________________ ARQ° FREDERICO ROMALDO ELY BIRKHOLZ Setor de Engenharia
