Workbook

Sheet Orçamento
H1: BDI Padrão: 31,250%
D2: Obra: FNDE - 5 salas - opção 220V (EMEF Getúlio Vargas)
H3: Data Preço: DEZEMBRO/2023 (com desoneração)
A4: Município de | D4: Planilha Orçamentária - Ministério da Educação | H4: Unidade federativa: DISTRITO FEDERAL
A5: Arroio do Meio-RS | H5: SEINFRA: CE 10/2023 SINAPI: RS 12/2023 (Desonerado)
H6: BDI Padrão: 31,250%
A8: Item | B8: Tipo | C8: Banco | D8: Código | E8: Descrição | F8: Un. | G8: Qtd. | H8: Preço Unit | I8: Preço com BDI | J8: Total sem BDI | K8: Total
A9: 1 | E9: SERVIÇOS PRELIMINARES | K9: 352095.96 | L9: =SUM(K11:K19) -> 352095.96
A11: 1.1 | B11: Composição | C11: Próprio | D11: CP403 | E11: PLACA DE OBRA (PARA CONSTRUCAO CIVIL) EM CHAPA GALVANIZADA *N. 22*, ADESIVADA, DE *2,4 X 1,2* M | F11: M² | G11: 10 | H11: 345.55 | I11: 453.53 | J11: 3455.5 | K11: 4535.3
A12: 1.2 | B12: Composição | C12: SINAPI | D12: 98459 | E12: TAPUME COM TELHA METÁLICA. AF_05/2018 | F12: M2 | G12: 616 | H12: 80.02 | I12: 105.02 | J12: 49292.32 | K12: 64692.32
A13: 1.3 | B13: Composição | C13: SEINFRA-CE | D13: C2850 | E13: INSTALAÇÕES PROVISÓRIAS DE LUZ , FORÇA,TELEFONE E LÓGICA | F13: UN | G13: 1 | H13: 1676.69 | I13: 2200.65 | J13: 1676.69 | K13: 2200.65
A14: 1.5 | B14: Composição | C14: SINAPI | D14: 93212 | E14: EXECUÇÃO DE SANITÁRIO E VESTIÁRIO EM CANTEIRO DE OBRA EM CHAPA DE MADEIRA COMPENSADA, NÃO INCLUSO MOBILIÁRIO. AF_02/2016 | F14: M2 | G14: 2.52 | H14: 978.96 | I14: 1284.88 | J14: 2466.97 | K14: 3237.89
A15: 1.6 | B15: Composição | C15: SINAPI | D15: 93207 | E15: EXECUÇÃO DE ESCRITÓRIO EM CANTEIRO DE OBRA EM CHAPA DE MADEIRA COMPENSADA, NÃO INCLUSO MOBILIÁRIO E EQUIPAMENTOS. AF_02/2016 | F15: M2 | G15: 20 | H15: 1131.03 | I15: 1484.47 | J15: 22620.6 | K15: 29689.4
A16: 1.7 | B16: Composição | C16: SINAPI | D16: 93584 | E16: EXECUÇÃO DE DEPÓSITO EM CANTEIRO DE OBRA EM CHAPA DE MADEIRA COMPENSADA, NÃO INCLUSO MOBILIÁRIO. AF_04/2016 | F16: M2 | G16: 20 | H16: 855.01 | I16: 1122.2 | J16: 17100.2 | K16: 22444
A17: 1.8 | B17: Composição | C17: SEINFRA-CE | D17: C1630 | E17: LOCAÇÃO DA OBRA - EXECUÇÃO DE GABARITO | F17: M2 | G17: 4800 | H17: 7.15 | I17: 9.38 | J17: 34320 | K17: 45024
A18: 1.9 | B18: Composição | C18: SINAPI | D18: 98525 | E18: LIMPEZA MECANIZADA DE CAMADA VEGETAL, VEGETAÇÃO E PEQUENAS ÁRVORES (DIÂMETRO DE TRONCO MENOR QUE 0,20 M), COM TRATOR DE ESTEIRAS.AF_05/2018 | F18: M2 | G18: 4800 | H18: 0.43 | I18: 0.56 | J18: 2064 | K18: 2688
A19: 1.10 | B19: Composição | C19: Próprio | D19: CP401 | E19: ADMINISTRAÇÃO LOCAL | F19: Mês | G19: 24 | H19: 5637.6 | I19: 7399.35 | J19: 135302.4 | K19: 177584.4
A20: 2 | E20: MOVIMENTAÇÃO DE TERRA PARA FUNDAÇÕES | K20: 68937.9 | L20: =K22+K29+K35+K40 -> 68937.9
A22: 2.1 | E22: EDIFICAÇÃO | K22: =SUM(K24:K28) -> 54741.94 | L22: =SUM(K24:K28) -> 54741.94
A24: 2.1.1 | B24: Composição | C24: SINAPI | D24: 96521 | E24: ESCAVAÇÃO MECANIZADA PARA BLOCO DE COROAMENTO OU SAPATA COM RETROESCAVADEIRA (INCLUINDO ESCAVAÇÃO PARA COLOCAÇÃO DE FÔRMAS). AF_06/2017 | F24: M3 | G24: 196.39 | H24: 44.75 | I24: 58.73 | J24: 8788.45 | K24: 11533.98
A25: 2.1.2 | B25: Composição | C25: SINAPI | D25: 94318 | E25: ATERRO MECANIZADO DE VALA COM RETROESCAVADEIRA (CAPACIDADE DA CAÇAMBA DA RETRO: 0,26 M³ / POTÊNCIA: 88 HP), LARGURA DE 0,8 A 1,5 M, PROFUNDIDADE DE 1,5 A 3,0 M, COM SOLO ARGILO-ARENOSO. AF_05/2016 | F25: M3 | G25: 229.63 | H25: 63.72 | I25: 83.63 | J25: 14632.02 | K25: 19203.95
A26: 2.1.3 | B26: Composição | C26: SINAPI | D26: 101617 | E26: PREPARO DE FUNDO DE VALA COM LARGURA MAIOR OU IGUAL A 1,5 M E MENOR QUE 2,5 M (ACERTO DO SOLO NATURAL). AF_08/2020 | F26: M2 | G26: 279.12 | H26: 2.85 | I26: 3.74 | J26: 795.49 | K26: 1043.9
A27: 2.1.4 | B27: Composição | C27: SINAPI | D27: 93381 | E27: REATERRO MECANIZADO DE VALA COM RETROESCAVADEIRA (CAPACIDADE DA CAÇAMBA DA RETRO: 0,26 M³ / POTÊNCIA: 88 HP), LARGURA DE 0,8 A 1,5 M, PROFUNDIDADE DE 1,5 A 3,0 M, COM SOLO (SEM SUBSTITUIÇÃO) DE 1ª CATEGORIA EM LOCAIS COM BAIXO NÍVEL DE INTERFERÊNCIA. AF_04/2016 | F27: M3 | G27: 326.24 | H27: 13.02 | I27: 17.08 | J27: 4247.64 | K27: 5572.17
A28: 2.1.5 | B28: Composição | C28: SINAPI | D28: 96525 | E28: ESCAVAÇÃO MECANIZADA PARA VIGA BALDRAME COM MINI-ESCAVADEIRA (INCLUINDO ESCAVAÇÃO PARA COLOCAÇÃO DE FÔRMAS). AF_06/2017 | F28: M3 | G28: 276.35 | H28: 47.94 | I28: 62.92 | J28: 13248.21 | K28: 17387.94
A29: 2.2 | E29: RESERVATÓRIO | K29: =SUM(K31:K34) -> 1492.36 | L29: =SUM(K31:K34) -> 1492.36
A31: 2.2.1 | B31: Composição | C31: SINAPI | D31: 96521 | E31: ESCAVAÇÃO MECANIZADA PARA BLOCO DE COROAMENTO OU SAPATA COM RETROESCAVADEIRA (INCLUINDO ESCAVAÇÃO PARA COLOCAÇÃO DE FÔRMAS). AF_06/2017 | F31: M3 | G31: 8.71 | H31: 44.75 | I31: 58.73 | J31: 389.77 | K31: 511.53
A32: 2.2.2 | B32: Composição | C32: SINAPI | D32: 96525 | E32: ESCAVAÇÃO MECANIZADA PARA VIGA BALDRAME COM MINI-ESCAVADEIRA (INCLUINDO ESCAVAÇÃO PARA COLOCAÇÃO DE FÔRMAS). AF_06/2017 | F32: M3 | G32: 11.47 | H32: 47.94 | I32: 62.92 | J32: 549.87 | K32: 721.69
A33: 2.2.3 | B33: Composição | C33: SINAPI | D33: 101617 | E33: PREPARO DE FUNDO DE VALA COM LARGURA MAIOR OU IGUAL A 1,5 M E MENOR QUE 2,5 M (ACERTO DO SOLO NATURAL). AF_08/2020 | F33: M2 | G33: 20.38 | H33: 2.85 | I33: 3.74 | J33: 58.08 | K33: 76.22
A34: 2.2.4 | B34: Composição | C34: SINAPI | D34: 93381 | E34: REATERRO MECANIZADO DE VALA COM RETROESCAVADEIRA (CAPACIDADE DA CAÇAMBA DA RETRO: 0,26 M³ / POTÊNCIA: 88 HP), LARGURA DE 0,8 A 1,5 M, PROFUNDIDADE DE 1,5 A 3,0 M, COM SOLO (SEM SUBSTITUIÇÃO) DE 1ª CATEGORIA EM LOCAIS COM BAIXO NÍVEL DE INTERFERÊNCIA. AF_04/2016 | F34: M3 | G34: 10.71 | H34: 13.02 | I34: 17.08 | J34: 139.44 | K34: 182.92
A35: 2.3 | E35: ESTRUTURA METÁLICA | K35: =SUM(K37:K39) -> 5565.41 | L35: =SUM(K37:K39) -> 5565.41
A37: 2.3.1 | B37: Composição | C37: SINAPI | D37: 96521 | E37: ESCAVAÇÃO MECANIZADA PARA BLOCO DE COROAMENTO OU SAPATA COM RETROESCAVADEIRA (INCLUINDO ESCAVAÇÃO PARA COLOCAÇÃO DE FÔRMAS). AF_06/2017 | F37: M3 | G37: 79.62 | H37: 44.75 | I37: 58.73 | J37: 3562.99 | K37: 4676.08
A38: 2.3.2 | B38: Composição | C38: SINAPI | D38: 101617 | E38: PREPARO DE FUNDO DE VALA COM LARGURA MAIOR OU IGUAL A 1,5 M E MENOR QUE 2,5 M (ACERTO DO SOLO NATURAL). AF_08/2020 | F38: M2 | G38: 56.03 | H38: 2.85 | I38: 3.74 | J38: 159.68 | K38: 209.55
A39: 2.3.3 | B39: Composição | C39: SINAPI | D39: 93381 | E39: REATERRO MECANIZADO DE VALA COM RETROESCAVADEIRA (CAPACIDADE DA CAÇAMBA DA RETRO: 0,26 M³ / POTÊNCIA: 88 HP), LARGURA DE 0,8 A 1,5 M, PROFUNDIDADE DE 1,5 A 3,0 M, COM SOLO (SEM SUBSTITUIÇÃO) DE 1ª CATEGORIA EM LOCAIS COM BAIXO NÍVEL DE INTERFERÊNCIA. AF_04/2016 | F39: M3 | G39: 39.8 | H39: 13.02 | I39: 17.08 | J39: 518.19 | K39: 679.78
A40: 2.4 | E40: MURO | K40: =SUM(K42:K46) -> 7138.19 | L40: =SUM(K42:K46) -> 7138.19
A42: 2.4.1 | B42: Composição | C42: SINAPI | D42: 96521 | E42: ESCAVAÇÃO MECANIZADA PARA BLOCO DE COROAMENTO OU SAPATA COM RETROESCAVADEIRA (INCLUINDO ESCAVAÇÃO PARA COLOCAÇÃO DE FÔRMAS). AF_06/2017 | F42: M3 | G42: 52.34 | H42: 44.75 | I42: 58.73 | J42: 2342.21 | K42: 3073.92
A43: 2.4.2 | B43: Composição | C43: SINAPI | D43: 94318 | E43: ATERRO MECANIZADO DE VALA COM RETROESCAVADEIRA (CAPACIDADE DA CAÇAMBA DA RETRO: 0,26 M³ / POTÊNCIA: 88 HP), LARGURA DE 0,8 A 1,5 M, PROFUNDIDADE DE 1,5 A 3,0 M, COM SOLO ARGILO-ARENOSO. AF_05/2016 | F43: M3 | G43: 1.63 | H43: 63.72 | I43: 83.63 | J43: 103.86 | K43: 136.31
A44: 2.4.3 | B44: Composição | C44: SINAPI | D44: 96525 | E44: ESCAVAÇÃO MECANIZADA PARA VIGA BALDRAME COM MINI-ESCAVADEIRA (INCLUINDO ESCAVAÇÃO PARA COLOCAÇÃO DE FÔRMAS). AF_06/2017 | F44: M3 | G44: 44.46 | H44: 47.94 | I44: 62.92 | J44: 2131.41 | K44: 2797.42
A45: 2.4.4 | B45: Composição | C45: SINAPI | D45: 93381 | E45: REATERRO MECANIZADO DE VALA COM RETROESCAVADEIRA (CAPACIDADE DA CAÇAMBA DA RETRO: 0,26 M³ / POTÊNCIA: 88 HP), LARGURA DE 0,8 A 1,5 M, PROFUNDIDADE DE 1,5 A 3,0 M, COM SOLO (SEM SUBSTITUIÇÃO) DE 1ª CATEGORIA EM LOCAIS COM BAIXO NÍVEL DE INTERFERÊNCIA. AF_04/2016 | F45: M3 | G45: 47.61 | H45: 13.02 | I45: 17.08 | J45: 619.88 | K45: 813.17
A46: 2.4.5 | B46: Composição | C46: SINAPI | D46: 101617 | E46: PREPARO DE FUNDO DE VALA COM LARGURA MAIOR OU IGUAL A 1,5 M E MENOR QUE 2,5 M (ACERTO DO SOLO NATURAL). AF_08/2020 | F46: M2 | G46: 84.86 | H46: 2.85 | I46: 3.74 | J46: 241.85 | K46: 317.37
A47: 3 | E47: FUNDAÇÕES | K47: 844490.53 | L47: =K49+K55+K67+K75+K82+K90+K101+K109+K119+K124 -> 844490.53
...

Sheet Cronograma
A1: Ministério da Educação
A4: Obra: Projeto Padrão FNDE - 5 salas
A5: Município: | B5: Arroio do Meio - RS
A8: Planejamento
A10: ITEM | B10: DESCRIÇÃO DOS SERVIÇOS | C10: VALOR (R$) | D10: % ITEM | E10: 1 | F10: 2 | G10: 3 | H10: 4 | I10: 5 | J10: 6 | K10: 7 | L10: 8 | M10: 9 | N10: 10 | O10: 11 | P10: 12 | Q10: 13 | R10: 14 | S10: 15 | T10: 16 | U10: 17 | V10: 18 | W10: 19 | X10: 20 | Y10: 21 | Z10: 22 | AA10: 23 | AB10: 24
A12: 1 | B12: SERVIÇOS PRELIMINARES | C12: =Orçamento!K9 -> 352095.96 | E12: 1
A14: 2 | B14: MOVIMENTO DE TERRAS PARA FUNDAÇÕES | C14: =Orçamento!K20 -> 68937.9 | E14: 0.15 | F14: 0.85
A16: 3 | B16: FUNDAÇÕES | C16: =Orçamento!K47 -> 844490.53 | F16: 0.7 | G16: 0.3
A18: 4 | B18: SUPERESTRUTURA | C18: =Orçamento!K131 -> 2162635.9 | F18: 0.1 | G18: 0.7 | H18: 0.2
A20: 5 | B20: SISTEMA DE VEDAÇÃO VERTICAL | C20: =Orçamento!K203 -> 314490.19 | G20: 0.15 | H20: 0.4 | I20: 0.45
A22: 6 | B22: ESQUADRIAS | C22: =Orçamento!K228 -> 709508.73 | I22: 0.1 | J22: 0.4 | K22: 0.3 | L22: 0.2
A24: 7 | B24: SISTEMAS DE COBERTURA | C24: =Orçamento!K282 -> 613469.77 | J24: 0.25 | K24: 0.35 | L24: 0.25 | M24: 0.15
A26: 8 | B26: IMPERMEABILIZAÇÃO | C26: =Orçamento!K304 -> 89240.42 | J26: 1
A28: 9 | B28: REVESTIMENTOS INTERNOS E EXTERNOS | C28: =Orçamento!K310 -> 599944.34 | K28: 0.15 | L28: 0.2 | M28: 0.2 | N28: 0.2 | O28: 0.2 | P28: 0.05
A30: 10 | B30: SISTEMAS DE PISOS INTERNOS E EXTERNOS | C30: =Orçamento!K329 -> 568468.9 | K30: 0.15 | L30: 0.15 | M30: 0.25 | N30: 0.2 | O30: 0.25
A32: 11 | B32: PINTURA | C32: =Orçamento!K355 -> 116117.47 | O32: 0.3 | P32: 0.25 | Q32: 0.4
A34: 12 | B34: INSTALAÇÃO HIDRÁULICA | C34: =Orçamento!K377 -> 158234.69 | L34: 0.1 | M34: 0.2 | N34: 0.3 | O34: 0.2 | P34: 0.1 | Q34: 0.1
A36: 13 | B36: DRENAGEM DE ÁGUAS PLUVIAIS | C36: =Orçamento!K453 -> 84486.13 | M36: 0.2 | N36: 0.2 | O36: 0.3 | P36: 0.25 | Q36: 0.05
A38: 14 | B38: INSTALAÇÃO SANITÁRIA | C38: =Orçamento!K475 -> 92575.07 | L38: 0.2 | M38: 0.2 | N38: 0.2 | O38: 0.2 | P38: 0.2
A40: 15 | B40: LOUÇAS E METAIS | C40: =Orçamento!K536 -> 86166.23 | Q40: 0.1 | R40: 0.2 | S40: 0.3 | T40: 0.4
A42: 16 | B42: INSTALAÇÃO DE GÁS COMBUSTÍVEL | C42: =Orçamento!K573 -> 4119.8 | O42: 0.3 | P42: 0.3 | S42: 0.2 | T42: 0.2
A44: 17 | B44: SISTEMA DE PROTEÇÃO CONTRA INCÊNDIO | C44: =Orçamento!K583 -> 117762.44 | O44: 0.05 | P44: 0.1 | Q44: 0.1 | R44: 0.2 | S44: 0.3 | T44: 0.25
A46: 18 | B46: INSTALAÇÕES ELÉTRICAS - 220V | C46: =Orçamento!K627 -> 428989.8 | P46: 0.1 | Q46: 0.1 | R46: 0.2 | S46: 0.25 | T46: 0.25 | U46: 0.1
A48: 19 | B48: INSTALAÇÕES DE CLIMATIZAÇÃO | C48: =Orçamento!K724 -> 28432.65 | P48: 0.2 | T48: 0.8
A50: 20 | B50: INSTALAÇÕES DE REDE ESTRUTURADA | C50: =Orçamento!K735 -> 169045.65 | R50: 0.2 | S50: 0.3 | T50: 0.3 | U50: 0.2
A52: 21 | B52: SISTEMA DE EXAUSTÃO MECÂNICA | C52: =Orçamento!K782 -> 30078.79 | R52: 0.5 | S52: 0.5
A54: 22 | B54: SISTEMA DE PROTEÇÃO CONTRA DESC. ATMOSFÉRICAS | C54: =Orçamento!K787 -> 75783.36 | R54: 0.15 | S54: 0.1 | T54: 0.3 | U54: 0.2 | V54: 0.15 | W54: 0.1
A56: 23 | B56: SERVIÇOS COMPLEMENTARES | C56: =Orçamento!K804 -> 153320.99 | V56: 0.15 | W56: 0.25 | X56: 0.15 | Y56: 0.3 | Z56: 0.15
A58: 24 | B58: SERVIÇOS FINAIS | C58: =Orçamento!K816 -> 8444.82 | AA58: 0.4 | AB58: 0.6
A61: Valores Totais | C61: =SUM(C12:C58) -> 7876840.5 | D61: =SUM(D12:D58) -> 0
C63: =SUM(E61:AB61) -> 0
C68: Ionara Magalhães
C69: Eng° Civil - CREA/RS 180.285/D

Sheet Composições
B2: Item | C2: Descrição do Serviço
B3: 12.5 | C3: Caixa D´água - 40.000,00Litros
B19: 6.7.1 | C19: Portão de abrir aço carbono chapa perfurada, inclusive pintura
A21: Item | B21: sinapi | C21: descrição | D21: Qtdade | E21: Und | F21: R$ | G21: Total
A22: 1. | B22: Internet
C23: METALON 40X60 | D23: 31.5 | E23: m | F23: 12 | G23: =D23*F23 -> 378
C24: TELA PERFURADA | D24: 14.22 | E24: m² | F24: 369.37 | G24: =D24*F24 -> 5252.4414
C25: SOLDADOR (HORISTA) | D25: 40 | E25: h | F25: 27.31 | G25: =D25*F25 -> 1092.4
B26: 38155 | C26: FECHADURA DE SOBREPOR PARA PORTAO | D26: 2 | E26: und | F26: 102.93 | G26: =D26*F26 -> 205.86
F27: 10.94 | G27: =G23+G24+G25+G26 -> 6928.7014
G28: =G27/10.94 -> 633.33651
E86: =129.9+129.9+85.91 -> 345.71 | F86: =E86/3 -> 115.23667
B107: =2090.15+2199.99+2239.99 -> 6530.13 | C107: =B107/3 -> 2176.71 | D107: =C107*#REF! -> #REF! | E107: =D107+C107 -> #REF!
E166: =4167+5661.05+6286.5 -> 16114.55 | F166: =E166/3 -> 5371.5167
B213: =775+1063.24+481.58 -> 2319.82 | C213: =B213/3 -> 773.27333
C288: =1850+2277.87+1833 -> 5960.87 | D288: =C288/3 -> 1986.9567
H346: 67170
H365: 57400
H366: 9890
H367: =H365+H366 -> 67290
