Workbook
Name AbaDeprec: #REF!
Name AbaDeprec: #REF!
Name AbaDeprec: #REF!
Name AbaDeprec: #REF!
Name AbaDeprec: #REF!
Name AbaDeprec: #REF!
Name AbaDeprec: #REF!
Name AbaDeprec: #REF!
Name AbaDeprec: #REF!
Name AbaDeprec: #REF!
Name AbaDeprec: #REF!
Name AbaDeprec: #REF!
Name AbaDeprec: #REF!
Name AbaDeprec: #REF!
Name AbaDeprec: #REF!
Name AbaDeprec: #REF!
Name AbaDeprec: #REF!
Name AbaDeprec: #REF!
Name AbaRemun: #REF!
Name AbaRemun: #REF!
Name AbaRemun: #REF!
Name AbaRemun: #REF!
Name AbaRemun: #REF!
Name AbaRemun: #REF!
Name AbaRemun: #REF!
Name AbaRemun: #REF!
Name AbaRemun: #REF!
Name AbaRemun: #REF!
Name AbaRemun: #REF!
Name AbaRemun: #REF!
Name AbaRemun: #REF!
Name AbaRemun: #REF!
Name AbaRemun: #REF!
Name AbaRemun: #REF!
Name AbaRemun: #REF!
Name número: #REF!
Name número: #REF!
Name número: #REF!
Name número: #REF!
Name número: #REF!
Name número: #REF!
Name número: #REF!
Name número: #REF!
Name número: #REF!
Name número: #REF!
Name número: #REF!
Name número: #REF!
Name número: #REF!
Name número: #REF!
Name número: #REF!
Name número: #REF!
Name número: #REF!
Name número: #REF!
Name x: #REF!
Name x: #REF!
Name x: #REF!
Name x: #REF!
Name x: #REF!
Name x: #REF!
Name x: #REF!

Sheet  lote 1.1
A1: PLANILHA DE COMPOSIÇÃO DE CUSTOS E FORMAÇÃO DE PREÇO
A2: GRUPO A - Identificação
A3: Nº do processo: | B3: 3827-2026 | C3: Nº Licitação: | F3: Data:
A4: Trajeto | B4: 1 | C4: Item: | D4: 1 | E4: Serviço de Transporte Escolar
A6: GRUPO B - Orçamento Sintético
A7: Formas de Tributação | C7: LUCRO REAL | E7: LUCRO PRESUMIDO | G7: SIMPLES NAC.
A8: Descrição do Item | C8: Custo (R$/mês) | D8: AV % | E8: Custo (R$/mês) | F8: AV % | G8: Custo (R$/mês) | H8: AV %
A9: =A51 -> 1. Mão-de-obra | C9: =+G105 -> 8244.1692 | D9: =IFERROR(C9/$C$26,0) -> 0.24723511 | E9: =G105 -> 8244.1692 | F9: =IFERROR(E9/$E$26,0) -> 0.26283568 | G9: =G106 -> 6915.3513 | H9: =IFERROR(G9/$G$26,0) -> 0.22089538
A10: 1.1. Monitor | C10: =G60 -> 2633.9688 | D10: =IFERROR(C10/$C$26,0) -> 0.07899032 | E10: =C10 -> 2633.9688 | F10: =IFERROR(E10/$E$26,0) -> 0.08397462 | G10: =G67 -> 2080.5223 | H10: =IFERROR(G10/$G$26,0) -> 0.066457617
A11: 1.2. Motorista | C11: =G77 -> 3635.8179 | D11: =IFERROR(C11/$C$26,0) -> 0.10903486 | E11: =C11 -> 3635.8179 | F11: =IFERROR(E11/$E$26,0) -> 0.11591497 | G11: =G84 -> 2860.4465 | H11: =IFERROR(G11/$G$26,0) -> 0.091370546
A12: =A86 -> 1.3. Vale Transporte | C12: =G92 -> 266.03591 | D12: =IFERROR(C12/$C$26,0) -> 0.0079781741 | E12: =C12 -> 266.03591 | F12: =IFERROR(E12/$E$26,0) -> 0.008481598 | G12: =E12 -> 266.03591 | H12: =IFERROR(G12/$G$26,0) -> 0.0084979202
A13: =A94 -> 1.4. Vale-refeição (diário) | C13: =G98 -> 1662.2727 | D13: =IFERROR(C13/$C$26,0) -> 0.049850042 | E13: =C13 -> 1662.2727 | F13: =IFERROR(E13/$E$26,0) -> 0.052995586 | G13: =E13 -> 1662.2727 | H13: =IFERROR(G13/$G$26,0) -> 0.053097573
A14: 1.5 seguro de vida em grupo | C14: =G104 -> 46.073864 | D14: =IFERROR(C14/$C$26,0) -> 0.0013817131 | E14: =C14 -> 46.073864 | F14: =IFERROR(E14/$E$26,0) -> 0.0014688994 | G14: =E14 -> 46.073864 | H14: =IFERROR(G14/$G$26,0) -> 0.0014717262
A15: =A108 -> 2. Veículos | C15: =+G171 -> 16978.522 | D15: =IFERROR(C15/$C$26,0) -> 0.50917037 | E15: =C15 -> 16978.522 | F15: =IFERROR(E15/$E$26,0) -> 0.54129909 | G15: =E15 -> 16978.522 | H15: =IFERROR(G15/$G$26,0) -> 0.54234078
A16: =A109 -> 2.1 Depreciação | C16: =G116 -> 2448.0568 | D16: =IFERROR(C16/$C$26,0) -> 0.07341499 | E16: =C16 -> 2448.0568 | F16: =IFERROR(E16/$E$26,0) -> 0.078047486 | G16: =E16 -> 2448.0568 | H16: =IFERROR(G16/$G$26,0) -> 0.078197682
A17: =A117 -> 2.2 Remuneração do Capital | C17: =G127 -> 3914.967 | D17: =IFERROR(C17/$C$26,0) -> 0.11740629 | E17: =C17 -> 3914.967 | F17: =IFERROR(E17/$E$26,0) -> 0.12481464 | G17: =E17 -> 3914.967 | H17: =IFERROR(G17/$G$26,0) -> 0.12505484
A18: =A129 -> 2.3. Impostos e Seguros | C18: =G139 -> 768.4075 | D18: =IFERROR(C18/$C$26,0) -> 0.02304384 | E18: =C18 -> 768.4075 | F18: =IFERROR(E18/$E$26,0) -> 0.024497909 | G18: =E18 -> 768.4075 | H18: =IFERROR(G18/$G$26,0) -> 0.024545053
A19: =A140 -> 2.4. Consumos | C19: =G154 -> 4327.3052 | D19: =IFERROR(C19/$C$26,0) -> 0.12977193 | E19: =C19 -> 4327.3052 | F19: =IFERROR(E19/$E$26,0) -> 0.13796056 | G19: =E19 -> 4327.3052 | H19: =IFERROR(G19/$G$26,0) -> 0.13822605
A20: =A156 -> 2.5. Manutenção | C20: =G161 -> 4775.95 | D20: =IFERROR(C20/$C$26,0) -> 0.14322638 | E20: =C20 -> 4775.95 | F20: =IFERROR(E20/$E$26,0) -> 0.15226399 | G20: =E20 -> 4775.95 | H20: =IFERROR(G20/$G$26,0) -> 0.15255701
A21: =A163 -> 2.6. Pneus | C21: =G169 -> 743.83533 | D21: =IFERROR(C21/$C$26,0) -> 0.022306943 | E21: =C21 -> 743.83533 | F21: =IFERROR(E21/$E$26,0) -> 0.023714514 | G21: =E21 -> 743.83533 | H21: =IFERROR(G21/$G$26,0) -> 0.023760151
A22: =A173 -> 3. Ferramentas e Materiais de Consumo | C22: =+G183 -> 86.958333 | D22: =IFERROR(C22/$C$26,0) -> 0.0026078011 | E22: =C22 -> 86.958333 | F22: =IFERROR(E22/$E$26,0) -> 0.0027723537 | G22: =E22 -> 86.958333 | H22: =IFERROR(G22/$G$26,0) -> 0.0027776888
A23: =A188 -> 4. Benefícios e Desp. Ind. - BDI - LUCRO REAL | C23: =+G194 -> 8035.8137 | D23: =IFERROR(C23/$C$26,0) -> 0.24098672
A24: =A202 -> 5. Benefícios e Desp. Ind. - BDI - LUCRO PRESUMIDO | E24: =G208 -> 6056.5991 | F24: =IFERROR(E24/$E$26,0) -> 0.19309288
A25: =A216 -> 6. Benef. Desp. Ind. + Impostos - SIMPLES NACIONAL | G25: =G220+G233 -> 7325.1708 | H25: =IFERROR(G25/$G$26,0) -> 0.23398615
A26: PREÇO TOTAL MÊS (R$/Mês) | C26: =C9+C15+C22+C23 -> 33345.463 | D26: =D9+D15+D22+D23 -> 1 | E26: =E9+E15+E22+E24 -> 31366.248 | F26: =F9+F15+F22+F24 -> 1 | G26: =G9+G15+G22+G25 -> 31306.002 | H26: =H9+H15+H22+H25 -> 1
A27: PREÇO POR QUILOMETRO (R$/Km) | C27: =G200 -> 11.994771 | E27: =G214 -> 11.282823 | G27: =G239 -> 11.261152
A29: GRUPO C - Informações sobre
A30: C1- Mão-de-obra | F30: Quantidade | G30: R$ / mês
A31: Motorista | F31: 1 | G31: ='lote 3.1'!G31 -> 2271
A32: Monitor | F32: 1 | G32: ='lote 3.1'!G32 -> 1621
A33: Total de mão-de-obra (postos de trabalho) | F33: =SUM(F31:F32) -> 2
A35: C2- Veículos | C35: Vida útil do Veículo | D35: Taxade depreciação | E35: Capacidade (Lugares) | F35: Quantidade | G35: Valor (R$)
A36: Dados do veículo e descrição do veículo | C36: 10 | D36: =1/C36 -> 0.1 | E36: 28 | F36: 1 | G36: 498889
A37: micrônibus Volare ATT 8 longo fretamento com 31 lugares - ano 2025 - pneu 215 x 75 aro 17,5 | D37: tipo de combustível | E37: óleo diesel BS 10
A38: Consumo médio (Km / litro) e Valor do litro (R$) | F38: 5.5 | G38: 7.32
A39: Velocidade média em função do pavimento (Km/h) | F39: 20
A41: C3- Distâncias | C41: Unidade | E41: Km por dia | F41: Horas p/Dia | G41: Km por mês
A42: Distância percorrida | C42: Km | E42: 139 | F42: =(E42/F39)+C48 -> 7.95 | G42: =E42*E43 -> 2780 | I42: =22+55+34+28 -> 139
A43: Média de dias letivos por mês | C43: Dias | E43: 20 | I43: =I42*203 -> 28217
A45: C4- Fatores | C45: % | D45: Aplicação
...

Sheet  lote 1.2
A1: PLANILHA DE COMPOSIÇÃO DE CUSTOS E FORMAÇÃO DE PREÇO
A2: GRUPO A - Identificação
A3: Nº do processo: | B3: 3827-2026 | C3: Nº Licitação: | F3: Data:
A4: Trajeto | B4: 1 | C4: Item: | D4: 2 | E4: Serviço de Transporte Escolar
A6: GRUPO B - Orçamento Sintético
A7: Formas de Tributação | C7: LUCRO REAL | E7: LUCRO PRESUMIDO | G7: SIMPLES NAC.
A8: Descrição do Item | C8: Custo (R$/mês) | D8: AV % | E8: Custo (R$/mês) | F8: AV % | G8: Custo (R$/mês) | H8: AV %
A9: =A51 -> 1. Mão-de-obra | C9: =+G105 -> 4303.56 | D9: =IFERROR(C9/$C$26,0) -> 0.2437644 | E9: =G105 -> 4303.56 | F9: =IFERROR(E9/$E$26,0) -> 0.25914597 | G9: =G106 -> 3609.9004 | H9: =IFERROR(G9/$G$26,0) -> 0.21762515
A10: 1.1. Monitor | C10: =G60 -> 1374.9648 | D10: =IFERROR(C10/$C$26,0) -> 0.077881447 | E10: =C10 -> 1374.9648 | F10: =IFERROR(E10/$E$26,0) -> 0.082795777 | G10: =G67 -> 1086.0588 | H10: =IFERROR(G10/$G$26,0) -> 0.065473749
A11: 1.2. Motorista | C11: =G77 -> 1897.9427 | D11: =IFERROR(C11/$C$26,0) -> 0.10750422 | E11: =C11 -> 1897.9427 | F11: =IFERROR(E11/$E$26,0) -> 0.11428775 | G11: =G84 -> 1493.1891 | H11: =IFERROR(G11/$G$26,0) -> 0.090017855
A12: =A86 -> 1.3. Vale Transporte | C12: =G92 -> 138.87409 | D12: =IFERROR(C12/$C$26,0) -> 0.0078661758 | E12: =C12 -> 138.87409 | F12: =IFERROR(E12/$E$26,0) -> 0.0083625325 | G12: =E12 -> 138.87409 | H12: =IFERROR(G12/$G$26,0) -> 0.0083721132
A13: =A94 -> 1.4. Vale-refeição (diário) | C13: =G98 -> 867.72727 | D13: =IFERROR(C13/$C$26,0) -> 0.049150243 | E13: =C13 -> 867.72727 | F13: =IFERROR(E13/$E$26,0) -> 0.05225163 | G13: =E13 -> 867.72727 | H13: =IFERROR(G13/$G$26,0) -> 0.052311492
A14: 1.5 seguro de vida em grupo | C14: =G104 -> 24.051136 | D14: =IFERROR(C14/$C$26,0) -> 0.0013623165 | E14: =C14 -> 24.051136 | F14: =IFERROR(E14/$E$26,0) -> 0.0014482789 | G14: =E14 -> 24.051136 | H14: =IFERROR(G14/$G$26,0) -> 0.0014499381
A15: =A108 -> 2. Veículos | C15: =+G171 -> 9009.5483 | D15: =IFERROR(C15/$C$26,0) -> 0.51032335 | E15: =C15 -> 9009.5483 | F15: =IFERROR(E15/$E$26,0) -> 0.54252482 | G15: =E15 -> 9009.5483 | H15: =IFERROR(G15/$G$26,0) -> 0.54314637
A16: =A109 -> 2.1 Depreciação | C16: =G116 -> 1277.9165 | D16: =IFERROR(C16/$C$26,0) -> 0.072384384 | E16: =C16 -> 1277.9165 | F16: =IFERROR(E16/$E$26,0) -> 0.076951848 | G16: =E16 -> 1277.9165 | H16: =IFERROR(G16/$G$26,0) -> 0.077040009
A17: =A117 -> 2.2 Remuneração do Capital | C17: =G127 -> 2043.662 | D17: =IFERROR(C17/$C$26,0) -> 0.11575813 | E17: =C17 -> 2043.662 | F17: =IFERROR(E17/$E$26,0) -> 0.12306248 | G17: =E17 -> 2043.662 | H17: =IFERROR(G17/$G$26,0) -> 0.12320347
A18: =A129 -> 2.3. Impostos e Seguros | C18: =G139 -> 768.4075 | D18: =IFERROR(C18/$C$26,0) -> 0.043524522 | E18: =C18 -> 768.4075 | F18: =IFERROR(E18/$E$26,0) -> 0.046270926 | G18: =E18 -> 768.4075 | H18: =IFERROR(G18/$G$26,0) -> 0.046323936
A19: =A140 -> 2.4. Consumos | C19: =G154 -> 2046.5703 | D19: =IFERROR(C19/$C$26,0) -> 0.11592286 | E19: =C19 -> 2046.5703 | F19: =IFERROR(E19/$E$26,0) -> 0.12323761 | G19: =E19 -> 2046.5703 | H19: =IFERROR(G19/$G$26,0) -> 0.1233788
A20: =A156 -> 2.5. Manutenção | C20: =G161 -> 2521.2 | D20: =IFERROR(C20/$C$26,0) -> 0.14280707 | E20: =C20 -> 2521.2 | F20: =IFERROR(E20/$E$26,0) -> 0.15181822 | G20: =E20 -> 2521.2 | H20: =IFERROR(G20/$G$26,0) -> 0.15199215
A21: =A163 -> 2.6. Pneus | C21: =G169 -> 351.792 | D21: =IFERROR(C21/$C$26,0) -> 0.019926379 | E21: =C21 -> 351.792 | F21: =IFERROR(E21/$E$26,0) -> 0.021183736 | G21: =E21 -> 351.792 | H21: =IFERROR(G21/$G$26,0) -> 0.021208005
A22: =A173 -> 3. Ferramentas e Materiais de Consumo | C22: =+G183 -> 86.958333 | D22: =IFERROR(C22/$C$26,0) -> 0.0049255374 | E22: =C22 -> 86.958333 | F22: =IFERROR(E22/$E$26,0) -> 0.0052363395 | G22: =E22 -> 86.958333 | H22: =IFERROR(G22/$G$26,0) -> 0.0052423386
A23: =A188 -> 4. Benefícios e Desp. Ind. - BDI - LUCRO REAL | C23: =+G194 -> 4254.5212 | D23: =IFERROR(C23/$C$26,0) -> 0.24098672
A24: =A202 -> 5. Benefícios e Desp. Ind. - BDI - LUCRO PRESUMIDO | E24: =G208 -> 3206.6359 | F24: =IFERROR(E24/$E$26,0) -> 0.19309288
A25: =A216 -> 6. Benef. Desp. Ind. + Impostos - SIMPLES NACIONAL | G25: =G220+G233 -> 3881.2917 | H25: =IFERROR(G25/$G$26,0) -> 0.23398615
A26: PREÇO TOTAL MÊS (R$/Mês) | C26: =C9+C15+C22+C23 -> 17654.588 | D26: =D9+D15+D22+D23 -> 1 | E26: =E9+E15+E22+E24 -> 16606.703 | F26: =F9+F15+F22+F24 -> 1 | G26: =G9+G15+G22+G25 -> 16587.699 | H26: =H9+H15+H22+H25 -> 1
A27: PREÇO POR QUILOMETRO (R$/Km) | C27: =G200 -> 14.011578 | E27: =G214 -> 13.179923 | G27: =G239 -> 13.16484
A29: GRUPO C - Informações sobre
A30: C1- Mão-de-obra | F30: Quantidade | G30: R$ / mês
A31: Motorista | F31: 1 | G31: ='lote 3.1'!G31 -> 2271
A32: Monitor | F32: 1 | G32: ='lote 3.1'!G32 -> 1621
A33: Total de mão-de-obra (postos de trabalho) | F33: =SUM(F31:F32) -> 2
A35: C2- Veículos | C35: Vida útil do Veículo | D35: Taxade depreciação | E35: Capacidade (Lugares) | F35: Quantidade | G35: Valor (R$)
A36: Dados do veículo e descrição do veículo | C36: 10 | D36: =1/C36 -> 0.1 | E36: 28 | F36: 1 | G36: 498889
A37: micrônibus Volare ATT 8 longo fretamento com 31 lugares - ano 2025 - pneu 215 x 75 aro 17,5 | D37: tipo de combustível | E37: óleo diesel BS 10
A38: Consumo médio (Km / litro) e Valor do litro (R$) | F38: 5.5 | G38: 7.32
A39: Velocidade média em função do pavimento (Km/h) | F39: 20
A41: C3- Distâncias | C41: Unidade | E41: Km por dia | F41: Horas p/Dia | G41: Km por mês
A42: Distância percorrida | C42: Km | E42: 63 | F42: =(E42/F39)+C48 -> 4.15 | G42: =E42*E43 -> 1260 | I42: =27+27+9 -> 63
A43: Média de dias letivos por mês | C43: Dias | E43: 20 | I43: =I42*203 -> 12789
A45: C4- Fatores | C45: % | D45: Aplicação
...

Sheet  lote 2.1
A1: PLANILHA DE COMPOSIÇÃO DE CUSTOS E FORMAÇÃO DE PREÇO
A2: GRUPO A - Identificação
A3: Nº do processo: | B3: =' lote 1.1'!B3 -> 3827-2026 | C3: Nº Licitação: | F3: Data:
A4: Trajeto | B4: 2 | C4: Item: | D4: 1 | E4: Serviço de Transporte Escolar
A6: GRUPO B - Orçamento Sintético
A7: Formas de Tributação | C7: LUCRO REAL | E7: LUCRO PRESUMIDO | G7: SIMPLES NAC.
A8: Descrição do Item | C8: Custo (R$/mês) | D8: AV % | E8: Custo (R$/mês) | F8: AV % | G8: Custo (R$/mês) | H8: AV %
A9: =A51 -> 1. Mão-de-obra | C9: =+G105 -> 5496.1128 | D9: =IFERROR(C9/$C$26,0) -> 0.24740762 | E9: =G105 -> 5496.1128 | F9: =IFERROR(E9/$E$26,0) -> 0.26301907 | G9: =G106 -> 4610.2342 | H9: =IFERROR(G9/$G$26,0) -> 0.22394561
A10: 1.1. Monitor | C10: =G60 -> 1755.9792 | D10: =IFERROR(C10/$C$26,0) -> 0.079045435 | E10: =C10 -> 1755.9792 | F10: =IFERROR(E10/$E$26,0) -> 0.084033213 | G10: =G67 -> 1387.0149 | H10: =IFERROR(G10/$G$26,0) -> 0.067375295
A11: 1.2. Motorista | C11: =G77 -> 2423.8786 | D11: =IFERROR(C11/$C$26,0) -> 0.10911094 | E11: =C11 -> 2423.8786 | F11: =IFERROR(E11/$E$26,0) -> 0.11599585 | G11: =G84 -> 1906.9643 | H11: =IFERROR(G11/$G$26,0) -> 0.092632233
A12: =A86 -> 1.3. Vale Transporte | C12: =G92 -> 177.35727 | D12: =IFERROR(C12/$C$26,0) -> 0.0079837408 | E12: =C12 -> 177.35727 | F12: =IFERROR(E12/$E$26,0) -> 0.008487516 | G12: =E12 -> 177.35727 | H12: =IFERROR(G12/$G$26,0) -> 0.0086152634
A13: =A94 -> 1.4. Vale-refeição (diário) | C13: =G98 -> 1108.1818 | D13: =IFERROR(C13/$C$26,0) -> 0.049884825 | E13: =C13 -> 1108.1818 | F13: =IFERROR(E13/$E$26,0) -> 0.053032564 | G13: =E13 -> 1108.1818 | H13: =IFERROR(G13/$G$26,0) -> 0.053830768
A14: 1.5 seguro de vida em grupo | C14: =G104 -> 30.715909 | D14: =IFERROR(C14/$C$26,0) -> 0.0013826772 | E14: =C14 -> 30.715909 | F14: =IFERROR(E14/$E$26,0) -> 0.0014699243 | G14: =E14 -> 30.715909 | H14: =IFERROR(G14/$G$26,0) -> 0.0014920485
A15: =A108 -> 2. Veículos | C15: =+G171 -> 11278.264 | D15: =IFERROR(C15/$C$26,0) -> 0.50769124 | E15: =C15 -> 11278.264 | F15: =IFERROR(E15/$E$26,0) -> 0.53972662 | G15: =E15 -> 11278.264 | H15: =IFERROR(G15/$G$26,0) -> 0.54785017
A16: =A109 -> 2.1 Depreciação | C16: =G116 -> 1632.0379 | D16: =IFERROR(C16/$C$26,0) -> 0.073466215 | E16: =C16 -> 1632.0379 | F16: =IFERROR(E16/$E$26,0) -> 0.078101943 | G16: =E16 -> 1632.0379 | H16: =IFERROR(G16/$G$26,0) -> 0.079277472
A17: =A117 -> 2.2 Remuneração do Capital | C17: =G127 -> 2609.978 | D17: =IFERROR(C17/$C$26,0) -> 0.11748821 | E17: =C17 -> 2609.978 | F17: =IFERROR(E17/$E$26,0) -> 0.12490173 | G17: =E17 -> 2609.978 | H17: =IFERROR(G17/$G$26,0) -> 0.12678165
A18: =A129 -> 2.3. Impostos e Seguros | C18: =G139 -> 768.4075 | D18: =IFERROR(C18/$C$26,0) -> 0.034589877 | E18: =C18 -> 768.4075 | F18: =IFERROR(E18/$E$26,0) -> 0.036772503 | G18: =E18 -> 768.4075 | H18: =IFERROR(G18/$G$26,0) -> 0.037325974
A19: =A140 -> 2.4. Consumos | C19: =G154 -> 2677.3255 | D19: =IFERROR(C19/$C$26,0) -> 0.12051986 | E19: =C19 -> 2677.3255 | F19: =IFERROR(E19/$E$26,0) -> 0.12812467 | G19: =E19 -> 2677.3255 | H19: =IFERROR(G19/$G$26,0) -> 0.13005311
A20: =A156 -> 2.5. Manutenção | C20: =G161 -> 3130.3 | D20: =IFERROR(C20/$C$26,0) -> 0.14091051 | E20: =C20 -> 3130.3 | F20: =IFERROR(E20/$E$26,0) -> 0.14980198 | G20: =E20 -> 3130.3 | H20: =IFERROR(G20/$G$26,0) -> 0.15205669
A21: =A163 -> 2.6. Pneus | C21: =G169 -> 460.21467 | D21: =IFERROR(C21/$C$26,0) -> 0.020716572 | E21: =C21 -> 460.21467 | F21: =IFERROR(E21/$E$26,0) -> 0.02202379 | G21: =E21 -> 460.21467 | H21: =IFERROR(G21/$G$26,0) -> 0.022355275
A22: =A173 -> 3. Ferramentas e Materiais de Consumo | C22: =+G183 -> 86.958333 | D22: =IFERROR(C22/$C$26,0) -> 0.0039144309 | E22: =C22 -> 86.958333 | F22: =IFERROR(E22/$E$26,0) -> 0.0041614321 | G22: =E22 -> 86.958333 | H22: =IFERROR(G22/$G$26,0) -> 0.0042240667
A23: =A188 -> 4. Benefícios e Desp. Ind. - BDI - LUCRO REAL | C23: =+G194 -> 5353.4737 | D23: =IFERROR(C23/$C$26,0) -> 0.24098672
A24: =A202 -> 5. Benefícios e Desp. Ind. - BDI - LUCRO PRESUMIDO | E24: =G208 -> 4034.9174 | F24: =IFERROR(E24/$E$26,0) -> 0.19309288
A25: =A216 -> 6. Benef. Desp. Ind. + Impostos - SIMPLES NACIONAL | G25: =G220+G233 -> 4610.9455 | H25: =IFERROR(G25/$G$26,0) -> 0.22398016
A26: PREÇO TOTAL MÊS (R$/Mês) | C26: =C9+C15+C22+C23 -> 22214.808 | D26: =D9+D15+D22+D23 -> 1 | E26: =E9+E15+E22+E24 -> 20896.252 | F26: =F9+F15+F22+F24 -> 1 | G26: =G9+G15+G22+G25 -> 20586.402 | H26: =H9+H15+H22+H25 -> 1
A27: PREÇO POR QUILOMETRO (R$/Km) | C27: =G200 -> 12.915586 | E27: =G214 -> 12.148984 | G27: =G239 -> 11.968838
A29: GRUPO C - Informações sobre
A30: C1- Mão-de-obra | F30: Quantidade | G30: R$ / mês
A31: Motorista | F31: 1 | G31: ='lote 3.1'!G31 -> 2271
A32: Monitor | F32: 1 | G32: ='lote 3.1'!G32 -> 1621
A33: Total de mão-de-obra (postos de trabalho) | F33: =SUM(F31:F32) -> 2
A35: C2- Veículos | C35: Vida útil do Veículo | D35: Taxade depreciação | E35: Capacidade (Lugares) | F35: Quantidade | G35: Valor (R$)
A36: Dados do veículo e descrição do veículo | C36: 10 | D36: =1/C36 -> 0.1 | E36: 28 | F36: 1 | G36: 498889
A37: micrônibus Volare ATT 8 longo fretamento com 31 lugares - ano 2025 - pneu 215 x 75 aro 17,5 | D37: tipo de combustível | E37: óleo diesel BS 10
A38: Consumo médio (Km / litro) e Valor do litro (R$) | F38: 5.5 | G38: 7.32
A39: Velocidade média em função do pavimento (Km/h) | F39: 20
A41: C3- Distâncias | C41: Unidade | E41: Km por dia | F41: Horas p/Dia | G41: Km por mês
A42: Distância percorrida | C42: Km | E42: 86 | F42: =(E42/F39)+C48 -> 5.3 | G42: =E42*E43 -> 1720 | I42: =26+33+20+7 -> 86
A43: Média de dias letivos por mês | C43: Dias | E43: 20 | I43: =I42*203 -> 17458
A45: C4- Fatores | C45: % | D45: Aplicação
...

Sheet  lote 2.2
A1: PLANILHA DE COMPOSIÇÃO DE CUSTOS E FORMAÇÃO DE PREÇO
A2: GRUPO A - Identificação
A3: Nº do processo: | B3: =' lote 2.1'!B3 -> 3827-2026 | C3: Nº Licitação: | F3: Data:
A4: Trajeto | B4: 2 | C4: Item: | D4: 2 | E4: Serviço de Transporte Escolar
A6: GRUPO B - Orçamento Sintético
A7: Formas de Tributação | C7: LUCRO REAL | E7: LUCRO PRESUMIDO | G7: SIMPLES NAC.
A8: Descrição do Item | C8: Custo (R$/mês) | D8: AV % | E8: Custo (R$/mês) | F8: AV % | G8: Custo (R$/mês) | H8: AV %
A9: =A51 -> 1. Mão-de-obra | C9: =+G105 -> 4381.3352 | D9: =IFERROR(C9/$C$26,0) -> 0.28609345 | E9: =G105 -> 4381.3352 | F9: =IFERROR(E9/$E$26,0) -> 0.30414599 | G9: =G106 -> 3675.1396 | H9: =IFERROR(G9/$G$26,0) -> 0.26122787
A10: 1.1. Monitor | C10: =G60 -> 1399.8136 | D10: =IFERROR(C10/$C$26,0) -> 0.091405357 | E10: =C10 -> 1399.8136 | F10: =IFERROR(E10/$E$26,0) -> 0.097173048 | G10: =G67 -> 1105.6864 | H10: =IFERROR(G10/$G$26,0) -> 0.078591874
A11: 1.2. Motorista | C11: =G77 -> 1932.2428 | D11: =IFERROR(C11/$C$26,0) -> 0.12617205 | E11: =C11 -> 1932.2428 | F11: =IFERROR(E11/$E$26,0) -> 0.13413352 | G11: =G84 -> 1520.1744 | H11: =IFERROR(G11/$G$26,0) -> 0.10805356
A12: =A86 -> 1.3. Vale Transporte | C12: =G92 -> 141.38386 | D12: =IFERROR(C12/$C$26,0) -> 0.0092321167 | E12: =C12 -> 141.38386 | F12: =IFERROR(E12/$E$26,0) -> 0.0098146645 | G12: =E12 -> 141.38386 | H12: =IFERROR(G12/$G$26,0) -> 0.010049525
A13: =A94 -> 1.4. Vale-refeição (diário) | C13: =G98 -> 883.40909 | D13: =IFERROR(C13/$C$26,0) -> 0.057685054 | E13: =C13 -> 883.40909 | F13: =IFERROR(E13/$E$26,0) -> 0.061324989 | G13: =E13 -> 883.40909 | H13: =IFERROR(G13/$G$26,0) -> 0.062792466
A14: 1.5 seguro de vida em grupo | C14: =G104 -> 24.485795 | D14: =IFERROR(C14/$C$26,0) -> 0.0015988792 | E14: =C14 -> 24.485795 | F14: =IFERROR(E14/$E$26,0) -> 0.0016997687 | G14: =E14 -> 24.485795 | H14: =IFERROR(G14/$G$26,0) -> 0.0017404434
A15: =A108 -> 2. Veículos | C15: =+G171 -> 7155.5013 | D15: =IFERROR(C15/$C$26,0) -> 0.4672416 | E15: =C15 -> 7155.5013 | F15: =IFERROR(E15/$E$26,0) -> 0.49672461 | G15: =E15 -> 7155.5013 | H15: =IFERROR(G15/$G$26,0) -> 0.508611
A16: =A109 -> 2.1 Depreciação | C16: =G116 -> 704.33493 | D16: =IFERROR(C16/$C$26,0) -> 0.045991827 | E16: =C16 -> 704.33493 | F16: =IFERROR(E16/$E$26,0) -> 0.048893918 | G16: =E16 -> 704.33493 | H16: =IFERROR(G16/$G$26,0) -> 0.050063926
A17: =A117 -> 2.2 Remuneração do Capital | C17: =G127 -> 1126.3823 | D17: =IFERROR(C17/$C$26,0) -> 0.073550779 | E17: =C17 -> 1126.3823 | F17: =IFERROR(E17/$E$26,0) -> 0.078191843 | G17: =E17 -> 1126.3823 | H17: =IFERROR(G17/$G$26,0) -> 0.080062936
A18: =A129 -> 2.3. Impostos e Seguros | C18: =G139 -> 577.73833 | D18: =IFERROR(C18/$C$26,0) -> 0.037725293 | E18: =C18 -> 577.73833 | F18: =IFERROR(E18/$E$26,0) -> 0.040105764 | G18: =E18 -> 577.73833 | H18: =IFERROR(G18/$G$26,0) -> 0.041065476
A19: =A140 -> 2.4. Consumos | C19: =G154 -> 2007.9941 | D19: =IFERROR(C19/$C$26,0) -> 0.13111847 | E19: =C19 -> 2007.9941 | F19: =IFERROR(E19/$E$26,0) -> 0.13939206 | G19: =E19 -> 2007.9941 | H19: =IFERROR(G19/$G$26,0) -> 0.14272765
A20: =A156 -> 2.5. Manutenção | C20: =G161 -> 2462.725 | D20: =IFERROR(C20/$C$26,0) -> 0.16081159 | E20: =C20 -> 2462.725 | F20: =IFERROR(E20/$E$26,0) -> 0.17095883 | G20: =E20 -> 2462.725 | H20: =IFERROR(G20/$G$26,0) -> 0.17504979
A21: =A163 -> 2.6. Pneus | C21: =G169 -> 276.3266 | D21: =IFERROR(C21/$C$26,0) -> 0.018043639 | E21: =C21 -> 276.3266 | F21: =IFERROR(E21/$E$26,0) -> 0.019182195 | G21: =E21 -> 276.3266 | H21: =IFERROR(G21/$G$26,0) -> 0.019641216
A22: =A173 -> 3. Ferramentas e Materiais de Consumo | C22: =+G183 -> 86.958333 | D22: =IFERROR(C22/$C$26,0) -> 0.0056782257 | E22: =C22 -> 86.958333 | F22: =IFERROR(E22/$E$26,0) -> 0.0060365225 | G22: =E22 -> 86.958333 | H22: =IFERROR(G22/$G$26,0) -> 0.0061809736
A23: =A188 -> 4. Benefícios e Desp. Ind. - BDI - LUCRO REAL | C23: =+G194 -> 3690.5549 | D23: =IFERROR(C23/$C$26,0) -> 0.24098672
A24: =A202 -> 5. Benefícios e Desp. Ind. - BDI - LUCRO PRESUMIDO | E24: =G208 -> 2781.5741 | F24: =IFERROR(E24/$E$26,0) -> 0.19309288
A25: =A216 -> 6. Benef. Desp. Ind. + Impostos - SIMPLES NACIONAL | G25: =G220+G233 -> 3151.1122 | H25: =IFERROR(G25/$G$26,0) -> 0.22398016
A26: PREÇO TOTAL MÊS (R$/Mês) | C26: =C9+C15+C22+C23 -> 15314.35 | D26: =D9+D15+D22+D23 -> 1 | E26: =E9+E15+E22+E24 -> 14405.369 | F26: =F9+F15+F22+F24 -> 1 | G26: =G9+G15+G22+G25 -> 14068.711 | H26: =H9+H15+H22+H25 -> 1
A27: PREÇO POR QUILOMETRO (R$/Km) | C27: =G200 -> 11.871589 | E27: =G214 -> 11.166953 | G27: =G239 -> 10.905978
A29: GRUPO C - Informações sobre
A30: C1- Mão-de-obra | F30: Quantidade | G30: R$ / mês
A31: Motorista | F31: 1 | G31: ='lote 3.1'!G31 -> 2271
A32: Monitor | F32: 1 | G32: ='lote 3.1'!G32 -> 1621
A33: Total de mão-de-obra (postos de trabalho) | F33: =SUM(F31:F32) -> 2
A35: C2- Veículos | C35: Vida útil do Veículo | D35: Taxade depreciação | E35: Capacidade (Lugares) | F35: Quantidade | G35: Valor (R$)
A36: Dados do veículo e descrição do veículo | C36: 10 | D36: =1/C36 -> 0.1 | E36: 16 | F36: 1 | G36: 270086
A37: Sprinter Van Mercedez Benz - 517 E.L.T.B 16 lugares , ano 2026, pneus 225 x 75 aro 16 | D37: tipo de combustível | E37: óleo diesel BS 10
A38: Consumo médio (Km / litro) e Valor do litro (R$) | F38: 5.5 | G38: =' lote 1.1'!G38 -> 7.32
A39: Velocidade média em função do pavimento (Km/h) | F39: 20
A41: C3- Distâncias | C41: Unidade | E41: Km por dia | F41: Horas p/Dia | G41: Km por mês
A42: Distância percorrida | C42: Km | E42: 64.5 | F42: =(E42/F39)+C48 -> 4.225 | G42: =E42*E43 -> 1290 | I42: 64.5 | J42: aumentado de 59,50 para 64,50 em 17-04-2026
A43: Média de dias letivos por mês | C43: Dias | E43: 20 | I43: =I42*203 -> 13093.5
A45: C4- Fatores | C45: % | D45: Aplicação
...

Sheet lote 3.1
A1: PLANILHA DE COMPOSIÇÃO DE CUSTOS E FORMAÇÃO DE PREÇO
A2: GRUPO A - Identificação
A3: Nº do processo: | B3: =' lote 2.2'!B3 -> 3827-2026 | C3: Nº Licitação: | F3: Data:
A4: Trajeto | B4: 3 | C4: Item: | D4: 1 | E4: Serviço de Transporte Escolar
A6: GRUPO B - Orçamento Sintético
A7: Formas de Tributação | C7: LUCRO REAL | E7: LUCRO PRESUMIDO | G7: SIMPLES NAC.
A8: Descrição do Item | C8: Custo (R$/mês) | D8: AV % | E8: Custo (R$/mês) | F8: AV % | G8: Custo (R$/mês) | H8: AV %
A9: =A51 -> 1. Mão-de-obra | C9: =+G105 -> 5185.012 | D9: =IFERROR(C9/$C$26,0) -> 0.28531496 | E9: =G105 -> 5185.012 | F9: =IFERROR(E9/$E$26,0) -> 0.30331837 | G9: =G106 -> 4349.2776 | H9: =IFERROR(G9/$G$26,0) -> 0.25797384
A10: 1.1. Monitor | C10: =G60 -> 1656.5841 | D10: =IFERROR(C10/$C$26,0) -> 0.091156632 | E10: =C10 -> 1656.5841 | F10: =IFERROR(E10/$E$26,0) -> 0.096908628 | G10: =G67 -> 1308.5046 | H10: =IFERROR(G10/$G$26,0) -> 0.077612879
A11: 1.2. Motorista | C11: =G77 -> 2286.6779 | D11: =IFERROR(C11/$C$26,0) -> 0.12582872 | E11: =C11 -> 2286.6779 | F11: =IFERROR(E11/$E$26,0) -> 0.13376852 | G11: =G84 -> 1799.023 | H11: =IFERROR(G11/$G$26,0) -> 0.10670757
A12: =A86 -> 1.3. Vale Transporte | C12: =G92 -> 167.31818 | D12: =IFERROR(C12/$C$26,0) -> 0.009206995 | E12: =C12 -> 167.31818 | F12: =IFERROR(E12/$E$26,0) -> 0.0097879576 | G12: =E12 -> 167.31818 | H12: =IFERROR(G12/$G$26,0) -> 0.009924341
A13: =A94 -> 1.4. Vale-refeição (diário) | C13: =G98 -> 1045.4545 | D13: =IFERROR(C13/$C$26,0) -> 0.057528086 | E13: =C13 -> 1045.4545 | F13: =IFERROR(E13/$E$26,0) -> 0.061158116 | G13: =E13 -> 1045.4545 | H13: =IFERROR(G13/$G$26,0) -> 0.06201028
A14: 1.5 Seguro de Vida em grupo | C14: =G104 -> 28.977273 | D14: =IFERROR(C14/$C$26,0) -> 0.0015945285 | E14: =C14 -> 28.977273 | F14: =IFERROR(E14/$E$26,0) -> 0.0016951434 | G14: =E14 -> 28.977273 | H14: =IFERROR(G14/$G$26,0) -> 0.0017187632
A15: =A108 -> 2. Veículos | C15: =+G171 -> 8521.5337 | D15: =IFERROR(C15/$C$26,0) -> 0.46891328 | E15: =C15 -> 8521.5337 | F15: =IFERROR(E15/$E$26,0) -> 0.49850177 | G15: =E15 -> 8521.5337 | H15: =IFERROR(G15/$G$26,0) -> 0.50544779
A16: =A109 -> 2.1 Depreciação | C16: =G116 -> 833.53246 | D16: =IFERROR(C16/$C$26,0) -> 0.045866678 | E16: =C16 -> 833.53246 | F16: =IFERROR(E16/$E$26,0) -> 0.048760872 | G16: =E16 -> 833.53246 | H16: =IFERROR(G16/$G$26,0) -> 0.049440295
A17: =A117 -> 2.2 Remuneração do Capital | C17: =G127 -> 1332.9969 | D17: =IFERROR(C17/$C$26,0) -> 0.073350638 | E17: =C17 -> 1332.9969 | F17: =IFERROR(E17/$E$26,0) -> 0.077979073 | G17: =E17 -> 1332.9969 | H17: =IFERROR(G17/$G$26,0) -> 0.079065617
A18: =A129 -> 2.3. Impostos e Seguros | C18: =G139 -> 577.73833 | D18: =IFERROR(C18/$C$26,0) -> 0.031791129 | E18: =C18 -> 577.73833 | F18: =IFERROR(E18/$E$26,0) -> 0.033797154 | G18: =E18 -> 577.73833 | H18: =IFERROR(G18/$G$26,0) -> 0.034268076
A19: =A140 -> 2.4. Consumos | C19: =G154 -> 2490.5353 | D19: =IFERROR(C19/$C$26,0) -> 0.13704635 | E19: =C19 -> 2490.5353 | F19: =IFERROR(E19/$E$26,0) -> 0.145694 | G19: =E19 -> 2490.5353 | H19: =IFERROR(G19/$G$26,0) -> 0.14772406
A20: =A156 -> 2.5. Manutenção | C20: =G161 -> 2944 | D20: =IFERROR(C20/$C$26,0) -> 0.16199909 | E20: =C20 -> 2944 | F20: =IFERROR(E20/$E$26,0) -> 0.17222126 | G20: =E20 -> 2944 | H20: =IFERROR(G20/$G$26,0) -> 0.17462095
A21: =A163 -> 2.6. Pneus | C21: =G169 -> 342.73067 | D21: =IFERROR(C21/$C$26,0) -> 0.018859394 | E21: =C21 -> 342.73067 | F21: =IFERROR(E21/$E$26,0) -> 0.020049424 | G21: =E21 -> 342.73067 | H21: =IFERROR(G21/$G$26,0) -> 0.020328789
A22: =A173 -> 3. Ferramentas e Materiais de Consumo | C22: =+G183 -> 86.958333 | D22: =IFERROR(C22/$C$26,0) -> 0.0047850445 | E22: =C22 -> 86.958333 | F22: =IFERROR(E22/$E$26,0) -> 0.0050869814 | G22: =E22 -> 86.958333 | H22: =IFERROR(G22/$G$26,0) -> 0.0051578623
A23: =A188 -> 4. Benefícios e Desp. Ind. - BDI - LUCRO REAL | C23: =+G194 -> 4379.4375 | D23: =IFERROR(C23/$C$26,0) -> 0.24098672
A24: =A202 -> 5. Benefícios e Desp. Ind. - BDI - LUCRO PRESUMIDO | E24: =G208 -> 3300.7855 | F24: =IFERROR(E24/$E$26,0) -> 0.19309288
A25: =A216 -> 6. Benef. Desp. Ind. + Impostos - SIMPLES NACIONAL | G25: =G220+G233 -> 3901.605 | H25: =IFERROR(G25/$G$26,0) -> 0.23142051
A26: PREÇO TOTAL MÊS (R$/Mês) | C26: =C9+C15+C22+C23 -> 18172.942 | D26: =D9+D15+D22+D23 -> 1 | E26: =E9+E15+E22+E24 -> 17094.29 | F26: =F9+F15+F22+F24 -> 1 | G26: =G9+G15+G22+G25 -> 16859.375 | H26: =H9+H15+H22+H25 -> 1
A27: PREÇO POR QUILOMETRO (R$/Km) | C27: =G200 -> 11.358088 | E27: =G214 -> 10.683931 | G27: =G239 -> 10.537109
A29: GRUPO C - Informações sobre
A30: C1- Mão-de-obra | F30: Quantidade | G30: R$ / mês
A31: Motorista | F31: 1 | G31: 2271
A32: Monitor | F32: 1 | G32: 1621
A33: Total de mão-de-obra (postos de trabalho) | F33: =SUM(F31:F32) -> 2
A35: C2- Veículos | C35: Vida útil do Veículo | D35: Taxade depreciação | E35: Capacidade (Lugares) | F35: Quantidade | G35: Valor (R$)
A36: Dados do veículo e descrição do veículo | C36: 10 | D36: =1/C36 -> 0.1 | E36: 15 | F36: 1 | G36: 270086
A37: Sprinter Van Mercedez Benz - 517 E.L.T.B 16 lugares , ano 2026, pneus 225 x 75 aro 16 | D37: tipo de combustível | E37: óleo diesel BS 10
A38: Consumo médio (Km / litro) e Valor do litro (R$) | F38: 5.5 | G38: =' lote 2.2'!G38 -> 7.32
A39: Velocidade média em função do pavimento (Km/h) | F39: 20
A41: C3- Distâncias | C41: Unidade | E41: Km por dia | F41: Horas p/Dia | G41: Km por mês
A42: Distância percorrida | C42: Km | E42: 80 | F42: =(E42/F39)+C48 -> 5 | G42: =E42*E43 -> 1600 | I42: =15+39+19+7 -> 80
A43: Média de dias letivos por mês | C43: Dias | E43: 20 | I43: =I42*203 -> 16240
A45: C4- Fatores | C45: % | D45: Aplicação
...

Sheet  lote 3.2
A1: PLANILHA DE COMPOSIÇÃO DE CUSTOS E FORMAÇÃO DE PREÇO
A2: GRUPO A - Identificação
A3: Nº do processo: | B3: ='lote 3.1'!B3 -> 3827-2026 | C3: Nº Licitação: | F3: Data:
A4: Trajeto | B4: 3 | C4: Item: | D4: 2 | E4: Serviço de Transporte Escolar
A6: GRUPO B - Orçamento Sintético
A7: Formas de Tributação | C7: LUCRO REAL | E7: LUCRO PRESUMIDO | G7: SIMPLES NAC.
A8: Descrição do Item | C8: Custo (R$/mês) | D8: AV % | E8: Custo (R$/mês) | F8: AV % | G8: Custo (R$/mês) | H8: AV %
A9: =A51 -> 1. Mão-de-obra | C9: =+G105 -> 7077.5414 | D9: =IFERROR(C9/$C$26,0) -> 0.24729195 | E9: =G105 -> 7077.5414 | F9: =IFERROR(E9/$E$26,0) -> 0.26289611 | G9: =G106 -> 5936.7639 | H9: =IFERROR(G9/$G$26,0) -> 0.22168902
A10: 1.1. Monitor | C10: =G60 -> 2261.2374 | D10: =IFERROR(C10/$C$26,0) -> 0.079008481 | E10: =C10 -> 2261.2374 | F10: =IFERROR(E10/$E$26,0) -> 0.083993927 | G10: =G67 -> 1786.1088 | H10: =IFERROR(G10/$G$26,0) -> 0.066696387
A11: 1.2. Motorista | C11: =G77 -> 3121.3153 | D11: =IFERROR(C11/$C$26,0) -> 0.10905993 | E11: =C11 -> 3121.3153 | F11: =IFERROR(E11/$E$26,0) -> 0.11594162 | G11: =G84 -> 2455.6664 | H11: =IFERROR(G11/$G$26,0) -> 0.091698823
A12: =A86 -> 1.3. Vale Transporte | C12: =G92 -> 228.38932 | D12: =IFERROR(C12/$C$26,0) -> 0.0079800084 | E12: =C12 -> 228.38932 | F12: =IFERROR(E12/$E$26,0) -> 0.0084835481 | G12: =E12 -> 228.38932 | H12: =IFERROR(G12/$G$26,0) -> 0.0085284516
A13: =A94 -> 1.4. Vale-refeição (diário) | C13: =G98 -> 1427.0455 | D13: =IFERROR(C13/$C$26,0) -> 0.049861503 | E13: =C13 -> 1427.0455 | F13: =IFERROR(E13/$E$26,0) -> 0.053007771 | G13: =E13 -> 1427.0455 | H13: =IFERROR(G13/$G$26,0) -> 0.053288342
A14: 1.5 seguro de vida em grupo | C14: =G104 -> 39.553977 | D14: =IFERROR(C14/$C$26,0) -> 0.0013820308 | E14: =C14 -> 39.553977 | F14: =IFERROR(E14/$E$26,0) -> 0.0014692371 | G14: =E14 -> 39.553977 | H14: =IFERROR(G14/$G$26,0) -> 0.0014770138
A15: =A108 -> 2. Veículos | C15: =+G171 -> 14558.601 | D15: =IFERROR(C15/$C$26,0) -> 0.50868297 | E15: =C15 -> 14558.601 | F15: =IFERROR(E15/$E$26,0) -> 0.54078094 | G15: =E15 -> 14558.601 | H15: =IFERROR(G15/$G$26,0) -> 0.5436433
A16: =A109 -> 2.1 Depreciação | C16: =G116 -> 2101.6337 | D16: =IFERROR(C16/$C$26,0) -> 0.073431869 | E16: =C16 -> 2101.6337 | F16: =IFERROR(E16/$E$26,0) -> 0.07806543 | G16: =E16 -> 2101.6337 | H16: =IFERROR(G16/$G$26,0) -> 0.078478632
A17: =A117 -> 2.2 Remuneração do Capital | C17: =G127 -> 3360.9622 | D17: =IFERROR(C17/$C$26,0) -> 0.11743328 | E17: =C17 -> 3360.9622 | F17: =IFERROR(E17/$E$26,0) -> 0.12484334 | G17: =E17 -> 3360.9622 | H17: =IFERROR(G17/$G$26,0) -> 0.12550413
A18: =A129 -> 2.3. Impostos e Seguros | C18: =G139 -> 768.4075 | D18: =IFERROR(C18/$C$26,0) -> 0.026848446 | E18: =C18 -> 768.4075 | F18: =IFERROR(E18/$E$26,0) -> 0.028542587 | G18: =E18 -> 768.4075 | H18: =IFERROR(G18/$G$26,0) -> 0.028693663
A19: =A140 -> 2.4. Consumos | C19: =G154 -> 3626.8421 | D19: =IFERROR(C19/$C$26,0) -> 0.12672322 | E19: =C19 -> 3626.8421 | F19: =IFERROR(E19/$E$26,0) -> 0.13471948 | G19: =E19 -> 3626.8421 | H19: =IFERROR(G19/$G$26,0) -> 0.13543255
A20: =A156 -> 2.5. Manutenção | C20: =G161 -> 4077.325 | D20: =IFERROR(C20/$C$26,0) -> 0.14246326 | E20: =C20 -> 4077.325 | F20: =IFERROR(E20/$E$26,0) -> 0.15145272 | G20: =E20 -> 4077.325 | H20: =IFERROR(G20/$G$26,0) -> 0.15225436
A21: =A163 -> 2.6. Pneus | C21: =G169 -> 623.43033 | D21: =IFERROR(C21/$C$26,0) -> 0.02178289 | E21: =C21 -> 623.43033 | F21: =IFERROR(E21/$E$26,0) -> 0.023157393 | G21: =E21 -> 623.43033 | H21: =IFERROR(G21/$G$26,0) -> 0.023279965
A22: =A173 -> 3. Ferramentas e Materiais de Consumo | C22: =+G183 -> 86.958333 | D22: =IFERROR(C22/$C$26,0) -> 0.0030383568 | E22: =C22 -> 86.958333 | F22: =IFERROR(E22/$E$26,0) -> 0.0032300775 | G22: =E22 -> 86.958333 | H22: =IFERROR(G22/$G$26,0) -> 0.0032471744
A23: =A188 -> 4. Benefícios e Desp. Ind. - BDI - LUCRO REAL | C23: =+G194 -> 6897.0844 | D23: =IFERROR(C23/$C$26,0) -> 0.24098672
A24: =A202 -> 5. Benefícios e Desp. Ind. - BDI - LUCRO PRESUMIDO | E24: =G208 -> 5198.338 | F24: =IFERROR(E24/$E$26,0) -> 0.19309288
A25: =A216 -> 6. Benef. Desp. Ind. + Impostos - SIMPLES NACIONAL | G25: =G220+G233 -> 6197.3702 | H25: =IFERROR(G25/$G$26,0) -> 0.23142051
A26: PREÇO TOTAL MÊS (R$/Mês) | C26: =C9+C15+C22+C23 -> 28620.185 | D26: =D9+D15+D22+D23 -> 1 | E26: =E9+E15+E22+E24 -> 26921.439 | F26: =F9+F15+F22+F24 -> 1 | G26: =G9+G15+G22+G25 -> 26779.693 | H26: =H9+H15+H22+H25 -> 1
A27: PREÇO POR QUILOMETRO (R$/Km) | C27: =G200 -> 12.283341 | E27: =G214 -> 11.554265 | G27: =G239 -> 11.493431
A29: GRUPO C - Informações sobre
A30: C1- Mão-de-obra | F30: Quantidade | G30: R$ / mês
A31: Motorista | F31: 1 | G31: ='lote 3.1'!G31 -> 2271
A32: Monitor | F32: 1 | G32: ='lote 3.1'!G32 -> 1621
A33: Total de mão-de-obra (postos de trabalho) | F33: =SUM(F31:F32) -> 2
A35: C2- Veículos | C35: Vida útil do Veículo | D35: Taxade depreciação | E35: Capacidade (Lugares) | F35: Quantidade | G35: Valor (R$)
A36: Dados do veículo e descrição do veículo | C36: 10 | D36: =1/C36 -> 0.1 | E36: 28 | F36: 1 | G36: 498889
A37: micrônibus Volare ATT 8 longo fretamento com 31 lugares - ano 2025 - pneu 215 x 75 aro 17,5 | D37: tipo de combustível | E37: óleo diesel BS 10
A38: Consumo médio (Km / litro) e Valor do litro (R$) | F38: 5.5 | G38: ='lote 3.1'!G38 -> 7.32
A39: Velocidade média em função do pavimento (Km/h) | F39: 20
A41: C3- Distâncias | C41: Unidade | E41: Km por dia | F41: Horas p/Dia | G41: Km por mês
A42: Distância percorrida | C42: Km | E42: 116.5 | F42: =(E42/F39)+C48 -> 6.825 | G42: =E42*E43 -> 2330 | I42: =23+53+34+6.5 -> 116.5
A43: Média de dias letivos por mês | C43: Dias | E43: 20 | I43: =I42*203 -> 23649.5
A45: C4- Fatores | C45: % | D45: Aplicação
...

Sheet  lote 4,1
A1: PLANILHA DE COMPOSIÇÃO DE CUSTOS E FORMAÇÃO DE PREÇO
A2: GRUPO A - Identificação
A3: Nº do processo: | B3: ='lote 3.1'!B3 -> 3827-2026 | C3: Nº Licitação: | F3: Data:
A4: Trajeto | B4: 4 | C4: Item: | D4: 1 | E4: Serviço de Transporte Escolar
A6: GRUPO B - Orçamento Sintético
A7: Formas de Tributação | C7: LUCRO REAL | E7: LUCRO PRESUMIDO | G7: SIMPLES NAC.
A8: Descrição do Item | C8: Custo (R$/mês) | D8: AV % | E8: Custo (R$/mês) | F8: AV % | G8: Custo (R$/mês) | H8: AV %
A9: =A51 -> 1. Mão-de-obra | C9: =+G105 -> 5470.1877 | D9: =IFERROR(C9/$C$26,0) -> 0.27996026 | E9: =G105 -> 5470.1877 | F9: =IFERROR(E9/$E$26,0) -> 0.29762579 | G9: =G106 -> 4588.4878 | H9: =IFERROR(G9/$G$26,0) -> 0.26236313
A10: 1.1. Monitor | C10: =G60 -> 1747.6963 | D10: =IFERROR(C10/$C$26,0) -> 0.089445834 | E10: =C10 -> 1747.6963 | F10: =IFERROR(E10/$E$26,0) -> 0.095089879 | G10: =G67 -> 1380.4724 | H10: =IFERROR(G10/$G$26,0) -> 0.078933423
A11: 1.2. Motorista | C11: =G77 -> 2412.4452 | D11: =IFERROR(C11/$C$26,0) -> 0.1234672 | E11: =C11 -> 2412.4452 | F11: =IFERROR(E11/$E$26,0) -> 0.131258 | G11: =G84 -> 1897.9692 | H11: =IFERROR(G11/$G$26,0) -> 0.10852315
A12: =A86 -> 1.3. Vale Transporte | C12: =G92 -> 176.52068 | D12: =IFERROR(C12/$C$26,0) -> 0.0090342011 | E12: =C12 -> 176.52068 | F12: =IFERROR(E12/$E$26,0) -> 0.0096042605 | G12: =E12 -> 176.52068 | H12: =IFERROR(G12/$G$26,0) -> 0.010093199
A13: =A94 -> 1.4. Vale-refeição (diário) | C13: =G98 -> 1102.9545 | D13: =IFERROR(C13/$C$26,0) -> 0.056448418 | E13: =C13 -> 1102.9545 | F13: =IFERROR(E13/$E$26,0) -> 0.060010321 | G13: =E13 -> 1102.9545 | H13: =IFERROR(G13/$G$26,0) -> 0.063065354
A14: 1.5 seguro de vida em grupo | C14: =G104 -> 30.571023 | D14: =IFERROR(C14/$C$26,0) -> 0.0015646029 | E14: =C14 -> 30.571023 | F14: =IFERROR(E14/$E$26,0) -> 0.0016633295 | G14: =E14 -> 30.571023 | H14: =IFERROR(G14/$G$26,0) -> 0.0017480071
A15: =A108 -> 2. Veículos | C15: =+G171 -> 9273.3343 | D15: =IFERROR(C15/$C$26,0) -> 0.47460256 | E15: =C15 -> 9273.3343 | F15: =IFERROR(E15/$E$26,0) -> 0.50455004 | G15: =E15 -> 9273.3343 | H15: =IFERROR(G15/$G$26,0) -> 0.53023591
A16: =A109 -> 2.1 Depreciação | C16: =G116 -> 879.37674 | D16: =IFERROR(C16/$C$26,0) -> 0.045005867 | E16: =C16 -> 879.37674 | F16: =IFERROR(E16/$E$26,0) -> 0.047845744 | G16: =E16 -> 879.37674 | H16: =IFERROR(G16/$G$26,0) -> 0.050281497
A17: =A117 -> 2.2 Remuneração do Capital | C17: =G127 -> 1406.3117 | D17: =IFERROR(C17/$C$26,0) -> 0.071974017 | E17: =C17 -> 1406.3117 | F17: =IFERROR(E17/$E$26,0) -> 0.076515588 | G17: =E17 -> 1406.3117 | H17: =IFERROR(G17/$G$26,0) -> 0.080410879
A18: =A129 -> 2.3. Impostos e Seguros | C18: =G139 -> 577.73833 | D18: =IFERROR(C18/$C$26,0) -> 0.029568231 | E18: =C18 -> 577.73833 | F18: =IFERROR(E18/$E$26,0) -> 0.03143399 | G18: =E18 -> 577.73833 | H18: =IFERROR(G18/$G$26,0) -> 0.033034247
A19: =A140 -> 2.4. Consumos | C19: =G154 -> 2777.4883 | D19: =IFERROR(C19/$C$26,0) -> 0.14214985 | E19: =C19 -> 2777.4883 | F19: =IFERROR(E19/$E$26,0) -> 0.15111952 | G19: =E19 -> 2777.4883 | H19: =IFERROR(G19/$G$26,0) -> 0.15881279
A20: =A156 -> 2.5. Manutenção | C20: =G161 -> 3250.2 | D20: =IFERROR(C20/$C$26,0) -> 0.16634289 | E20: =C20 -> 3250.2 | F20: =IFERROR(E20/$E$26,0) -> 0.17683915 | G20: =E20 -> 3250.2 | H20: =IFERROR(G20/$G$26,0) -> 0.18584176
A21: =A163 -> 2.6. Pneus | C21: =G169 -> 382.2192 | D21: =IFERROR(C21/$C$26,0) -> 0.019561703 | E21: =C21 -> 382.2192 | F21: =IFERROR(E21/$E$26,0) -> 0.020796049 | G21: =E21 -> 382.2192 | H21: =IFERROR(G21/$G$26,0) -> 0.021854744
A22: =A173 -> 3. Ferramentas e Materiais de Consumo | C22: =+G183 -> 86.958333 | D22: =IFERROR(C22/$C$26,0) -> 0.0044504648 | E22: =C22 -> 86.958333 | F22: =IFERROR(E22/$E$26,0) -> 0.0047312897 | G22: =E22 -> 86.958333 | H22: =IFERROR(G22/$G$26,0) -> 0.0049721524
A23: =A188 -> 4. Benefícios e Desp. Ind. - BDI - LUCRO REAL | C23: =+G194 -> 4708.6775 | D23: =IFERROR(C23/$C$26,0) -> 0.24098672
A24: =A202 -> 5. Benefícios e Desp. Ind. - BDI - LUCRO PRESUMIDO | E24: =G208 -> 3548.9339 | F24: =IFERROR(E24/$E$26,0) -> 0.19309288
A25: =A216 -> 6. Benef. Desp. Ind. + Impostos - SIMPLES NACIONAL | G25: =G220+G233 -> 3540.292 | H25: =IFERROR(G25/$G$26,0) -> 0.2024288
A26: PREÇO TOTAL MÊS (R$/Mês) | C26: =C9+C15+C22+C23 -> 19539.158 | D26: =D9+D15+D22+D23 -> 1 | E26: =E9+E15+E22+E24 -> 18379.414 | F26: =F9+F15+F22+F24 -> 1 | G26: =G9+G15+G22+G25 -> 17489.072 | H26: =H9+H15+H22+H25 -> 1
A27: PREÇO POR QUILOMETRO (R$/Km) | C27: =G200 -> 11.426408 | E27: =G214 -> 10.748195 | G27: =G239 -> 10.227528
A29: GRUPO C - Informações sobre
A30: C1- Mão-de-obra | F30: Quantidade | G30: R$ / mês
A31: Motorista | F31: 1 | G31: ='lote 3.1'!G31 -> 2271
A32: Monitor | F32: 1 | G32: ='lote 3.1'!G32 -> 1621
A33: Total de mão-de-obra (postos de trabalho) | F33: =SUM(F31:F32) -> 2
A35: C2- Veículos | C35: Vida útil do Veículo | D35: Taxade depreciação | E35: Capacidade (Lugares) | F35: Quantidade | G35: Valor (R$)
A36: Dados do veículo e descrição do veículo | C36: 10 | D36: =1/C36 -> 0.1 | E36: 15 | F36: 1 | G36: 270086
A37: Sprinter Van Mercedez Benz - 517 E.L.T.B 16 lugares , ano 2026, pneus 225 x 75 aro 16 | D37: tipo de combustível | E37: óleo diesel BS 10
A38: Consumo médio (Km / litro) e Valor do litro (R$) | F38: 5.5 | G38: ='lote 3.1'!G38 -> 7.32
A39: Velocidade média em função do pavimento (Km/h) | F39: 20
A41: C3- Distâncias | C41: Unidade | E41: Km por dia | F41: Horas p/Dia | G41: Km por mês
A42: Distância percorrida | C42: Km | E42: 85.5 | F42: =(E42/F39)+C48 -> 5.275 | G42: =E42*E43 -> 1710 | I42: =30.5+41.5+13.5 -> 85.5
A43: Média de dias letivos por mês | C43: Dias | E43: 20 | I43: =I42*203 -> 17356.5
A45: C4- Fatores | C45: % | D45: Aplicação
...

Sheet  lote 6.1
A1: PLANILHA DE COMPOSIÇÃO DE CUSTOS E FORMAÇÃO DE PREÇO
A2: GRUPO A - Identificação
A3: Nº do processo: | B3: ='lote 3.1'!B3 -> 3827-2026 | C3: Nº Licitação: | F3: Data:
A4: Trajeto | B4: 6 | C4: Item: | D4: 1 | E4: Serviço de Transporte Escolar
A6: GRUPO B - Orçamento Sintético
A7: Formas de Tributação | C7: LUCRO REAL | E7: LUCRO PRESUMIDO | G7: SIMPLES NAC.
A8: Descrição do Item | C8: Custo (R$/mês) | D8: AV % | E8: Custo (R$/mês) | F8: AV % | G8: Custo (R$/mês) | H8: AV %
A9: =A51 -> 1. Mão-de-obra | C9: =+G105 -> 5859.0636 | D9: =IFERROR(C9/$C$26,0) -> 0.26249843 | E9: =G105 -> 5859.0636 | F9: =IFERROR(E9/$E$26,0) -> 0.27906211 | G9: =G106 -> 4914.6837 | H9: =IFERROR(G9/$G$26,0) -> 0.24345637
A10: 1.1. Monitor | C10: =G60 -> 1871.9401 | D10: =IFERROR(C10/$C$26,0) -> 0.08386687 | E10: =C10 -> 1871.9401 | F10: =IFERROR(E10/$E$26,0) -> 0.089158881 | G10: =G67 -> 1478.6102 | H10: =IFERROR(G10/$G$26,0) -> 0.073245217
A11: 1.2. Motorista | C11: =G77 -> 2583.946 | D11: =IFERROR(C11/$C$26,0) -> 0.11576624 | E11: =C11 -> 2583.946 | F11: =IFERROR(E11/$E$26,0) -> 0.12307111 | G11: =G84 -> 2032.896 | H11: =IFERROR(G11/$G$26,0) -> 0.10070261
A12: =A86 -> 1.3. Vale Transporte | C12: =G92 -> 189.06955 | D12: =IFERROR(C12/$C$26,0) -> 0.008470715 | E12: =C12 -> 189.06955 | F12: =IFERROR(E12/$E$26,0) -> 0.0090052183 | G12: =E12 -> 189.06955 | H12: =IFERROR(G12/$G$26,0) -> 0.009365849
A13: =A94 -> 1.4. Vale-refeição (diário) | C13: =G98 -> 1181.3636 | D13: =IFERROR(C13/$C$26,0) -> 0.052927586 | E13: =C13 -> 1181.3636 | F13: =IFERROR(E13/$E$26,0) -> 0.056267324 | G13: =E13 -> 1181.3636 | H13: =IFERROR(G13/$G$26,0) -> 0.058520654
A14: 1.5 seguro de vida em grupo | C14: =G104 -> 32.744318 | D14: =IFERROR(C14/$C$26,0) -> 0.0014670146 | E14: =C14 -> 32.744318 | F14: =IFERROR(E14/$E$26,0) -> 0.0015595834 | G14: =E14 -> 32.744318 | H14: =IFERROR(G14/$G$26,0) -> 0.0016220399
A15: =A108 -> 2. Veículos | C15: =+G171 -> 10995.44 | D15: =IFERROR(C15/$C$26,0) -> 0.49261894 | E15: =C15 -> 10995.44 | F15: =IFERROR(E15/$E$26,0) -> 0.52370326 | G15: =E15 -> 10995.44 | H15: =IFERROR(G15/$G$26,0) -> 0.54467594
A16: =A109 -> 2.1 Depreciação | C16: =G116 -> 1409.8698 | D16: =IFERROR(C16/$C$26,0) -> 0.063165143 | E16: =C16 -> 1409.8698 | F16: =IFERROR(E16/$E$26,0) -> 0.067150872 | G16: =E16 -> 1409.8698 | H16: =IFERROR(G16/$G$26,0) -> 0.069840054
A17: =A117 -> 2.2 Remuneração do Capital | C17: =G127 -> 2254.6836 | D17: =IFERROR(C17/$C$26,0) -> 0.10101459 | E17: =C17 -> 2254.6836 | F17: =IFERROR(E17/$E$26,0) -> 0.10738862 | G17: =E17 -> 2254.6836 | H17: =IFERROR(G17/$G$26,0) -> 0.1116892
A18: =A129 -> 2.3. Impostos e Seguros | C18: =G139 -> 689.565 | D18: =IFERROR(C18/$C$26,0) -> 0.030893969 | E18: =C18 -> 689.565 | F18: =IFERROR(E18/$E$26,0) -> 0.032843382 | G18: =E18 -> 689.565 | H18: =IFERROR(G18/$G$26,0) -> 0.034158657
A19: =A140 -> 2.4. Consumos | C19: =G154 -> 2895.2473 | D19: =IFERROR(C19/$C$26,0) -> 0.1297132 | E19: =C19 -> 2895.2473 | F19: =IFERROR(E19/$E$26,0) -> 0.13789812 | G19: =E19 -> 2895.2473 | H19: =IFERROR(G19/$G$26,0) -> 0.1434205
A20: =A156 -> 2.5. Manutenção | C20: =G161 -> 3347.65 | D20: =IFERROR(C20/$C$26,0) -> 0.14998179 | E20: =C20 -> 3347.65 | F20: =IFERROR(E20/$E$26,0) -> 0.15944566 | G20: =E20 -> 3347.65 | H20: =IFERROR(G20/$G$26,0) -> 0.16583096
A21: =A163 -> 2.6. Pneus | C21: =G169 -> 398.4244 | D21: =IFERROR(C21/$C$26,0) -> 0.017850255 | E21: =C21 -> 398.4244 | F21: =IFERROR(E21/$E$26,0) -> 0.018976608 | G21: =E21 -> 398.4244 | H21: =IFERROR(G21/$G$26,0) -> 0.019736562
A22: =A173 -> 3. Ferramentas e Materiais de Consumo | C22: =+G183 -> 86.958333 | D22: =IFERROR(C22/$C$26,0) -> 0.003895917 | E22: =C22 -> 86.958333 | F22: =IFERROR(E22/$E$26,0) -> 0.0041417499 | G22: =E22 -> 86.958333 | H22: =IFERROR(G22/$G$26,0) -> 0.004307614
A23: =A188 -> 4. Benefícios e Desp. Ind. - BDI - LUCRO REAL | C23: =+G194 -> 5378.9142 | D23: =IFERROR(C23/$C$26,0) -> 0.24098672
A24: =A202 -> 5. Benefícios e Desp. Ind. - BDI - LUCRO PRESUMIDO | E24: =G208 -> 4054.0919 | F24: =IFERROR(E24/$E$26,0) -> 0.19309288
A25: =A216 -> 6. Benef. Desp. Ind. + Impostos - SIMPLES NACIONAL | G25: =G220+G233 -> 4190.0408 | H25: =IFERROR(G25/$G$26,0) -> 0.20756008
A26: PREÇO TOTAL MÊS (R$/Mês) | C26: =C9+C15+C22+C23 -> 22320.376 | D26: =D9+D15+D22+D23 -> 1 | E26: =E9+E15+E22+E24 -> 20995.554 | F26: =F9+F15+F22+F24 -> 1 | G26: =G9+G15+G22+G25 -> 20187.123 | H26: =H9+H15+H22+H25 -> 1
A27: PREÇO POR QUILOMETRO (R$/Km) | C27: =G200 -> 12.000202 | E27: =G214 -> 11.287932 | G27: =G239 -> 10.853292
A29: GRUPO C - Informações sobre
A30: C1- Mão-de-obra | F30: Quantidade | G30: R$ / mês
A31: Motorista | F31: 1 | G31: ='lote 3.1'!G31 -> 2271
A32: Monitor | F32: 1 | G32: ='lote 3.1'!G32 -> 1621
A33: Total de mão-de-obra (postos de trabalho) | F33: =SUM(F31:F32) -> 2
A35: C2- Veículos | C35: Vida útil do Veículo | D35: Taxade depreciação | E35: Capacidade (Lugares) | F35: Quantidade | G35: Valor (R$)
A36: Dados do veículo e descrição do veículo | C36: 10 | D36: =1/C36 -> 0.1 | E36: 21 | F36: 1 | G36: 404278
A37: Sprinter Van Mercedez Benz - 517 E.L.T.A teto alto 21 lugares , ano 2026, pneus 225 x 75 aro 16 | D37: tipo de combustível | E37: óleo diesel BS 10
A38: Consumo médio (Km / litro) e Valor do litro (R$) | F38: 5.5 | G38: ='lote 3.1'!G38 -> 7.32
A39: Velocidade média em função do pavimento (Km/h) | F39: 20
A41: C3- Distâncias | C41: Unidade | E41: Km por dia | F41: Horas p/Dia | G41: Km por mês
A42: Distância percorrida | C42: Km | E42: 93 | F42: =(E42/F39)+C48 -> 5.65 | G42: =E42*E43 -> 1860 | I42: 93
A43: Média de dias letivos por mês | C43: Dias | E43: 20 | I43: =I42*203 -> 18879
A45: C4- Fatores | C45: % | D45: Aplicação
...

Sheet  lote 7.1 
A1: PLANILHA DE COMPOSIÇÃO DE CUSTOS E FORMAÇÃO DE PREÇO
A2: GRUPO A - Identificação
A3: Nº do processo: | B3: ='lote 3.1'!B3 -> 3827-2026 | C3: Nº Licitação: | F3: Data:
A4: Trajeto | B4: 7 | C4: Item: | D4: 1 | E4: Serviço de Transporte Escolar
A6: GRUPO B - Orçamento Sintético
A7: Formas de Tributação | C7: LUCRO REAL | E7: LUCRO PRESUMIDO | G7: SIMPLES NAC.
A8: Descrição do Item | C8: Custo (R$/mês) | D8: AV % | E8: Custo (R$/mês) | F8: AV % | G8: Custo (R$/mês) | H8: AV %
A9: =A51 -> 1. Mão-de-obra | C9: =+G105 -> 7155.3166 | D9: =IFERROR(C9/$C$26,0) -> 0.26223822 | E9: =G105 -> 7155.3166 | F9: =IFERROR(E9/$E$26,0) -> 0.27878548 | G9: =G106 -> 6002.0031 | H9: =IFERROR(G9/$G$26,0) -> 0.24131105
A10: 1.1. Monitor | C10: =G60 -> 2286.0861 | D10: =IFERROR(C10/$C$26,0) -> 0.083783734 | E10: =C10 -> 2286.0861 | F10: =IFERROR(E10/$E$26,0) -> 0.0890705 | G10: =G67 -> 1805.7364 | H10: =IFERROR(G10/$G$26,0) -> 0.072599786
A11: 1.2. Motorista | C11: =G77 -> 3155.6155 | D11: =IFERROR(C11/$C$26,0) -> 0.11565148 | E11: =C11 -> 3155.6155 | F11: =IFERROR(E11/$E$26,0) -> 0.12294911 | G11: =G84 -> 2482.6517 | H11: =IFERROR(G11/$G$26,0) -> 0.099815226
A12: =A86 -> 1.3. Vale Transporte | C12: =G92 -> 230.89909 | D12: =IFERROR(C12/$C$26,0) -> 0.0084623182 | E12: =C12 -> 230.89909 | F12: =IFERROR(E12/$E$26,0) -> 0.0089962916 | G12: =E12 -> 230.89909 | H12: =IFERROR(G12/$G$26,0) -> 0.0092833179
A13: =A94 -> 1.4. Vale-refeição (diário) | C13: =G98 -> 1442.7273 | D13: =IFERROR(C13/$C$26,0) -> 0.05287512 | E13: =C13 -> 1442.7273 | F13: =IFERROR(E13/$E$26,0) -> 0.056211548 | G13: =E13 -> 1442.7273 | H13: =IFERROR(G13/$G$26,0) -> 0.058004975
A14: 1.5 seguro de vida em grupo | C14: =G104 -> 39.988636 | D14: =IFERROR(C14/$C$26,0) -> 0.0014655604 | E14: =C14 -> 39.988636 | F14: =IFERROR(E14/$E$26,0) -> 0.0015580375 | G14: =E14 -> 39.988636 | H14: =IFERROR(G14/$G$26,0) -> 0.0016077466
A15: =A108 -> 2. Veículos | C15: =+G171 -> 13467.828 | D15: =IFERROR(C15/$C$26,0) -> 0.49358809 | E15: =C15 -> 13467.828 | F15: =IFERROR(E15/$E$26,0) -> 0.52473357 | G15: =E15 -> 13467.828 | H15: =IFERROR(G15/$G$26,0) -> 0.54147517
A16: =A109 -> 2.1 Depreciação | C16: =G116 -> 1721.7878 | D16: =IFERROR(C16/$C$26,0) -> 0.063102529 | E16: =C16 -> 1721.7878 | F16: =IFERROR(E16/$E$26,0) -> 0.067084307 | G16: =E16 -> 1721.7878 | H16: =IFERROR(G16/$G$26,0) -> 0.069224629
A17: =A117 -> 2.2 Remuneração do Capital | C17: =G127 -> 2753.5074 | D17: =IFERROR(C17/$C$26,0) -> 0.10091445 | E17: =C17 -> 2753.5074 | F17: =IFERROR(E17/$E$26,0) -> 0.10728217 | G17: =E17 -> 2753.5074 | H17: =IFERROR(G17/$G$26,0) -> 0.110705
A18: =A129 -> 2.3. Impostos e Seguros | C18: =G139 -> 689.565 | D18: =IFERROR(C18/$C$26,0) -> 0.025272158 | E18: =C18 -> 689.565 | F18: =IFERROR(E18/$E$26,0) -> 0.026866835 | G18: =E18 -> 689.565 | H18: =IFERROR(G18/$G$26,0) -> 0.02772402
A19: =A140 -> 2.4. Consumos | C19: =G154 -> 3673.5396 | D19: =IFERROR(C19/$C$26,0) -> 0.1346331 | E19: =C19 -> 3673.5396 | F19: =IFERROR(E19/$E$26,0) -> 0.14312847 | G19: =E19 -> 3673.5396 | H19: =IFERROR(G19/$G$26,0) -> 0.14769498
A20: =A156 -> 2.5. Manutenção | C20: =G161 -> 4123.9 | D20: =IFERROR(C20/$C$26,0) -> 0.15113855 | E20: =C20 -> 4123.9 | F20: =IFERROR(E20/$E$26,0) -> 0.16067541 | G20: =E20 -> 4123.9 | H20: =IFERROR(G20/$G$26,0) -> 0.16580176
A21: =A163 -> 2.6. Pneus | C21: =G169 -> 505.52773 | D21: =IFERROR(C21/$C$26,0) -> 0.018527299 | E21: =C21 -> 505.52773 | F21: =IFERROR(E21/$E$26,0) -> 0.019696374 | G21: =E21 -> 505.52773 | H21: =IFERROR(G21/$G$26,0) -> 0.020324786
A22: =A173 -> 3. Ferramentas e Materiais de Consumo | C22: =+G183 -> 86.958333 | D22: =IFERROR(C22/$C$26,0) -> 0.0031869726 | E22: =C22 -> 86.958333 | F22: =IFERROR(E22/$E$26,0) -> 0.003388071 | G22: =E22 -> 86.958333 | H22: =IFERROR(G22/$G$26,0) -> 0.0034961673
A23: =A188 -> 4. Benefícios e Desp. Ind. - BDI - LUCRO REAL | C23: =+G194 -> 6575.4576 | D23: =IFERROR(C23/$C$26,0) -> 0.24098672
A24: =A202 -> 5. Benefícios e Desp. Ind. - BDI - LUCRO PRESUMIDO | E24: =G208 -> 4955.9275 | F24: =IFERROR(E24/$E$26,0) -> 0.19309288
A25: =A216 -> 6. Benef. Desp. Ind. + Impostos - SIMPLES NACIONAL | G25: =G220+G233 -> 5315.6858 | H25: =IFERROR(G25/$G$26,0) -> 0.21371761
A26: PREÇO TOTAL MÊS (R$/Mês) | C26: =C9+C15+C22+C23 -> 27285.56 | D26: =D9+D15+D22+D23 -> 1 | E26: =E9+E15+E22+E24 -> 25666.03 | F26: =F9+F15+F22+F24 -> 1 | G26: =G9+G15+G22+G25 -> 24872.475 | H26: =H9+H15+H22+H25 -> 1
A27: PREÇO POR QUILOMETRO (R$/Km) | C27: =G200 -> 11.561678 | E27: =G214 -> 10.875436 | G27: =G239 -> 10.539184
A29: GRUPO C - Informações sobre
A30: C1- Mão-de-obra | F30: Quantidade | G30: R$ / mês
A31: Motorista | F31: 1 | G31: ='lote 3.1'!G31 -> 2271
A32: Monitor | F32: 1 | G32: ='lote 3.1'!G32 -> 1621
A33: Total de mão-de-obra (postos de trabalho) | F33: =SUM(F31:F32) -> 2
A35: C2- Veículos | C35: Vida útil do Veículo | D35: Taxade depreciação | E35: Capacidade (Lugares) | F35: Quantidade | G35: Valor (R$)
A36: Dados do veículo e descrição do veículo | C36: 10 | D36: =1/C36 -> 0.1 | E36: 20 | F36: 1 | G36: 404278
A37: Sprinter Van Mercedez Benz - 517 E.L.T.A teto alto 21 lugares , ano 2026, pneus 225 x 75 aro 16 | D37: tipo de combustível | E37: óleo diesel BS 10
A38: Consumo médio (Km / litro) e Valor do litro (R$) | F38: 5.5 | G38: ='lote 3.1'!G38 -> 7.32
A39: Velocidade média em função do pavimento (Km/h) | F39: 20
A41: C3- Distâncias | C41: Unidade | E41: Km por dia | F41: Horas p/Dia | G41: Km por mês
A42: Distância percorrida | C42: Km | E42: 118 | F42: =(E42/F39)+C48 -> 6.9 | G42: =E42*E43 -> 2360 | I42: =22.5+50.5+27+18 -> 118
A43: Média de dias letivos por mês | C43: Dias | E43: 20 | I43: =I42*203 -> 23954
A45: C4- Fatores | C45: % | D45: Aplicação
...

Sheet  lote 14.1
A1: PLANILHA DE COMPOSIÇÃO DE CUSTOS E FORMAÇÃO DE PREÇO
A2: GRUPO A - Identificação
A3: Nº do processo: | B3: ='lote 3.1'!B3 -> 3827-2026 | C3: Nº Licitação: | F3: Data:
A4: Trajeto | B4: 14 | C4: Item: | D4: 1 | E4: Serviço de Transporte Escolar
A6: GRUPO B - Orçamento Sintético
A7: Formas de Tributação | C7: LUCRO REAL | E7: LUCRO PRESUMIDO | G7: SIMPLES NAC.
A8: Descrição do Item | C8: Custo (R$/mês) | D8: AV % | E8: Custo (R$/mês) | F8: AV % | G8: Custo (R$/mês) | H8: AV %
A9: =A51 -> 1. Mão-de-obra | C9: =+G105 -> 6299.7896 | D9: =IFERROR(C9/$C$26,0) -> 0.24734157 | E9: =G105 -> 6299.7896 | F9: =IFERROR(E9/$E$26,0) -> 0.26294885 | G9: =G106 -> 5284.3723 | H9: =IFERROR(G9/$G$26,0) -> 0.22738607
A10: 1.1. Monitor | C10: =G60 -> 2012.7497 | D10: =IFERROR(C10/$C$26,0) -> 0.079024333 | E10: =C10 -> 2012.7497 | F10: =IFERROR(E10/$E$26,0) -> 0.084010779 | G10: =G67 -> 1589.8331 | H10: =IFERROR(G10/$G$26,0) -> 0.068410377
A11: 1.2. Motorista | C11: =G77 -> 2778.3136 | D11: =IFERROR(C11/$C$26,0) -> 0.10908181 | E11: =C11 -> 2778.3136 | F11: =IFERROR(E11/$E$26,0) -> 0.11596489 | G11: =G84 -> 2185.8129 | H11: =IFERROR(G11/$G$26,0) -> 0.094055336
A12: =A86 -> 1.3. Vale Transporte | C12: =G92 -> 203.29159 | D12: =IFERROR(C12/$C$26,0) -> 0.0079816094 | E12: =C12 -> 203.29159 | F12: =IFERROR(E12/$E$26,0) -> 0.0084852501 | G12: =E12 -> 203.29159 | H12: =IFERROR(G12/$G$26,0) -> 0.0087476191
A13: =A94 -> 1.4. Vale-refeição (diário) | C13: =G98 -> 1270.2273 | D13: =IFERROR(C13/$C$26,0) -> 0.049871507 | E13: =C13 -> 1270.2273 | F13: =IFERROR(E13/$E$26,0) -> 0.053018406 | G13: =E13 -> 1270.2273 | H13: =IFERROR(G13/$G$26,0) -> 0.054657767
A14: 1.5 seguro de vida em grupo | C14: =G104 -> 35.207386 | D14: =IFERROR(C14/$C$26,0) -> 0.0013823081 | E14: =C14 -> 35.207386 | F14: =IFERROR(E14/$E$26,0) -> 0.0014695319 | G14: =E14 -> 35.207386 | H14: =IFERROR(G14/$G$26,0) -> 0.0015149707
A15: =A108 -> 2. Veículos | C15: =+G171 -> 12945.32 | D15: =IFERROR(C15/$C$26,0) -> 0.50825757 | E15: =C15 -> 12945.32 | F15: =IFERROR(E15/$E$26,0) -> 0.54032869 | G15: =E15 -> 12945.32 | H15: =IFERROR(G15/$G$26,0) -> 0.55703598
A16: =A109 -> 2.1 Depreciação | C16: =G116 -> 1870.6849 | D16: =IFERROR(C16/$C$26,0) -> 0.073446602 | E16: =C16 -> 1870.6849 | F16: =IFERROR(E16/$E$26,0) -> 0.078081092 | G16: =E16 -> 1870.6849 | H16: =IFERROR(G16/$G$26,0) -> 0.080495407
A17: =A117 -> 2.2 Remuneração do Capital | C17: =G127 -> 2991.6257 | D17: =IFERROR(C17/$C$26,0) -> 0.11745684 | E17: =C17 -> 2991.6257 | F17: =IFERROR(E17/$E$26,0) -> 0.12486838 | G17: =E17 -> 2991.6257 | H17: =IFERROR(G17/$G$26,0) -> 0.12872939
A18: =A129 -> 2.3. Impostos e Seguros | C18: =G139 -> 768.4075 | D18: =IFERROR(C18/$C$26,0) -> 0.030169121 | E18: =C18 -> 768.4075 | F18: =IFERROR(E18/$E$26,0) -> 0.032072796 | G18: =E18 -> 768.4075 | H18: =IFERROR(G18/$G$26,0) -> 0.033064507
A19: =A140 -> 2.4. Consumos | C19: =G154 -> 3159.8667 | D19: =IFERROR(C19/$C$26,0) -> 0.1240623 | E19: =C19 -> 3159.8667 | F19: =IFERROR(E19/$E$26,0) -> 0.13189065 | G19: =E19 -> 3159.8667 | H19: =IFERROR(G19/$G$26,0) -> 0.13596878
A20: =A156 -> 2.5. Manutenção | C20: =G161 -> 3611.575 | D20: =IFERROR(C20/$C$26,0) -> 0.14179721 | E20: =C20 -> 3611.575 | F20: =IFERROR(E20/$E$26,0) -> 0.15074464 | G20: =E20 -> 3611.575 | H20: =IFERROR(G20/$G$26,0) -> 0.15540575
A21: =A163 -> 2.6. Pneus | C21: =G169 -> 543.16033 | D21: =IFERROR(C21/$C$26,0) -> 0.021325494 | E21: =C21 -> 543.16033 | F21: =IFERROR(E21/$E$26,0) -> 0.022671136 | G21: =E21 -> 543.16033 | H21: =IFERROR(G21/$G$26,0) -> 0.023372141
A22: =A173 -> 3. Ferramentas e Materiais de Consumo | C22: =+G183 -> 86.958333 | D22: =IFERROR(C22/$C$26,0) -> 0.0034141474 | E22: =C22 -> 86.958333 | F22: =IFERROR(E22/$E$26,0) -> 0.0036295806 | G22: =E22 -> 86.958333 | H22: =IFERROR(G22/$G$26,0) -> 0.0037418094
A23: =A188 -> 4. Benefícios e Desp. Ind. - BDI - LUCRO REAL | C23: =+G194 -> 6137.9316 | D23: =IFERROR(C23/$C$26,0) -> 0.24098672
A24: =A202 -> 5. Benefícios e Desp. Ind. - BDI - LUCRO PRESUMIDO | E24: =G208 -> 4626.1639 | F24: =IFERROR(E24/$E$26,0) -> 0.19309288
A25: =A216 -> 6. Benef. Desp. Ind. + Impostos - SIMPLES NACIONAL | G25: =G220+G233 -> 4922.9974 | H25: =IFERROR(G25/$G$26,0) -> 0.21183614
A26: PREÇO TOTAL MÊS (R$/Mês) | C26: =C9+C15+C22+C23 -> 25470 | D26: =D9+D15+D22+D23 -> 1 | E26: =E9+E15+E22+E24 -> 23958.232 | F26: =F9+F15+F22+F24 -> 1 | G26: =G9+G15+G22+G25 -> 23239.648 | H26: =H9+H15+H22+H25 -> 1
A27: PREÇO POR QUILOMETRO (R$/Km) | C27: =G200 -> 12.546798 | E27: =G214 -> 11.802085 | G27: =G239 -> 11.448103
A29: GRUPO C - Informações sobre
A30: C1- Mão-de-obra | F30: Quantidade | G30: R$ / mês
A31: Motorista | F31: 1 | G31: ='lote 3.1'!G31 -> 2271
A32: Monitor | F32: 1 | G32: ='lote 3.1'!G32 -> 1621
A33: Total de mão-de-obra (postos de trabalho) | F33: =SUM(F31:F32) -> 2
A35: C2- Veículos | C35: Vida útil do Veículo | D35: Taxade depreciação | E35: Capacidade (Lugares) | F35: Quantidade | G35: Valor (R$)
A36: Dados do veículo e descrição do veículo | C36: 10 | D36: =1/C36 -> 0.1 | E36: 24 | F36: 1 | G36: 498889
A37: micrônibus Volare ATT 8 longo fretamento com 31 lugares - ano 2025 - pneu 215 x 75 aro 17,5 | D37: tipo de combustível | E37: óleo diesel BS 10
A38: Consumo médio (Km / litro) e Valor do litro (R$) | F38: 5.5 | G38: ='lote 3.1'!G38 -> 7.32
A39: Velocidade média em função do pavimento (Km/h) | F39: 20
A41: C3- Distâncias | C41: Unidade | E41: Km por dia | F41: Horas p/Dia | G41: Km por mês
A42: Distância percorrida | C42: Km | E42: 101.5 | F42: =(E42/F39)+C48 -> 6.075 | G42: =E42*E43 -> 2030 | I42: =36+37+19+9.5 -> 101.5
A43: Média de dias letivos por mês | C43: Dias | E43: 20 | I43: =I42*203 -> 20604.5
A45: C4- Fatores | C45: % | D45: Aplicação
...

Sheet lote 16.1
A1: PLANILHA DE COMPOSIÇÃO DE CUSTOS E FORMAÇÃO DE PREÇO
A2: GRUPO A - Identificação
A3: Nº do processo: | B3: =' lote 14.1'!B3 -> 3827-2026 | C3: Nº Licitação: | F3: Data:
A4: Trajeto | B4: 16 | C4: Item: | D4: 1 | E4: Serviço de Transporte Escolar
A6: GRUPO B - Orçamento Sintético
A7: Formas de Tributação | C7: LUCRO REAL | E7: LUCRO PRESUMIDO | G7: SIMPLES NAC.
A8: Descrição do Item | C8: Custo (R$/mês) | D8: AV % | E8: Custo (R$/mês) | F8: AV % | G8: Custo (R$/mês) | H8: AV %
A9: =A51 -> 1. Mão-de-obra | C9: =+G106 -> 6273.8646 | D9: =IFERROR(C9/$C$26,0) -> 0.25368405 | E9: =G106 -> 6273.8646 | F9: =IFERROR(E9/$E$26,0) -> 0.26969155 | G9: =G107 -> 5262.6259 | H9: =IFERROR(G9/$G$26,0) -> 0.22394435
A10: 1.1. Monitor | C10: =G60 -> 2004.4668 | D10: =IFERROR(C10/$C$26,0) -> 0.081050724 | E10: =C10 -> 2004.4668 | F10: =IFERROR(E10/$E$26,0) -> 0.086165035 | G10: =G67 -> 1583.2906 | H10: =IFERROR(G10/$G$26,0) -> 0.067374917
A11: 1.2. Motorista | C11: =G77 -> 2766.8803 | D11: =IFERROR(C11/$C$26,0) -> 0.11187895 | E11: =C11 -> 2766.8803 | F11: =IFERROR(E11/$E$26,0) -> 0.11893853 | G11: =G84 -> 2176.8178 | H11: =IFERROR(G11/$G$26,0) -> 0.092631713
A12: =A86 -> 1.3. Vale Transporte | C12: =G92 -> 202.455 | D12: =IFERROR(C12/$C$26,0) -> 0.0081862788 | E12: =C12 -> 202.455 | F12: =IFERROR(E12/$E$26,0) -> 0.0087028341 | G12: =E12 -> 202.455 | H12: =IFERROR(G12/$G$26,0) -> 0.0086152151
A13: =A94 -> 1.4. Vale-refeição (diário) | C13: =G98 -> 1265 | D13: =IFERROR(C13/$C$26,0) -> 0.051150343 | E13: =C13 -> 1265 | F13: =IFERROR(E13/$E$26,0) -> 0.054377937 | G13: =E13 -> 1265 | H13: =IFERROR(G13/$G$26,0) -> 0.053830466
