Workbook

Sheet Identificação
A1: IDENTIFICAÇÃO
A2: Modalidade* | B2: Concorrência | D2: N° * | F2: Ano * | G2: 2026
A3: Descrição do Objeto | B3: CONTRATAÇÃO DE EMPRESA ESPECIALIZADA PARA EXECUÇÃO DE PAVIMENTO EM PASSEIO PÚBLICO DO TIPO COM SINALIZAÇÃO DE ACESSIBILIDADE E SEM SINALIZAÇÃO DE ACESSIBILIDADE EM VIAS PÚBLICAS.
A4: Órgão | B4: Município de Venâncio Aires | F4: CNPJ * | G4: 87.334.918/0001-55
A5: Tipo de Objeto* | B5: Obras e Serviços de Engenharia | C5: N° CENTRAL DE COMPRAS
A6: Preço Total Estimado | B6: ='Orçamento-base'!C6 -> 2613155.2
A7: Preço Total Proposto | B7: =Proposta!C6 -> 0
A8: Qtd. Itens Orçamento | B8: =COUNT('Orçamento-base'!B12:B37997) -> 4
A9: Atenção! Para incluir mais de 50 lotes, selecione as células A62 a G62 e arraste as fórmulas para baixo, de acordo com o número de lotes necessário.
A10: *Campos de preenchimento obrigatório | C10: **Campos de preenchimento obrigatório para licitação composta por lotes
A11: Nº do lote** | B11: Descrição do Lote** | C11: Estimativa | G11: Proposta
C12: Valor do lote (R$) | G12: Valor do lote (R$)
A13: 1 | B13: EXECUÇÃO DE PASSEIOS | C13: =SUMIF('Orçamento-base'!$A$12:$A$37999,Identificação!$A13,'Orçamento-base'!$K$12:$K$37999) -> 2613155.2 | G13: =SUMIF(Proposta!$A$12:$A$38349,Identificação!$A13,Proposta!$H$12:$H$38349) -> 0
C14: =SUMIF('Orçamento-base'!$A$12:$A$37999,Identificação!$A14,'Orçamento-base'!$K$12:$K$37999) -> 0 | G14: =SUMIF(Proposta!$A$12:$A$38349,Identificação!$A14,Proposta!$H$12:$H$38349) -> 0
C15: =SUMIF('Orçamento-base'!$A$12:$A$37999,Identificação!$A15,'Orçamento-base'!$K$12:$K$37999) -> 0 | G15: =SUMIF(Proposta!$A$12:$A$38349,Identificação!$A15,Proposta!$H$12:$H$38349) -> 0
C16: =SUMIF('Orçamento-base'!$A$12:$A$37999,Identificação!$A16,'Orçamento-base'!$K$12:$K$37999) -> 0 | G16: =SUMIF(Proposta!$A$12:$A$38349,Identificação!$A16,Proposta!$H$12:$H$38349) -> 0
C17: =SUMIF('Orçamento-base'!$A$12:$A$37999,Identificação!$A17,'Orçamento-base'!$K$12:$K$37999) -> 0 | G17: =SUMIF(Proposta!$A$12:$A$38349,Identificação!$A17,Proposta!$H$12:$H$38349) -> 0
C18: =SUMIF('Orçamento-base'!$A$12:$A$37999,Identificação!$A18,'Orçamento-base'!$K$12:$K$37999) -> 0 | G18: =SUMIF(Proposta!$A$12:$A$38349,Identificação!$A18,Proposta!$H$12:$H$38349) -> 0
C19: =SUMIF('Orçamento-base'!$A$12:$A$37999,Identificação!$A19,'Orçamento-base'!$K$12:$K$37999) -> 0 | G19: =SUMIF(Proposta!$A$12:$A$38349,Identificação!$A19,Proposta!$H$12:$H$38349) -> 0
C20: =SUMIF('Orçamento-base'!$A$12:$A$37999,Identificação!$A20,'Orçamento-base'!$K$12:$K$37999) -> 0 | G20: =SUMIF(Proposta!$A$12:$A$38349,Identificação!$A20,Proposta!$H$12:$H$38349) -> 0
C21: =SUMIF('Orçamento-base'!$A$12:$A$37999,Identificação!$A21,'Orçamento-base'!$K$12:$K$37999) -> 0 | G21: =SUMIF(Proposta!$A$12:$A$38349,Identificação!$A21,Proposta!$H$12:$H$38349) -> 0
C22: =SUMIF('Orçamento-base'!$A$12:$A$37999,Identificação!$A22,'Orçamento-base'!$K$12:$K$37999) -> 0 | G22: =SUMIF(Proposta!$A$12:$A$38349,Identificação!$A22,Proposta!$H$12:$H$38349) -> 0
C23: =SUMIF('Orçamento-base'!$A$12:$A$37999,Identificação!$A23,'Orçamento-base'!$K$12:$K$37999) -> 0 | G23: =SUMIF(Proposta!$A$12:$A$38349,Identificação!$A23,Proposta!$H$12:$H$38349) -> 0
C24: =SUMIF('Orçamento-base'!$A$12:$A$37999,Identificação!$A24,'Orçamento-base'!$K$12:$K$37999) -> 0 | G24: =SUMIF(Proposta!$A$12:$A$38349,Identificação!$A24,Proposta!$H$12:$H$38349) -> 0
C25: =SUMIF('Orçamento-base'!$A$12:$A$37999,Identificação!$A25,'Orçamento-base'!$K$12:$K$37999) -> 0 | G25: =SUMIF(Proposta!$A$12:$A$38349,Identificação!$A25,Proposta!$H$12:$H$38349) -> 0
... C62: =SUMIF('Orçamento-base'!$A$12:$A$37999,Identificação!$A62,'Orçamento-base'!$K$12:$K$37999) -> 0 | G62: =SUMIF(Proposta!$A$12:$A$38349,Identificação!$A62,Proposta!$H$12:$H$38349) -> 0

Sheet Orçamento-base
A1: ORÇAMENTO
A2: Modalidade | C2: =IF(Identificação!B2=0,"",Identificação!B2) -> Concorrência | H2: N° | I2: =IF(Identificação!E2=0,"",Identificação!E2) | J2: Ano | K2: =IF(Identificação!G2=0,"",Identificação!G2) -> 2026
A3: Descrição do Objeto | C3: =IF(Identificação!B3=0,"",Identificação!B3) -> CONTRATAÇÃO DE EMPRESA ESPECIALIZADA PARA EXECUÇÃO DE PAVIMENTO EM PASSEIO PÚBLICO DO TIPO COM SINALIZAÇÃO DE ACESSIBILIDADE E SEM SINALIZAÇÃO DE ACESSIBILIDADE EM VIAS PÚBLICAS.
A4: Órgão | C4: =IF(Identificação!B4=0,"",Identificação!B4) -> Município de Venâncio Aires | J4: CNPJ | K4: =IF(Identificação!G4=0,"",Identificação!G4) -> 87.334.918/0001-55
A5: Tipo de Objeto | C5: =IF(Identificação!B5=0,"",Identificação!B5) -> Obras e Serviços de Engenharia
A6: Preço T. Estimado | C6: =SUMIFS(K12:K37999,B12:B37999,">0",K12:K37999,"<>0") -> 2613155.2
A8: Atenção! Para incluir mais de 100 linhas de itens, selecione as células A113 a R113 e arraste as fórmulas para baixo, de acordo com o número de itens necessário.
A9: *Preenchimento obrigatório | F9: **Obrigatório só para Obras e Serviços de Engenharia | H9: ***Obrigatório só para licitação composta por Lotes
A10: Nº do Lote*** | B10: N° Ordem | C10: Nº Item* | D10: Fonte de Referência** | E10: Código de Referência** | F10: Data de Referência** | G10: Descrição do item* | H10: Estimativa | N10: Família | P10: Subfamília | R10: Tipo de Orçamento | S10: Pr. Unit. Material | T10: Pr. Unit. Mão de obra
H11: Qtd.* | I11: Unid.* | J11: Preço unitário (R$)* | K11: Preço Total (R$) | L11: % BDI** | M11: % Encargos Sociais** | N11: Código | O11: Descrição | P11: Código | Q11: Descrição
B12: =IF(AND(G12<>"",H12>0,I12<>"",J12<>0,K12<>0),COUNT($B$11:B11)+1,"") | J12: =IFERROR(IF(S12+T12<>0,ROUND(ROUND(S12,4)+ROUND(T12,4),4),""),"") | K12: =IFERROR(IF(H12*J12<>0,ROUND(ROUND(H12,4)*ROUND(J12,4),2),""),"") | O12: =IF(N12="","",INDIRECT("base!"&ADDRESS(MATCH(N12,base!$C$2:$C$133,0)+1,4,4))) | Q12: =IF(P12="","",INDIRECT("base!"&ADDRESS(MATCH(CONCATENATE(N12,"|",P12),base!$G$2:$G$1817,0)+1,6,4)))
A13: 1 | B13: =IF(AND(G13<>"",H13>0,I13<>"",J13<>0,K13<>0),COUNT($B$11:B12)+1,"") | C13: 1 | G13: EXECUÇÃO DE PASSEIOS | J13: =IFERROR(IF(S13+T13<>0,ROUND(ROUND(S13,4)+ROUND(T13,4),4),""),"") | K13: =IFERROR(IF(H13*J13<>0,ROUND(ROUND(H13,4)*ROUND(J13,4),2),""),"") | O13: =IF(N13="","",INDIRECT("base!"&ADDRESS(MATCH(N13,base!$C$2:$C$133,0)+1,4,4))) | Q13: =IF(P13="","",INDIRECT("base!"&ADDRESS(MATCH(CONCATENATE(N13,"|",P13),base!$G$2:$G$1817,0)+1,6,4)))
A14: 1 | B14: =IF(AND(G14<>"",H14>0,I14<>"",J14<>0,K14<>0),COUNT($B$11:B13)+1,"") -> 1 | C14: 1.1 | D14: SINAPI | E14: 94995 | F14: 46143 | G14: EXECUÇÃO DE PASSEIO (CALÇADA) OU PISO DE CONCRETO COM CONCRETO MOLDADO IN LOCO, USINADO, ACABAMENTO CONVENCIONAL, ESPESSURA 8 CM, ARMADO. AF_08/2022 | H14: 18535 | I14: m² | J14: =IFERROR(IF(S14+T14<>0,ROUND(ROUND(S14,4)+ROUND(T14,4),4),""),"") -> 116.9 | K14: =IFERROR(IF(H14*J14<>0,ROUND(ROUND(H14,4)*ROUND(J14,4),2),""),"") -> 2166741.5 | L14: 0.2183 | M14: 0.6929 | O14: =IF(N14="","",INDIRECT("base!"&ADDRESS(MATCH(N14,base!$C$2:$C$133,0)+1,4,4))) | Q14: =IF(P14="","",INDIRECT("base!"&ADDRESS(MATCH(CONCATENATE(N14,"|",P14),base!$G$2:$G$1817,0)+1,6,4))) | R14: Serviço | S14: 105.96 | T14: 10.94
A15: 1 | B15: =IF(AND(G15<>"",H15>0,I15<>"",J15<>0,K15<>0),COUNT($B$11:B14)+1,"") -> 2 | C15: 1.2 | D15: SINAPI | E15: 104658 | F15: 46143 | G15: PISO PODOTÁTIL DE ALERTA OU DIRECIONAL, DE CONCRETO, ASSENTADO SOBRE ARGAMASSA. AF_03/2024 | H15: 218 | I15: m² | J15: =IFERROR(IF(S15+T15<>0,ROUND(ROUND(S15,4)+ROUND(T15,4),4),""),"") -> 190.93 | K15: =IFERROR(IF(H15*J15<>0,ROUND(ROUND(H15,4)*ROUND(J15,4),2),""),"") -> 41622.74 | L15: 0.2183 | M15: 0.6929 | R15: Serviço | S15: 144.42 | T15: 46.51
A16: 1 | B16: =IF(AND(G16<>"",H16>0,I16<>"",J16<>0,K16<>0),COUNT($B$11:B15)+1,"") -> 3 | C16: 1.3 | D16: SINAPI | E16: 98504 | F16: 46143 | G16: PLANTIO DE GRAMA BATATAIS EM PLACAS. AF_07/2024 | H16: 12357 | I16: m² | J16: =IFERROR(IF(S16+T16<>0,ROUND(ROUND(S16,4)+ROUND(T16,4),4),""),"") -> 28.49 | K16: =IFERROR(IF(H16*J16<>0,ROUND(ROUND(H16,4)*ROUND(J16,4),2),""),"") -> 352050.93 | L16: 0.2183 | M16: 0.6929 | R16: Serviço | S16: 24.78 | T16: 3.71
A17: 1 | B17: =IF(AND(G17<>"",H17>0,I17<>"",J17<>0,K17<>0),COUNT($B$11:B16)+1,"") -> 4 | C17: 1.4 | D17: SINAPI | E17: CPU PAV 23.3 | F17: 46143 | G17: LIMPEZA, REGULARIZAÇÃO E PREPARO DO LEITO | H17: 6000 | I17: m2 | J17: =IFERROR(IF(S17+T17<>0,ROUND(ROUND(S17,4)+ROUND(T17,4),4),""),"") -> 8.79 | K17: =IFERROR(IF(H17*J17<>0,ROUND(ROUND(H17,4)*ROUND(J17,4),2),""),"") -> 52740 | L17: 0.2183 | M17: 0.6929 | R17: Serviço | S17: 7.7 | T17: 1.09
A18: 1 | B18: =IF(AND(G18<>"",H18>0,I18<>"",J18<>0,K18<>0),COUNT($B$11:B17)+1,"") | J18: =IFERROR(IF(S18+T18<>0,ROUND(ROUND(S18,4)+ROUND(T18,4),4),""),"") | K18: =IFERROR(IF(H18*J18<>0,ROUND(ROUND(H18,4)*ROUND(J18,4),2),""),"")
A19: 1 | B19: =IF(AND(G19<>"",H19>0,I19<>"",J19<>0,K19<>0),COUNT($B$11:B18)+1,"") | J19: =IFERROR(IF(S19+T19<>0,ROUND(ROUND(S19,4)+ROUND(T19,4),4),""),"") | K19: =IFERROR(IF(H19*J19<>0,ROUND(ROUND(H19,4)*ROUND(J19,4),2),""),"")
A20: 1 | B20: =IF(AND(G20<>"",H20>0,I20<>"",J20<>0,K20<>0),COUNT($B$11:B19)+1,"") | J20: =IFERROR(IF(S20+T20<>0,ROUND(ROUND(S20,4)+ROUND(T20,4),4),""),"") | K20: =IFERROR(IF(H20*J20<>0,ROUND(ROUND(H20,4)*ROUND(J20,4),2),""),"")
A21: 1 | B21: =IF(AND(G21<>"",H21>0,I21<>"",J21<>0,K21<>0),COUNT($B$11:B20)+1,"") | J21: =IFERROR(IF(S21+T21<>0,ROUND(ROUND(S21,4)+ROUND(T21,4),4),""),"") | K21: =IFERROR(IF(H21*J21<>0,ROUND(ROUND(H21,4)*ROUND(J21,4),2),""),"")
A22: 1 | B22: =IF(AND(G22<>"",H22>0,I22<>"",J22<>0,K22<>0),COUNT($B$11:B21)+1,"") | J22: =IFERROR(IF(S22+T22<>0,ROUND(ROUND(S22,4)+ROUND(T22,4),4),""),"") | K22: =IFERROR(IF(H22*J22<>0,ROUND(ROUND(H22,4)*ROUND(J22,4),2),""),"")
A23: 1 | B23: =IF(AND(G23<>"",H23>0,I23<>"",J23<>0,K23<>0),COUNT($B$11:B22)+1,"") | J23: =IFERROR(IF(S23+T23<>0,ROUND(ROUND(S23,4)+ROUND(T23,4),4),""),"") | K23: =IFERROR(IF(H23*J23<>0,ROUND(ROUND(H23,4)*ROUND(J23,4),2),""),"")
A24: 1 | B24: =IF(AND(G24<>"",H24>0,I24<>"",J24<>0,K24<>0),COUNT($B$11:B23)+1,"") | J24: =IFERROR(IF(S24+T24<>0,ROUND(ROUND(S24,4)+ROUND(T24,4),4),""),"") | K24: =IFERROR(IF(H24*J24<>0,ROUND(ROUND(H24,4)*ROUND(J24,4),2),""),"")
A25: 1 | B25: =IF(AND(G25<>"",H25>0,I25<>"",J25<>0,K25<>0),COUNT($B$11:B24)+1,"") | J25: =IFERROR(IF(S25+T25<>0,ROUND(ROUND(S25,4)+ROUND(T25,4),4),""),"") | K25: =IFERROR(IF(H25*J25<>0,ROUND(ROUND(H25,4)*ROUND(J25,4),2),""),"")
A26: 1 | B26: =IF(AND(G26<>"",H26>0,I26<>"",J26<>0,K26<>0),COUNT($B$11:B25)+1,"") | J26: =IFERROR(IF(S26+T26<>0,ROUND(ROUND(S26,4)+ROUND(T26,4),4),""),"") | K26: =IFERROR(IF(H26*J26<>0,ROUND(ROUND(H26,4)*ROUND(J26,4),2),""),"")
A27: 1 | B27: =IF(AND(G27<>"",H27>0,I27<>"",J27<>0,K27<>0),COUNT($B$11:B26)+1,"") | J27: =IFERROR(IF(S27+T27<>0,ROUND(ROUND(S27,4)+ROUND(T27,4),4),""),"") | K27: =IFERROR(IF(H27*J27<>0,ROUND(ROUND(H27,4)*ROUND(J27,4),2),""),"")
A28: 1 | B28: =IF(AND(G28<>"",H28>0,I28<>"",J28<>0,K28<>0),COUNT($B$11:B27)+1,"") | J28: =IFERROR(IF(S28+T28<>0,ROUND(ROUND(S28,4)+ROUND(T28,4),4),""),"") | K28: =IFERROR(IF(H28*J28<>0,ROUND(ROUND(H28,4)*ROUND(J28,4),2),""),"")
A29: 1 | B29: =IF(AND(G29<>"",H29>0,I29<>"",J29<>0,K29<>0),COUNT($B$11:B28)+1,"") | J29: =IFERROR(IF(S29+T29<>0,ROUND(ROUND(S29,4)+ROUND(T29,4),4),""),"") | K29: =IFERROR(IF(H29*J29<>0,ROUND(ROUND(H29,4)*ROUND(J29,4),2),""),"")
... A38: 1 | B38: =IF(AND(G38<>"",H38>0,I38<>"",J38<>0,K38<>0),COUNT($B$11:B37)+1,"") | J38: =IFERROR(IF(S38+T38<>0,ROUND(ROUND(S38,4)+ROUND(T38,4),4),""),"") | K38: =IFERROR(IF(H38*J38<>0,ROUND(ROUND(H38,4)*ROUND(J38,4),2),""),"")
A39: 1 | B39: =IF(AND(G39<>"",H39>0,I39<>"",J39<>0,K39<>0),COUNT($B$11:B38)+1,"") | J39: =IFERROR(IF(S39+T39<>0,ROUND(ROUND(S39,4)+ROUND(T39,4),4),""),"")
A40: 1 | B40: =IF(AND(G40<>"",H40>0,I40<>"",J40<>0,K40<>0),COUNT($B$11:B39)+1,"") | J40: =IFERROR(IF(S40+T40<>0,ROUND(ROUND(S40,4)+ROUND(T40,4),4),""),"")
A41: 1 | B41: =IF(AND(G41<>"",H41>0,I41<>"",J41<>0,K41<>0),COUNT($B$11:B40)+1,"") | J41: =IFERROR(IF(S41+T41<>0,ROUND(ROUND(S41,4)+ROUND(T41,4),4),""),"") | K41: =IFERROR(IF(H41*J41<>0,ROUND(ROUND(H41,4)*ROUND(J41,4),2),""),"")
A42: 1 | B42: =IF(AND(G42<>"",H42>0,I42<>"",J42<>0,K42<>0),COUNT($B$11:B41)+1,"") | J42: =IFERROR(IF(S42+T42<>0,ROUND(ROUND(S42,4)+ROUND(T42,4),4),""),"") | K42: =IFERROR(IF(H42*J42<>0,ROUND(ROUND(H42,4)*ROUND(J42,4),2),""),"")
A43: 1 | B43: =IF(AND(G43<>"",H43>0,I43<>"",J43<>0,K43<>0),COUNT($B$11:B42)+1,"") | J43: =IFERROR(IF(S43+T43<>0,ROUND(ROUND(S43,4)+ROUND(T43,4),4),""),"") | K43: =IFERROR(IF(H43*J43<>0,ROUND(ROUND(H43,4)*ROUND(J43,4),2),""),"")
A44: 1 | B44: =IF(AND(G44<>"",H44>0,I44<>"",J44<>0,K44<>0),COUNT($B$11:B43)+1,"") | J44: =IFERROR(IF(S44+T44<>0,ROUND(ROUND(S44,4)+ROUND(T44,4),4),""),"") | K44: =IFERROR(IF(H44*J44<>0,ROUND(ROUND(H44,4)*ROUND(J44,4),2),""),"")
A45: 1 | B45: =IF(AND(G45<>"",H45>0,I45<>"",J45<>0,K45<>0),COUNT($B$11:B44)+1,"") | J45: =IFERROR(IF(S45+T45<>0,ROUND(ROUND(S45,4)+ROUND(T45,4),4),""),"") | K45: =IFERROR(IF(H45*J45<>0,ROUND(ROUND(H45,4)*ROUND(J45,4),2),""),"")
A46: 1 | B46: =IF(AND(G46<>"",H46>0,I46<>"",J46<>0,K46<>0),COUNT($B$11:B45)+1,"") | J46: =IFERROR(IF(S46+T46<>0,ROUND(ROUND(S46,4)+ROUND(T46,4),4),""),"") | K46: =IFERROR(IF(H46*J46<>0,ROUND(ROUND(H46,4)*ROUND(J46,4),2),""),"")
A47: 1 | B47: =IF(AND(G47<>"",H47>0,I47<>"",J47<>0,K47<>0),COUNT($B$11:B46)+1,"") | J47: =IFERROR(IF(S47+T47<>0,ROUND(ROUND(S47,4)+ROUND(T47,4),4),""),"") | K47: =IFERROR(IF(H47*J47<>0,ROUND(ROUND(H47,4)*ROUND(J47,4),2),""),"")
A48: 1 | B48: =IF(AND(G48<>"",H48>0,I48<>"",J48<>0,K48<>0),COUNT($B$11:B47)+1,"") | J48: =IFERROR(IF(S48+T48<>0,ROUND(ROUND(S48,4)+ROUND(T48,4),4),""),"") | K48: =IFERROR(IF(H48*J48<>0,ROUND(ROUND(H48,4)*ROUND(J48,4),2),""),"")
A49: 1 | B49: =IF(AND(G49<>"",H49>0,I49<>"",J49<>0,K49<>0),COUNT($B$11:B48)+1,"") | J49: =IFERROR(IF(S49+T49<>0,ROUND(ROUND(S49,4)+ROUND(T49,4),4),""),"") | K49: =IFERROR(IF(H49*J49<>0,ROUND(ROUND(H49,4)*ROUND(J49,4),2),""),"")
...

Sheet Proposta
A1: PROPOSTA
A2: Modalidade | C2: =IF(Identificação!B2=0,"",Identificação!B2) -> Concorrência | E2: N° | F2: =IF(Identificação!E2=0,"",Identificação!E2) | G2: Ano | H2: =IF(Identificação!G2=0,"",Identificação!G2) -> 2026
A3: Descrição do Objeto | C3: =IF(Identificação!B3=0,"",Identificação!B3) -> CONTRATAÇÃO DE EMPRESA ESPECIALIZADA PARA EXECUÇÃO DE PAVIMENTO EM PASSEIO PÚBLICO DO TIPO COM SINALIZAÇÃO DE ACESSIBILIDADE E SEM SINALIZAÇÃO DE ACESSIBILIDADE EM VIAS PÚBLICAS.
A4: Licitante | G4: CNPJ*
A5: Tipo de Objeto | C5: =IF(Identificação!B5=0,"",Identificação!B5) -> Obras e Serviços de Engenharia
A6: Preço Total Proposto | C6: =SUMIFS(H12:H38349,B12:B38349,">0",H12:H38349,"<>0") -> 0
A7: Atenção! Se existirem itens sem preço proposto, deixe a célula do preço unitário proposto em branco.
A8: Para incluir itens da proposta, selecione as células A13 a K13 e arraste para baixo, de acordo com o número de itens cadastrado na planilha Orçamento-base.
A9: *Campos de preenchimento obrigatório | F9: **Obrigatório só para Obras e Serviços de Engenharia
A10: Nº do lote | B10: Nº Ordem | C10: Nº Item | D10: Descrição do item | E10: Proposta
E11: Qtd. | F11: Unid. | G11: Preço unitário (R$)* | H11: Preço Total (R$) | I11: % BDI** | J11: % Encargos Sociais** | K11: Percentual de Desconto | L11: Pr. Unit. Material | M11: Pr. Unit. Mão de obra
A12: =IF('Orçamento-base'!A12>0,'Orçamento-base'!A12,"") | B12: ='Orçamento-base'!B12 | C12: =IF('Orçamento-base'!C12>0,'Orçamento-base'!C12,"") | D12: =IF('Orçamento-base'!G12>0,'Orçamento-base'!G12,"") | E12: =IF('Orçamento-base'!H12>0,'Orçamento-base'!H12,"") | F12: =IF('Orçamento-base'!I12>0,'Orçamento-base'!I12,"") | G12: =IFERROR(IF(L12+M12<>0,ROUND(ROUND(L12,4)+ROUND(M12,4),4),""),"") | H12: =IFERROR(IF(E12*G12<>0,ROUND(ROUND(E12,4)*ROUND(G12,4),2),""),"")
A13: =IF('Orçamento-base'!A13>0,'Orçamento-base'!A13,"") -> 1 | B13: ='Orçamento-base'!B13 | C13: =IF('Orçamento-base'!C13>0,'Orçamento-base'!C13,"") -> 1 | D13: =IF('Orçamento-base'!G13>0,'Orçamento-base'!G13,"") -> EXECUÇÃO DE PASSEIOS | E13: =IF('Orçamento-base'!H13>0,'Orçamento-base'!H13,"") | F13: =IF('Orçamento-base'!I13>0,'Orçamento-base'!I13,"") | G13: =IFERROR(IF(L13+M13<>0,ROUND(ROUND(L13,4)+ROUND(M13,4),4),""),"") | H13: =IFERROR(IF(E13*G13<>0,ROUND(ROUND(E13,4)*ROUND(G13,4),2),""),"")
A14: =IF('Orçamento-base'!A14>0,'Orçamento-base'!A14,"") -> 1 | B14: ='Orçamento-base'!B14 -> 1 | C14: =IF('Orçamento-base'!C14>0,'Orçamento-base'!C14,"") -> 1.1 | D14: =IF('Orçamento-base'!G14>0,'Orçamento-base'!G14,"") -> EXECUÇÃO DE PASSEIO (CALÇADA) OU PISO DE CONCRETO COM CONCRETO MOLDADO IN LOCO, USINADO, ACABAMENTO CONVENCIONAL, ESPESSURA 8 CM, ARMADO. AF_08/2022 | E14: =IF('Orçamento-base'!H14>0,'Orçamento-base'!H14,"") -> 18535 | F14: =IF('Orçamento-base'!I14>0,'Orçamento-base'!I14,"") -> m² | G14: =IFERROR(IF(L14+M14<>0,ROUND(ROUND(L14,4)+ROUND(M14,4),4),""),"") | H14: =IFERROR(IF(E14*G14<>0,ROUND(ROUND(E14,4)*ROUND(G14,4),2),""),"")
A15: =IF('Orçamento-base'!A15>0,'Orçamento-base'!A15,"") -> 1 | B15: ='Orçamento-base'!B15 -> 2 | C15: =IF('Orçamento-base'!C15>0,'Orçamento-base'!C15,"") -> 1.2 | D15: =IF('Orçamento-base'!G15>0,'Orçamento-base'!G15,"") -> PISO PODOTÁTIL DE ALERTA OU DIRECIONAL, DE CONCRETO, ASSENTADO SOBRE ARGAMASSA. AF_03/2024 | E15: =IF('Orçamento-base'!H15>0,'Orçamento-base'!H15,"") -> 218 | F15: =IF('Orçamento-base'!I15>0,'Orçamento-base'!I15,"") -> m² | G15: =IFERROR(IF(L15+M15<>0,ROUND(ROUND(L15,4)+ROUND(M15,4),4),""),"") | H15: =IFERROR(IF(E15*G15<>0,ROUND(ROUND(E15,4)*ROUND(G15,4),2),""),"")
A16: =IF('Orçamento-base'!A16>0,'Orçamento-base'!A16,"") -> 1 | B16: ='Orçamento-base'!B16 -> 3 | C16: =IF('Orçamento-base'!C16>0,'Orçamento-base'!C16,"") -> 1.3 | D16: =IF('Orçamento-base'!G16>0,'Orçamento-base'!G16,"") -> PLANTIO DE GRAMA BATATAIS EM PLACAS. AF_07/2024 | E16: =IF('Orçamento-base'!H16>0,'Orçamento-base'!H16,"") -> 12357 | F16: =IF('Orçamento-base'!I16>0,'Orçamento-base'!I16,"") -> m² | G16: =IFERROR(IF(L16+M16<>0,ROUND(ROUND(L16,4)+ROUND(M16,4),4),""),"") | H16: =IFERROR(IF(E16*G16<>0,ROUND(ROUND(E16,4)*ROUND(G16,4),2),""),"")
A17: =IF('Orçamento-base'!A17>0,'Orçamento-base'!A17,"") -> 1 | B17: ='Orçamento-base'!B17 -> 4 | C17: =IF('Orçamento-base'!C17>0,'Orçamento-base'!C17,"") -> 1.4 | D17: =IF('Orçamento-base'!G17>0,'Orçamento-base'!G17,"") -> LIMPEZA, REGULARIZAÇÃO E PREPARO DO LEITO | E17: =IF('Orçamento-base'!H17>0,'Orçamento-base'!H17,"") -> 6000 | F17: =IF('Orçamento-base'!I17>0,'Orçamento-base'!I17,"") -> m2 | G17: =IFERROR(IF(L17+M17<>0,ROUND(ROUND(L17,4)+ROUND(M17,4),4),""),"") | H17: =IFERROR(IF(E17*G17<>0,ROUND(ROUND(E17,4)*ROUND(G17,4),2),""),"")
A18: =IF('Orçamento-base'!A18>0,'Orçamento-base'!A18,"") -> 1 | B18: ='Orçamento-base'!B18 | C18: =IF('Orçamento-base'!C18>0,'Orçamento-base'!C18,"") | D18: =IF('Orçamento-base'!G18>0,'Orçamento-base'!G18,"") | E18: =IF('Orçamento-base'!H18>0,'Orçamento-base'!H18,"") | F18: =IF('Orçamento-base'!I18>0,'Orçamento-base'!I18,"") | G18: =IFERROR(IF(L18+M18<>0,ROUND(ROUND(L18,4)+ROUND(M18,4),4),""),"") | H18: =IFERROR(IF(E18*G18<>0,ROUND(ROUND(E18,4)*ROUND(G18,4),2),""),"")
A19: =IF('Orçamento-base'!A19>0,'Orçamento-base'!A19,"") -> 1 | B19: ='Orçamento-base'!B19 | C19: =IF('Orçamento-base'!C19>0,'Orçamento-base'!C19,"") | D19: =IF('Orçamento-base'!G19>0,'Orçamento-base'!G19,"") | E19: =IF('Orçamento-base'!H19>0,'Orçamento-base'!H19,"") | F19: =IF('Orçamento-base'!I19>0,'Orçamento-base'!I19,"") | G19: =IFERROR(IF(L19+M19<>0,ROUND(ROUND(L19,4)+ROUND(M19,4),4),""),"") | H19: =IFERROR(IF(E19*G19<>0,ROUND(ROUND(E19,4)*ROUND(G19,4),2),""),"")
A20: =IF('Orçamento-base'!A20>0,'Orçamento-base'!A20,"") -> 1 | B20: ='Orçamento-base'!B20 | C20: =IF('Orçamento-base'!C20>0,'Orçamento-base'!C20,"") | D20: =IF('Orçamento-base'!G20>0,'Orçamento-base'!G20,"") | E20: =IF('Orçamento-base'!H20>0,'Orçamento-base'!H20,"") | F20: =IF('Orçamento-base'!I20>0,'Orçamento-base'!I20,"") | G20: =IFERROR(IF(L20+M20<>0,ROUND(ROUND(L20,4)+ROUND(M20,4),4),""),"") | H20: =IFERROR(IF(E20*G20<>0,ROUND(ROUND(E20,4)*ROUND(G20,4),2),""),"")
A21: =IF('Orçamento-base'!A21>0,'Orçamento-base'!A21,"") -> 1 | B21: ='Orçamento-base'!B21 | C21: =IF('Orçamento-base'!C21>0,'Orçamento-base'!C21,"") | D21: =IF('Orçamento-base'!G21>0,'Orçamento-base'!G21,"") | E21: =IF('Orçamento-base'!H21>0,'Orçamento-base'!H21,"") | F21: =IF('Orçamento-base'!I21>0,'Orçamento-base'!I21,"") | G21: =IFERROR(IF(L21+M21<>0,ROUND(ROUND(L21,4)+ROUND(M21,4),4),""),"") | H21: =IFERROR(IF(E21*G21<>0,ROUND(ROUND(E21,4)*ROUND(G21,4),2),""),"")
A22: =IF('Orçamento-base'!A22>0,'Orçamento-base'!A22,"") -> 1 | B22: ='Orçamento-base'!B22 | C22: =IF('Orçamento-base'!C22>0,'Orçamento-base'!C22,"") | D22: =IF('Orçamento-base'!G22>0,'Orçamento-base'!G22,"") | E22: =IF('Orçamento-base'!H22>0,'Orçamento-base'!H22,"") | F22: =IF('Orçamento-base'!I22>0,'Orçamento-base'!I22,"") | G22: =IFERROR(IF(L22+M22<>0,ROUND(ROUND(L22,4)+ROUND(M22,4),4),""),"") | H22: =IFERROR(IF(E22*G22<>0,ROUND(ROUND(E22,4)*ROUND(G22,4),2),""),"")
A23: =IF('Orçamento-base'!A23>0,'Orçamento-base'!A23,"") -> 1 | B23: ='Orçamento-base'!B23 | C23: =IF('Orçamento-base'!C23>0,'Orçamento-base'!C23,"") | D23: =IF('Orçamento-base'!G23>0,'Orçamento-base'!G23,"") | E23: =IF('Orçamento-base'!H23>0,'Orçamento-base'!H23,"") | F23: =IF('Orçamento-base'!I23>0,'Orçamento-base'!I23,"") | G23: =IFERROR(IF(L23+M23<>0,ROUND(ROUND(L23,4)+ROUND(M23,4),4),""),"") | H23: =IFERROR(IF(E23*G23<>0,ROUND(ROUND(E23,4)*ROUND(G23,4),2),""),"")
... A305: =IF('Orçamento-base'!A305>0,'Orçamento-base'!A305,"") -> 1 | B305: ='Orçamento-base'!B305 | C305: =IF('Orçamento-base'!C305>0,'Orçamento-base'!C305,"") | D305: =IF('Orçamento-base'!G305>0,'Orçamento-base'!G305,"") | E305: =IF('Orçamento-base'!H305>0,'Orçamento-base'!H305,"") | F305: =IF('Orçamento-base'!I305>0,'Orçamento-base'!I305,"") | G305: =IFERROR(IF(L305+M305<>0,ROUND(ROUND(L305,4)+ROUND(M305,4),4),""),"") | H305: =IFERROR(IF(E305*G305<>0,ROUND(ROUND(E305,4)*ROUND(G305,4),2),""),"")

Sheet Pesquisa Familia e Subfamilia
A1: Tipo de Objeto | B1: Código Família | C1: Família | D1: Código Subfamília | E1: Subfamília
A2: Compras | B2: 736 | C2: alimentacao humana especial/manipuladas/fracionada | D2: 460 | E2: laticinios e correlatos
A3: Compras | B3: 736 | C3: alimentacao humana especial/manipuladas/fracionada | D3: 640 | E3: produtos de origem animal in natura
A4: Compras | B4: 736 | C4: alimentacao humana especial/manipuladas/fracionada | D4: 641 | E4: produtos de origem vegetal in natura
A5: Compras | B5: 736 | C5: alimentacao humana especial/manipuladas/fracionada | D5: 643 | E5: produtos de panificacao
A6: Compras | B6: 736 | C6: alimentacao humana especial/manipuladas/fracionada | D6: 642 | E6: produtos nao pereciveis
A7: Compras | B7: 965 | C7: adubos/corretivos do solo | D7: 1 | E7: adubos
A8: Compras | B8: 965 | C8: adubos/corretivos do solo | D8: 89 | E8: corretivos do solo
A9: Compras | B9: 788 | C9: alimentacao humana - laticinios e correlatos | D9: 700 | E9: cremes vegetais
A10: Compras | B10: 788 | C10: alimentacao humana - laticinios e correlatos | D10: 133 | E10: derivados do leite
A11: Compras | B11: 788 | C11: alimentacao humana - laticinios e correlatos | D11: 456 | E11: leite
A12: Compras | B12: 788 | C12: alimentacao humana - laticinios e correlatos | D12: 500 | E12: manteiga
A13: Compras | B13: 788 | C13: alimentacao humana - laticinios e correlatos | D13: 676 | E13: queijo e similares
... A3482: Outros Serviços | B3482: 72 | C3482: servicos: vigilancia/seguranca/transporte de valores | D3482: 737 | E3482: servicos transporte de valores/contagem numerario
A3484: 1

Sheet Tipo de Objeto x Familia
A1: Tipo de Objeto | B1: Código | C1: Família | D1: apoio1 | E1: apoio2 | F1: Tipo de Objeto | G1: Código Família | H1: Família
A2: Compras | B2: 2 | C2: equipamentos/materiais p/escritorio/escola/artes plasticas | D2: 1 | E2: =IF(A2=$F$2,B2,"") | F2: =IF(Identificação!$B$5=0,"",Identificação!$B$5) -> Obras e Serviços de Engenharia | G2: =IFERROR(SMALL($E$2:$E$250,D2),"") -> 7 | H2: =IFERROR(VLOOKUP(G2,base!$C$2:$D$133,2,FALSE()),"") -> serviços de engenharia/obras: resíduos sólidos
A3: Compras e Outros Serviços | B3: 2 | C3: equipamentos/materiais p/escritorio/escola/artes plasticas | D3: 2 | E3: =IF(A3=$F$2,B3,"") | G3: =IFERROR(SMALL($E$2:$E$250,D3),"") -> 8 | H3: =IFERROR(VLOOKUP(G3,base!$C$2:$D$133,2,FALSE()),"") -> serviços de engenharia/obras: edificações
A4: Compras e Outros Serviços | B4: 3 | C4: servicos técnicos: projetos/auditorias/ consultorias/assessorias | D4: 3 | E4: =IF(A4=$F$2,B4,"") | G4: =IFERROR(SMALL($E$2:$E$250,D4),"") -> 9 | H4: =IFERROR(VLOOKUP(G4,base!$C$2:$D$133,2,FALSE()),"") -> serviços de engenharia/obras: rodovias, ferrovias e aeroportos
A5: Outros Serviços | B5: 3 | C5: servicos técnicos: projetos/auditorias/ consultorias/assessorias | D5: 4 | E5: =IF(A5=$F$2,B5,"") | G5: =IFERROR(SMALL($E$2:$E$250,D5),"") -> 10 | H5: =IFERROR(VLOOKUP(G5,base!$C$2:$D$133,2,FALSE()),"") -> serviços de engenharia/obras: obras-de-arte-especiais
A6: Obras e Serviços de Engenharia | B6: 7 | C6: serviços de engenharia/obras: resíduos sólidos | D6: 5 | E6: =IF(A6=$F$2,B6,"") -> 7 | G6: =IFERROR(SMALL($E$2:$E$250,D6),"") -> 11 | H6: =IFERROR(VLOOKUP(G6,base!$C$2:$D$133,2,FALSE()),"") -> serviços de engenharia/obras: urbanização
A7: Obras e Serviços de Engenharia | B7: 8 | C7: serviços de engenharia/obras: edificações | D7: 6 | E7: =IF(A7=$F$2,B7,"") -> 8 | G7: =IFERROR(SMALL($E$2:$E$250,D7),"") -> 12 | H7: =IFERROR(VLOOKUP(G7,base!$C$2:$D$133,2,FALSE()),"") -> serviços de engenharia/obras: infraestrutura de energia
A8: Obras e Serviços de Engenharia | B8: 9 | C8: serviços de engenharia/obras: rodovias, ferrovias e aeroportos | D8: 7 | E8: =IF(A8=$F$2,B8,"") -> 9 | G8: =IFERROR(SMALL($E$2:$E$250,D8),"") -> 13 | H8: =IFERROR(VLOOKUP(G8,base!$C$2:$D$133,2,FALSE()),"") -> serviços de engenharia/obras: saneamento
A9: Obras e Serviços de Engenharia | B9: 10 | C9: serviços de engenharia/obras: obras-de-arte-especiais | D9: 8 | E9: =IF(A9=$F$2,B9,"") -> 10 | G9: =IFERROR(SMALL($E$2:$E$250,D9),"") -> 14 | H9: =IFERROR(VLOOKUP(G9,base!$C$2:$D$133,2,FALSE()),"") -> serviços de engenharia/obras: obras portuárias, marítimas e fluviais
A10: Obras e Serviços de Engenharia | B10: 11 | C10: serviços de engenharia/obras: urbanização | D10: 9 | E10: =IF(A10=$F$2,B10,"") -> 11 | G10: =IFERROR(SMALL($E$2:$E$250,D10),"") -> 15 | H10: =IFERROR(VLOOKUP(G10,base!$C$2:$D$133,2,FALSE()),"") -> serviços de engenharia/obras: serviços especializados para construção
A11: Obras e Serviços de Engenharia | B11: 12 | C11: serviços de engenharia/obras: infraestrutura de energia | D11: 10 | E11: =IF(A11=$F$2,B11,"") -> 12 | G11: =IFERROR(SMALL($E$2:$E$250,D11),"") -> 16 | H11: =IFERROR(VLOOKUP(G11,base!$C$2:$D$133,2,FALSE()),"") -> serviços de engenharia/obras: inst. elétricas, hidráulicas e outras inst. em construções
A12: Obras e Serviços de Engenharia | B12: 13 | C12: serviços de engenharia/obras: saneamento | D12: 11 | E12: =IF(A12=$F$2,B12,"") -> 13 | G12: =IFERROR(SMALL($E$2:$E$250,D12),"") -> 17 | H12: =IFERROR(VLOOKUP(G12,base!$C$2:$D$133,2,FALSE()),"") -> serviços de engenharia/obras: serviços técnicos de engenharia e arquitetura
A13: Obras e Serviços de Engenharia | B13: 14 | C13: serviços de engenharia/obras: obras portuárias, marítimas e fluviais | D13: 12 | E13: =IF(A13=$F$2,B13,"") -> 14 | G13: =IFERROR(SMALL($E$2:$E$250,D13),"") | H13: =IFERROR(VLOOKUP(G13,base!$C$2:$D$133,2,FALSE()),"")
A14: Obras e Serviços de Engenharia | B14: 15 | C14: serviços de engenharia/obras: serviços especializados para construção | D14: 13 | E14: =IF(A14=$F$2,B14,"") -> 15 | G14: =IFERROR(SMALL($E$2:$E$250,D14),"") | H14: =IFERROR(VLOOKUP(G14,base!$C$2:$D$133,2,FALSE()),"")
... A250: Compras e Outros Serviços | B250: 990 | C250: produtos quimicos de limpeza/higiene | D250: 249 | E250: =IF(A250=$F$2,B250,"") | G250: =IFERROR(SMALL($E$2:$E$250,D250),"") | H250: =IFERROR(VLOOKUP(G250,base!$C$2:$D$133,2,FALSE()),"")

Sheet base
C1: Cód. Família | D1: Família | E1: Cód. Subfamília | F1: Subfamília | I1: Sigla | J1: Descrição Unidade | K1: Modalidades | L1: Tipo de Objeto | M1: Tipo de Orcamento | N1: Fonte de Rerefência
C2: 2 | D2: equipamentos/materiais p/escritorio/escola/artes plasticas | E2: 89 | F2: tinta para carimbos | G2: 2|89 | I2: ades | J2: adesivo | K2: Chamada Pública / PNAE | L2: Alienação de Bens | M2: Mão-de-obra | N2: AGETOP_CIVIL
C3: 3 | D3: servicos técnicos: projetos/auditorias/ consultorias/assessorias | E3: 177 | F3: equipamentos p/escritorio | G3: 2|177 | I3: amp | J3: ampola | K3: Chamamento Público | L3: Compras | M3: Mão-de-obra e material | N3: AGETOP_ROD
C4: 7 | D4: serviços de engenharia/obras: resíduos sólidos | E4: 178 | F4: equipamentos p/reprografia/grafica/copiadoras | G4: 2|178 | I4: ano | J4: ano | K4: Chamamento Público / Credenciamento | L4: Compras e Outros Serviços | M4: Material | N4: CAERN
C5: 8 | D5: serviços de engenharia/obras: edificações | E5: 179 | F5: equipamentos didaticos/ensino/treinamento | G5: 2|179 | I5: band | J5: bandeja | K5: Concorrência | L5: Concessão | M5: Serviço | N5: CEEE
C6: 9 | D6: serviços de engenharia/obras: rodovias, ferrovias e aeroportos | E6: 221 | F6: filmes p/ plastificacao | G6: 2|221 | I6: bast | J6: bastão | K6: Concurso | L6: Locações | N6: COMPOSICAO_PROPRIA
C7: 10 | D7: serviços de engenharia/obras: obras-de-arte-especiais | E7: 500 | F7: materiais/suprimentos p/equipamentos de escritorio | G7: 2|500 | I7: bg | J7: bisnaga | K7: Convite | L7: Não se aplica | N7: CONVENCAO_COLETIVA
C8: 11 | D8: serviços de engenharia/obras: urbanização | E8: 504 | F8: materiais permanentes p/escritorio | G8: 2|504 | I8: bl | J8: bloco | K8: Licitação Lei 13.303/16 Eletrônico | L8: Obras e Serviços de Engenharia | N8: CORSAN
C9: 12 | D9: serviços de engenharia/obras: infraestrutura de energia | E9: 508 | F9: materiais de consumo p/escritorio | G9: 2|508 | I9: bld | J9: balde | K9: Licitação Lei 13.303/16 Presencial | L9: Outros Serviços | N9: COTACAO
C10: 13 | D10: serviços de engenharia/obras: saneamento | E10: 514 | F10: materiais permanentes didaticos/escolares/desenho tecnico | G10: 2|514 | I10: bli | J10: blister | K10: Leilão Eletrônico | L10: Permissão | N10: CUB/SINDUSCON
C11: 14 | D11: serviços de engenharia/obras: obras portuárias, marítimas e fluviais | E11: 518 | F11: materiais de consumo didaticos/escolares/desenho tecnico | G11: 2|518 | I11: bls | J11: bolsa | K11: Leilão Presencial | N11: DAER
C12: 15 | D12: serviços de engenharia/obras: serviços especializados para construção | E12: 522 | F12: materiais p/encadernacao/envelopamento | G12: 2|522 | I12: bob | J12: bobina | K12: Pregão Eletrônico | N12: ORSE
C13: 16 | D13: serviços de engenharia/obras: inst. elétricas, hidráulicas e outras inst. em construções | E13: 526 | F13: materiais p/arquivamento | G13: 2|526 | I13: bomb | J13: bombona | K13: Pregão Presencial | N13: PLEO/FRANARIN
C14: 17 | D14: serviços de engenharia/obras: serviços técnicos de engenharia e arquitetura | E14: 528 | F14: materiais de consumo graficos | G14: 2|528 | I14: bot | J14: botijão | K14: RDC Eletrônico | N14: SBC
C15: 29 | D15: serviços: credenciamento de serviços de educação | E15: 632 | F15: pinceis profissional | G15: 2|632 | I15: brr | J15: barra | K15: RDC Presencial | N15: SEINFRA
C16: 30 | D16: serviços: credenciamento de serviços de saúde | E16: 1 | F16: auditoria | G16: 3|1 | I16: cap | J16: cápsula | K16: Regras Internacionais | N16: SICRO/DNIT
C17: 31 | D17: servicos: terceirizacao de mao-de-obra especializada | E17: 2 | F17: assessoria em geral | G17: 3|2 | I17: carr | J17: carretel | K17: Tomada de Preços | N17: SINAPI
C18: 33 | D18: materiais p/escritório | E18: 89 | F18: consultoria em geral | G18: 3|89 | I18: cart | J18: cartela | N18: SMOV/PMPA
C19: 34 | D19: materiais/ suprimentos p/informatica | E19: 133 | F19: desenho | G19: 3|133 | I19: cento | J19: cento | N19: SUDECAP
C20: 35 | D20: equipamentos p/informatica | E20: 180 | F20: estudo / analise de medicamentos | G20: 3|180 | I20: ch | J20: chapa | N20: TCPO/PINI
C21: 37 | D21: servicos: terceirizacao de mao-de-obra | E21: 500 | F21: maqueteira | G21: 3|500 | I21: chi | J21: custo hora improdutiva
C22: 42 | D22: servicos: transporte de cargas e passageiros | E22: 632 | F22: projetos em geral | G22: 3|632 | I22: chp | J22: custo hora produtiva
C23: 45 | D23: servicos: graficos/similares | E23: 1 | F23: aterro sanitário | G23: 7|1 | I23: cil | J23: cilindro
C24: 47 | D24: servicos: som, imagem e programacao visual | E24: 2 | F24: coleta de resíduos sólidos urbanos (rsu) | G24: 7|2 | I24: cj | J24: conjunto
C25: 52 | D25: servicos: manutencao de veiculos, equipamentos e aeronaves | E25: 3 | F25: coleta e transporte de resíduos sólidos de serviços de saúde (rsss) | G25: 7|3 | I25: cm | J25: centimetro
C26: 57 | D26: servicos: manut/equip/escrit/eletrodomesticos/refrigeracao | E26: 4 | F26: coleta seletiva | G26: 7|4 | I26: cmcol | J26: centimetro/coluna
C27: 59 | D27: servicos: serralheria/marcen./carpin./metalurgica/fundicao | E27: 5 | F27: disposição final de resíduos sólidos de serviços de saúde (rsss) | G27: 7|5 | I27: cn | J27: cone
C28: 62 | D28: servicos: locacao de veiculos, equipamentos e aeronaves | E28: 6 | F28: disposição final de resíduos sólidos urbanos (rsu) | G28: 7|6 | I28: col | J28: coleção
C29: 63 | D29: serviços: locacao de imoveis | E29: 7 | F29: estação de transbordo | G29: 7|7 | I29: com | J29: comprimido
C30: 64 | D30: aquisição de imoveis | E30: 8 | F30: estação/central de tratamento de resíduos | G30: 7|8 | I30: cr | J30: cartucho
C31: 70 | D31: maquinas p/autenticar/registrar/franquear e similares | E31: 9 | F31: recuperação de área degradada | G31: 7|9 | I31: crg | J31: carga
C32: 72 | D32: servicos: vigilancia/seguranca/transporte de valores | E32: 10 | F32: transporte de resíduos sólidos urbanos (rsu) | G32: 7|10 | I32: cx | J32: caixa
... C117: 855 | D117: diagnostica | E117: 10 | F117: portos e marinas | G117: 14|10 | I117: vg | J117: viagem
C118: 870 | D118: equipamentos/materiais medico-hospitalares/enfermagem | E118: 99 | F118: outra obra portuária, marítima ou fluvial | G118: 14|99
C119: 880 | D119: medicamentos de uso humano | E119: 1 | F119: cercamento | G119: 15|1
C120: 882 | D120: medicamentos importados (uso humano) | E120: 2 | F120: contenção de taludes e encostas/muros de arrimo | G120: 15|2
C121: 884 | D121: medicamentos de uso humano - excepcionais | E121: 3 | F121: cortina atirantada | G121: 15|3
C122: 886 | D122: medicamentos de uso humano - especiais | E122: 4 | F122: demolições e implosões | G122: 15|4
C123: 888 | D123: medicamentos de uso humano - genericos | E123: 5 | F123: derrocamento (desmonte de rocha) | G123: 15|5
C124: 890 | D124: materiais p/higiene pessoal/profilaxia | E124: 6 | F124: fundações | G124: 15|6
...
