Workbook
Name AbaDeprec: '5. Depreciação'!$A$1
Name AbaRemun: '6.Remuneração de capital'!$A$1
Name número: #REF!
Name x: #REF!

Sheet Triagem RSU - Rejeito
A1: PLANILHA DE COMPOSIÇÃO DE CUSTOS E FORMAÇÃO DE PREÇO
A2: Nº do processo: | B2: Licitação nº: | E2: Dia: | F2: 46059
A3: 2. Triagem de Resíduos Sólidos Urbanos (Rejeito)
A5: Orçamento Sintético
A6: Formas de Tributação | B6: LUCRO REAL | D6: LUCRO PRESUMIDO | F6: SIMPLES NAC.
A7: =A47 -> 1. Mão-de-obra | B7: =+F172 -> 83409.62 | C7: =SUM(C8:C16) -> 0.3448651 | D7: =B7 -> 83409.62 | E7: =SUM(E8:E16) -> 0.36686312 | F7: =F173 -> 66777.221 | G7: =SUM(G8:G16) -> 0.29244115
A8: 1.1. Agentes e auxiliares de triagem de resíduos sólidos | B8: =F61 -> 51619.085 | C8: =IFERROR(B8/$B$29,0) -> 0.21342407 | D8: =B8 -> 51619.085 | E8: =IFERROR(D8/$D$29,0) -> 0.22703782 | F8: =F67 -> 39806.692 | G8: =IFERROR(F8/$F$29,0) -> 0.17432763
A9: 1.2 Operador de empilhadeira | B9: =F81 -> 5735.0662 | C9: =IFERROR(B9/$B$29,0) -> 0.023712183 | D9: =B9 -> 5735.0662 | E9: =IFERROR(D9/$D$29,0) -> 0.025224719 | F9: =F87 -> 4422.7573 | G9: =IFERROR(F9/$F$29,0) -> 0.019368824
A10: 1.3 Operador de Prensa Hidraúlica | B10: =F102 -> 5735.0662 | C10: =IFERROR(B10/$B$29,0) -> 0.023712183 | D10: =B10 -> 5735.0662 | E10: =IFERROR(D10/$D$29,0) -> 0.025224719 | F10: =F108 -> 4422.7573 | G10: =IFERROR(F10/$F$29,0) -> 0.019368824
A11: 1.4 Encarregado de operações de triagem | B11: =F124 -> 9593.9953 | C11: =IFERROR(B11/$B$29,0) -> 0.039667297 | D11: =B11 -> 9593.9953 | E11: =IFERROR(D11/$D$29,0) -> 0.042197567 | F11: =F130 -> 7398.6075 | G11: =IFERROR(F11/$F$29,0) -> 0.032401128
A12: =A133 -> 1.5. Vale Transporte | B12: =F141 -> 2838.9384 | C12: =IFERROR(B12/$B$29,0) -> 0.011737864 | D12: =B12 -> 2838.9384 | E12: =IFERROR(D12/$D$29,0) -> 0.012486591 | F12: =D12 -> 2838.9384 | G12: =IFERROR(F12/$F$29,0) -> 0.012432719
A13: =A143 -> 1.4. Vale-refeição (diário) | B13: =F153 -> 7079.969 | C13: =IFERROR(B13/$B$29,0) -> 0.029272813 | D13: =B13 -> 7079.969 | E13: =IFERROR(D13/$D$29,0) -> 0.031140047 | F13: =D13 -> 7079.969 | G13: =IFERROR(F13/$F$29,0) -> 0.031005697
A14: =A155 -> 1.5. Auxílio Alimentação (mensal) | B14: =F159 -> 220.8 | C14: =IFERROR(B14/$B$29,0) -> 0.00091291885 | D14: =B14 -> 220.8 | E14: =IFERROR(D14/$D$29,0) -> 0.00097115149 | F14: =D14 -> 220.8 | G14: =IFERROR(F14/$F$29,0) -> 0.00096696157
A15: =A162 -> 1.6. Seguro de vida | B15: =F165 -> 331.5 | C15: =IFERROR(B15/$B$29,0) -> 0.0013706186 | D15: =B15 -> 331.5 | E15: =IFERROR(D15/$D$29,0) -> 0.0014580467 | F15: =D15 -> 331.5 | G15: =IFERROR(F15/$F$29,0) -> 0.0014517562
A16: 1.7 Plano de Benefício Familiar | B16: =F170 -> 255.2 | C16: =IFERROR(B16/$B$29,0) -> 0.001055149 | D16: =B16 -> 255.2 | E16: =IFERROR(D16/$D$29,0) -> 0.0011224541 | F16: =D16 -> 255.2 | G16: =IFERROR(F16/$F$29,0) -> 0.0011176114
A17: =A175 -> 2. Uniformes e Equiptos. Proteção Individual | B17: =+F197 -> 13292.413 | C17: =IFERROR(B17/$B$29,0) -> 0.054958762 | D17: =B17 -> 13292.413 | E17: =IFERROR(D17/$D$29,0) -> 0.058464434 | F17: =D17 -> 13292.413 | G17: =IFERROR(F17/$F$29,0) -> 0.058212196
A18: =A199 -> 3. Veículos e Equipamentos | B18: =+F266 -> 83579.988 | C18: =IFERROR(B18/$B$29,0) -> 0.3455695 | D18: =B18 -> 83579.988 | E18: =IFERROR(D18/$D$29,0) -> 0.36761246 | F18: =D18 -> 83579.988 | G18: =IFERROR(F18/$F$29,0) -> 0.36602643
A19: =A201 -> 3.1. Depreciação | B19: =F208 -> 30007.971 | C19: =IFERROR(B19/$B$29,0) -> 0.12407084 | D19: =B19 -> 30007.971 | E19: =IFERROR(D19/$D$29,0) -> 0.13198499 | F19: =D19 -> 30007.971 | G19: =IFERROR(F19/$F$29,0) -> 0.13141556
A20: =A210 -> 3.2. Remuneração do Capital | B20: =F217 -> 35167.042 | C20: =IFERROR(B20/$B$29,0) -> 0.14540152 | D20: =B20 -> 35167.042 | E20: =IFERROR(D20/$D$29,0) -> 0.15467629 | F20: =D20 -> 35167.042 | G20: =IFERROR(F20/$F$29,0) -> 0.15400896
A21: =A220 -> 3.3. Impostos e Seguros e outros | B21: =F227 -> 1262.5 | C21: =IFERROR(B21/$B$29,0) -> 0.0052199277 | D21: =B21 -> 1262.5 | E21: =IFERROR(D21/$D$29,0) -> 0.0055528929 | F21: =D21 -> 1262.5 | G21: =IFERROR(F21/$F$29,0) -> 0.0055289356
A22: =A229 -> 3.4. Consumos | B22: =F252 -> 11838.944 | C22: =IFERROR(B22/$B$29,0) -> 0.048949253 | D22: =B22 -> 11838.944 | E22: =IFERROR(D22/$D$29,0) -> 0.052071595 | F22: =D22 -> 11838.944 | G22: =IFERROR(F22/$F$29,0) -> 0.051846938
A23: =A253 -> 3.6. Manutenção | B23: =F258 -> 5080 | C23: =IFERROR(B23/$B$29,0) -> 0.021003749 | D23: =B23 -> 5080 | E23: =IFERROR(D23/$D$29,0) -> 0.022343522 | F23: =D23 -> 5080 | G23: =IFERROR(F23/$F$29,0) -> 0.022247123
A24: =A260 -> 3.7. Pneus | B24: =F264 -> 223.53067 | C24: =IFERROR(B24/$B$29,0) -> 0.00092420905 | D24: =B24 -> 223.53067 | E24: =IFERROR(D24/$D$29,0) -> 0.00098316187 | F24: =D24 -> 223.53067 | G24: =IFERROR(F24/$F$29,0) -> 0.00097892013
A25: =A268 -> 4. Ferramentas e Materiais de Consumo | B25: =+F278 -> 1227.6117 | C25: =IFERROR(B25/$B$29,0) -> 0.0050756786 | D25: =B25 -> 1227.6117 | E25: =IFERROR(D25/$D$29,0) -> 0.0053994425 | F25: =D25 -> 1227.6117 | G25: =IFERROR(F25/$F$29,0) -> 0.0053761472
A26: =A282 -> 5. Benefícios e Desp. Ind. - BDI - LUCRO REAL | B26: =+F288 -> 60351.953 | C26: =IFERROR(B26/$B$29,0) -> 0.24953096
A27: =A296 -> 6. Benefícios e Desp. Ind. - BDI - LUCRO PRESUMIDO | D27: =F302 -> 45849.333 | E27: =IFERROR(D27/$D$29,0) -> 0.20166055
A28: =A310 -> 7. Benef. Desp. Ind. + Impostos - SIMPLES NACIONAL | F28: =F316+F326 -> 63466.897 | G28: =IFERROR(F28/$F$29,0) -> 0.27794407
A29: PREÇO TOTAL MENSAL COM A TRIAGEM | B29: =B7+B17+B18+B25+B26 -> 241861.59 | C29: =C7+C17+C18+C25+C26 -> 1 | D29: =D7+D17+D18+D25+D27 -> 227358.97 | E29: =E7+E17+E18+E25+E27 -> 1 | F29: =F7+F17+F18+F25+F28 -> 228344.13 | G29: =G7+G17+G18+G25+G28 -> 1
A30: PERCENTUAL DE VENDAS RECICLAVÉIS (10%) | B30: =B29*0.1 -> 24186.159 | D30: =D29*0.1 -> 22735.897 | F30: =F29*0.1 -> 22834.413
A31: VALOR DO CUSTO MENSAL MUNICÍPIO | B31: =B29-B30 -> 217675.43 | D31: =D29-D30 -> 204623.07 | F31: =F29-F30 -> 205509.72
A32: PREÇO UNITÁRIO POR TONELADA | B32: =B31/D292 -> 174.14034 | D32: =D31/D292 -> 163.69846 | F32: =F31/D292 -> 164.40777
A34: Quantitativos
A35: Mão-de-obra | B35: Sindicato | C35: CBO | D35: Quantidade | E35: Salário
A36: 1.1. Agentes e auxiliar de triagem de resíduos sólidos - 44 horas | B36: Sindiasseio | C36: 5192 | D36: 10 | E36: 1967.29
A37: 1.2 Operador de empilhadeira - 44 horas | B37: Sindirodoviários | D37: 1 | E37: 2185.73
A38: 1.3 Operador de prensa hidraúlica - 44 horas | B38: Sindirodoviários | D38: 1 | E38: 2185.73
A39: 1.4 Encarregado de operações de triagem - 44 horas | B39: Sindiasseio | D39: 1 | E39: 3000
A40: Total de mão-de-obra (postos de trabalho) | D40: =SUM(D36:D39) -> 13
A42: Instalações e Equipamentos | E42: Quantidade | G42: Valores totais
A43: 3.1 Estação de triagem - com telhado e dimenões e com material especificado NO PROJETO DE ENGENHARIA - capacidade de 48 toneladas dia | E43: 1 | G43: 3532872.5
...

Sheet Lavagem unif.
A1: CUSTO COM LAVAGEM UNIFORMES
A2: Descrição | B2: Dias uso s/lavar (dias) | C2: Fator de utilização (% ano) | D2: Unid. | E2: Qtde. p/Func. | F2: Qtde. Lavagens mês | G2: Total pçs. Lavadas mês | H2: Peso Gramas p/pç | I2: Peso mensal Kg | J2: Custo Mensal
A3: Camisetas | B3: 1 | C3: =12/12 -> 1 | D3: pç | E3: 4 | F3: =21/(E3*B3) -> 5.25 | G3: =E3*F3*C3 -> 21 | H3: 150 | I3: =(G3*H3)/1000 -> 3.15 | J3: =I3*B$9 -> 37.8
A4: Calça | B4: 1 | C4: =12/12 -> 1 | D4: pç | E4: 4 | F4: =21/(E4*B4) -> 5.25 | G4: =E4*F4*C4 -> 21 | H4: 500 | I4: =(G4*H4)/1000 -> 10.5 | J4: =I4*B$9 -> 126
A5: Boné | B5: 6 | C5: =12/12 -> 1 | D5: pç | E5: 3 | F5: =21/(E5*B5) -> 1.1666667 | G5: =E5*F5*C5 -> 3.5 | H5: 30 | I5: =(G5*H5)/1000 -> 0.105 | J5: =I5*B$9 -> 1.26
A6: Jaqueta (usa cinco meses) | B6: 3 | C6: =5/12 -> 0.41666667 | D6: pç | E6: 2 | F6: =21/(E6*B6) -> 3.5 | G6: =E6*F6*C6 -> 2.9166667 | H6: 400 | I6: =(G6*H6)/1000 -> 1.1666667 | J6: =I6*B$9 -> 14
I7: =SUM(I3:I6) -> 14.921667 | J7: =SUM(J3:J6) -> 179.06
A9: Preço da lavagem por Kg | B9: 12

Sheet Feriados
A1: FERIADOS NACIONAIS, ESTADUAIS E MUNICIPAIS
A2: Nacionais / Estaduais | B2: =SUM(B3:B14) -> 12
A3: 01/01 - Confraternização Universal | B3: 1
A4: 21/04 - Tiradentes | B4: 1
A5: 01/05 - Dia do Trabalho | B5: 1
A6: Variável - Sexta feira Santa | B6: 1
A7: Variável - Corpus Cristhi | B7: 1
A8: 07/09 - Independência do Brasil | B8: 1
A9: 20/09 - Revolução Farroupilha | B9: 1
A10: 12/10 - Nossa Senhora Aparecida | B10: 1
A11: 02/11 - Finados | B11: 1
A12: 15/11 - Proclamação da República | B12: 1
A13: 20/11 - Dia da consciência negra | B13: 1
A14: 25/12 - Natal | B14: 1
A15: Municipais | B15: =B16+B17 -> 2
A16: 20/01 - São Sebastião Mártir | B16: 1
A17: 25/07 - Dia do Colono e Motorista | B17: 1
A18: Sub-Total | B18: =B2+B15 -> 14
A19: Coincidências com domingos (média) | B19: 1
A20: Total feriados a considerar | B20: =B18-B19 -> 13

Sheet Encargos Simples
A1: Encargos Sociais - Simples Nacional
A2: Descrição | B2: Valor %
A3: FGTS | B3: 0.08
A4: Férias (com adicional de férias) | B4: 0.1111
A5: 13º Salário | B5: 0.0833
A6: Provisão Multas FGTS (40% s/FGTS) | B6: 0.032
A7: Previdenciários s/Férias e 13º | B7: =(B4+B5)*(B3+B6) -> 0.0217728
A8: Total | B8: =SUM(B3:B7) -> 0.3281728

Sheet 2.Encargos Sociais
A1: 2. Composição dos Encargos Sociais
A2: Código | B2: Descrição | C2: Valor | D2: Bases legais em 2025 e metodologia TCE-RS orientação técnica resíduos sólidos 2019
A3: A1 | B3: INSS | C3: 0.2 | D3: artigo 22 inciso I da lei 8.212-1991
A4: A2 | B4: SESI | C4: 0.015 | D4: artigo 30 da lei 8.036-1990 e artigo primeiro da lei 8.154-1990
A5: A3 | B5: SENAI | C5: 0.01 | D5: artigo primeiro decreto lei 6.246-1944 (SENAC) e artigo 4o. Decreto lei 8.621-1946 (SENAI) - decreto lei 2.318-1986
A6: A4 | B6: INCRA | C6: 0.002 | D6: artigo primeiro inciso I e artigo terceiro do decreto lei 1.146-1970
A7: A5 | B7: SEBRAE | C7: 0.006 | D7: artigo 8o. Da lei 8.029 de 1990, alterado pela lei 8.154-1990
A8: A6 | B8: Salário educação | C8: 0.025 | D8: artigo terceiro indico I do decreto 87.043-1982
A9: A7 | B9: Seguro contra acidentes de trabalho | C9: 0.03 | D9: artigo 19 a 23 da lei 8.212-1991
A10: A8 | B10: FGTS | C10: 0.08 | D10: de acordo com a atividade preponderante da empresa-artigo 15 da lei 8.036-1990
A11: A | B11: SOMA GRUPO A | C11: =SUM(C3:C10) -> 0.368
A13: B1 | B13: Férias gozadas | C13: 0.0657 | D13: cálculo (1/12)acrescido de 1/3
A14: B2 | B14: 13º salário | C14: 0.0833 | D14: cálculo 1/12
A15: B3 | B15: Licença Paternidade | C15: 0.0006 | D15: definido pela incidência nessa atividade - Ministério do Trabalho
A16: B4 | B16: Faltas justificadas | C16: 0.0082 | D16: definido pela incidência nessa atividade - Ministério do Trabalho
A17: B5 | B17: Auxilio acidente de trabalho | C17: 0.0031 | D17: definido pela incidência nessa atividade - Ministério do Trabalho
A18: B6 | B18: Auxilio doença | C18: 0.0166
A19: B | B19: SOMA GRUPO B | C19: =SUM(C13:C18) -> 0.1775
A21: C1 | B21: Aviso prévio indenizado | C21: 0.029 | D21: cálculo 7 dias para 30 dias
A22: C2 | B22: Férias indenizadas | C22: 0.0454 | D22: =6.57+4.54 -> 11.11
A23: C3 | B23: Férias indenizadas s/ aviso previo inden. | C23: =C21*C22 -> 0.0013166
A24: C4 | B24: Depósito rescisão sem justa causa | C24: 0.0315 | D24: corresponde a multa do FGTS de 40%
A25: C5 | B25: Indenização adicional | C25: 0.002
A26: C | B26: SOMA GRUPO C | C26: =SUM(C21:C25) -> 0.1092166
A28: D1 | B28: Reincidência de Grupo A sobre Grupo B | C28: =ROUND(C11*C19,4) -> 0.0653
A29: D2 | B29: Reincidência de FGTS sobre aviso prévio indenizado | C29: =ROUND((C21*C10),4) -> 0.0023
A30: D | B30: SOMA GRUPO D | C30: =SUM(C28:C29) -> 0.0676
B31: SOMA (A+B+C+D) | C31: =C30+C26+C19+C11 -> 0.7223166
B33: página 71 da orientação técnica TCE-RS

Sheet 4.BDI
A1: B.D.I. PARA EMPRESAS DO LUCRO REAL
A2: Composição BDI - Benefícios e Desp. Indiretas
D4: Referência estudo TCE
D5: 1° Quartil | E5: Médio | F5: 3° Quartil
A6: Administração Central | B6: AC | C6: 0.05 | D6: 0.0297 | E6: 0.0508 | F6: 0.0627
A7: Seguros/Riscos/Garantias | B7: SRG | C7: 0.013 | D7: =0.3%+0.56% -> 0.0086 | E7: =0.48%+0.85% -> 0.0133 | F7: =0.82%+0.89% -> 0.0171
A8: Lucro | B8: L | C8: 0.1 | D8: 0.0778 | E8: 0.1085 | F8: 0.1355
A9: Despesas Financeiras | B9: DF | C9: =(1+E9)^(E10/252)-1 -> 0 | D9: i
A10: Tributos - ISS | B10: T | C10: 0.03 | D10: DU
A11: Tributos - PIS/COFINS | C11: 0.0925
A12: Fórmula para o cálculo do BDI:
A13: {[(1+AC+SRG) x (1+L) x (1+DF)] / (1-T)} -1
A14: Resultado do cálculo do BDI: | C14: =ROUND((((1+C6+C7)*(1+C8)*(1+C9))/(1-(C10+C11))-1),4) -> 0.3325 | D14: 0.2143 | E14: 0.2717 | F14: 0.3362
A16: B.D.I. PARA EMPRESAS DO LUCRO PRESUMIDO
A17: Composição BDI - Benefícios e Desp. Indiretas
A19: Administração Central | B19: AC | C19: 0.05
A20: Seguros/Riscos/Garantias | B20: SRG | C20: 0.013
A21: Lucro | B21: L | C21: 0.1
A22: Despesas Financeiras | B22: DF | C22: 0
A23: Tributos - ISS | B23: T | C23: 0.03
A24: Tributos - PIS/COFINS | C24: 0.0365
A25: Fórmula para o cálculo do BDI:
A26: {[(1+AC+SRG) x (1+L) x (1+DF)] / (1-T)} -1
A27: Resultado do cálculo do BDI: | C27: =ROUND((((1+C19+C20)*(1+C21)*(1+C22))/(1-(C23+C24))-1),4) -> 0.2526
A29: B.D.I. PARA EMPRESAS DO SIMPLES NACIONAL
A30: Composição do BDI - Benefícios e Desp. Indiretas - Sem Impostos
A32: Administração Central | B32: AC | C32: 0.05
A33: Seguros/Riscos/Garantias | B33: SRG | C33: 0.013
A34: Lucro | B34: L | C34: 0.1
A35: Despesas Financeiras | B35: DF | C35: 0
A36: Fórmula para o cálculo do BDI - Sem impostos
A37: {[(1+AC+SRG) x (1+L) x (1+DF)]} -1
A38: Resultado cálculo do BDI - Sem impostos | C38: =ROUND((((1+C32+C33)*(1+C34)*(1+C35))-1),4) -> 0.1693
A40: página 89 da orientação técnica do TCE-RS

Sheet 5. Depreciação
A1: 5. Depreciação Referencial TCE/RS (%)
A2: Idade do veículo (ano) | B2: Depreciação Média
A3: 1 | B3: 33.63
A4: 2 | B4: 43.13
A5: 3 | B5: 48.68
A6: 4 | B6: 52.62
A7: 5 | B7: 55
A8: 6 | B8: 58.18 | C8: equipamentos
A9: 7 | B9: 60.29
A10: 8 | B10: 62.12
A11: 9 | B11: 63.73
A12: 10 | B12: 65.18
A13: 11 | B13: 66.48
A14: 12 | B14: 67.67
A15: 13 | B15: 68.77
A16: 14 | B16: 69.79
A17: 15 | B17: 70.73 | C17: demais imóveis

Sheet 6.Remuneração de capital
A1: 6. Remuneração de Capital
A3: Fórmula de cálculo da remuneração de capital:
A12: Jm = remuneração de capital mensal
A13: i = taxa de juros do mercado (sugere-se adotar a taxa SELIC)
A14: Im = investimento médio
A15: V0 = valor inicial do bem
A16: Vr = valor residual do bem
A17: n = vida útil do bem em anos
A20: teste da fórmula
A21: valor do veículo - Vo | B21: ='Triagem RSU - Rejeito'!D212 -> 3713602.5
A22: valor residual ( valor do veículo - depreciação) Vr | B22: ='Triagem RSU - Rejeito'!D203-'Triagem RSU - Rejeito'!E206 -> 1553028.6
A23: (Vo-Vr) | B23: =B21-B22 -> 2160573.9
A24: vida util - n | B24: =B25-B26 -> 6
A25: idade máxima | B25: ='Triagem RSU - Rejeito'!C204 -> 6
A26: idade atual | B26: ='Triagem RSU - Rejeito'!C205 -> 0
A27: (n+1) | B27: =B24+1 -> 7
A28: (2n) | B28: =2*B24 -> 12
A29: Investimento médio | B29: =(B23*(B27/B28))+B22 -> 2813363.4
A30: taxa | B30: 0.15
A31: Remuneração do capital ( Imx1/12 meses) | B31: =B29*B30/12 -> 35167.042
