Workbook

Sheet ESCOLA ABELHINHA
A1: Escola Abelhinha - Alimentos Perecíveis - 2026 - 2° SEMESTRE
B2: Semana | D2: 1 | E2: 2 | F2: 3 | G2: 4 | H2: 5 | I2: 6 | J2: 7 | K2: 8 | L2: 9 | M2: 10 | N2: 11 | O2: 12 | P2: 13 | Q2: 14 | R2: 15 | S2: 16 | T2: 17 | U2: 18 | V2: 19 | W2: 20 | X2: TOTAL
B3: Gênero | C3: Unidade | D3: 46237 | E3: 46244 | F3: 46251 | G3: 46258 | H3: 46265 | I3: 46273 | J3: 46279 | K3: 46286 | L3: 46293 | M3: 46300 | N3: 46308 | O3: 46314 | P3: 46321 | Q3: 46329 | R3: 46335 | S3: 46342 | T3: 46349 | U3: 46356 | V3: 46363 | W3: 46370
A4: 1 | B4: Abacate | C4: kg | D4: 6 | E4: 0 | F4: 6 | G4: 0 | H4: 6 | I4: 0 | J4: 6 | K4: 0 | L4: 6 | M4: 0 | N4: 6 | O4: 0 | P4: 6 | Q4: 0 | R4: 6 | S4: 0 | T4: 6 | U4: 0 | V4: 6 | W4: 0 | X4: =SUM(D4:W4) -> 60
A5: 2 | B5: Abacaxi | C5: kg | D5: 0 | E5: 6 | F5: 0 | G5: 6 | H5: 0 | I5: 6 | J5: 0 | K5: 6 | L5: 0 | M5: 6 | N5: 0 | O5: 6 | P5: 0 | Q5: 0 | R5: 0 | S5: 6 | T5: 0 | U5: 6 | V5: 0 | W5: 6 | X5: =SUM(D5:W5) -> 54
A6: 3 | B6: Banana Prata | C6: kg | D6: 20 | E6: 20 | F6: 20 | G6: 20 | H6: 20 | I6: 20 | J6: 20 | K6: 20 | L6: 20 | M6: 20 | N6: 15 | O6: 20 | P6: 20 | Q6: 20 | R6: 20 | S6: 20 | T6: 20 | U6: 20 | V6: 20 | W6: 20 | X6: =SUM(D6:W6) -> 395
A7: 4 | B7: Bergamota | C7: kg | D7: 0 | E7: 6 | F7: 0 | G7: 6 | H7: 0 | I7: 0 | J7: 6 | K7: 0 | L7: 0 | M7: 0 | N7: 0 | O7: 0 | P7: 0 | Q7: 0 | R7: 0 | S7: 0 | T7: 0 | U7: 0 | V7: 0 | W7: 0 | X7: =SUM(D7:W7) -> 18
A8: 5 | B8: Caqui | C8: kg | D8: 6 | E8: 0 | F8: 0 | G8: 6 | H8: 0 | I8: 0 | J8: 6 | K8: 0 | L8: 0 | M8: 0 | N8: 0 | O8: 0 | P8: 0 | Q8: 0 | R8: 0 | S8: 0 | T8: 0 | U8: 0 | V8: 0 | W8: 0 | X8: =SUM(D8:W8) -> 18
A9: 6 | B9: Laranja de Umbigo | C9: kg | D9: 8 | E9: 0 | F9: 8 | G9: 0 | H9: 8 | I9: 0 | J9: 8 | K9: 0 | L9: 8 | M9: 0 | N9: 8 | O9: 0 | P9: 0 | Q9: 0 | R9: 0 | S9: 0 | T9: 8 | U9: 0 | V9: 0 | W9: 8 | X9: =SUM(D9:W9) -> 64
A10: 7 | B10: Laranja do Céu | C10: kg | D10: 0 | E10: 8 | F10: 0 | G10: 8 | H10: 0 | I10: 8 | J10: 0 | K10: 8 | L10: 0 | M10: 8 | N10: 0 | O10: 8 | P10: 0 | Q10: 8 | R10: 0 | S10: 8 | T10: 0 | U10: 0 | V10: 8 | W10: 0 | X10: =SUM(D10:W10) -> 72
A11: 8 | B11: Maça gala | C11: kg | D11: 8 | E11: 8 | F11: 8 | G11: 8 | H11: 8 | I11: 8 | J11: 8 | K11: 8 | L11: 8 | M11: 8 | N11: 8 | O11: 8 | P11: 8 | Q11: 8 | R11: 8 | S11: 8 | T11: 8 | U11: 8 | V11: 8 | W11: 8 | X11: =SUM(D11:W11) -> 160
A12: 9 | B12: Maçã Fuji | C12: kg | D12: 0 | E12: 0 | F12: 0 | G12: 0 | H12: 0 | I12: 0 | J12: 0 | K12: 0 | L12: 0 | M12: 0 | N12: 0 | O12: 0 | P12: 0 | Q12: 0 | R12: 0 | S12: 0 | T12: 0 | U12: 0 | V12: 0 | W12: 0 | X12: =SUM(D12:W12) -> 0
A13: 10 | B13: Mamão Formosa | C13: kg | D13: 12 | E13: 0 | F13: 12 | G13: 0 | H13: 12 | I13: 12 | J13: 0 | K13: 12 | L13: 12 | M13: 12 | N13: 12 | O13: 12 | P13: 12 | Q13: 12 | R13: 12 | S13: 12 | T13: 12 | U13: 12 | V13: 12 | W13: 12 | X13: =SUM(D13:W13) -> 204
A14: 11 | B14: Manga Rosa | C14: kg | D14: 0 | E14: 0 | F14: 0 | G14: 0 | H14: 0 | I14: 0 | J14: 0 | K14: 0 | L14: 0 | M14: 0 | N14: 0 | O14: 0 | P14: 0 | Q14: 0 | R14: 0 | S14: 0 | T14: 0 | U14: 0 | V14: 0 | W14: 0 | X14: =SUM(D14:W14) -> 0
A15: 12 | B15: Manga Palmer | C15: kg | D15: 12 | E15: 12 | F15: 12 | G15: 12 | H15: 0 | I15: 12 | J15: 12 | K15: 12 | L15: 12 | M15: 12 | N15: 0 | O15: 12 | P15: 0 | Q15: 12 | R15: 0 | S15: 12 | T15: 0 | U15: 12 | V15: 0 | W15: 12 | X15: =SUM(D15:W15) -> 168
... A20: 17 | B20: kiwi | C20: kg | D20: 0 | E20: 5 | F20: 0 | G20: 0 | H20: 5 | I20: 0 | J20: 0 | K20: 5 | L20: 0 | M20: 0 | N20: 5 | O20: 0 | P20: 0 | Q20: 5 | R20: 0 | S20: 0 | T20: 5 | U20: 0 | V20: 0 | W20: 5 | X20: =SUM(D20:W20) -> 35
A21: Escola Abelhinha - Alimentos Perecíveis - 2026 - 2° SEMESTRE
B22: Semana | D22: 1 | E22: 2 | F22: 3 | G22: 4 | H22: 5 | I22: 6 | J22: 7 | K22: 8 | L22: 9 | M22: 10 | N22: 11 | O22: 12 | P22: 13 | Q22: 14 | R22: 15 | S22: 16 | T22: 17 | U22: 18 | V22: 19 | W22: 20 | X22: TOTAL
B23: Gênero | C23: Unidade | D23: 46237 | E23: 46244 | F23: 46251 | G23: 46258 | H23: 46265 | I23: 46273 | J23: 46279 | K23: 46286 | L23: 46293 | M23: 46300 | N23: 46308 | O23: 46314 | P23: 46321 | Q23: 46329 | R23: 46335 | S23: 46342 | T23: 46349 | U23: 46356 | V23: 46363 | W23: 46370
A24: 17 | B24: Carne Bovina Moída de 1ª | C24: kg | D24: 2 | E24: 2 | F24: 2 | G24: 2 | H24: 2 | I24: 2 | J24: 2 | K24: 2 | L24: 2 | M24: 2 | N24: 2 | O24: 2 | P24: 2 | Q24: 2 | R24: 2 | S24: 2 | T24: 2 | U24: 2 | V24: 2 | W24: 2 | X24: =SUM(D24:W24) -> 40
A25: 18 | B25: Carne Bovina Músculo | C25: kg | D25: 2 | E25: 2 | F25: 2 | G25: 2 | H25: 2 | I25: 2 | J25: 2 | K25: 2 | L25: 2 | M25: 2 | N25: 2 | O25: 2 | P25: 2 | Q25: 2 | R25: 2 | S25: 2 | T25: 2 | U25: 2 | V25: 2 | W25: 2 | X25: =SUM(D25:W25) -> 40
A26: 19 | B26: Carne Bovina Paleta de 1ª | C26: kg | D26: 2 | E26: 2 | F26: 2 | G26: 2 | H26: 2 | I26: 2 | J26: 2 | K26: 2 | L26: 2 | M26: 2 | N26: 2 | O26: 2 | P26: 2 | Q26: 2 | R26: 2 | S26: 2 | T26: 2 | U26: 2 | V26: 2 | W26: 2 | X26: =SUM(D26:W26) -> 40
A27: 20 | B27: Carne Bovina Bife (Patinho) | C27: kg | D27: 2 | E27: 2 | F27: 2 | G27: 2 | H27: 2 | I27: 2 | J27: 5 | K27: 2 | L27: 2 | M27: 2 | N27: 2 | O27: 2 | P27: 2 | Q27: 2 | R27: 2 | S27: 2 | T27: 2 | U27: 2 | V27: 2 | W27: 2 | X27: =SUM(D27:W27) -> 43
A28: 21 | B28: Carne Frango Coxa e Sobrecoxa Desossadas | C28: kg | D28: 5 | E28: 5 | F28: 5 | G28: 5 | H28: 5 | I28: 5 | J28: 5 | K28: 5 | L28: 5 | M28: 5 | N28: 5 | O28: 5 | P28: 5 | Q28: 5 | R28: 5 | S28: 5 | T28: 5 | U28: 5 | V28: 5 | W28: 5 | X28: =SUM(D28:W28) -> 100
A29: 22 | B29: Carne Frango Moída de 1ª | C29: emb. (700g) | D29: 0 | E29: 0 | F29: 0 | G29: 0 | H29: 0 | I29: 0 | J29: 0 | K29: 0 | L29: 0 | M29: 0 | N29: 0 | O29: 0 | P29: 0 | Q29: 0 | R29: 0 | S29: 0 | T29: 0 | U29: 0 | V29: 0 | W29: 0 | X29: =SUM(D29:W29) -> 0
A30: 23 | B30: Carne Frango Sassami | C30: kg | D30: 2 | E30: 0 | F30: 0 | G30: 2 | H30: 0 | I30: 0 | J30: 0 | K30: 2 | L30: 0 | M30: 0 | N30: 0 | O30: 2 | P30: 0 | Q30: 0 | R30: 0 | S30: 3 | T30: 0 | U30: 0 | V30: 0 | W30: 0 | X30: =SUM(D30:W30) -> 11
A31: 24 | B31: Cortes de Frango Caipira | C31: kg | D31: 3 | E31: 3 | F31: 3 | G31: 3 | H31: 3 | I31: 3 | J31: 3 | K31: 3 | L31: 3 | M31: 3 | N31: 3 | O31: 3 | P31: 3 | Q31: 3 | R31: 3 | S31: 3 | T31: 3 | U31: 3 | V31: 3 | W31: 3 | X31: =SUM(D31:W31) -> 60
A32: 25 | B32: Carne Peixe (Filé de Tilápia) | C32: kg | D32: 2 | E32: 0 | F32: 0 | G32: 0 | H32: 2 | I32: 0 | J32: 0 | K32: 0 | L32: 2 | M32: 0 | N32: 0 | O32: 0 | P32: 2 | Q32: 0 | R32: 0 | S32: 0 | T32: 2 | U32: 0 | V32: 0 | W32: 0 | X32: =SUM(D32:W32) -> 10
A33: 26 | B33: Carne Suína Pernil de 1ª | C33: kg | D33: 0 | E33: 2 | F33: 0 | G33: 0 | H33: 0 | I33: 2 | J33: 0 | K33: 0 | L33: 0 | M33: 2 | N33: 0 | O33: 0 | P33: 0 | Q33: 2 | R33: 0 | S33: 0 | T33: 0 | U33: 2 | V33: 0 | W33: 0 | X33: =SUM(D33:W33) -> 10
A34: 27 | B34: Ervilha em grão congelada | C34: emb. | D34: 10 | E34: 0 | F34: 0 | G34: 0 | H34: 10 | I34: 0 | J34: 0 | K34: 0 | L34: 10 | M34: 0 | N34: 0 | O34: 0 | P34: 10 | Q34: 0 | R34: 0 | S34: 0 | T34: 10 | U34: 0 | V34: 0 | W34: 0 | X34: =SUM(D34:W34) -> 50
A35: 28 | B35: Milho em grão congelado | C35: emb. | D35: 6 | E35: 0 | F35: 0 | G35: 0 | H35: 6 | I35: 0 | J35: 0 | K35: 0 | L35: 6 | M35: 0 | N35: 0 | O35: 0 | P35: 6 | Q35: 0 | R35: 0 | S35: 0 | T35: 6 | U35: 0 | V35: 0 | W35: 0 | X35: =SUM(D35:W35) -> 30
... A44: 37 | B44: Farinha de amendoim | C44: kg | D44: 0 | E44: 0 | F44: 0 | G44: 0 | H44: 0 | I44: 0 | J44: 0 | K44: 0 | L44: 0 | M44: 0 | N44: 0 | O44: 0 | P44: 0 | Q44: 0 | R44: 0 | S44: 0 | T44: 0 | U44: 0 | V44: 0 | W44: 0 | X44: =SUM(D44:W44) -> 0
A45: 2
A46: Ass. Escola

Sheet ESCOLA MATEUS
A1: Escola Mateus Dal Pozzo - Alimentos Perecíveis - 2026 - 2° SEMESTRE
B2: Semana | D2: 1 | E2: 2 | F2: 3 | G2: 4 | H2: 5 | I2: 6 | J2: 7 | K2: 8 | L2: 9 | M2: 10 | N2: 11 | O2: 12 | P2: 13 | Q2: 14 | R2: 15 | S2: 16 | T2: 17 | U2: 18 | V2: 19 | W2: 20 | X2: TOTAL
B3: Gênero | C3: Unidade | D3: 46237 | E3: 46244 | F3: 46251 | G3: 46258 | H3: 46265 | I3: 46273 | J3: 46279 | K3: 46286 | L3: 46293 | M3: 46300 | N3: 46308 | O3: 46314 | P3: 46321 | Q3: 46329 | R3: 46335 | S3: 46342 | T3: 46349 | U3: 46356 | V3: 46363 | W3: 46370
A4: 1 | B4: Abacate | C4: kg | D4: 0 | E4: 3 | F4: 0 | G4: 3 | H4: 0 | I4: 3 | J4: 0 | K4: 3 | L4: 0 | M4: 3 | N4: 0 | O4: 3 | P4: 0 | Q4: 3 | R4: 0 | S4: 3 | T4: 0 | U4: 3 | V4: 0 | W4: 0 | X4: =SUM(D4:W4) -> 27
A5: 2 | B5: Abacaxi | C5: kg | D5: 25 | E5: 25 | F5: 25 | G5: 45 | H5: 25 | I5: 25 | J5: 25 | K5: 45 | L5: 25 | M5: 25 | N5: 25 | O5: 45 | P5: 25 | Q5: 25 | R5: 25 | S5: 45 | T5: 25 | U5: 25 | V5: 25 | W5: 25 | X5: =SUM(D5:W5) -> 580
A6: 3 | B6: Banana Prata | C6: kg | D6: 60 | E6: 40 | F6: 60 | G6: 60 | H6: 60 | I6: 60 | J6: 60 | K6: 60 | L6: 40 | M6: 60 | N6: 40 | O6: 60 | P6: 60 | Q6: 60 | R6: 60 | S6: 60 | T6: 60 | U6: 60 | V6: 60 | W6: 60 | X6: =SUM(D6:W6) -> 1140
A7: 4 | B7: Bergamota | C7: kg | D7: 30 | E7: 0 | F7: 0 | G7: 30 | H7: 0 | I7: 0 | J7: 0 | K7: 0 | L7: 0 | M7: 0 | N7: 0 | O7: 0 | P7: 0 | Q7: 0 | R7: 0 | S7: 0 | T7: 0 | U7: 0 | V7: 0 | W7: 0 | X7: =SUM(D7:W7) -> 60
A8: 5 | B8: Caqui | C8: kg | D8: 0 | E8: 0 | F8: 0 | G8: 0 | H8: 0 | I8: 0 | J8: 27 | K8: 0 | L8: 0 | M8: 0 | N8: 0 | O8: 0 | P8: 0 | Q8: 0 | R8: 0 | S8: 0 | T8: 0 | U8: 0 | V8: 0 | W8: 0 | X8: =SUM(D8:W8) -> 27
A9: 6 | B9: Laranja de Umbigo | C9: kg | D9: 20 | E9: 30 | F9: 20 | G9: 30 | H9: 20 | I9: 30 | J9: 20 | K9: 30 | L9: 20 | M9: 30 | N9: 20 | O9: 30 | P9: 20 | Q9: 30 | R9: 20 | S9: 30 | T9: 20 | U9: 20 | V9: 20 | W9: 30 | X9: =SUM(D9:W9) -> 490
A10: 7 | B10: Laranja do Céu | C10: kg | D10: 0 | E10: 0 | F10: 0 | G10: 0 | H10: 0 | I10: 0 | J10: 0 | K10: 0 | L10: 0 | M10: 0 | N10: 0 | O10: 0 | P10: 0 | Q10: 0 | R10: 0 | S10: 0 | T10: 0 | U10: 0 | V10: 0 | W10: 0 | X10: =SUM(D10:W10) -> 0
A11: 8 | B11: Maça gala | C11: kg | D11: 0 | E11: 0 | F11: 0 | G11: 0 | H11: 0 | I11: 0 | J11: 0 | K11: 0 | L11: 0 | M11: 0 | N11: 0 | O11: 0 | P11: 0 | Q11: 0 | R11: 0 | S11: 0 | T11: 0 | U11: 0 | V11: 0 | W11: 0 | X11: 0
A12: 9 | B12: Maçã Fuji | C12: kg | D12: 30 | E12: 30 | F12: 30 | G12: 30 | H12: 20 | I12: 30 | J12: 30 | K12: 30 | L12: 30 | M12: 30 | N12: 30 | O12: 30 | P12: 30 | Q12: 30 | R12: 30 | S12: 30 | T12: 30 | U12: 15 | V12: 30 | W12: 20 | X12: =SUM(D12:W12) -> 565
A13: 10 | B13: Mamão Formosa | C13: kg | D13: 8 | E13: 8 | F13: 8 | G13: 8 | H13: 8 | I13: 8 | J13: 8 | K13: 8 | L13: 8 | M13: 8 | N13: 0 | O13: 8 | P13: 8 | Q13: 8 | R13: 8 | S13: 8 | T13: 8 | U13: 8 | V13: 8 | W13: 8 | X13: =SUM(D13:W13) -> 152
A14: 11 | B14: Manga Rosa | C14: kg | D14: 60 | E14: 20 | F14: 20 | G14: 20 | H14: 60 | I14: 20 | J14: 20 | K14: 20 | L14: 60 | M14: 20 | N14: 20 | O14: 20 | P14: 60 | Q14: 0 | R14: 20 | S14: 20 | T14: 60 | U14: 20 | V14: 20 | W14: 20 | X14: =SUM(D14:W14) -> 580
A15: 12 | B15: Melancia | C15: kg | D15: 0 | E15: 0 | F15: 0 | G15: 0 | H15: 0 | I15: 0 | J15: 0 | K15: 0 | L15: 0 | M15: 0 | N15: 70 | O15: 0 | P15: 0 | Q15: 70 | R15: 0 | S15: 0 | T15: 0 | U15: 70 | V15: 0 | W15: 70 | X15: =SUM(D15:W15) -> 280
A16: 13 | B16: Melão | C16: kg | D16: 8 | E16: 8 | F16: 8 | G16: 8 | H16: 8 | I16: 8 | J16: 8 | K16: 8 | L16: 8 | M16: 8 | N16: 8 | O16: 8 | P16: 8 | Q16: 8 | R16: 8 | S16: 8 | T16: 8 | U16: 8 | V16: 8 | W16: 8 | X16: =SUM(D16:W16) -> 160
A17: 14 | B17: Pêra Importada | C17: kg | D17: 0 | E17: 0 | F17: 0 | G17: 0 | H17: 0 | I17: 0 | J17: 0 | K17: 0 | L17: 0 | M17: 0 | N17: 0 | O17: 0 | P17: 0 | Q17: 0 | R17: 0 | S17: 0 | T17: 0 | U17: 0 | V17: 0 | W17: 0 | X17: =SUM(D17:W17) -> 0
A18: 15 | B18: Uva Isabel | C18: kg | D18: 0 | E18: 0 | F18: 0 | G18: 0 | H18: 0 | I18: 0 | J18: 0 | K18: 0 | L18: 0 | M18: 0 | N18: 0 | O18: 0 | P18: 0 | Q18: 0 | R18: 0 | S18: 0 | T18: 0 | U18: 0 | V18: 0 | W18: 0 | X18: =SUM(D18:W18) -> 0
A19: 16 | B19: kiwi | C19: kg | D19: 8 | E19: 20 | F19: 8 | G19: 0 | H19: 8 | I19: 20 | J19: 8 | K19: 0 | L19: 8 | M19: 20 | N19: 8 | O19: 0 | P19: 8 | Q19: 20 | R19: 8 | S19: 0 | T19: 8 | U19: 20 | V19: 8 | W19: 0 | X19: =SUM(D19:W19) -> 180
A20: Escola Mateus Dal Pozzo - Alimentos Perecíveis - 2026 - 2° SEMESTRE
B21: Semana | D21: 1 | E21: 2 | F21: 3 | G21: 4 | H21: 5 | I21: 6 | J21: 7 | K21: 8 | L21: 9 | M21: 10 | N21: 11 | O21: 12 | P21: 13 | Q21: 14 | R21: 15 | S21: 16 | T21: 17 | U21: 18 | V21: 19 | W21: 20 | X21: TOTAL
B22: Gênero | C22: Unidade | D22: 46237 | E22: 46244 | F22: 46251 | G22: 46258 | H22: 46265 | I22: 46273 | J22: 46279 | K22: 46286 | L22: 46293 | M22: 46300 | N22: 46308 | O22: 46314 | P22: 46321 | Q22: 46329 | R22: 46335 | S22: 46342 | T22: 46349 | U22: 46356 | V22: 46363 | W22: 46370
A23: 17 | B23: Carne Bovina Moída de 1ª | C23: kg | D23: 25 | E23: 30 | F23: 25 | G23: 25 | H23: 25 | I23: 30 | J23: 25 | K23: 30 | L23: 25 | M23: 35 | N23: 25 | O23: 30 | P23: 25 | Q23: 30 | R23: 25 | S23: 30 | T23: 25 | U23: 25 | V23: 25 | W23: 30 | X23: =SUM(D23:W23) -> 545
A24: 18 | B24: Carne Bovina Músculo | C24: kg | D24: 0 | E24: 8 | F24: 0 | G24: 8 | H24: 0 | I24: 0 | J24: 0 | K24: 8 | L24: 0 | M24: 8 | N24: 0 | O24: 8 | P24: 0 | Q24: 0 | R24: 0 | S24: 0 | T24: 8 | U24: 0 | V24: 0 | W24: 0 | X24: =SUM(D24:W24) -> 48
A25: 19 | B25: Carne Bovina Paleta de 1ª | C25: kg | D25: 8 | E25: 0 | F25: 8 | G25: 8 | H25: 8 | I25: 0 | J25: 8 | K25: 8 | L25: 8 | M25: 0 | N25: 8 | O25: 8 | P25: 8 | Q25: 0 | R25: 8 | S25: 8 | T25: 8 | U25: 0 | V25: 8 | W25: 8 | X25: =SUM(D25:W25) -> 120
A26: 20 | B26: Carne Bovina Bife (Patinho) | C26: kg | D26: 8 | E26: 8 | F26: 8 | G26: 8 | H26: 8 | I26: 8 | J26: 8 | K26: 8 | L26: 8 | M26: 8 | N26: 8 | O26: 8 | P26: 8 | Q26: 8 | R26: 8 | S26: 8 | T26: 8 | U26: 8 | V26: 8 | W26: 8 | X26: =SUM(D26:W26) -> 160
A27: 21 | B27: Carne Frango Coxa e Sobrecoxa Desossadas | C27: kg | D27: 10 | E27: 10 | F27: 10 | G27: 10 | H27: 10 | I27: 10 | J27: 10 | K27: 10 | L27: 10 | M27: 10 | N27: 10 | O27: 10 | P27: 10 | Q27: 10 | R27: 10 | S27: 10 | T27: 10 | U27: 10 | V27: 10 | W27: 10 | X27: =SUM(D27:W27) -> 200
A28: 22 | B28: Carne Frango Moída de 1ª | C28: emb. (700g) | D28: 0 | E28: 0 | F28: 0 | G28: 0 | H28: 0 | I28: 0 | J28: 0 | K28: 0 | L28: 0 | M28: 0 | N28: 0 | O28: 0 | P28: 0 | Q28: 0 | R28: 0 | S28: 0 | T28: 0 | U28: 0 | V28: 0 | W28: 0 | X28: =SUM(D28:W28) -> 0
A29: 23 | B29: Carne Frango Sassami | C29: kg | D29: 0 | E29: 18 | F29: 8 | G29: 18 | H29: 0 | I29: 18 | J29: 8 | K29: 8 | L29: 10 | M29: 8 | N29: 8 | O29: 8 | P29: 0 | Q29: 18 | R29: 8 | S29: 8 | T29: 0 | U29: 18 | V29: 8 | W29: 8 | X29: =SUM(D29:W29) -> 180
A30: 24 | B30: Cortes de Frango Caipira | C30: kg | D30: 0 | E30: 8 | F30: 0 | G30: 8 | H30: 0 | I30: 0 | J30: 0 | K30: 8 | L30: 0 | M30: 8 | N30: 0 | O30: 8 | P30: 0 | Q30: 0 | R30: 0 | S30: 0 | T30: 8 | U30: 0 | V30: 0 | W30: 0 | X30: =SUM(D30:W30) -> 48
A31: 25 | B31: Carne Peixe (Filé de Tilápia) | C31: kg | D31: 8 | E31: 0 | F31: 0 | G31: 0 | H31: 8 | I31: 0 | J31: 0 | K31: 0 | L31: 8 | M31: 0 | N31: 0 | O31: 0 | P31: 8 | Q31: 0 | R31: 0 | S31: 0 | T31: 8 | U31: 0 | V31: 0 | W31: 0 | X31: =SUM(D31:W31) -> 40
A32: 26 | B32: Carne Suína Pernil de 1ª | C32: kg | D32: 0 | E32: 7 | F32: 0 | G32: 0 | H32: 0 | I32: 7 | J32: 0 | K32: 0 | L32: 0 | M32: 7 | N32: 0 | O32: 0 | P32: 0 | Q32: 7 | R32: 0 | S32: 0 | T32: 0 | U32: 7 | V32: 0 | W32: 0 | X32: =SUM(D32:W32) -> 35
A33: 27 | B33: Ervilha em grão congelada | C33: emb. | D33: 5 | E33: 0 | F33: 0 | G33: 0 | H33: 5 | I33: 0 | J33: 0 | K33: 0 | L33: 5 | M33: 0 | N33: 0 | O33: 0 | P33: 5 | Q33: 0 | R33: 0 | S33: 0 | T33: 5 | U33: 0 | V33: 0 | W33: 0 | X33: =SUM(D33:W33) -> 25
A34: 28 | B34: Milho em grão congelado | C34: emb. | D34: 10 | E34: 0 | F34: 0 | G34: 0 | H34: 10 | I34: 0 | J34: 0 | K34: 0 | L34: 10 | M34: 0 | N34: 0 | O34: 0 | P34: 10 | Q34: 0 | R34: 0 | S34: 0 | T34: 10 | U34: 0 | V34: 0 | W34: 0 | X34: =SUM(D34:W34) -> 50
... A43: 37 | B43: Farinha de amendoim | C43: kg | D43: 0 | E43: 0 | F43: 0 | G43: 0 | H43: 0 | I43: 0 | J43: 0 | K43: 0 | L43: 0 | M43: 0 | N43: 0 | O43: 0 | P43: 0 | Q43: 0 | R43: 0 | S43: 0 | T43: 0 | U43: 0 | V43: 0 | W43: 0 | X43: =SUM(D43:W43) -> 0

Sheet ESCOLA ESPAÇO DO APRENDER
A1: Escola Espaço do Aprender - Alimentos Perecíveis - 2026 - 2° SEMESTRE
B2: Semana | D2: 1 | E2: 2 | F2: 3 | G2: 4 | H2: 5 | I2: 6 | J2: 7 | K2: 8 | L2: 9 | M2: 10 | N2: 11 | O2: 12 | P2: 13 | Q2: 14 | R2: 15 | S2: 16 | T2: 17 | U2: 18 | V2: 19 | W2: 20 | X2: TOTAL
B3: Gênero | C3: Unidade | D3: 46237 | E3: 46244 | F3: 46251 | G3: 46258 | H3: 46265 | I3: 46273 | J3: 46279 | K3: 46286 | L3: 46293 | M3: 46300 | N3: 46308 | O3: 46314 | P3: 46321 | Q3: 46329 | R3: 46335 | S3: 46342 | T3: 46349 | U3: 46356 | V3: 46363 | W3: 46370
A4: 1 | B4: Abacate | C4: kg | D4: 0 | E4: 0 | F4: 0 | G4: 0 | H4: 0 | I4: 0 | J4: 0 | K4: 0 | L4: 0 | M4: 0 | N4: 0 | O4: 0 | P4: 0 | Q4: 0 | R4: 0 | S4: 0 | T4: 0 | U4: 0 | V4: 0 | W4: 0 | X4: =SUM(D4:W4) -> 0
A5: 2 | B5: Abacaxi | C5: kg | D5: 27 | E5: 27 | F5: 15 | G5: 27 | H5: 27 | I5: 27 | J5: 27 | K5: 27 | L5: 15 | M5: 27 | N5: 15 | O5: 27 | P5: 27 | Q5: 27 | R5: 27 | S5: 27 | T5: 27 | U5: 15 | V5: 27 | W5: 27 | X5: =SUM(D5:W5) -> 492
A6: 3 | B6: Banana Prata | C6: kg | D6: 28 | E6: 28 | F6: 28 | G6: 28 | H6: 28 | I6: 28 | J6: 28 | K6: 28 | L6: 28 | M6: 28 | N6: 28 | O6: 28 | P6: 28 | Q6: 28 | R6: 28 | S6: 28 | T6: 28 | U6: 28 | V6: 28 | W6: 28 | X6: =SUM(D6:W6) -> 560
A7: 4 | B7: Bergamota | C7: kg | D7: 15 | E7: 0 | F7: 15 | G7: 0 | H7: 15 | I7: 0 | J7: 0 | K7: 0 | L7: 0 | M7: 0 | N7: 0 | O7: 0 | P7: 0 | Q7: 0 | R7: 0 | S7: 0 | T7: 0 | U7: 0 | V7: 0 | W7: 0 | X7: =SUM(D7:W7) -> 45
A8: 5 | B8: Caqui | C8: kg | D8: 0 | E8: 0 | F8: 0 | G8: 0 | H8: 0 | I8: 0 | J8: 0 | K8: 0 | L8: 0 | M8: 0 | N8: 0 | O8: 0 | P8: 0 | Q8: 0 | R8: 0 | S8: 0 | T8: 0 | U8: 0 | V8: 0 | W8: 0 | X8: =SUM(D8:W8) -> 0
A9: 6 | B9: Laranja de Umbigo | C9: kg | D9: 18 | E9: 18 | F9: 10 | G9: 18 | H9: 10 | I9: 10 | J9: 18 | K9: 18 | L9: 18 | M9: 18 | N9: 18 | O9: 10 | P9: 18 | Q9: 18 | R9: 18 | S9: 18 | T9: 0 | U9: 18 | V9: 18 | W9: 18 | X9: =SUM(D9:W9) -> 310
A10: 7 | B10: Laranja do Céu | C10: kg | D10: 0 | E10: 0 | F10: 0 | G10: 0 | H10: 0 | I10: 0 | J10: 0 | K10: 0 | L10: 0 | M10: 0 | N10: 0 | O10: 0 | P10: 0 | Q10: 0 | R10: 0 | S10: 0 | T10: 0 | U10: 0 | V10: 0 | W10: 0 | X10: =SUM(D10:W10) -> 0
A11: 8 | B11: Maça gala | C11: kg | D11: 0 | E11: 0 | F11: 0 | G11: 0 | H11: 0 | I11: 0 | J11: 0 | K11: 0 | L11: 0 | M11: 0 | N11: 0 | O11: 0 | P11: 0 | Q11: 0 | R11: 0 | S11: 0 | T11: 0 | U11: 0 | V11: 0 | W11: 0 | X11: 0
A12: 9 | B12: Maçã Fuji | C12: kg | D12: 30 | E12: 30 | F12: 30 | G12: 30 | H12: 30 | I12: 30 | J12: 30 | K12: 30 | L12: 30 | M12: 30 | N12: 30 | O12: 30 | P12: 30 | Q12: 30 | R12: 30 | S12: 30 | T12: 30 | U12: 30 | V12: 30 | W12: 30 | X12: =SUM(D12:W12) -> 600
A13: 10 | B13: Mamão Formosa | C13: kg | D13: 20 | E13: 20 | F13: 20 | G13: 20 | H13: 20 | I13: 0 | J13: 20 | K13: 20 | L13: 20 | M13: 20 | N13: 0 | O13: 20 | P13: 20 | Q13: 0 | R13: 20 | S13: 20 | T13: 20 | U13: 20 | V13: 20 | W13: 20 | X13: =SUM(D13:W13) -> 340
A14: 11 | B14: Manga Rosa | C14: kg | D14: 25 | E14: 25 | F14: 25 | G14: 25 | H14: 25 | I14: 25 | J14: 25 | K14: 25 | L14: 25 | M14: 25 | N14: 25 | O14: 25 | P14: 25 | Q14: 0 | R14: 25 | S14: 25 | T14: 25 | U14: 25 | V14: 25 | W14: 25 | X14: =SUM(D14:W14) -> 475
A15: 12 | B15: Melancia | C15: kg | D15: 0 | E15: 0 | F15: 0 | G15: 0 | H15: 0 | I15: 0 | J15: 0 | K15: 0 | L15: 0 | M15: 0 | N15: 30 | O15: 0 | P15: 0 | Q15: 30 | R15: 0 | S15: 0 | T15: 30 | U15: 0 | V15: 0 | W15: 0 | X15: =SUM(D15:W15) -> 90
A16: 13 | B16: Melão | C16: kg | D16: 18 | E16: 18 | F16: 18 | G16: 18 | H16: 18 | I16: 18 | J16: 18 | K16: 18 | L16: 18 | M16: 18 | N16: 18 | O16: 18 | P16: 18 | Q16: 18 | R16: 18 | S16: 18 | T16: 18 | U16: 18 | V16: 18 | W16: 18 | X16: =SUM(D16:W16) -> 360
A17: 14 | B17: Pêra Importada | C17: kg | D17: 0 | E17: 0 | F17: 0 | G17: 0 | H17: 0 | I17: 0 | J17: 0 | K17: 0 | L17: 0 | M17: 0 | N17: 0 | O17: 0 | P17: 0 | Q17: 0 | R17: 0 | S17: 0 | T17: 0 | U17: 0 | V17: 0 | W17: 0 | X17: =SUM(D17:W17) -> 0
A18: 15 | B18: Uva Isabel | C18: kg | D18: 0 | E18: 0 | F18: 0 | G18: 0 | H18: 0 | I18: 0 | J18: 0 | K18: 0 | L18: 0 | M18: 0 | N18: 0 | O18: 0 | P18: 0 | Q18: 0 | R18: 0 | S18: 0 | T18: 0 | U18: 0 | V18: 0 | W18: 0 | X18: =SUM(D18:W18) -> 0
A19: 16 | B19: kiwi | C19: kg | D19: 0 | E19: 0 | F19: 12 | G19: 0 | H19: 0 | I19: 12 | J19: 0 | K19: 0 | L19: 12 | M19: 0 | N19: 5 | O19: 12 | P19: 0 | Q19: 0 | R19: 12 | S19: 0 | T19: 0 | U19: 12 | V19: 0 | W19: 0 | X19: =SUM(D19:W19) -> 77
A20: Escola Espaço do Aprender - Alimentos Perecíveis - 2026 - 2° SEMESTRE
B21: Semana | D21: 1 | E21: 2 | F21: 3 | G21: 4 | H21: 5 | I21: 6 | J21: 7 | K21: 8 | L21: 9 | M21: 10 | N21: 11 | O21: 12 | P21: 13 | Q21: 14 | R21: 15 | S21: 16 | T21: 17 | U21: 18 | V21: 19 | W21: 20 | X21: TOTAL
B22: Gênero | C22: Unidade | D22: 46237 | E22: 46244 | F22: 46251 | G22: 46258 | H22: 46265 | I22: 46273 | J22: 46279 | K22: 46286 | L22: 46293 | M22: 46300 | N22: 46308 | O22: 46314 | P22: 46321 | Q22: 46329 | R22: 46335 | S22: 46342 | T22: 46349 | U22: 46356 | V22: 46363 | W22: 46370
A23: 17 | B23: Carne Bovina Moída de 1ª | C23: kg | D23: 24 | E23: 14 | F23: 24 | G23: 24 | H23: 24 | I23: 14 | J23: 24 | K23: 14 | L23: 24 | M23: 24 | N23: 24 | O23: 24 | P23: 24 | Q23: 14 | R23: 24 | S23: 24 | T23: 24 | U23: 24 | V23: 24 | W23: 14 | X23: =SUM(D23:W23) -> 430
A24: 18 | B24: Carne Bovina Músculo | C24: kg | D24: 0 | E24: 8 | F24: 0 | G24: 8 | H24: 0 | I24: 0 | J24: 0 | K24: 8 | L24: 0 | M24: 8 | N24: 0 | O24: 8 | P24: 0 | Q24: 0 | R24: 0 | S24: 0 | T24: 8 | U24: 0 | V24: 0 | W24: 0 | X24: =SUM(D24:W24) -> 48
A25: 19 | B25: Carne Bovina Paleta de 1ª | C25: kg | D25: 12 | E25: 12 | F25: 12 | G25: 24 | H25: 12 | I25: 12 | J25: 24 | K25: 24 | L25: 12 | M25: 12 | N25: 12 | O25: 12 | P25: 12 | Q25: 12 | R25: 12 | S25: 12 | T25: 12 | U25: 12 | V25: 12 | W25: 12 | X25: =SUM(D25:W25) -> 276
A26: 20 | B26: Carne Bovina Bife (Patinho) | C26: kg | D26: 12 | E26: 24 | F26: 12 | G26: 12 | H26: 24 | I26: 12 | J26: 24 | K26: 12 | L26: 12 | M26: 24 | N26: 12 | O26: 12 | P26: 24 | Q26: 12 | R26: 12 | S26: 24 | T26: 12 | U26: 12 | V26: 12 | W26: 12 | X26: =SUM(D26:W26) -> 312
A27: 21 | B27: Carne Frango Coxa e Sobrecoxa Desossadas | C27: kg | D27: 12 | E27: 12 | F27: 12 | G27: 12 | H27: 12 | I27: 12 | J27: 24 | K27: 12 | L27: 12 | M27: 12 | N27: 12 | O27: 12 | P27: 12 | Q27: 12 | R27: 12 | S27: 12 | T27: 12 | U27: 12 | V27: 12 | W27: 12 | X27: =SUM(D27:W27) -> 252
A28: 22 | B28: Carne Frango Moída de 1ª | C28: emb. (700g) | D28: 0 | E28: 6 | F28: 0 | G28: 0 | H28: 6 | I28: 6 | J28: 0 | K28: 0 | L28: 6 | M28: 0 | N28: 6 | O28: 0 | P28: 0 | Q28: 6 | R28: 6 | S28: 0 | T28: 0 | U28: 0 | V28: 0 | W28: 6 | X28: =SUM(D28:W28) -> 48
A29: 23 | B29: Carne Frango Sassami | C29: kg | D29: 10 | E29: 10 | F29: 10 | G29: 10 | H29: 10 | I29: 10 | J29: 10 | K29: 10 | L29: 10 | M29: 10 | N29: 10 | O29: 10 | P29: 10 | Q29: 10 | R29: 10 | S29: 10 | T29: 10 | U29: 10 | V29: 10 | W29: 10 | X29: =SUM(D29:W29) -> 200
A30: 24 | B30: Cortes de Frango Caipira | C30: kg | D30: 0 | E30: 8 | F30: 0 | G30: 8 | H30: 0 | I30: 0 | J30: 0 | K30: 8 | L30: 0 | M30: 8 | N30: 0 | O30: 8 | P30: 0 | Q30: 0 | R30: 0 | S30: 0 | T30: 8 | U30: 0 | V30: 0 | W30: 0 | X30: =SUM(D30:W30) -> 48
A31: 25 | B31: Carne Peixe (Filé de Tilápia) | C31: kg | D31: 0 | E31: 0 | F31: 0 | G31: 0 | H31: 0 | I31: 0 | J31: 0 | K31: 0 | L31: 0 | M31: 0 | N31: 0 | O31: 0 | P31: 0 | Q31: 0 | R31: 0 | S31: 0 | T31: 0 | U31: 0 | V31: 0 | W31: 0 | X31: =SUM(D31:W31) -> 0
A32: 26 | B32: Carne Suína Pernil de 1ª | C32: kg | D32: 0 | E32: 7 | F32: 0 | G32: 0 | H32: 0 | I32: 7 | J32: 0 | K32: 0 | L32: 7 | M32: 0 | N32: 7 | O32: 0 | P32: 0 | Q32: 0 | R32: 7 | S32: 0 | T32: 7 | U32: 0 | V32: 0 | W32: 0 | X32: =SUM(D32:W32) -> 42
A33: 27 | B33: Ervilha em grão congelada | C33: emb. | D33: 6 | E33: 0 | F33: 6 | G33: 0 | H33: 6 | I33: 0 | J33: 6 | K33: 6 | L33: 0 | M33: 6 | N33: 6 | O33: 0 | P33: 6 | Q33: 0 | R33: 6 | S33: 6 | T33: 6 | U33: 6 | V33: 0 | W33: 0 | X33: =SUM(D33:W33) -> 72
A34: 28 | B34: Milho em grão congelado | C34: emb. | D34: 0 | E34: 0 | F34: 12 | G34: 0 | H34: 12 | I34: 12 | J34: 0 | K34: 0 | L34: 0 | M34: 0 | N34: 12 | O34: 0 | P34: 0 | Q34: 12 | R34: 12 | S34: 0 | T34: 0 | U34: 12 | V34: 0 | W34: 0 | X34: =SUM(D34:W34) -> 84
... A43: 37 | B43: Farinha de amendoim | C43: kg | D43: 0 | E43: 0 | F43: 0 | G43: 0 | H43: 0 | I43: 0 | J43: 0 | K43: 0 | L43: 0 | M43: 0 | N43: 0 | O43: 0 | P43: 0 | Q43: 0 | R43: 0 | S43: 0 | T43: 0 | U43: 0 | V43: 0 | W43: 0 | X43: =SUM(D43:W43) -> 0
A44: 2
A45: Ass. Escola

Sheet Bom conselho
A1: Escola Mateus Dal Pozzo - Alimentos Perecíveis - 2026 - 2° SEMESTRE
B2: Semana | D2: 1 | E2: 2 | F2: 3 | G2: 4 | H2: 5 | I2: 6 | J2: 7 | K2: 8 | L2: 9 | M2: 10 | N2: 11 | O2: 12 | P2: 13 | Q2: 14 | R2: 15 | S2: 16 | T2: 17 | U2: 18 | V2: 19 | W2: 20 | X2: TOTAL
B3: Gênero | C3: Unidade | D3: 46237 | E3: 46244 | F3: 46251 | G3: 46258 | H3: 46265 | I3: 46273 | J3: 46279 | K3: 46286 | L3: 46293 | M3: 46300 | N3: 46308 | O3: 46314 | P3: 46321 | Q3: 46329 | R3: 46335 | S3: 46342 | T3: 46349 | U3: 46356 | V3: 46363 | W3: 46370
A4: 1 | B4: Abacate | C4: kg | X4: =SUM(D4:W4) -> 0
A5: 2 | B5: Abacaxi | C5: kg | X5: =SUM(D5:W5) -> 0
A6: 3 | B6: Banana Prata | C6: kg | D6: 5 | F6: 5 | H6: 5 | J6: 5 | L6: 5 | N6: 5 | P6: 5 | R6: 5 | T6: 5 | V6: 5 | X6: =SUM(D6:W6) -> 50
A7: 4 | B7: Bergamota | C7: kg | X7: =SUM(D7:W7) -> 0
A8: 5 | B8: Caqui | C8: kg | X8: =SUM(D8:W8) -> 0
A9: 6 | B9: Laranja de Umbigo | C9: kg | X9: =SUM(D9:W9) -> 0
A10: 7 | B10: Laranja do Céu | C10: kg | X10: =SUM(D10:W10) -> 0
A11: 8 | B11: Maça gala | C11: kg | X11: 0
A12: 9 | B12: Maçã Fuji | C12: kg | D12: 5 | F12: 5 | J12: 5 | N12: 5 | P12: 5 | R12: 5 | V12: 5 | X12: =SUM(D12:W12) -> 35
A13: 10 | B13: Mamão Formosa | C13: kg | H13: 5 | L13: 5 | T13: 5 | X13: =SUM(D13:W13) -> 15
A14: 11 | B14: Manga Rosa | C14: kg | X14: =SUM(D14:W14) -> 0
A15: 12 | B15: Melancia | C15: kg | X15: =SUM(D15:W15) -> 0
A16: 13 | B16: Melão | C16: kg | X16: =SUM(D16:W16) -> 0
A17: 14 | B17: Pêra Importada | C17: kg | X17: =SUM(D17:W17) -> 0
A18: 15 | B18: Uva Isabel | C18: kg | X18: =SUM(D18:W18) -> 0
A19: 16 | B19: kiwi | C19: kg | X19: =SUM(D19:W19) -> 0
A20: Escola Mateus Dal Pozzo - Alimentos Perecíveis - 2026 - 2° SEMESTRE
B21: Semana | D21: 1 | E21: 2 | F21: 3 | G21: 4 | H21: 5 | I21: 6 | J21: 7 | K21: 8 | L21: 9 | M21: 10 | N21: 11 | O21: 12 | P21: 13 | Q21: 14 | R21: 15 | S21: 16 | T21: 17 | U21: 18 | V21: 19 | W21: 20 | X21: TOTAL
B22: Gênero | C22: Unidade | D22: 46237 | E22: 46244 | F22: 46251 | G22: 46258 | H22: 46265 | I22: 46273 | J22: 46279 | K22: 46286 | L22: 46293 | M22: 46300 | N22: 46308 | O22: 46314 | P22: 46321 | Q22: 46329 | R22: 46335 | S22: 46342 | T22: 46349 | U22: 46356 | V22: 46363 | W22: 46370
A23: 17 | B23: Carne Bovina Moída de 1ª | C23: kg | D23: 5 | H23: 5 | L23: 5 | P23: 5 | T23: 5 | X23: =SUM(D23:W23) -> 25
A24: 18 | B24: Carne Bovina Músculo | C24: kg | X24: =SUM(D24:W24) -> 0
A25: 19 | B25: Carne Bovina Paleta de 1ª | C25: kg | X25: =SUM(D25:W25) -> 0
A26: 20 | B26: Carne Bovina Bife (Patinho) | C26: kg | D26: 5 | H26: 5 | L26: 5 | P26: 5 | T26: 5 | X26: =SUM(D26:W26) -> 25
A27: 21 | B27: Carne Frango Coxa e Sobrecoxa Desossadas | C27: kg | X27: =SUM(D27:W27) -> 0
A28: 22 | B28: Carne Frango Moída de 1ª | C28: emb. (700g) | X28: =SUM(D28:W28) -> 0
A29: 23 | B29: Carne Frango Sassami | C29: kg | D29: 5 | H29: 5 | L29: 5 | P29: 5 | T29: 5 | X29: =SUM(D29:W29) -> 25
A30: 24 | B30: Cortes de Frango Caipira | C30: kg | X30: =SUM(D30:W30) -> 0
A31: 25 | B31: Carne Peixe (Filé de Tilápia) | C31: kg | X31: =SUM(D31:W31) -> 0
A32: 26 | B32: Carne Suína Pernil de 1ª | C32: kg | X32: =SUM(D32:W32) -> 0
A33: 27 | B33: Ervilha em grão congelada | C33: emb. | X33: =SUM(D33:W33) -> 0
A34: 28 | B34: Milho em grão congelado | C34: emb. | X34: =SUM(D34:W34) -> 0
A35: 29 | B35: Pão de Leite | C35: kg | X35: =SUM(D35:W35) -> 0
A36: 30 | B36: Pão sem gluten, lactose, ptn, ovo, fatiado | C36: und | X36: =SUM(D36:W36) -> 0
A37: 31 | B37: Pão Francês | C37: kg | X37: =SUM(D37:W37) -> 0
A38: 32 | B38: Pão sovado integral | C38: kg | X38: =SUM(D38:W38) -> 0
A39: 33 | B39: Pão Integral fatiado | C39: kg | X39: =SUM(D39:W39) -> 0
A40: 34 | B40: Pão Sovado | C40: kg | X40: =SUM(D40:W40) -> 0
...

Sheet Minérios
A1: Escola Mateus Dal Pozzo - Alimentos Perecíveis - 2026 - 2° SEMESTRE
B2: Semana | D2: 1 | E2: 2 | F2: 3 | G2: 4 | H2: 5 | I2: 6 | J2: 7 | K2: 8 | L2: 9 | M2: 10 | N2: 11 | O2: 12 | P2: 13 | Q2: 14 | R2: 15 | S2: 16 | T2: 17 | U2: 18 | V2: 19 | W2: TOTAL
B3: Gênero | C3: Unidade | D3: 46237 | E3: 46244 | F3: 46251 | G3: 46258 | H3: 46265 | I3: 46273 | J3: 46279 | K3: 46286 | L3: 46293 | M3: 46300 | N3: 46308 | O3: 46314 | P3: 46321 | Q3: 46329 | R3: 46335 | S3: 46342 | T3: 46349 | U3: 46356 | V3: 46363
A4: 1 | B4: Abacate | C4: kg | W4: =SUM(D4:V4) -> 0
A5: 2 | B5: Abacaxi | C5: kg | W5: =SUM(D5:V5) -> 0
A6: 3 | B6: Banana Prata | C6: kg | D6: 3 | F6: 3 | H6: 3 | J6: 3 | L6: 3 | N6: 3 | P6: 3 | R6: 3 | T6: 3 | V6: 3 | W6: =SUM(D6:V6) -> 30
A7: 4 | B7: Bergamota | C7: kg | W7: =SUM(D7:V7) -> 0
A8: 5 | B8: Caqui | C8: kg | W8: =SUM(D8:V8) -> 0
A9: 6 | B9: Laranja de Umbigo | C9: kg | W9: =SUM(D9:V9) -> 0
A10: 7 | B10: Laranja do Céu | C10: kg | W10: =SUM(D10:V10) -> 0
A11: 8 | B11: Maça gala | C11: kg | W11: 0
A12: 9 | B12: Maçã Fuji | C12: kg | D12: 2 | F12: 2 | J12: 2 | N12: 2 | P12: 2 | R12: 2 | V12: 2 | W12: =SUM(D12:V12) -> 14
A13: 10 | B13: Mamão Formosa | C13: kg | H13: 2 | L13: 2 | T13: 2 | W13: =SUM(D13:V13) -> 6
A14: 11 | B14: Manga Rosa | C14: kg | W14: =SUM(D14:V14) -> 0
A15: 12 | B15: Melancia | C15: kg | W15: =SUM(D15:V15) -> 0
A16: 13 | B16: Melão | C16: kg | W16: =SUM(D16:V16) -> 0
A17: 14 | B17: Pêra Importada | C17: kg | W17: =SUM(D17:V17) -> 0
A18: 15 | B18: Uva Isabel | C18: kg | W18: =SUM(D18:V18) -> 0
A19: 16 | B19: kiwi | C19: kg | W19: =SUM(D19:V19) -> 0
A20: Escola Mateus Dal Pozzo - Alimentos Perecíveis - 2026 - 2° SEMESTRE
B21: Semana | D21: 1 | E21: 2 | F21: 3 | G21: 4 | H21: 5 | I21: 6 | J21: 7 | K21: 8 | L21: 9 | M21: 10 | N21: 11 | O21: 12 | P21: 13 | Q21: 14 | R21: 15 | S21: 16 | T21: 17 | U21: 18 | V21: 19 | W21: TOTAL
B22: Gênero | C22: Unidade | D22: 46237 | E22: 46244 | F22: 46251 | G22: 46258 | H22: 46265 | I22: 46273 | J22: 46279 | K22: 46286 | L22: 46293 | M22: 46300 | N22: 46308 | O22: 46314 | P22: 46321 | Q22: 46329 | R22: 46335 | S22: 46342 | T22: 46349 | U22: 46356 | V22: 46363
A23: 17 | B23: Carne Bovina Moída de 1ª | C23: kg | D23: 2 | H23: 2 | L23: 2 | P23: 2 | T23: 2 | W23: =SUM(D23:V23) -> 10
A24: 18 | B24: Carne Bovina Músculo | C24: kg | W24: =SUM(D24:V24) -> 0
A25: 19 | B25: Carne Bovina Paleta de 1ª | C25: kg | W25: =SUM(D25:V25) -> 0
A26: 20 | B26: Carne Bovina Bife (Patinho) | C26: kg | D26: 2 | H26: 2 | L26: 2 | P26: 2 | T26: 2 | W26: =SUM(D26:V26) -> 10
A27: 21 | B27: Carne Frango Coxa e Sobrecoxa Desossadas | C27: kg | W27: =SUM(D27:V27) -> 0
A28: 22 | B28: Carne Frango Moída de 1ª | C28: emb. (700g) | W28: =SUM(D28:V28) -> 0
A29: 23 | B29: Carne Frango Sassami | C29: kg | D29: 2 | H29: 2 | L29: 2 | P29: 2 | T29: 2 | W29: =SUM(D29:V29) -> 10
A30: 24 | B30: Cortes de Frango Caipira | C30: kg | W30: =SUM(D30:V30) -> 0
A31: 25 | B31: Carne Peixe (Filé de Tilápia) | C31: kg | W31: =SUM(D31:V31) -> 0
A32: 26 | B32: Carne Suína Pernil de 1ª | C32: kg | W32: =SUM(D32:V32) -> 0
A33: 27 | B33: Ervilha em grão congelada | C33: emb. | W33: =SUM(D33:V33) -> 0
A34: 28 | B34: Milho em grão congelado | C34: emb. | W34: =SUM(D34:V34) -> 0
A35: 29 | B35: Pão de Leite | C35: kg | W35: =SUM(D35:V35) -> 0
A36: 30 | B36: Pão sem gluten, lactose, ptn, ovo, fatiado | C36: und | W36: =SUM(D36:V36) -> 0
A37: 31 | B37: Pão Francês | C37: kg | W37: =SUM(D37:V37) -> 0
A38: 32 | B38: Pão sovado integral | C38: kg | W38: =SUM(D38:V38) -> 0
A39: 33 | B39: Pão Integral fatiado | C39: kg | W39: =SUM(D39:V39) -> 0
A40: 34 | B40: Pão Sovado | C40: kg | W40: =SUM(D40:V40) -> 0
...

Sheet Totais
B1: Gênero | C1: Unidade | D1: Mateus | E1: Espaço | F1: Abelhinha | G1: TOTAL
A2: 1 | B2: Abacate | C2: kg | D2: ='ESCOLA MATEUS'!X4+'Bom conselho'!X4+Minérios!W4 -> 27 | E2: ='ESCOLA ESPAÇO DO APRENDER'!X4 -> 0 | F2: ='ESCOLA ABELHINHA'!X4 -> 60 | G2: =D2+E2+F2 -> 87
A3: 2 | B3: Abacaxi | C3: kg | D3: ='ESCOLA MATEUS'!X5+'Bom conselho'!X5+Minérios!W5 -> 580 | E3: ='ESCOLA ESPAÇO DO APRENDER'!X5 -> 492 | F3: ='ESCOLA ABELHINHA'!X5 -> 54 | G3: =D3+E3+F3 -> 1126
A4: 3 | B4: Banana Prata | C4: kg | D4: ='ESCOLA MATEUS'!X6+'Bom conselho'!X6+Minérios!W6 -> 1220 | E4: ='ESCOLA ESPAÇO DO APRENDER'!X6 -> 560 | F4: ='ESCOLA ABELHINHA'!X6 -> 395 | G4: =D4+E4+F4 -> 2175
A5: 4 | B5: Bergamota | C5: kg | D5: ='ESCOLA MATEUS'!X7+'Bom conselho'!X7+Minérios!W7 -> 60 | E5: ='ESCOLA ESPAÇO DO APRENDER'!X7 -> 45 | F5: ='ESCOLA ABELHINHA'!X7 -> 18 | G5: =D5+E5+F5 -> 123
A6: 5 | B6: Caqui | C6: kg | D6: ='ESCOLA MATEUS'!X8+'Bom conselho'!X8+Minérios!W8 -> 27 | E6: ='ESCOLA ESPAÇO DO APRENDER'!X8 -> 0 | F6: ='ESCOLA ABELHINHA'!X8 -> 18 | G6: =D6+E6+F6 -> 45
A7: 6 | B7: Laranja de Umbigo | C7: kg | D7: ='ESCOLA MATEUS'!X9+'Bom conselho'!X9+Minérios!W9 -> 490 | E7: ='ESCOLA ESPAÇO DO APRENDER'!X9 -> 310 | F7: ='ESCOLA ABELHINHA'!X9 -> 64 | G7: =D7+E7+F7 -> 864
A8: 7 | B8: Laranja do Céu | C8: kg | D8: ='ESCOLA MATEUS'!X10+'Bom conselho'!X10+Minérios!W10 -> 0 | E8: ='ESCOLA ESPAÇO DO APRENDER'!X10 -> 0 | F8: ='ESCOLA ABELHINHA'!X10 -> 72 | G8: =D8+E8+F8 -> 72
A9: 8 | B9: Maça gala | C9: kg | D9: ='ESCOLA MATEUS'!X11+'Bom conselho'!X11+Minérios!W11 -> 0 | E9: ='ESCOLA ESPAÇO DO APRENDER'!X11 -> 0 | F9: ='ESCOLA ABELHINHA'!X11 -> 160 | G9: =D9+E9+F9 -> 160
A10: 9 | B10: Maçã Fuji | C10: kg | D10: ='ESCOLA MATEUS'!X12+'Bom conselho'!X12+Minérios!W12 -> 614 | E10: ='ESCOLA ESPAÇO DO APRENDER'!X12 -> 600 | F10: ='ESCOLA ABELHINHA'!X12 -> 0 | G10: =D10+E10+F10 -> 1214
A11: 10 | B11: Mamão Formosa | C11: kg | D11: ='ESCOLA MATEUS'!X13+'Bom conselho'!X13+Minérios!W13 -> 173 | E11: ='ESCOLA ESPAÇO DO APRENDER'!X13 -> 340 | F11: ='ESCOLA ABELHINHA'!X13 -> 204 | G11: =D11+E11+F11 -> 717
A12: 11 | B12: Manga Rosa | C12: kg | D12: ='ESCOLA MATEUS'!X14+'Bom conselho'!X14+Minérios!W14 -> 580 | E12: ='ESCOLA ESPAÇO DO APRENDER'!X14 -> 475 | F12: ='ESCOLA ABELHINHA'!X14 -> 0 | G12: =D12+E12+F12 -> 1055
A13: 12 | B13: Melancia | C13: kg | D13: ='ESCOLA MATEUS'!X15+'Bom conselho'!X15+Minérios!W15 -> 280 | E13: ='ESCOLA ESPAÇO DO APRENDER'!X15 -> 90 | F13: ='ESCOLA ABELHINHA'!X16 -> 100 | G13: =D13+E13+F13 -> 470
A14: 13 | B14: Melão | C14: kg | D14: ='ESCOLA MATEUS'!X16+'Bom conselho'!X16+Minérios!W16 -> 160 | E14: ='ESCOLA ESPAÇO DO APRENDER'!X16 -> 360 | F14: ='ESCOLA ABELHINHA'!X17 -> 72 | G14: =D14+E14+F14 -> 592
A15: 14 | B15: Pêra Importada | C15: kg | D15: ='ESCOLA MATEUS'!X17+'Bom conselho'!X17+Minérios!W17 -> 0 | E15: ='ESCOLA ESPAÇO DO APRENDER'!X17 -> 0 | F15: ='ESCOLA ABELHINHA'!X18 -> 85 | G15: =D15+E15+F15 -> 85
A16: 15 | B16: Uva Isabel | C16: kg | D16: ='ESCOLA MATEUS'!X18+'Bom conselho'!X18+Minérios!W18 -> 0 | E16: ='ESCOLA ESPAÇO DO APRENDER'!X18 -> 0 | F16: ='ESCOLA ABELHINHA'!X19 -> 0 | G16: =D16+E16+F16 -> 0
A17: 16 | B17: kiwi | C17: kg | D17: ='ESCOLA MATEUS'!X19+'Bom conselho'!X19+Minérios!W19 -> 180 | E17: ='ESCOLA ESPAÇO DO APRENDER'!X19 -> 77 | F17: ='ESCOLA ABELHINHA'!X20 -> 35 | G17: =D17+E17+F17 -> 292
A18: 17 | B18: Carne Bovina Moída de 1ª | C18: kg | D18: ='ESCOLA MATEUS'!X23+'Bom conselho'!X23+Minérios!W23 -> 580 | E18: ='ESCOLA ESPAÇO DO APRENDER'!X23 -> 430 | F18: ='ESCOLA ABELHINHA'!X24 -> 40 | G18: =D18+E18+F18 -> 1050
A19: 18 | B19: Carne Bovina Músculo | C19: kg | D19: ='ESCOLA MATEUS'!X24+'Bom conselho'!X24+Minérios!W24 -> 48 | E19: ='ESCOLA ESPAÇO DO APRENDER'!X24 -> 48 | F19: ='ESCOLA ABELHINHA'!X25 -> 40 | G19: =D19+E19+F19 -> 136
A20: 19 | B20: Carne Bovina Paleta de 1ª | C20: kg | D20: ='ESCOLA MATEUS'!X25+'Bom conselho'!X25+Minérios!W25 -> 120 | E20: ='ESCOLA ESPAÇO DO APRENDER'!X25 -> 276 | F20: ='ESCOLA ABELHINHA'!X26 -> 40 | G20: =D20+E20+F20 -> 436
A21: 20 | B21: Carne Bovina Bife (Patinho) | C21: kg | D21: ='ESCOLA MATEUS'!X26+'Bom conselho'!X26+Minérios!W26 -> 195 | E21: ='ESCOLA ESPAÇO DO APRENDER'!X26 -> 312 | F21: ='ESCOLA ABELHINHA'!X27 -> 43 | G21: =D21+E21+F21 -> 550
A22: 21 | B22: Carne Frango Coxa e Sobrecoxa Desossadas | C22: kg | D22: ='ESCOLA MATEUS'!X27+'Bom conselho'!X27+Minérios!W27 -> 200 | E22: ='ESCOLA ESPAÇO DO APRENDER'!X27 -> 252 | F22: ='ESCOLA ABELHINHA'!X28 -> 100 | G22: =D22+E22+F22 -> 552
A23: 22 | B23: Carne Frango Moída de 1ª | C23: (700g) | D23: ='ESCOLA MATEUS'!X28+'Bom conselho'!X28+Minérios!W28 -> 0 | E23: ='ESCOLA ESPAÇO DO APRENDER'!X28 -> 48 | F23: ='ESCOLA ABELHINHA'!X29 -> 0 | G23: =D23+E23+F23 -> 48
A24: 23 | B24: Carne Frango Sassami | C24: kg | D24: ='ESCOLA MATEUS'!X29+'Bom conselho'!X29+Minérios!W29 -> 215 | E24: ='ESCOLA ESPAÇO DO APRENDER'!X29 -> 200 | F24: ='ESCOLA ABELHINHA'!X30 -> 11 | G24: =D24+E24+F24 -> 426
A25: 24 | B25: Cortes de Frango Caipira | C25: kg | D25: ='ESCOLA MATEUS'!X30+'Bom conselho'!X30+Minérios!W30 -> 48 | E25: ='ESCOLA ESPAÇO DO APRENDER'!X30 -> 48 | F25: ='ESCOLA ABELHINHA'!X31 -> 60 | G25: =D25+E25+F25 -> 156
A26: 25 | B26: Carne Peixe (Filé de Tilápia) | C26: kg | D26: ='ESCOLA MATEUS'!X31+'Bom conselho'!X31+Minérios!W31 -> 40 | E26: ='ESCOLA ESPAÇO DO APRENDER'!X31 -> 0 | F26: ='ESCOLA ABELHINHA'!X32 -> 10 | G26: =D26+E26+F26 -> 50
A27: 26 | B27: Carne Suína Pernil de 1ª | C27: kg | D27: ='ESCOLA MATEUS'!X32+'Bom conselho'!X32+Minérios!W32 -> 35 | E27: ='ESCOLA ESPAÇO DO APRENDER'!X32 -> 42 | F27: ='ESCOLA ABELHINHA'!X33 -> 10 | G27: =D27+E27+F27 -> 87
A28: 27 | B28: Ervilha em grão congelada | C28: emb. | D28: ='ESCOLA MATEUS'!X33+'Bom conselho'!X33+Minérios!W33 -> 25 | E28: ='ESCOLA ESPAÇO DO APRENDER'!X33 -> 72 | F28: ='ESCOLA ABELHINHA'!X34 -> 50 | G28: =D28+E28+F28 -> 147
A29: 28 | B29: Milho em grão congelado | C29: emb. | D29: ='ESCOLA MATEUS'!X34+'Bom conselho'!X34+Minérios!W34 -> 50 | E29: ='ESCOLA ESPAÇO DO APRENDER'!X34 -> 84 | F29: ='ESCOLA ABELHINHA'!X35 -> 30 | G29: =D29+E29+F29 -> 164
... A38: 37 | B38: Farinha de amendoim | C38: kg | D38: ='ESCOLA MATEUS'!X43+'Bom conselho'!X43+Minérios!W43 -> 0 | E38: ='ESCOLA ESPAÇO DO APRENDER'!X43 -> 0 | F38: ='ESCOLA ABELHINHA'!X44 -> 0 | G38: =D38+E38+F38 -> 0
