Workbook
Name _____LO25: #N/A
Name _____LO25: #N/A
Name _____LO25: #N/A
Name _____LO25: #N/A
Name _____LO25: #N/A
Name _____LO25: #N/A
Name ____LO25: #N/A
Name ____LO25: #N/A
Name ____LO25: #N/A
Name ____LO25: #N/A
Name ____LO25: #N/A
Name ____LO25: #N/A
Name ___LO25: #N/A
Name ___LO25: #N/A
Name ___LO25: #N/A
Name ___LO25: #N/A
Name ___LO25: #N/A
Name ___LO25: #N/A
Name __LO25: #N/A
Name __LO25: #N/A
Name __LO25: #N/A
Name __LO25: #N/A
Name __LO25: #N/A
Name __LO25: #N/A
Name _LO25: #N/A
Name _LO25: #N/A
Name _LO25: #N/A
Name _LO25: #N/A
Name _LO25: #N/A
Name _LO25: #N/A
Name AbaDeprec: #N/A
Name AbaRemun: #N/A
Name AbaRemun: #N/A
Name AbaRemun: #N/A
Name AbaRemun: #N/A
Name AbaRemun: #N/A
Name AbaRemun: #N/A
Name sesi: #N/A
Name sesi: #N/A
Name sesi: #N/A
Name sesi: #N/A
Name sesi: #N/A
Name sesi: #N/A
Name sesi: #N/A

Sheet Resumo 2026 
A1: PREGÃO ELETRÔNICO /2026
A2: RESUMO DAS LINHAS COM AS RESPECTIVAS ROTAS
A3: Serviço de Transporte Escolar - Fontoura Xavier/RS
A4: Planilha de Composição de Custos
A6: Resumo das Linhas
A7: Li-nhas | B7: Alu-nos | C7: Veíc Lug. | D7: Veículo | E7: Descrição da Linha | F7: Kms dia | G7: Dias Mês | H7: Kms mês | I7: Custo Mês | J7: Custo KM | K7: Custo ano | M7: km antigo | V7: Manhã | W7: Tarde | X7: Integral
A8: 28 | B8: ='Linha 28'!G8 -> 28 | C8: 32 | D8: Micro-ônibus | E8: Gramado/Centro | F8: ='Linha 28'!G11 -> 97.5 | G8: 20 | H8: ='Linha 28'!G23 -> 1950 | I8: ='Linha 28'!H59 -> 17349.605 | J8: =I8/H8 -> 8.8972334 | K8: =F8*200*J8 -> 173496.05 | M8: 129 | N8: 4.6 | O8: =M8*20*10*N8 -> 118680 | P8: =K8-O8 -> 54816.052 | Q8: 11546.292 | R8: 5.9196262 | S8: =J8-R8 -> 2.9776073 | U8: 5 | AA8: =F8*G8 -> 1950 | AB8: =AA8-H8 -> 0
A9: 29 | B9: ='Linha 29'!G8 -> 28 | C9: 32 | D9: Micro-ônibus | E9: Fátima/Gramado | F9: ='Linha 29'!G10 -> 58.9 | G9: 20 | H9: ='Linha 29'!G23 -> 1178 | I9: ='Linha 29'!H59 -> 10913.135 | J9: =I9/H9 -> 9.2641212 | K9: =F9*200*J9 -> 109131.35
A10: 36 | B10: ='Linha 36'!G8 -> 62 | C10: 38 | D10: Ônibus | E10: Geral Três Pinheiros | F10: ='Linha 36'!G11 -> 59 | G10: 20 | H10: ='Linha 36'!G23 -> 1180 | I10: ='Linha 36'!H59 -> 11334.714 | J10: =I10/H10 -> 9.6056897 | K10: =F10*200*J10 -> 113347.14 | U10: 8 | AA10: =F10*G10 -> 1180 | AB10: =AA10-H10 -> 0
A11: 41 | B11: ='Linha 41'!G8 -> 43 | C11: 28 | D11: Micro-ônibus | E11: Geral Carrapicho | F11: ='Linha 41'!G11 -> 58.6 | G11: 20 | H11: ='Linha 41'!G23 -> 1172 | I11: ='Linha 41'!H59 -> 9816.5014 | J11: =I11/H11 -> 8.3758544 | K11: =F11*200*J11 -> 98165.014 | M11: 120 | N11: 4.6 | O11: =M11*20*10*N11 -> 110400 | P11: =K11-O11 -> -12234.986 | Q11: 9184.4029 | R11: 5.0700171 | S11: =J11-R11 -> 3.3058374 | U11: 10 | AA11: =F11*G11 -> 1172 | AB11: =AA11-H11 -> 0
A13: Total | B13: =SUM(B8:B11) -> 161 | F13: =SUM(F8:F12) -> 274 | H13: =SUM(H8:H11) -> 5480 | I13: =SUM(I8:I11) -> 49413.955 | K13: =SUM(K8:K11) -> 494139.55 | O13: =SUM(O8:O12) -> 229080 | P13: =SUM(P8:P12) -> 42581.066 | Q13: 107854.51 | S13: =I13-Q13 -> -58440.552
A16: Fontoura Xavier, 05 de outubro de 2026
A25: ECZ, Assessoria, Consultoria e Treinamento LTDA.

Sheet Linha 28
A1: PREGÃO ELETRÔNICO /2026
A2: LINHA 28 - ITINERÁRIO
A3: Serviço de Transporte Escolar - Fontoura Xavier/RS
A4: Planilha de Composição de Custos
A6: PARAMÊTROS PARA CÁLCULO DE CUSTO DA LINHA
A7: TURNO | B7: Manhã/Meio-dia/Tarde | G7: TOTAL | I7: 25 | J7: km/h
A8: ALUNOS | B8: 28 | G8: =SUM(B8:F8) -> 28
A9: Km pavimentado | G9: 0
A10: Kms percorridos por dia | B10: =Roteiros!M32 -> 97.5 | G10: =SUM(B10:F10) -> 97.5
A11: Km total | G11: =G10+G9 -> 97.5
A12: Tempo conduzindo o veículo | B12: =B13/24 -> 0.1625 | C12: horas | G12: Total horas
A13: Horas p/base de cálculo de custos | B13: =B10/I7 -> 3.9 | G13: =SUM(B13:F13) -> 3.9
A14: Tempo de espera (1:30 horas por turno) | G14: 3 | I14: sem rota a tarde
A15: Tempo total (horas) | G15: =(G14+G13) -> 6.9
A17: Veículo | B17: Veículo no mínimo de 32 lugares
A18: Veículo no máximo 20 anos de uso - Base Tabela FIPE | G18: 180000
A19: 1.1 Combustível R$/litro conforme tabela ANP | G19: 7.32
A20: Total de Kms/litro previsão de consumo | G20: 3.8
A21: 1.2 Custo de manutenção e insumos por km rodado | G21: 0.75
A22: Média de dias letivos/mês | G22: 20
A23: Previsão de kms/mês | G23: =G22*B10 -> 1950
A25: 1- CUSTO VARIÁVEL | B25: Valor R$ | D25: 1.3 Pneus
A26: 1.1 Combustível | B26: =(G22*G11*G19)/G20 -> 3756.3158 | D26: Discriminação | E26: Unidade | F26: Quantidade | G26: Custo unitário | H26: Subtotal
A27: 1.2 Manutenção e insumos | B27: =G21*G23 -> 1462.5 | D27: Custo do jogo de pneus | E27: unidade | F27: 6 | G27: 1500 | H27: =F27*G27 -> 9000
A28: =D25 -> 1.3 Pneus | B28: =H31 -> 351 | D28: Nº de recapagens por pneu | E28: unidade | F28: 2
D29: Custo de recapagem | E29: unidade | F29: =F27*F28 -> 12 | G29: 450 | H29: =F29*G29 -> 5400
A30: TOTAL (Comb + Manut) | B30: =SUM(B26:B29) -> 5569.8158 | D30: Custo jg. compl. + 2 recap./ km rodado | E30: km/jogo | F30: 80000 | G30: =H27+H29 -> 14400 | H30: =IFERROR(G30/F30,"-") -> 0.18
D31: Custo mensal com pneus | E31: km | F31: =G23 -> 1950 | G31: =H30 -> 0.18 | H31: =IFERROR(F31*G31,0) -> 351
A33: 2 - TOTAL CUSTO FIXO MENSAL
A34: CUSTO CAPITAL INV. ANO (14,00%) | B34: =G44*0.14 -> 25200 | D34: SALÁRIO | E34: % Encargos | F34: Custo Mensal | G34: Meses | H34: TOTAL
A35: SEGURO OBRIGATÓRIO ANUAL | B35: 0 | D35: 3767.43 | E35: ='Encargos Sociais'!C38 -> 0.3078166 | F35: =(D35*E35)+D35 -> 4927.1075 | G35: 11.2 | H35: =F35*G35 -> 55183.604
A36: LICENCIAMENTO ANUAL | B36: 109.27 | D36: Vale Refeição R$ | E36: Dias Mês | F36: Custo Mensal | G36: Meses | H36: TOTAL
A37: VISTÓRIAS SEMESTRAIS (02 ANO) | B37: 1500 | D37: =37*0.9493 -> 35.1241 | E37: =G22 -> 20 | F37: =D37*E37 -> 702.482 | G37: 10 | H37: =F37*G37 -> 7024.82
A38: DEPRECIAÇÃO ANUAL | B38: =H48 -> 8487.6 | D38: Plano de Saúde | E38: Dias Mês | F38: Custo Mensal | G38: Meses | H38: TOTAL
A39: SEGURO TERCEIROS/ALUNOS ANO | B39: 3000 | D39: 216 | E39: 1 | F39: =D39*E39 -> 216 | G39: 12 | H39: =F39*G39 -> 2592
A40: QUANT. DE MOTORISTAS | B40: 1 | D40: Custo Anual por motorista | H40: =H35+H37+H39 -> 64800.424
A41: MOTORISTA CUSTO ANUAL | B41: =H40*B40 -> 64800.424
A42: TOTAL CUSTO FIXO ANO | B42: =SUM(B34:B39)+B41 -> 103097.29 | D42: Depreciação
A43: 2.1 TOTAL CUSTO FIXO MENSAL | B43: =B42/10*B44 -> 8083.7651 | D43: Discriminação | E43: Unidade | F43: Quantidade | G43: Custo unitário | H43: Subtotal
A44: TAXA USO VEÍCULO | B44: =(G15*5)/44 -> 0.78409091 | D44: Custo chassis | E44: unidade | F44: 1 | G44: =G18 -> 180000 | H44: =F44*G44 -> 180000
...

Sheet Linha 29
A1: PREGÃO ELETRÔNICO /2026
A2: LINHA 29 - ITINERÁRIO
A3: Serviço de Transporte Escolar - Fontoura Xavier/RS
A4: Planilha de Composição de Custos
A6: PARAMÊTROS PARA CÁLCULO DE CUSTO DA LINHA
A7: TURNO | B7: Tarde | G7: TOTAL | I7: 25 | J7: km/h
A8: ALUNOS | B8: 28 | G8: =SUM(B8:F8) -> 28
A9: Km pavimentado | G9: 0
A10: Kms percorridos por dia | B10: =Roteiros!T37 -> 58.9 | G10: =SUM(B10:F10) -> 58.9
A11: Km total | G11: =G10+G9 -> 58.9
A12: Tempo conduzindo o veículo | B12: =B13/24 -> 0.098166667 | C12: horas | G12: Total horas
A13: Horas p/base de cálculo de custos | B13: =B10/I7 -> 2.356 | G13: =SUM(B13:F13) -> 2.356
A14: Tempo de espera (2:00 horas por turno) | G14: 2 | I14: sem rota de manhã
A15: Tempo total (horas) | G15: =(G14+G13) -> 4.356
A17: Veículo | B17: Veículo no mínimo de 32 lugares
A18: Veículo no máximo 20 anos de uso - Base Tabela FIPE | G18: 180000
A19: 1.1 Combustível R$/litro conforme tabela ANP | G19: 7.32
A20: Total de Kms/litro previsão de consumo | G20: 3.7
A21: 1.2 Custo de manutenção e insumos por km rodado | G21: 0.8
A22: Média de dias letivos/mês | G22: 20
A23: Previsão de kms/mês | G23: =G22*B10 -> 1178
A25: 1- CUSTO VARIÁVEL | B25: Valor R$ | D25: 1.3 Pneus
A26: 1.1 Combustível | B26: =(G22*G11*G19)/G20 -> 2330.5297 | D26: Discriminação | E26: Unidade | F26: Quantidade | G26: Custo unitário | H26: Subtotal
A27: 1.2 Manutenção e insumos | B27: =G21*G23 -> 942.4 | D27: Custo do jogo de pneus | E27: unidade | F27: 6 | G27: 1500 | H27: =F27*G27 -> 9000
A28: =D25 -> 1.3 Pneus | B28: =H31 -> 212.04 | D28: Nº de recapagens por pneu | E28: unidade | F28: 2
D29: Custo de recapagem | E29: unidade | F29: =F27*F28 -> 12 | G29: 450 | H29: =F29*G29 -> 5400
A30: TOTAL (Comb + Manut) | B30: =SUM(B26:B29) -> 3484.9697 | D30: Custo jg. compl. + 2 recap./ km rodado | E30: km/jogo | F30: 80000 | G30: =H27+H29 -> 14400 | H30: =IFERROR(G30/F30,"-") -> 0.18
D31: Custo mensal com pneus | E31: km | F31: =G23 -> 1178 | G31: =H30 -> 0.18 | H31: =IFERROR(F31*G31,0) -> 212.04
A33: 2 - TOTAL CUSTO FIXO MENSAL
A34: CUSTO CAPITAL INV. ANO (14,00%) | B34: =G44*0.14 -> 25200 | D34: SALÁRIO | E34: % Encargos | F34: Custo Mensal | G34: Meses | H34: TOTAL
A35: SEGURO OBRIGATÓRIO ANUAL | B35: 0 | D35: 3767.43 | E35: ='Encargos Sociais'!C38 -> 0.3078166 | F35: =(D35*E35)+D35 -> 4927.1075 | G35: 11.2 | H35: =F35*G35 -> 55183.604
A36: LICENCIAMENTO ANUAL | B36: 109.27 | D36: Vale Refeição R$ | E36: Dias Mês | F36: Custo Mensal | G36: Meses | H36: TOTAL
A37: VISTÓRIAS SEMESTRAIS (02 ANO) | B37: 1500 | D37: =37*0.9493 -> 35.1241 | E37: =G22 -> 20 | F37: =D37*E37 -> 702.482 | G37: 10 | H37: =F37*G37 -> 7024.82
A38: DEPRECIAÇÃO ANUAL | B38: =H48 -> 8487.6 | D38: Plano de Saúde | E38: Dias Mês | F38: Custo Mensal | G38: Meses | H38: TOTAL
A39: SEGURO TERCEIROS/ALUNOS ANO | B39: 3000 | D39: 216 | E39: 1 | F39: =D39*E39 -> 216 | G39: 12 | H39: =F39*G39 -> 2592
A40: QUANT. DE MOTORISTAS | B40: 1 | D40: Custo Anual por motorista | H40: =H35+H37+H39 -> 64800.424
A41: MOTORISTA CUSTO ANUAL | B41: =H40*B40 -> 64800.424
A42: TOTAL CUSTO FIXO ANO | B42: =SUM(B34:B39)+B41 -> 103097.29 | D42: Depreciação
A43: 2.1 TOTAL CUSTO FIXO MENSAL | B43: =B42/10*B44 -> 5103.316 | D43: Discriminação | E43: Unidade | F43: Quantidade | G43: Custo unitário | H43: Subtotal
A44: TAXA USO VEÍCULO | B44: =(G15*5)/44 -> 0.495 | D44: Custo chassis | E44: unidade | F44: 1 | G44: =G18 -> 180000 | H44: =F44*G44 -> 180000
...

Sheet Linha 36
A1: PREGÃO ELETRÔNICO /2026
A2: LINHA 36 - ITINERÁRIO
A3: Serviço de Transporte Escolar - Fontoura Xavier/RS
A4: Planilha de Composição de Custos
A6: PARAMÊTROS PARA CÁLCULO DE CUSTO DA LINHA
A7: TURNO | B7: Manhã/Tarde | G7: TOTAL | I7: 25 | J7: km/h
A8: ALUNOS | B8: 62 | G8: =SUM(B8:F8) -> 62
A9: Km pavimentado | G9: 0
A10: Kms percorridos por dia | B10: =Roteiros!AA29 -> 59 | G10: =SUM(B10:F10) -> 59
A11: Km total | G11: =G10+G9 -> 59
A12: Tempo conduzindo o veículo | B12: =B13/24 -> 0.098333333 | C12: horas | G12: Total horas
A13: Horas p/base de cálculo de custos | B13: =B10/I7 -> 2.36 | G13: =SUM(B13:F13) -> 2.36
A14: Tempo de espera (2:00 horas por turno) | G14: 2
A15: Tempo total (horas) | G15: =(G14+G13) -> 4.36
A17: Veículo | B17: Veículo no mínimo de 38 lugares
A18: Veículo no máximo 20 anos de uso - Base Tabela FIPE | G18: 180000
A19: 1.1 Combustível R$/litro conforme tabela ANP | G19: 7.32
A20: Total de Kms/litro previsão de consumo | G20: 3.8
A21: 1.2 Custo de manutenção e insumos por km rodado | G21: 0.75
A22: Média de dias letivos/mês | G22: 20
A23: Previsão de kms/mês | G23: =G22*B10 -> 1180
A25: 1- CUSTO VARIÁVEL | B25: Valor R$ | D25: 1.3 Pneus
A26: 1.1 Combustível | B26: =(G22*G11*G19)/G20 -> 2273.0526 | D26: Discriminação | E26: Unidade | F26: Quantidade | G26: Custo unitário | H26: Subtotal
A27: 1.2 Manutenção e insumos | B27: =G21*G23 -> 885 | D27: Custo do jogo de pneus | E27: unidade | F27: 6 | G27: 1500 | H27: =F27*G27 -> 9000
A28: =D25 -> 1.3 Pneus | B28: =H31 -> 212.4 | D28: Nº de recapagens por pneu | E28: unidade | F28: 2
D29: Custo de recapagem | E29: unidade | F29: =F27*F28 -> 12 | G29: 450 | H29: =F29*G29 -> 5400
A30: TOTAL (Comb + Manut) | B30: =SUM(B26:B29) -> 3370.4526 | D30: Custo jg. compl. + 2 recap./ km rodado | E30: km/jogo | F30: 80000 | G30: =H27+H29 -> 14400 | H30: =IFERROR(G30/F30,"-") -> 0.18
D31: Custo mensal com pneus | E31: km | F31: =G23 -> 1180 | G31: =H30 -> 0.18 | H31: =IFERROR(F31*G31,0) -> 212.4
A33: 2 - TOTAL CUSTO FIXO MENSAL
A34: CUSTO CAPITAL INV. ANO (14,00%) | B34: =G44*0.14 -> 25200 | D34: SALÁRIO | E34: % Encargos | F34: Custo Mensal | G34: Meses | H34: TOTAL
A35: SEGURO OBRIG. ANUAL | B35: 0 | D35: 3767.43 | E35: ='Encargos Sociais'!C38 -> 0.3078166 | F35: =(D35*E35)+D35 -> 4927.1075 | G35: 11.2 | H35: =F35*G35 -> 55183.604
A36: LICENCIAMENTO ANUAL | B36: 109.27 | D36: Vale Refeição R$ | E36: Dias Mês | F36: Custo Mensal | G36: Meses | H36: TOTAL
A37: VISTÓRIAS SEMESTRAIS (02 ANO) | B37: 1500 | D37: =37*0.9493 -> 35.1241 | E37: =G22 -> 20 | F37: =D37*E37 -> 702.482 | G37: 10 | H37: =F37*G37 -> 7024.82
A38: DEPRECIAÇÃO ANUAL | B38: =H48 -> 8487.6 | D38: Plano de Saúde | E38: Dias Mês | F38: Custo Mensal | G38: Meses | H38: TOTAL
A39: SEGURO TERCEIROS/ALUNOS ANO | B39: 3000 | D39: 216 | E39: 1 | F39: =D39*E39 -> 216 | G39: 12 | H39: =F39*G39 -> 2592
A40: QUANT. DE MOTORISTAS | B40: 1 | D40: Custo Anual por motorista | H40: =H35+H37+H39 -> 64800.424
A41: MOTORISTA CUSTO ANUAL | B41: =H40*B40 -> 64800.424
A42: TOTAL CUSTO FIXO ANO | B42: =SUM(B34:B39)+B41 -> 103097.29 | D42: Depreciação
A43: 2.1 TOTAL CUSTO FIXO MENSAL | B43: =B42/10*B44 -> 5108.0023 | D43: Discriminação | E43: Unidade | F43: Quantidade | G43: Custo unitário | H43: Subtotal
A44: TAXA USO VEÍCULO | B44: =(G15*5)/44 -> 0.49545455 | D44: Custo chassis | E44: unidade | F44: 1 | G44: =G18 -> 180000 | H44: =F44*G44 -> 180000
...

Sheet Linha 41
A1: PREGÃO ELETRÔNICO /2026
A2: LINHA 41 - ITINERÁRIO
A3: Serviço de Transporte Escolar - Fontoura Xavier/RS
A4: Planilha de Composição de Custos
A6: PARAMÊTROS PARA CÁLCULO DE CUSTO DA LINHA
A7: TURNO | B7: Manhã/Meio-dia/Tarde | G7: TOTAL | I7: 25 | J7: km/h
A8: ALUNOS | B8: 43 | G8: =SUM(B8:F8) -> 43
A9: Km pavimentado | G9: 0
A10: Kms percorridos por dia | B10: =Roteiros!AH31 -> 58.6 | G10: =SUM(B10:F10) -> 58.6
A11: Km total | G11: =G10+G9 -> 58.6
A12: Tempo conduzindo o veículo | B12: =B13/24 -> 0.097666667 | C12: horas | G12: Total horas
A13: Horas p/base de cálculo de custos | B13: =B10/I7 -> 2.344 | G13: =SUM(B13:F13) -> 2.344
A14: Tempo de espera (1:30 horas por turno) | G14: 3
A15: Tempo total (horas) | G15: =(G14+G13) -> 5.344
A17: Veículo | B17: Veículo no mínimo de 28 lugares
A18: Veículo no máximo 20 anos de uso - Base Tabela FIPE | G18: 160000
A19: 1.1 Combustível R$/litro conforme tabela ANP | G19: 7.32
A20: Total de Kms/litro previsão de consumo | G20: 4.6
A21: 1.2 Custo de manutenção e insumos por km rodado | G21: 0.72
A22: Média de dias letivos/mês | G22: 20
A23: Previsão de kms/mês | G23: =G22*B10 -> 1172
A25: 1- CUSTO VARIÁVEL | B25: Valor R$ | D25: 1.3 Pneus
A26: 1.1 Combustível | B26: =(G22*G11*G19)/G20 -> 1865.0087 | D26: Discriminação | E26: Unidade | F26: Quantidade | G26: Custo unitário | H26: Subtotal
A27: 1.2 Manutenção e insumos | B27: =G21*G23 -> 843.84 | D27: Custo do jogo de pneus | E27: unidade | F27: 6 | G27: 980 | H27: =F27*G27 -> 5880
A28: =D25 -> 1.3 Pneus | B28: =H31 -> 156.462 | D28: Nº de recapagens por pneu | E28: unidade | F28: 2
D29: Custo de recapagem | E29: unidade | F29: =F27*F28 -> 12 | G29: 400 | H29: =F29*G29 -> 4800
A30: TOTAL (Comb + Manut) | B30: =SUM(B26:B29) -> 2865.3107 | D30: Custo jg. compl. + 2 recap./ km rodado | E30: km/jogo | F30: 80000 | G30: =H27+H29 -> 10680 | H30: =IFERROR(G30/F30,"-") -> 0.1335
D31: Custo mensal com pneus | E31: km | F31: =G23 -> 1172 | G31: =H30 -> 0.1335 | H31: =IFERROR(F31*G31,0) -> 156.462
A33: 2 - TOTAL CUSTO FIXO MENSAL
A34: CUSTO CAPITAL INV. ANO (14,00%) | B34: =G44*0.14 -> 22400 | D34: SALÁRIO | E34: % Encargos | F34: Custo Mensal | G34: Meses | H34: TOTAL
A35: SEGURO OBRIGATÓRIO ANUAL | B35: 0 | D35: 2448.1 | E35: ='Encargos Sociais'!C38 -> 0.3078166 | F35: =(D35*E35)+D35 -> 3201.6658 | G35: 11.2 | H35: =F35*G35 -> 35858.657
A36: LICENCIAMENTO ANUAL | B36: 109.27 | D36: Vale Refeição R$ | E36: Dias Mês | F36: Custo Mensal | G36: Meses | H36: TOTAL
A37: VISTÓRIAS SEMESTRAIS (02 ANO) | B37: 1500 | D37: =37*0.9493 -> 35.1241 | E37: =G22 -> 20 | F37: =D37*E37 -> 702.482 | G37: 10 | H37: =F37*G37 -> 7024.82
A38: DEPRECIAÇÃO ANUAL | B38: =H48 -> 7544.5333 | D38: Plano de Saúde | E38: Dias Mês | F38: Custo Mensal | G38: Meses | H38: TOTAL
A39: SEGURO TERCEIROS/ALUNOS ANO | B39: 3000 | D39: 216 | E39: 1 | F39: =D39*E39 -> 216 | G39: 12 | H39: =F39*G39 -> 2592
A40: QUANT. DE MOTORISTAS | B40: 1 | D40: Custo Anual por motorista | H40: =H35+H37+H39 -> 45475.477
A41: MOTORISTA CUSTO ANUAL | B41: =H40*B40 -> 45475.477
A42: TOTAL CUSTO FIXO ANO | B42: =SUM(B34:B39)+B41 -> 80029.281 | D42: Depreciação
A43: 2.1 TOTAL CUSTO FIXO MENSAL | B43: =B42/10*B44 -> 4859.9599 | D43: Discriminação | E43: Unidade | F43: Quantidade | G43: Custo unitário | H43: Subtotal
A44: TAXA USO VEÍCULO | B44: =(G15*5)/44 -> 0.60727273 | D44: Custo chassis | E44: unidade | F44: 1 | G44: =G18 -> 160000 | H44: =F44*G44 -> 160000
...

Sheet Roteiros
B2: ROTAS DE TRANSPORTE ESCOLAR INTERIOR - Linha 13 e 15 - Geral Campo Novo/Guavirova | I2: ROTAS DE TRANSPORTE ESCOLAR INTERIOR - Linha 28 - Gramado/Centro | P2: ROTAS DE TRANSPORTE ESCOLAR INTERIOR - Linha 29 - Fátima/Gramado | W2: ROTAS DE TRANSPORTE ESCOLAR INTERIOR - Linha 36 - Geral Três Pinheiros (Tuias) | AD2: ROTAS DE TRANSPORTE ESCOLAR INTERIOR - Linha 41 - Geral Carrapicho
B4: Início da manhã | I4: Início da manhã | P4: Início da manhã | W4: Início da manhã | AD4: Início da manhã
B5: Trecho | C5: Passageiro | D5: Ponto a Ponto | F5: Distância | G5: Unid | I5: Trecho | J5: Passageiro | K5: Ponto a Ponto | M5: Distância | N5: Unid | P5: Trecho | Q5: Passageiro | R5: Ponto a Ponto | T5: Distância | U5: Unid | W5: Trecho | X5: Passageiro | Y5: Ponto a Ponto | AA5: Distância | AB5: Unid | AD5: Trecho | AE5: Passageiro | AF5: Ponto a Ponto | AH5: Distância | AI5: Unid
B6: Trecho 01 | C6: Sem aluno | D6: 1 - 2 | F6: 6.9 | G6: km | I6: Trecho 01 | J6: Com aluno | K6: 1 - 2 | M6: 17.1 | N6: km | P6: Trecho 01 | Q6: Com aluno | R6: 1 - 2 | T6: 1.7 | U6: km | W6: Trecho 01 | X6: Com aluno | Y6: 1 - 2 | AA6: 21.05 | AB6: km | AD6: Trecho 01 | AE6: Sem aluno | AF6: 1 - 2 | AH6: 1.2 | AI6: km
B7: Trecho 02 | C7: Com aluno | D7: 2 - 3 | F7: 13.2 | G7: km | I7: Trecho 02 | J7: Com aluno | K7: 2 - 1 | M7: 15.4 | N7: km | P7: Trecho 02 | Q7: Com aluno | R7: 2 - 3 | T7: 3.75 | U7: km | W7: Distância total da Rota: | AA7: =SUM(AA6:AA6) -> 21.05 | AB7: km | AD7: Trecho 02 | AE7: Com aluno | AF7: 2 - 3 | AH7: 13.2 | AI7: km
B8: Distância total da Rota: | F8: =SUM(F6:F7) -> 20.1 | G8: km | I8: Distância total da Rota: | M8: =SUM(M6:M7) -> 32.5 | N8: km | P8: Trecho 03 | Q8: Com aluno | R8: 3 - 4 | T8: 7.95 | U8: km | AD8: Distância total da Rota: | AH8: =SUM(AH6:AH7) -> 14.4 | AI8: km
P9: Distância total da Rota: | T9: =SUM(T6:T8) -> 13.4 | U9: km | W9: Final da Tarde (segunda a quinta)
B10: Meio Dia | I10: Meio Dia | W10: Trecho | X10: Cor Linha | Y10: Ponto a Ponto | AA10: Distância | AB10: Unid | AD10: Meio Dia
B11: Trecho | C11: Passageiro | D11: Ponto a Ponto | F11: Distância | G11: Unid | I11: Trecho | J11: Passageiro | K11: Ponto a Ponto | M11: Distância | N11: Unid | P11: Meio Dia | W11: Trecho 02 | X11: Com aluno | Y11: 2 - 3 | AA11: 28.4 | AB11: km | AD11: Trecho | AE11: Passageiro | AF11: Ponto a Ponto | AH11: Distância | AI11: Unid
B12: Trecho 01 | C12: Sem aluno | D12: 3 - 2 | F12: 16.5 | G12: km | I12: Trecho 01 | J12: Com aluno | K12: 1 - 2 | M12: =M6 -> 17.1 | N12: km | P12: Trecho | Q12: Passageiro | R12: Ponto a Ponto | T12: Distância | U12: Unid | W12: Trecho 03 | X12: Com aluno | Y12: 3 - 1 | AA12: 14.2 | AB12: km | AD12: Trecho 01 | AE12: Com aluno | AF12: 3 - 2 | AH12: 14.9 | AI12: km
B13: Trecho 02 | C13: Com aluno | D13: 2 - 4 | F13: 26.4 | G13: km | I13: Trecho 02 | J13: Com aluno | K13: 2 - 1 | M13: =M7 -> 15.4 | N13: km | P13: Trecho 01 | Q13: Com aluno | R13: 4 - 1 | T13: 6.2 | U13: km | W13: Distância total da Rota: | AA13: =SUM(AA11:AA12) -> 42.6 | AB13: km | AD13: Trecho 02 | AE13: Com aluno | AF13: 2 - 3 | AH13: =AH7 -> 13.2 | AI13: km
B14: Trecho 03 | C14: Com aluno | D14: 4 - 3 | F14: 2.32 | G14: km | I14: Distância total da Rota: | M14: =SUM(M12:M13) -> 32.5 | N14: km | P14: Trecho 02 | Q14: Com aluno | R14: 1 - 4 | T14: 6.2 | U14: km | AD14: Distância total da Rota: | AH14: =SUM(AH12:AH13) -> 28.1 | AI14: km
B15: Trecho 04 | C15: Com aluno | D15: 3 - 2 | G15: km | P15: Trecho 03 | Q15: Com aluno | R15: 4 - 2 | T15: 7.6 | U15: km | W15: Final da Tarde (sexta)
B16: Trecho 05 | C16: Sem aluno | D16: 2 - 3 | G16: km | I16: Meio Dia | P16: Trecho 04 | Q16: Com aluno | R16: 2 - 3 | T16: 3.9 | U16: km | W16: Trecho | X16: Cor Linha | Y16: Ponto a Ponto | AA16: Distância | AB16: Unid | AD16: Final da Tarde
B17: Distância total da Rota: | F17: =SUM(F12:F16) -> 45.22 | G17: km | I17: Trecho | J17: Passageiro | K17: Ponto a Ponto | M17: Distância | N17: Unid | P17: Trecho 05 | Q17: Com aluno | R17: 3 - 4 | T17: 8.2 | U17: km | W17: Trecho 02 | X17: Com aluno | Y17: 2 - 1 | AA17: 19.35 | AB17: km | AD17: Trecho | AE17: Cor Linha | AF17: Ponto a Ponto | AH17: Distância | AI17: Unid
I18: Trecho 01 | J18: Com aluno | K18: 1 - 2 | M18: =M6 -> 17.1 | N18: km | P18: Distância total da Rota: | T18: =SUM(T13:T17) -> 32.1 | U18: km | W18: Distância total da Rota: | AA18: =SUM(AA17:AA17) -> 19.35 | AB18: km | AD18: Trecho 01 | AE18: Com aluno | AF18: 3 - 2 | AH18: =AH12 -> 14.9 | AI18: km
B19: Final da Tarde | I19: Trecho 02 | J19: Com aluno | K19: 2 - 1 | M19: =M7 -> 15.4 | N19: km | AD19: Trecho 02 | AE19: Sem aluno | AF19: 2 - 1 | AH19: =AH6 -> 1.2 | AI19: km
B20: Trecho | C20: Cor Linha | D20: Ponto a Ponto | F20: Distância | G20: Unid | I20: Distância total da Rota: | M20: =SUM(M18:M19) -> 32.5 | N20: km | P20: Volta da Tarde | AD20: Distância total da Rota: | AH20: =SUM(AH18:AH19) -> 16.1 | AI20: km
B21: Trecho 01 | C21: Com aluno | D21: 3 - 4 | F21: 9.4 | G21: km | P21: Trecho | Q21: Passageiro | R21: Ponto a Ponto | T21: Distância | U21: Unid | W21: TOTAL MENSAL = LINHAS DE TRANSPORTE
B22: Trecho 02 | C22: Com aluno | D22: 4 - 2 | F22: 13.2 | G22: km | P22: Trecho 01 | Q22: Com aluno | R22: 4 - 3 | T22: =T8 -> 7.95 | U22: km
B23: Trecho 03 | C23: Sem aluno | D23: 2 - 1 | G23: km | P23: Trecho 02 | Q23: Com aluno | R23: 3 - 2 | T23: =T7 -> 3.75 | U23: km | W23: Total dos percursos de transporte escolar interior | AD23: TOTAL MENSAL = LINHAS DE TRANSPORTE
B24: Distância total da Rota: | F24: =SUM(F21:F23) -> 22.6 | G24: km | I24: TOTAL MENSAL = LINHAS DE TRANSPORTE | P24: Trecho 03 | Q24: Com aluno | R24: 2 - 1 | T24: =T6 -> 1.7 | U24: km | W24: Linha 36 | X24: Dias da semana | Y24: Nº de Linhas Semanal | AA24: Distância | AB24: Und.
P25: Distância total da Rota: | T25: =SUM(T22:T24) -> 13.4 | U25: km | AD25: Total dos percursos de transporte escolar interior
I26: Total dos percursos de transporte escolar interior | W26: Inicio da Manhã | X26: Segunda á sexta | Y26: 5 | Z26: x | AA26: =AA7 -> 21.05 | AB26: km | AD26: Linha 41 | AE26: Dias da semana | AF26: Nº de Linhas Semanal | AH26: Distância | AI26: Und.
B27: TOTAL MENSAL = LINHAS DE TRANSPORTE | I27: Linha 28 | J27: Dias da semana | K27: Nº de Linhas Semanal | M27: Distância | N27: Und. | W27: Volta da Tarde | X27: Segunda á quinta | Y27: 4 | Z27: x | AA27: =AA13 -> 42.6 | AB27: km
W28: Volta da Tarde | X28: Sexta | Y28: 1 | Z28: x | AA28: =AA18 -> 19.35 | AB28: km | AD28: Inicio da Manhã | AE28: Segunda á sexta | AF28: 5 | AG28: x | AH28: =AH8 -> 14.4 | AI28: km
B29: Total dos percursos de transporte escolar interior | I29: Inicio da Manhã | J29: Segunda á sexta | K29: 5 | L29: x | M29: =M8 -> 32.5 | N29: km | P29: TOTAL MENSAL = LINHAS DE TRANSPORTE | W29: Total Diário | AA29: =AA30/5 -> 59 | AB29: Km | AD29: Meio - Dia | AE29: Segunda á sexta | AF29: 5 | AG29: x | AH29: =AH14 -> 28.1 | AI29: km
B30: Linha 15 | C30: Dias da semana | D30: Nº de Linhas Semanal | F30: Distância | G30: Und. | I30: Meio - Dia | J30: Segunda á sexta | K30: 5 | L30: x | M30: =M14 -> 32.5 | N30: km | W30: Total Semanal | AA30: =Y26*AA26+Y27*AA27+Y28*AA28 -> 295 | AB30: Km | AD30: Volta da Tarde | AE30: Segunda á sexta | AF30: 5 | AG30: x | AH30: =AH20 -> 16.1 | AI30: km
I31: Volta da Tarde | J31: Segunda á sexta | K31: 5 | L31: x | M31: =M20 -> 32.5 | N31: km | P31: Total dos percursos de transporte escolar interior | W31: Total Mensal | AA31: =AA29*20 -> 1180 | AB31: Km | AD31: Total Diário | AH31: =AH32/5 -> 58.6 | AI31: Km
B32: Inicio da Manhã | C32: Segunda á sexta | D32: 5 | E32: x | F32: =F8 -> 20.1 | G32: km | I32: Total Diário | M32: =SUM(M29:M31) -> 97.5 | N32: Km | P32: Linha 29 | Q32: Dias da semana | R32: Nº de Linhas Semanal | T32: Distância | U32: Und. | AD32: Total Semanal | AH32: =AF28*AH28+AF29*AH29+AF30*AH30 -> 293 | AI32: Km
B33: Meio - Dia | C33: Segunda á sexta | D33: 5 | E33: x | F33: =F17 -> 45.22 | G33: km | I33: Total Semanal | M33: =M32*K29 -> 487.5 | N33: Km | AD33: Total Mensal | AH33: =AH31*20 -> 1172 | AI33: Km
B34: Volta da Tarde | C34: Segunda á sexta | D34: 5 | E34: x | F34: =F24 -> 22.6 | G34: km | I34: Total Mensal | M34: =M32*20 -> 1950 | N34: Km | P34: Inicio da Manhã | Q34: Segunda á sexta | R34: 5 | S34: x | T34: =T9 -> 13.4 | U34: km
B35: Total Diário | F35: =SUM(F32:F34) -> 87.92 | G35: Km | P35: Meio - Dia | Q35: Segunda á sexta | R35: 5 | S35: x | T35: =T18 -> 32.1 | U35: km
B36: Total Semanal | F36: =F35*D32 -> 439.6 | G36: Km | P36: Volta da Tarde | Q36: Segunda á sexta | R36: 5 | S36: x | T36: =T25 -> 13.4 | U36: km
B37: Total Mensal | F37: =F35*20 -> 1758.4 | G37: Km | P37: Total Diário | T37: =SUM(T34:T36) -> 58.9 | U37: Km
P38: Total Semanal | T38: =T37*R35 -> 294.5 | U38: Km
P39: Total Mensal | T39: =T37*20 -> 1178 | U39: Km

Sheet Encargos Sociais
A1: Orientações para preenchimento:
A2: 1. Preencha previamente os dados de entrada na planilha
A4: O TCE/RS não se responsabiliza pelo uso incorreto desta planilha.
A5: O orçamento deve ser realizado por responsável técnico habilitado e
A6: é de responsabilidade do seu autor.
A8: 2. Composição dos Encargos Sociais
A9: Código | B9: Descrição | C9: Valor
A10: A1 | B10: INSS
A11: A2 | B11: SESI
A12: A3 | B12: SENAI
A13: A4 | B13: INCRA
A14: A5 | B14: SEBRAE
A15: A6 | B15: Salário educação
A16: A7 | B16: Seguro contra acidentes de trabalho
A17: A8 | B17: FGTS | C17: 0.08
A18: A | B18: SOMA GRUPO A | C18: =SUM(C10:C17) -> 0.08
A20: B1 | B20: Férias gozadas | C20: 0.075
A21: B2 | B21: 13º salário | C21: 0.0833
A22: B3 | B22: Licença Paternidade | C22: 0.0006
A23: B4 | B23: Faltas justificadas | C23: 0.002
A24: B5 | B24: Auxilio acidente de trabalho | C24: 0.001
A25: B6 | B25: Auxilio doença | C25: 0.002
A26: B | B26: SOMA GRUPO B | C26: =SUM(C20:C25) -> 0.1639
A28: C1 | B28: Aviso prévio indenizado | C28: 0.006
A29: C2 | B29: Férias indenizadas | C29: 0.0361
A30: C3 | B30: Férias indenizadas s/ aviso previo inden. | C30: =C28*C29 -> 0.0002166
A31: C4 | B31: Depósito rescisão sem justa causa | C31: 0.006
A32: C5 | B32: Indenização adicional | C32: 0.002
A33: C | B33: SOMA GRUPO C | C33: =SUM(C28:C32) -> 0.0503166
A35: D1 | B35: Reincidência de Grupo A sobre Grupo B | C35: =ROUND(C18*C26,4) -> 0.0131
A36: D2 | B36: Reincidência de FGTS sobre aviso prévio indenizado | C36: =ROUND((C28*C17),4) -> 0.0005
A37: D | B37: SOMA GRUPO D | C37: =SUM(C35:C36) -> 0.0136
B38: SOMA (A+B+C+D) | C38: =C37+C33+C26+C18 -> 0.3078166

Sheet BDI
A1: Orientações para preenchimento:
A2: 1. Esta planilha é somente um modelo-base e deve ser ajustada conforme cada caso concreto.
A3: 2. Preencher somente células em amarelo
A5: O TCE/RS não se responsabiliza pelo uso incorreto desta planilha.
A6: O orçamento deve ser realizado por responsável técnico habilitado e é
A7: de responsabilidade do seu autor.
A9: Composição do BDI - Benefícios e Despesas Indiretas
D11: Referência estudo TCE
D12: 1° Quartil | E12: Médio | F12: 3° Quartil
A13: Administração Central | B13: AC | C13: 0.06 | D13: 0.0297 | E13: 0.0508 | F13: 0.0627
A14: Seguros/Riscos/Garantias | B14: SRG | C14: 0.0133 | D14: =0.3%+0.56% -> 0.0086 | E14: =0.48%+0.85% -> 0.0133 | F14: =0.82%+0.89% -> 0.0171
A15: Lucro | B15: L | C15: 0.11 | D15: 0.0778 | E15: 0.1085 | F15: 0.1355
A16: Despesas Financeiras | B16: DF | C16: =(1+E16)^(E17/252)-1 -> 0.0026031494 | D16: i | E16: 0.14
A17: Tributos - ISS | B17: T | C17: 0.02 | D17: DU | E17: 5
A18: Tributos - PIS/COFINS/ e CPP se houver | C18: 0.04
A19: Fórmula para o cálculo do BDI:
A20: {[(1+AC+SRG) x (1+L) x (1+DF)] / (1-T)} -1
A21: Resultado do cálculo do BDI: | C21: =ROUND((((1+C13+C14)*(1+C15)*(1+C16))/(1-(C17+C18))-1),4) -> 0.2707 | D21: 0.2143 | E21: 0.2717 | F21: 0.3362
A23: Obs: Cada empresa deve prever os Benefícios e Despesas Indiretas de acordo com
A24: a sua natureza jurídica.

Sheet Depreciação
A1: Depreciação Referencial (%)
A2: Idade do veículo (ano) | B2: Depreciação Média
A3: 1 | B3: 33.63
A4: 2 | B4: 43.13
A5: 3 | B5: 48.68
A6: 4 | B6: 52.62
A7: 5 | B7: 55.68
A8: 6 | B8: 58.18
A9: 7 | B9: 60.29
A10: 8 | B10: 62.12
A11: 9 | B11: 63.73
A12: 10 | B12: 65.18
A13: 11 | B13: 66.48
A14: 12 | B14: 67.67
... A17: 15 | B17: 70.73
