Workbook
Name CFF.ColunaPadrão: CFF!$AC:$AC
Name CFF.Colunas: CFF!$P$10:$X$10
Name CFF.Dados: OFFSET(CFF!$L$17,1,0):OFFSET(CFF!$X$60,-1,-1)
Name CFF.IncluirLinha: MAX(PO!$V$12:$V$96)*CFF.NumLinha-ROW(CFF!$F$60)+ROW(CFF!$F$17)+1
Name CFF.Item: OFFSET(CFF!$L$17,1,0):OFFSET(CFF!$X$60,-1,-1)
Name CFF.LinhaPadrão: CFF!$A$11:$W$11
Name CFF.NumLinha: ROW(CFF!$D$14)-ROW(CFF!$D$10)-1
Name Código: PO!$M1
Name Composições.LinhaPadrão: #REF!
Name Cotações.LinhaPadrão: #REF!
Name Dados.Assinatura1: DADOS!$B$54:$E$57
Name Dados.Assinatura2: DADOS!$H$54:$K$57
Name Dados.Lista.Acompanhamento: DADOS!$P$122:$P$123
Name Dados.Lista.BDI: DADOS!$T$37:$X$37
Name Dados.Lista.Localidade: DADOS!$L$107:$L$134
Name Dados.Lista.RegimeExecução: DADOS!$P$115:$P$120
Name EXCELVERSAO: IF(MID(INFO("SOLTAR"),1,2)*1<=11,"Excel 2003","Superior")
Name Fonte: PO!$L1
Name Import.Ação: DADOS!$J$29
Name Import.Apelido: DADOS!$Q$32
Name Import.CNPJ: DADOS!$B$57
Name Import.Código: OFFSET(PO!$M$12,1,0):OFFSET(PO!$M$96,-1,0)
Name Import.CR: DADOS!$A$29
Name Import.CTEF: DADOS!$A$43
Name Import.CustoUnitário: OFFSET(PO!$Q$12,1,0):OFFSET(PO!$Q$96,-1,0)
Name Import.DadosBDI: DADOS!$S$108:$S$112
Name Import.DataAssinaturaCTEF: DADOS!$U$43
Name Import.DataBase: DADOS!$A$38
Name Import.DataBaseLicit: DADOS!$H$43
Name Import.DataCot: OFFSET(#REF!,1,0):OFFSET(#REF!,-1,0)
Name Import.DataCotIndice: OFFSET(#REF!,1,0):OFFSET(#REF!,-1,0)
Name Import.DataInícioObra: DADOS!$A$48
Name Import.DescComp: OFFSET(#REF!,1,0):OFFSET(#REF!,-1,0)
Name Import.DescCot: OFFSET(#REF!,1,0):OFFSET(#REF!,-1,0)
Name Import.DescLote: DADOS!$G$38
Name Import.Descrição: OFFSET(PO!$N$12,1,0):OFFSET(PO!$N$96,-1,0)
Name Import.Desoneracao: DADOS!$C$38
Name Import.DesoneracaoLicit: DADOS!$J$43
Name Import.Empresa: DADOS!$C$43
Name Import.FontComp: OFFSET(#REF!,1,0):OFFSET(#REF!,-1,0)
Name Import.Fonte: OFFSET(PO!$L$12,1,0):OFFSET(PO!$L$96,-1,0)
Name Import.FrenteDeObra: PLQ!$F$9:OFFSET(PLQ!$P$9,0,-1)
Name Import.Gestor: DADOS!$C$29
Name Import.IndiceAtual: OFFSET(#REF!,1,0):OFFSET(#REF!,-1,0)
Name Import.IndiceCot: OFFSET(#REF!,1,0):OFFSET(#REF!,-1,0)
Name Import.Item: OFFSET(PO!$K$12,1,0):OFFSET(PO!$K$96,-1,0)
Name Import.Localidade: DADOS!$K$32
Name Import.LocalSINAPI: DADOS!$D$38
Name Import.Município: DADOS!$G$32
Name Import.Nível: OFFSET(PO!$J$12,1,0):OFFSET(PO!$J$96,-1,0)
Name Import.NomeEmpresaForn: OFFSET(#REF!,1,0):OFFSET(#REF!,-1,0)
Name Import.ObjetoCR: DADOS!$P$29
Name Import.ObjetoCTEF: DADOS!$O$43
Name Import.ObsComp: OFFSET(#REF!,1,0):OFFSET(#REF!,-1,0)
Name Import.ObsCot: OFFSET(#REF!,1,0):OFFSET(#REF!,-1,0)
Name Import.ObsForn: OFFSET(#REF!,1,0):OFFSET(#REF!,-1,0)
Name Import.ObsIndice: OFFSET(#REF!,1,0):OFFSET(#REF!,-1,0)
Name Import.PLQ: OFFSET(PLQ!$F$12,1,0):OFFSET(PLQ!$P$96,-1,-1)
Name Import.POArred: PO!$X$3:$X$7
Name Import.PreçoTotal: OFFSET(PO!$T$12,1,0):OFFSET(PO!$T$96,-1,0)

Sheet DADOS
A1: 27476 | B1: PO - Planilha Orçamentária / PLQ - Planilha de Levantamento de Quantidades / CFF - Cronograma Físico Financeiro
A2: v008
A4: INSTRUÇÕES DE USO E PREENCHIMENTO
A6: 1. Este documento somente pode ser utilizado nas versões do Excel 2003 ou superior. Não deve ser utilizado versões do BROffice. O Documento deve ser salvo SOMENTE em extensão habilitada para macros (.xls ou .xlsm). Se o documento for salvo na extensão .xlsx, o arquivo será INUTILIZADO.
A8: 2. Para funcionamento pleno desse arquivo, a Segurança de Macros do Excel deve ser habilitada.
A10: 2.1 Na Versão Excel 2003, selecione na Faixa de Opções: Ferramentas --> Macro --> Segurança --> Na aba Nível de Segurança selecione a Opção "Baixo" --> Clique em OK --> Feche e abra o Excel novamente para utilizar a Planilha.
A12: 2.2 Na Versão Excel 2007 ou superior, selecione na Faixa de Opções: Arquivo --> Opções --> Central de Confiabilidade --> Configurações da Central de Confiabilidade --> Configurações de Macro --> Habilitar todas as Macros --> Clique em OK --> Feche e abra o excel novamente para utilizar a Planilha.
A14: 3. O Preenchimento deve ser feito somente nas células em amarelo. As outras células são de preenchimento Automático.
A16: 4. Preferências de Elaboração do Orçamento
A18: 4.1. Preenchimento de Quantidades
A22: 5. Ordem de Preenchimento
A24: 5.1. na Aba DADOS
A26: 5.1.1. Preencha no Quadro abaixo os Dados do TC/CR:
A28: Nº OPERAÇÃO | C28: GESTOR | F28: PROGRAMA | J28: AÇÃO / MODALIDADE | P28: OBJETO
J29: OTIMIZAÇÃO DA SAÚDE PÚBLICA | P29: REFORMA DO CENTRO DE ASSITÊNCIA A SAÚDE (CAS)
A31: PROPONENTE / TOMADOR | G31: MUNICÍPIO / UF | K31: LOCALIDADE / ENDEREÇO | Q31: APELIDO DO EMPREENDIMENTO
A32: MUNICIPIO | G32: TUCUNDUVA RS | K32: RUA SANTA ROSA 520 | Q32: REFORMA DO CENTRO DE ASSITÊNCIA A SAÚDE (CAS)
A35: 5.1.2. Preencha no quadro abaixo as informações sobre o orçamento:
A37: DATA BASE | C37: DESON. | D37: LOCALIDADE DO SINAPI | G37: DESCRIÇÃO DO LOTE | T37: BDI 1 | U37: BDI 2 | V37: BDI 3 | W37: BDI 4 | X37: BDI 5
A38: 45870 | C38: Não | D38: Porto Alegre / RS | G38: REFORMA DO CENTRO DE ASSISTÊNCIA A SAÚDE (CAS) | T38: =IF(ISERROR(INDIRECT("'BDI ("&RIGHT(T37,1)&")'!N27")),"",INDIRECT("'BDI ("&RIGHT(T37,1)&")'!N27")) -> 0.2109 | U38: =IF(ISERROR(INDIRECT("'BDI ("&RIGHT(U37,1)&")'!N27")),"",INDIRECT("'BDI ("&RIGHT(U37,1)&")'!N27")) | V38: =IF(ISERROR(INDIRECT("'BDI ("&RIGHT(V37,1)&")'!N27")),"",INDIRECT("'BDI ("&RIGHT(V37,1)&")'!N27")) | W38: =IF(ISERROR(INDIRECT("'BDI ("&RIGHT(W37,1)&")'!N27")),"",INDIRECT("'BDI ("&RIGHT(W37,1)&")'!N27")) | X38: =IF(ISERROR(INDIRECT("'BDI ("&RIGHT(X37,1)&")'!N27")),"",INDIRECT("'BDI ("&RIGHT(X37,1)&")'!N27"))
A40: 4.1.2. Preencha no quadro abaixo as informações sobre o orçamento licitado:
A42: CTEF n.º | C42: NOME DA EMPRESA | H42: DATA BASE | J42: DESON. | K42: REGIME DE EXECUÇÃO | N42: ACOMP. | O42: OBJETO CTEF | U42: DATA ASSINATURA | W42: VIGÊNCIA
A45: 5.1.3. Preencha a data de Início da Obra:
A47: DATA INÍCIO
A48: 46143
A50: 5.1.4. Preencha no(s) Quadro(s) abaixo os Dados do(s) Responsável(is) Técnico(s) pela elaboração do Orçamento:
G52: Exibir o 2° Quadro de Assinatura? | K52: SIM
A54: Nome: | B54: CRISTIAN SCHENDEL | G54: Nome: | H54: LUIZ AUGUSTO DOBAL
A55: =IF(OR(TipoOrçamento="BASE",TipoOrçamento="REPROGRAMADONPL"),"Título:","Cargo:") -> Título: | B55: ENG CIVIL | G55: =A55 -> Título: | H55: ENG CIVIL
A56: =IF(OR(TipoOrçamento="BASE",TipoOrçamento="REPROGRAMADONPL"),"CREA/CAU:","Empresa:") -> CREA/CAU: | B56: 195387RS | G56: =A56 -> CREA/CAU: | H56: 238129RS
A57: =IF(OR(TipoOrçamento="BASE",TipoOrçamento="REPROGRAMADONPL"),"ART/RRT:","CNPJ:") -> ART/RRT: | G57: =A57 -> ART/RRT:
A60: 5.2. Legenda das Abas
A62: 5.2.1. LARANJA: Aba DADOS. Preenchimento Obrigatório. Impressão Dispensada.
A63: 5.2.2. AMARELO: Abas BDI, PO, PLQ e CFF. Preenchimento e Impressão Obrigatórias. O preenchimento da Aba BDI é dispensada para os casos de Aquisição Direta de Materiais e Equipamentos. A Impressão da Aba PLQ pode ser dispensada para casos de Frente de Obra Única.
A65: 5.3. na Aba BDI (Bonificações e Despesas Indiretas):
A67: 5.3.1. Escolha o tipo de empreendimento.
A68: 5.3.2. Escolha se o BDI será do tipo desonerado ou não (aba DADOS)
A69: 5.3.3. Informe a base de cálculo do ISS (0 a 100%).
A70: 5.3.4. Informe a alíquota do ISS (Normalmente de 2 a 5%).
A71: 5.3.5. Defina na tabela os percentuais a serem adotados para cada item que compõe o BDI nos campos em amarelo.
...

Sheet BDI (1)
E1: MIN | F1: MED | G1: MAX | N1: ="Quadro de Composição do BDI "&MID(CELL("nome.arquivo",N1),5+FIND("BDI (",CELL("nome.arquivo",N1)),1) -> Quadro de Composição do BDI 1
A2: Construção e Reforma de Edifícios | B2: AC | C2: =CONCATENATE(A2,"-",B2) -> Construção e Reforma de Edifícios-AC | E2: 0.03 | F2: 0.04 | G2: 0.055
A3: =A2 -> Construção e Reforma de Edifícios | B3: SG | C3: =CONCATENATE(A3,"-",B3) -> Construção e Reforma de Edifícios-SG | E3: 0.008 | F3: 0.008 | G3: 0.01
A4: =A3 -> Construção e Reforma de Edifícios | B4: R | C4: =CONCATENATE(A4,"-",B4) -> Construção e Reforma de Edifícios-R | E4: 0.0097 | F4: 0.0127 | G4: 0.0127 | I4: Nº TC/CR | K4: PROPONENTE / TOMADOR
A5: =A4 -> Construção e Reforma de Edifícios | B5: DF | C5: =CONCATENATE(A5,"-",B5) -> Construção e Reforma de Edifícios-DF | E5: 0.0059 | F5: 0.0123 | G5: 0.0139 | I5: =DADOS!A29 -> 0 | K5: =DADOS!A32 -> MUNICIPIO
A6: =A5 -> Construção e Reforma de Edifícios | B6: L | C6: =CONCATENATE(A6,"-",B6) -> Construção e Reforma de Edifícios-L | E6: 0.0616 | F6: 0.074 | G6: 0.0896
A7: =A6 -> Construção e Reforma de Edifícios | B7: BDI PAD | C7: =CONCATENATE(A7,"-",B7) -> Construção e Reforma de Edifícios-BDI PAD | E7: 0.2034 | F7: 0.2212 | G7: 0.25 | I7: OBJETO
A8: Construção de Praças Urbanas, Rodovias, Ferrovias e recapeamento e pavimentação de vias urbanas | B8: AC | C8: =CONCATENATE(A8,"-",B8) -> Construção de Praças Urbanas, Rodovias, Ferrovias e recapeamento e pavimentação de vias urbanas-AC | E8: 0.038 | F8: 0.0401 | G8: 0.0467 | I8: =DADOS!P29 -> REFORMA DO CENTRO DE ASSITÊNCIA A SAÚDE (CAS)
A9: Construção de Praças Urbanas, Rodovias, Ferrovias e recapeamento e pavimentação de vias urbanas | B9: SG | C9: =CONCATENATE(A9,"-",B9) -> Construção de Praças Urbanas, Rodovias, Ferrovias e recapeamento e pavimentação de vias urbanas-SG | E9: 0.0032 | F9: 0.004 | G9: 0.0074
A10: Construção de Praças Urbanas, Rodovias, Ferrovias e recapeamento e pavimentação de vias urbanas | B10: R | C10: =CONCATENATE(A10,"-",B10) -> Construção de Praças Urbanas, Rodovias, Ferrovias e recapeamento e pavimentação de vias urbanas-R | E10: 0.005 | F10: 0.0056 | G10: 0.0097 | I10: TIPO DE OBRA DO EMPREENDIMENTO | Q10: DESONERAÇÃO
A11: Construção de Praças Urbanas, Rodovias, Ferrovias e recapeamento e pavimentação de vias urbanas | B11: DF | C11: =CONCATENATE(A11,"-",B11) -> Construção de Praças Urbanas, Rodovias, Ferrovias e recapeamento e pavimentação de vias urbanas-DF | E11: 0.0102 | F11: 0.0111 | G11: 0.0121 | I11: Construção e Reforma de Edifícios | Q11: =DADOS!$C$38 -> Não
A12: Construção de Praças Urbanas, Rodovias, Ferrovias e recapeamento e pavimentação de vias urbanas | B12: L | C12: =CONCATENATE(A12,"-",B12) -> Construção de Praças Urbanas, Rodovias, Ferrovias e recapeamento e pavimentação de vias urbanas-L | E12: 0.0664 | F12: 0.073 | G12: 0.0869
A13: Construção de Praças Urbanas, Rodovias, Ferrovias e recapeamento e pavimentação de vias urbanas | B13: BDI PAD | C13: =CONCATENATE(A13,"-",B13) -> Construção de Praças Urbanas, Rodovias, Ferrovias e recapeamento e pavimentação de vias urbanas-BDI PAD | E13: 0.196 | F13: 0.2097 | G13: 0.2423 | I13: Conforme legislação tributária municipal, definir estimativa de percentual da base de cálculo para o ISS: | Q13: 1
A14: Construção de Redes de Abastecimento de Água, Coleta de Esgoto | B14: AC | C14: =CONCATENATE(A14,"-",B14) -> Construção de Redes de Abastecimento de Água, Coleta de Esgoto-AC | E14: 0.0343 | F14: 0.0493 | G14: 0.0671 | I14: Sobre a base de cálculo, definir a respectiva alíquota do ISS (entre 2% e 5%): | Q14: 0.02
A15: =A14 -> Construção de Redes de Abastecimento de Água, Coleta de Esgoto | B15: SG | C15: =CONCATENATE(A15,"-",B15) -> Construção de Redes de Abastecimento de Água, Coleta de Esgoto-SG | E15: 0.0028 | F15: 0.0049 | G15: 0.0075
I16: Itens | M16: Siglas | N16: % Adotado | O16: Situação | P16: 1º Quartil | Q16: Médio | R16: 3º Quartil | T16: =IF(V27,"Para BDI fora do intervalo estatístico, deve ser apresentado Relatório Técnico Circunstanciado justificando a adoção do percentual de cada parcela do BDI.","")
A17: =A15 -> Construção de Redes de Abastecimento de Água, Coleta de Esgoto | B17: R | C17: =CONCATENATE(A17,"-",B17) -> Construção de Redes de Abastecimento de Água, Coleta de Esgoto-R | E17: 0.01 | F17: 0.0139 | G17: 0.0174
A18: =A17 -> Construção de Redes de Abastecimento de Água, Coleta de Esgoto | B18: DF | C18: =CONCATENATE(A18,"-",B18) -> Construção de Redes de Abastecimento de Água, Coleta de Esgoto-DF | E18: 0.0094 | F18: 0.0099 | G18: 0.0117 | I18: =IF($I$11=$A$59,"Encargos Sociais incidentes sobre a mão de obra","Administração Central") -> Administração Central | M18: =IF($I$11=$A$59,"K1","AC") -> AC | N18: 0.038 | O18: - | P18: =VLOOKUP(CONCATENATE(I$11,"-",M18),$C$2:$G$49,3,FALSE) -> 0.03 | Q18: =VLOOKUP(CONCATENATE(I$11,"-",M18),$C$2:$G$49,4,FALSE) -> 0.04 | R18: =VLOOKUP(CONCATENATE(I$11,"-",M18),$C$2:$G$49,5,FALSE) -> 0.055
A19: =A18 -> Construção de Redes de Abastecimento de Água, Coleta de Esgoto | B19: L | C19: =CONCATENATE(A19,"-",B19) -> Construção de Redes de Abastecimento de Água, Coleta de Esgoto-L | E19: 0.0674 | F19: 0.0804 | G19: 0.094 | I19: =IF($I$11=$A$59,"Administração Central da empresa ou consultoria - overhead","Seguro e Garantia") -> Seguro e Garantia | M19: =IF($I$11=$A$59,"K2","SG") -> SG | N19: 0.008 | O19: - | P19: =VLOOKUP(CONCATENATE(I$11,"-",M19),$C$2:$G$49,3,FALSE) -> 0.008 | Q19: =VLOOKUP(CONCATENATE(I$11,"-",M19),$C$2:$G$49,4,FALSE) -> 0.008 | R19: =VLOOKUP(CONCATENATE(I$11,"-",M19),$C$2:$G$49,5,FALSE) -> 0.01
A20: =A19 -> Construção de Redes de Abastecimento de Água, Coleta de Esgoto | B20: BDI PAD | C20: =CONCATENATE(A20,"-",B20) -> Construção de Redes de Abastecimento de Água, Coleta de Esgoto-BDI PAD | E20: 0.2076 | F20: 0.2418 | G20: 0.2644 | I20: =IF($I$11=$A$59,"","Risco") -> Risco | M20: =IF($I$11=$A$59,"","R") -> R | N20: 0.01 | O20: - | P20: =VLOOKUP(CONCATENATE(I$11,"-",M20),$C$2:$G$49,3,FALSE) -> 0.0097 | Q20: =VLOOKUP(CONCATENATE(I$11,"-",M20),$C$2:$G$49,4,FALSE) -> 0.0127 | R20: =VLOOKUP(CONCATENATE(I$11,"-",M20),$C$2:$G$49,5,FALSE) -> 0.0127
A21: Construção e Manutenção de Estações e Redes de Distribuição de Energia Elétrica | B21: AC | C21: =CONCATENATE(A21,"-",B21) -> Construção e Manutenção de Estações e Redes de Distribuição de Energia Elétrica-AC | E21: 0.0529 | F21: 0.0592 | G21: 0.0793 | I21: =IF($I$11=$A$59,"","Despesas Financeiras") -> Despesas Financeiras | M21: =IF($I$11=$A$59,"","DF") -> DF | N21: 0.0111 | O21: - | P21: =VLOOKUP(CONCATENATE(I$11,"-",M21),$C$2:$G$49,3,FALSE) -> 0.0059 | Q21: =VLOOKUP(CONCATENATE(I$11,"-",M21),$C$2:$G$49,4,FALSE) -> 0.0123 | R21: =VLOOKUP(CONCATENATE(I$11,"-",M21),$C$2:$G$49,5,FALSE) -> 0.0139
A22: =A21 -> Construção e Manutenção de Estações e Redes de Distribuição de Energia Elétrica | B22: SG | C22: =CONCATENATE(A22,"-",B22) -> Construção e Manutenção de Estações e Redes de Distribuição de Energia Elétrica-SG | E22: 0.0025 | F22: 0.0051 | G22: 0.0056 | I22: =IF($I$11=$A$59,"Margem bruta da empresa de consultoria","Lucro") -> Lucro | M22: =IF($I$11=$A$59,"K3","L") -> L | N22: 0.07 | O22: - | P22: =VLOOKUP(CONCATENATE(I$11,"-",M22),$C$2:$G$49,3,FALSE) -> 0.0616 | Q22: =VLOOKUP(CONCATENATE(I$11,"-",M22),$C$2:$G$49,4,FALSE) -> 0.074 | R22: =VLOOKUP(CONCATENATE(I$11,"-",M22),$C$2:$G$49,5,FALSE) -> 0.0896
A23: =A22 -> Construção e Manutenção de Estações e Redes de Distribuição de Energia Elétrica | B23: R | C23: =CONCATENATE(A23,"-",B23) -> Construção e Manutenção de Estações e Redes de Distribuição de Energia Elétrica-R | E23: 0.01 | F23: 0.0148 | G23: 0.0197 | I23: Tributos (impostos COFINS 3%, e PIS 0,65%) | M23: CP | N23: 0.0365 | O23: - | P23: 0.0365 | Q23: 0.0365 | R23: 0.0365
A24: =A23 -> Construção e Manutenção de Estações e Redes de Distribuição de Energia Elétrica | B24: DF | C24: =CONCATENATE(A24,"-",B24) -> Construção e Manutenção de Estações e Redes de Distribuição de Energia Elétrica-DF | E24: 0.0101 | F24: 0.0107 | G24: 0.0111 | I24: Tributos (ISS, variável de acordo com o município) | M24: ISS | N24: =IF($I$11<>$A$58,Q14*Q13,0) -> 0.02 | O24: - | P24: 0 | Q24: 0.025 | R24: 0.05
A25: =A24 -> Construção e Manutenção de Estações e Redes de Distribuição de Energia Elétrica | B25: L | C25: =CONCATENATE(A25,"-",B25) -> Construção e Manutenção de Estações e Redes de Distribuição de Energia Elétrica-L | E25: 0.08 | F25: 0.0831 | G25: 0.0951 | I25: Tributos (Contribuição Previdenciária sobre a Receita Bruta - 0% ou 4,5% - Desoneração) | M25: CPRB | N25: =IF(AND($I$11<>$A$58,Q11="Sim"),4.5%,0%) -> 0 | O25: =IF(AND(N25>=P25, N25<=R25), "OK", "Não OK") -> OK | P25: 0 | Q25: 0.045 | R25: 0.045
A26: =A25 -> Construção e Manutenção de Estações e Redes de Distribuição de Energia Elétrica | B26: BDI PAD | C26: =CONCATENATE(A26,"-",B26) -> Construção e Manutenção de Estações e Redes de Distribuição de Energia Elétrica-BDI PAD | E26: 0.24 | F26: 0.2584 | G26: 0.2786 | I26: BDI SEM desoneração (Fórmula Acórdão TCU) | M26: BDI PAD | N26: =IF($I$11=$A$58,0,ROUND((((1+N18+N19+N20)*(1+N21)*(1+N22)/(1-(N23+N24)))-1),4)) -> 0.2109 | O26: =IF(OR($I$11=$A$59,$I$11=$A$58,AND(N26>=P26, N26<=R26)), "OK", "FORA DO INTERVALO") -> OK | P26: =IF($I$11=$A$58,0,VLOOKUP(CONCATENATE($I$11,"-",$M26),$C$2:$G$49,3,FALSE)) -> 0.2034 | Q26: =IF($I$11=$A$58,0,VLOOKUP(CONCATENATE($I$11,"-",$M26),$C$2:$G$49,4,FALSE)) -> 0.2212 | R26: =IF($I$11=$A$58,0,VLOOKUP(CONCATENATE($I$11,"-",$M26),$C$2:$G$49,5,FALSE)) -> 0.25
A27: Obras Portuárias, Marítimas e Fluviais | B27: AC | C27: =CONCATENATE(A27,"-",B27) -> Obras Portuárias, Marítimas e Fluviais-AC | E27: 0.04 | F27: 0.0552 | G27: 0.0785 | I27: BDI COM desoneração | M27: BDI DES | N27: =IF($I$11=$A$58,0,ROUND((((1+N18+N19+N20)*(1+N21)*(1+N22)/(1-(N23+N24+N25)))-1),4)) -> 0.2109 | O27: =IF(Q11<>"Sim","",O26) | V27: =AND(COUNTA(N18:N23)=6,O26<>"ok",NOT(V29)) -> FALSE | W27: pedir anexo
A28: =A27 -> Obras Portuárias, Marítimas e Fluviais | B28: SG | C28: =CONCATENATE(A28,"-",B28) -> Obras Portuárias, Marítimas e Fluviais-SG | E28: 0.0081 | F28: 0.0122 | G28: 0.0199
A29: =A28 -> Obras Portuárias, Marítimas e Fluviais | B29: R | C29: =CONCATENATE(A29,"-",B29) -> Obras Portuárias, Marítimas e Fluviais-R | E29: 0.0146 | F29: 0.0232 | G29: 0.0316 | I29: =IF(V29,"X","") | J29: Anexo: Relatório Técnico Circunstanciado justificando a adoção do percentual de cada parcela do BDI. | V29: FALSE | W29: anexo apresentado
I31: Os valores de BDI foram calculados com o emprego da fórmula:
A32: =A29 -> Obras Portuárias, Marítimas e Fluviais | B32: DF | C32: =CONCATENATE(A32,"-",B32) -> Obras Portuárias, Marítimas e Fluviais-DF | E32: 0.0094 | F32: 0.0102 | G32: 0.0133 | L32: =IF(Q11="Sim","BDI.DES =","BDI.PAD =") -> BDI.PAD = | M32: =IF($I$11=$A$59,"(1+K1+K2)*(1+K3)","(1+AC + S + R + G)*(1 + DF)*(1+L)") -> (1+AC + S + R + G)*(1 + DF)*(1+L) | P32: - 1
A33: =A32 -> Obras Portuárias, Marítimas e Fluviais | B33: L | C33: =CONCATENATE(A33,"-",B33) -> Obras Portuárias, Marítimas e Fluviais-L | E33: 0.0714 | F33: 0.084 | G33: 0.1043 | M33: =IF(Q11="Sim","(1-CP-ISS-CRPB)","(1-CP-ISS)") -> (1-CP-ISS)
A34: =A33 -> Obras Portuárias, Marítimas e Fluviais | B34: BDI PAD | C34: =CONCATENATE(A34,"-",B34) -> Obras Portuárias, Marítimas e Fluviais-BDI PAD | E34: 0.228 | F34: 0.2748 | G34: 0.3095
I35: =CONCATENATE("Declaro para os devidos fins que, conforme legislação tributária municipal, a base de cálculo para ",I11,", é de ",Q13*100,"%, com a respectiva alíquota de ",Q14*100,"%.") -> Declaro para os devidos fins que, conforme legislação tributária municipal, a base de cálculo para Construção e Reforma de Edifícios, é de 100%, com a respectiva alíquota de 2%.
I37: =CONCATENATE("Declaro para os devidos fins que o regime de Contribuição Previdenciária sobre a Receita Bruta adotado para elaboração do orçamento foi ",IF(Q11="Sim","COM","SEM")," Desoneração, e que esta é a alternativa mais adequada para a Administração Pública.") -> Declaro para os devidos fins que o regime de Contribuição Previdenciária sobre a Receita Bruta adotado para elaboração do orçamento foi SEM Desoneração, e que esta é a alternativa mais adequada para a Administração Pública.
A38: Fornecimento de Materiais e Equipamentos (aquisição indireta - em conjunto com licitação de obras) | B38: AC | C38: =CONCATENATE(A38,"-",B38) -> Fornecimento de Materiais e Equipamentos (aquisição indireta - em conjunto com licitação de obras)-AC | E38: 0.015 | F38: 0.0345 | G38: 0.0449
A39: =A38 -> Fornecimento de Materiais e Equipamentos (aquisição indireta - em conjunto com licitação de obras) | B39: SG | C39: =CONCATENATE(A39,"-",B39) -> Fornecimento de Materiais e Equipamentos (aquisição indireta - em conjunto com licitação de obras)-SG | E39: 0.003 | F39: 0.0048 | G39: 0.0082 | I39: Observações:
A40: =A39 -> Fornecimento de Materiais e Equipamentos (aquisição indireta - em conjunto com licitação de obras) | B40: R | C40: =CONCATENATE(A40,"-",B40) -> Fornecimento de Materiais e Equipamentos (aquisição indireta - em conjunto com licitação de obras)-R | E40: 0.0056 | F40: 0.0085 | G40: 0.0089
A41: =A40 -> Fornecimento de Materiais e Equipamentos (aquisição indireta - em conjunto com licitação de obras) | B41: DF | C41: =CONCATENATE(A41,"-",B41) -> Fornecimento de Materiais e Equipamentos (aquisição indireta - em conjunto com licitação de obras)-DF | E41: 0.0085 | F41: 0.0085 | G41: 0.0111
A42: =A41 -> Fornecimento de Materiais e Equipamentos (aquisição indireta - em conjunto com licitação de obras) | B42: L | C42: =CONCATENATE(A42,"-",B42) -> Fornecimento de Materiais e Equipamentos (aquisição indireta - em conjunto com licitação de obras)-L | E42: 0.035 | F42: 0.0511 | G42: 0.0622 | I42: =PO!K107 -> TUCUNDUVA RS | O42: =PO!K110 -> 46149
...

Sheet PO
N1: PO - PLANILHA ORÇAMENTÁRIA | T1: Grau de Sigilo
B2: LOTE | C2: Meta | D2: Nível 2 | E2: Nível 3 | F2: Nível 4 | G2: Serviço | N2: =CHOOSE(1+LOG(1+2*(TipoOrçamento="BASE")+4*(TipoOrçamento="LICITADO")+8*(TipoOrçamento="REPROGRAMADOAC")+16*(TipoOrçamento="REPROGRAMADONPL"),2),"nada","Orçamento Base para Licitação","Orçamento Licitado","Orçamento Licitado Reprogramado","Orçamento Base para Licitação - Reprogramado") -> Orçamento Base para Licitação | T2: #PUBLICO | W2: Arredondamento
W3: Quantidade | X3: TRUE
A4: Nmax | U4: ERRO GERAL | W4: Custo Unitáro | X4: TRUE
A5: =MAX($A$12:$A$96) -> 2 | U5: =IF(COUNTIF($U$12:OFFSET($U$96,-1,0),"DESCRIÇÃO")+COUNTIF($U$12:OFFSET($U$96,-1,0),"UNIDADE")+COUNTIF($U$12:OFFSET($U$96,-1,0),"SEM VALOR")>0,"NÃO OK","OK") -> OK | W5: BDI | X5: TRUE
W6: Preço Unitário | X6: TRUE
W7: Preço Total | X7: TRUE
P9: =OFFSET(PLQ!$E$12,ROW($P9)-ROW(P$12),0) -> -
A10: Nível | B10: Altura | C10: n1 | D10: n2 | E10: n3 | F10: n4 | G10: n5 | H10: Czero | I10: Cnível | J10: Nível | K10: Item | L10: Fonte | M10: Código | N10: Descrição | O10: Unidade | P10: Quantidade | Q10: =IF(OR(TipoOrçamento="LICITADO",TipoOrçamento="REPROGRAMADOAC"),"Preço Unitário (R$)","Custo Unitário (R$)") -> Custo Unitário (R$) | R10: BDI (%) | S10: Preço Unitário (R$) | T10: Preço Total (R$) | U10: Erro de Dados | V10: Lista Crono | W10: Concatenação Fonte-Código | X10: BancoRef | Y10: =IF(TipoOrçamento="LICITADO","Preço Unitário Edital (R$)","Custo Unitário Referência (R$)") -> Custo Unitário Referência (R$) | Z10: =IF(TipoOrçamento="LICITADO","Valor BDI Edital","Valor BDI") -> Valor BDI
A11: =CHOOSE(1+LOG(1+2*(J11="Meta")+4*(J11="Nível 2")+8*(J11="Nível 3")+16*(J11="Nível 4")+32*(J11="Serviço"),2),0,1,2,3,4,"S") -> S | B11: =IF(OR(A11="S",A11=0),0,IF(ISERROR(I11),H11,SMALL(H11:I11,1))) -> 0 | C11: =IF($A11=1,OFFSET(C11,-1,0)+1,OFFSET(C11,-1,0)) -> n1 | D11: =IF($A11=1,0,IF($A11=2,OFFSET(D11,-1,0)+1,OFFSET(D11,-1,0))) -> n2 | E11: =IF(AND($A11<=2,$A11<>0),0,IF($A11=3,OFFSET(E11,-1,0)+1,OFFSET(E11,-1,0))) -> n3 | F11: =IF(AND($A11<=3,$A11<>0),0,IF($A11=4,OFFSET(F11,-1,0)+1,OFFSET(F11,-1,0))) -> n4 | G11: =IF(AND($A11<=4,$A11<>0),0,IF($A11="S",OFFSET(G11,-1,0)+1,OFFSET(G11,-1,0))) -> #VALUE! | H11: =IF(OR($A11="S",$A11=0),0,MATCH(0,OFFSET($B11,1,$A11,ROW($A$96)-ROW($A11)),0)) -> 0 | I11: =IF(OR($A11="S",$A11=0),0,MATCH(OFFSET($B11,0,$A11)+1,OFFSET($B11,1,$A11,ROW($A$96)-ROW($A11)),0)) -> 0 | J11: Serviço | K11: =IF($A11=0,"-",CONCATENATE(C11&".",IF(AND($A$5>=2,$A11>=2),D11&".",""),IF(AND($A$5>=3,$A11>=3),E11&".",""),IF(AND($A$5>=4,$A11>=4),F11&".",""),IF($A11="S",G11&".",""))) -> #VALUE! | N11: =IF($A11="S",Referencia.Descricao,"(digite a descrição aqui)") | O11: =Referencia.Unidade | P11: =OFFSET(PLQ!$E$12,ROW($P11)-ROW(P$12),0) -> 0 | R11: BDI 1 | S11: =IF($A11="S",IF($Q$10="Preço Unitário (R$)",PO.CustoUnitario,ROUND(PO.CustoUnitario*(1+$Z11),15-13*$X$6)),0) -> 0 | T11: =IF($A11="S",VTOTAL1,IF($A11=0,0,ROUND(SomaAgrup,15-13*$X$7))) -> 0 | U11: =IF($J11="","",IF($N11="","DESCRIÇÃO",IF(AND($J11="Serviço",$O11=""),"UNIDADE",IF($T11<=0,"SEM VALOR",IF(AND($Y11<>"",$Q11>$Y11),"ACIMA REF.",""))))) -> DESCRIÇÃO | V11: =IF(OR($A11=0,$A11="S",$A11>CFF!$A$9),"",MAX(V$12:OFFSET(V11,-1,0))+1) | W11: =IF(AND($J11="Serviço",$M11<>""),IF($L11="",$M11,CONCATENATE($L11,"-",$M11))) -> FALSE | X11: =IF(AND(Fonte<>"",Código<>""),MATCH(Fonte&" "&IF(Fonte="sinapi",SUBSTITUTE(SUBSTITUTE(Código,"/00","/"),"/0","/"),Código),INDIRECT("'[Referência "&_xlnm.Database&".xls]Banco'!$a:$a"),0),"X") -> X | Y11: =IF(Import.Desoneracao="sim",Referencia.Desonerado,Referencia.NaoDesonerado) -> 0 | Z11: =ROUND(IF(ISNUMBER(R11),R11,IF(LEFT(R11,3)="BDI",HLOOKUP(R11,DADOS!$T$37:$X$38,2,FALSE),0)),15-11*$X$5) -> 0.2109
A12: 0 | B12: =COUNTA(OFFSET(B12,1,0):B$96) -> 83 | J12: =IF(OR(TipoOrçamento="LICITADO",TipoOrçamento="REPROGRAMADOAC"),"CTEF","LOTE") -> LOTE | K12: 0 | N12: =IF(TipoOrçamento="LICITADO",DADOS!O43,DADOS!G38) -> REFORMA DO CENTRO DE ASSISTÊNCIA A SAÚDE (CAS) | T12: =SUMIF(OFFSET($J12,1,0,ROW(T96)-ROW(T12)-1),"Serviço",OFFSET(T12,1,0,ROW(T96)-ROW(T12)-1)) -> 347736.77 | U12: =IF($N12=0,"DESCRIÇÃO","") | V12: 0
A13: =CHOOSE(1+LOG(1+2*(J13="Meta")+4*(J13="Nível 2")+8*(J13="Nível 3")+16*(J13="Nível 4")+32*(J13="Serviço"),2),0,1,2,3,4,"S") -> 1 | B13: =IF(OR(A13="S",A13=0),0,IF(ISERROR(I13),H13,SMALL(H13:I13,1))) -> 62 | C13: =IF($A13=1,OFFSET(C13,-1,0)+1,OFFSET(C13,-1,0)) -> 1 | D13: =IF($A13=1,0,IF($A13=2,OFFSET(D13,-1,0)+1,OFFSET(D13,-1,0))) -> 0 | E13: =IF(AND($A13<=2,$A13<>0),0,IF($A13=3,OFFSET(E13,-1,0)+1,OFFSET(E13,-1,0))) -> 0 | F13: =IF(AND($A13<=3,$A13<>0),0,IF($A13=4,OFFSET(F13,-1,0)+1,OFFSET(F13,-1,0))) -> 0 | G13: =IF(AND($A13<=4,$A13<>0),0,IF($A13="S",OFFSET(G13,-1,0)+1,OFFSET(G13,-1,0))) -> 0 | H13: =IF(OR($A13="S",$A13=0),0,MATCH(0,OFFSET($B13,1,$A13,ROW($A$96)-ROW($A13)),0)) -> 83 | I13: =IF(OR($A13="S",$A13=0),0,MATCH(OFFSET($B13,0,$A13)+1,OFFSET($B13,1,$A13,ROW($A$96)-ROW($A13)),0)) -> 62 | J13: Meta | K13: =IF($A13=0,"-",CONCATENATE(C13&".",IF(AND($A$5>=2,$A13>=2),D13&".",""),IF(AND($A$5>=3,$A13>=3),E13&".",""),IF(AND($A$5>=4,$A13>=4),F13&".",""),IF($A13="S",G13&".",""))) -> 1. | N13: REFORMA CAS | P13: =OFFSET(PLQ!$E$12,ROW($P13)-ROW(P$12),0) -> 0 | R13: BDI 1 | S13: =IF($A13="S",IF($Q$10="Preço Unitário (R$)",PO.CustoUnitario,ROUND(PO.CustoUnitario*(1+$Z13),15-13*$X$6)),0) -> 0 | T13: =IF($A13="S",VTOTAL1,IF($A13=0,0,ROUND(SomaAgrup,15-13*$X$7))) -> 234136.46 | U13: =IF($J13="","",IF($N13="","DESCRIÇÃO",IF(AND($J13="Serviço",$O13=""),"UNIDADE",IF($T13<=0,"SEM VALOR",IF(AND($Y13<>"",$Q13>$Y13),"ACIMA REF.",""))))) | V13: =IF(OR($A13=0,$A13="S",$A13>CFF!$A$9),"",MAX(V$12:OFFSET(V13,-1,0))+1) -> 1 | W13: =IF(AND($J13="Serviço",$M13<>""),IF($L13="",$M13,CONCATENATE($L13,"-",$M13))) -> FALSE | X13: =IF(AND(Fonte<>"",Código<>""),MATCH(Fonte&" "&IF(Fonte="sinapi",SUBSTITUTE(SUBSTITUTE(Código,"/00","/"),"/0","/"),Código),INDIRECT("'[Referência "&_xlnm.Database&".xls]Banco'!$a:$a"),0),"X") -> X | Y13: =IF(Import.Desoneracao="sim",Referencia.Desonerado,Referencia.NaoDesonerado) -> 0 | Z13: =ROUND(IF(ISNUMBER(R13),R13,IF(LEFT(R13,3)="BDI",HLOOKUP(R13,DADOS!$T$37:$X$38,2,FALSE),0)),15-11*$X$5) -> 0.2109
A14: =CHOOSE(1+LOG(1+2*(J14="Meta")+4*(J14="Nível 2")+8*(J14="Nível 3")+16*(J14="Nível 4")+32*(J14="Serviço"),2),0,1,2,3,4,"S") -> 2 | B14: =IF(OR(A14="S",A14=0),0,IF(ISERROR(I14),H14,SMALL(H14:I14,1))) -> 3 | C14: =IF($A14=1,OFFSET(C14,-1,0)+1,OFFSET(C14,-1,0)) -> 1 | D14: =IF($A14=1,0,IF($A14=2,OFFSET(D14,-1,0)+1,OFFSET(D14,-1,0))) -> 1 | E14: =IF(AND($A14<=2,$A14<>0),0,IF($A14=3,OFFSET(E14,-1,0)+1,OFFSET(E14,-1,0))) -> 0 | F14: =IF(AND($A14<=3,$A14<>0),0,IF($A14=4,OFFSET(F14,-1,0)+1,OFFSET(F14,-1,0))) -> 0 | G14: =IF(AND($A14<=4,$A14<>0),0,IF($A14="S",OFFSET(G14,-1,0)+1,OFFSET(G14,-1,0))) -> 0 | H14: =IF(OR($A14="S",$A14=0),0,MATCH(0,OFFSET($B14,1,$A14,ROW($A$96)-ROW($A14)),0)) -> 61 | I14: =IF(OR($A14="S",$A14=0),0,MATCH(OFFSET($B14,0,$A14)+1,OFFSET($B14,1,$A14,ROW($A$96)-ROW($A14)),0)) -> 3 | J14: Nível 2 | K14: =IF($A14=0,"-",CONCATENATE(C14&".",IF(AND($A$5>=2,$A14>=2),D14&".",""),IF(AND($A$5>=3,$A14>=3),E14&".",""),IF(AND($A$5>=4,$A14>=4),F14&".",""),IF($A14="S",G14&".",""))) -> 1.1. | N14: SERVIÇOS INICIAIS | O14: =Referencia.Unidade | P14: =OFFSET(PLQ!$E$12,ROW($P14)-ROW(P$12),0) -> 0 | R14: BDI 1 | S14: =IF($A14="S",IF($Q$10="Preço Unitário (R$)",PO.CustoUnitario,ROUND(PO.CustoUnitario*(1+$Z14),15-13*$X$6)),0) -> 0 | T14: =IF($A14="S",VTOTAL1,IF($A14=0,0,ROUND(SomaAgrup,15-13*$X$7))) -> 3309.26 | U14: =IF($J14="","",IF($N14="","DESCRIÇÃO",IF(AND($J14="Serviço",$O14=""),"UNIDADE",IF($T14<=0,"SEM VALOR",IF(AND($Y14<>"",$Q14>$Y14),"ACIMA REF.",""))))) | V14: =IF(OR($A14=0,$A14="S",$A14>CFF!$A$9),"",MAX(V$12:OFFSET(V14,-1,0))+1) -> 2 | W14: =IF(AND($J14="Serviço",$M14<>""),IF($L14="",$M14,CONCATENATE($L14,"-",$M14))) -> FALSE | X14: =IF(AND(Fonte<>"",Código<>""),MATCH(Fonte&" "&IF(Fonte="sinapi",SUBSTITUTE(SUBSTITUTE(Código,"/00","/"),"/0","/"),Código),INDIRECT("'[Referência "&_xlnm.Database&".xls]Banco'!$a:$a"),0),"X") -> X | Y14: =IF(Import.Desoneracao="sim",Referencia.Desonerado,Referencia.NaoDesonerado) -> 0 | Z14: =ROUND(IF(ISNUMBER(R14),R14,IF(LEFT(R14,3)="BDI",HLOOKUP(R14,DADOS!$T$37:$X$38,2,FALSE),0)),15-11*$X$5) -> 0.2109
A15: =CHOOSE(1+LOG(1+2*(J15="Meta")+4*(J15="Nível 2")+8*(J15="Nível 3")+16*(J15="Nível 4")+32*(J15="Serviço"),2),0,1,2,3,4,"S") -> S | B15: =IF(OR(A15="S",A15=0),0,IF(ISERROR(I15),H15,SMALL(H15:I15,1))) -> 0 | C15: =IF($A15=1,OFFSET(C15,-1,0)+1,OFFSET(C15,-1,0)) -> 1 | D15: =IF($A15=1,0,IF($A15=2,OFFSET(D15,-1,0)+1,OFFSET(D15,-1,0))) -> 1 | E15: =IF(AND($A15<=2,$A15<>0),0,IF($A15=3,OFFSET(E15,-1,0)+1,OFFSET(E15,-1,0))) -> 0 | F15: =IF(AND($A15<=3,$A15<>0),0,IF($A15=4,OFFSET(F15,-1,0)+1,OFFSET(F15,-1,0))) -> 0 | G15: =IF(AND($A15<=4,$A15<>0),0,IF($A15="S",OFFSET(G15,-1,0)+1,OFFSET(G15,-1,0))) -> 1 | H15: =IF(OR($A15="S",$A15=0),0,MATCH(0,OFFSET($B15,1,$A15,ROW($A$96)-ROW($A15)),0)) -> 0 | I15: =IF(OR($A15="S",$A15=0),0,MATCH(OFFSET($B15,0,$A15)+1,OFFSET($B15,1,$A15,ROW($A$96)-ROW($A15)),0)) -> 0 | J15: Serviço | K15: =IF($A15=0,"-",CONCATENATE(C15&".",IF(AND($A$5>=2,$A15>=2),D15&".",""),IF(AND($A$5>=3,$A15>=3),E15&".",""),IF(AND($A$5>=4,$A15>=4),F15&".",""),IF($A15="S",G15&".",""))) -> 1.1.1. | L15: SINAPI | M15: 99814 | N15: =IF($A15="S",Referencia.Descricao,"(digite a descrição aqui)") -> LIMPEZA DE SUPERFÍCIE COM JATO DE ALTA PRESSÃO. AF_04/2019 | O15: =Referencia.Unidade -> M2 | P15: =OFFSET(PLQ!$E$12,ROW($P15)-ROW(P$12),0) -> 628.51 | Q15: =Y15 -> 2.23 | R15: BDI 1 | S15: =IF($A15="S",IF($Q$10="Preço Unitário (R$)",PO.CustoUnitario,ROUND(PO.CustoUnitario*(1+$Z15),15-13*$X$6)),0) -> 2.7 | T15: =IF($A15="S",VTOTAL1,IF($A15=0,0,ROUND(SomaAgrup,15-13*$X$7))) -> 1696.98 | U15: =IF($J15="","",IF($N15="","DESCRIÇÃO",IF(AND($J15="Serviço",$O15=""),"UNIDADE",IF($T15<=0,"SEM VALOR",IF(AND($Y15<>"",$Q15>$Y15),"ACIMA REF.",""))))) | V15: =IF(OR($A15=0,$A15="S",$A15>CFF!$A$9),"",MAX(V$12:OFFSET(V15,-1,0))+1) | W15: =IF(AND($J15="Serviço",$M15<>""),IF($L15="",$M15,CONCATENATE($L15,"-",$M15))) -> SINAPI-99814 | X15: =IF(AND(Fonte<>"",Código<>""),MATCH(Fonte&" "&IF(Fonte="sinapi",SUBSTITUTE(SUBSTITUTE(Código,"/00","/"),"/0","/"),Código),INDIRECT("'[Referência "&_xlnm.Database&".xls]Banco'!$a:$a"),0),"X") -> 12802 | Y15: =IF(Import.Desoneracao="sim",Referencia.Desonerado,Referencia.NaoDesonerado) -> 2.23 | Z15: =ROUND(IF(ISNUMBER(R15),R15,IF(LEFT(R15,3)="BDI",HLOOKUP(R15,DADOS!$T$37:$X$38,2,FALSE),0)),15-11*$X$5) -> 0.2109
A16: =CHOOSE(1+LOG(1+2*(J16="Meta")+4*(J16="Nível 2")+8*(J16="Nível 3")+16*(J16="Nível 4")+32*(J16="Serviço"),2),0,1,2,3,4,"S") -> S | B16: =IF(OR(A16="S",A16=0),0,IF(ISERROR(I16),H16,SMALL(H16:I16,1))) -> 0 | C16: =IF($A16=1,OFFSET(C16,-1,0)+1,OFFSET(C16,-1,0)) -> 1 | D16: =IF($A16=1,0,IF($A16=2,OFFSET(D16,-1,0)+1,OFFSET(D16,-1,0))) -> 1 | E16: =IF(AND($A16<=2,$A16<>0),0,IF($A16=3,OFFSET(E16,-1,0)+1,OFFSET(E16,-1,0))) -> 0 | F16: =IF(AND($A16<=3,$A16<>0),0,IF($A16=4,OFFSET(F16,-1,0)+1,OFFSET(F16,-1,0))) -> 0 | G16: =IF(AND($A16<=4,$A16<>0),0,IF($A16="S",OFFSET(G16,-1,0)+1,OFFSET(G16,-1,0))) -> 2 | H16: =IF(OR($A16="S",$A16=0),0,MATCH(0,OFFSET($B16,1,$A16,ROW($A$96)-ROW($A16)),0)) -> 0 | I16: =IF(OR($A16="S",$A16=0),0,MATCH(OFFSET($B16,0,$A16)+1,OFFSET($B16,1,$A16,ROW($A$96)-ROW($A16)),0)) -> 0 | J16: Serviço | K16: =IF($A16=0,"-",CONCATENATE(C16&".",IF(AND($A$5>=2,$A16>=2),D16&".",""),IF(AND($A$5>=3,$A16>=3),E16&".",""),IF(AND($A$5>=4,$A16>=4),F16&".",""),IF($A16="S",G16&".",""))) -> 1.1.2. | L16: SINAPI | M16: 103689 | N16: =IF($A16="S",Referencia.Descricao,"(digite a descrição aqui)") -> FORNECIMENTO E INSTALAÇÃO DE PLACA DE OBRA COM CHAPA GALVANIZADA E ESTRUTURA DE MADEIRA. AF_03/2022_PS | O16: =Referencia.Unidade -> M2 | P16: =OFFSET(PLQ!$E$12,ROW($P16)-ROW(P$12),0) -> 2.88 | Q16: =Y16 -> 462.32 | R16: BDI 1 | S16: =IF($A16="S",IF($Q$10="Preço Unitário (R$)",PO.CustoUnitario,ROUND(PO.CustoUnitario*(1+$Z16),15-13*$X$6)),0) -> 559.82 | T16: =IF($A16="S",VTOTAL1,IF($A16=0,0,ROUND(SomaAgrup,15-13*$X$7))) -> 1612.28 | U16: =IF($J16="","",IF($N16="","DESCRIÇÃO",IF(AND($J16="Serviço",$O16=""),"UNIDADE",IF($T16<=0,"SEM VALOR",IF(AND($Y16<>"",$Q16>$Y16),"ACIMA REF.",""))))) | V16: =IF(OR($A16=0,$A16="S",$A16>CFF!$A$9),"",MAX(V$12:OFFSET(V16,-1,0))+1) | W16: =IF(AND($J16="Serviço",$M16<>""),IF($L16="",$M16,CONCATENATE($L16,"-",$M16))) -> SINAPI-103689 | X16: =IF(AND(Fonte<>"",Código<>""),MATCH(Fonte&" "&IF(Fonte="sinapi",SUBSTITUTE(SUBSTITUTE(Código,"/00","/"),"/0","/"),Código),INDIRECT("'[Referência "&_xlnm.Database&".xls]Banco'!$a:$a"),0),"X") -> 14888 | Y16: =IF(Import.Desoneracao="sim",Referencia.Desonerado,Referencia.NaoDesonerado) -> 462.32 | Z16: =ROUND(IF(ISNUMBER(R16),R16,IF(LEFT(R16,3)="BDI",HLOOKUP(R16,DADOS!$T$37:$X$38,2,FALSE),0)),15-11*$X$5) -> 0.2109
A17: =CHOOSE(1+LOG(1+2*(J17="Meta")+4*(J17="Nível 2")+8*(J17="Nível 3")+16*(J17="Nível 4")+32*(J17="Serviço"),2),0,1,2,3,4,"S") -> 2 | B17: =IF(OR(A17="S",A17=0),0,IF(ISERROR(I17),H17,SMALL(H17:I17,1))) -> 5 | C17: =IF($A17=1,OFFSET(C17,-1,0)+1,OFFSET(C17,-1,0)) -> 1 | D17: =IF($A17=1,0,IF($A17=2,OFFSET(D17,-1,0)+1,OFFSET(D17,-1,0))) -> 2 | E17: =IF(AND($A17<=2,$A17<>0),0,IF($A17=3,OFFSET(E17,-1,0)+1,OFFSET(E17,-1,0))) -> 0 | F17: =IF(AND($A17<=3,$A17<>0),0,IF($A17=4,OFFSET(F17,-1,0)+1,OFFSET(F17,-1,0))) -> 0 | G17: =IF(AND($A17<=4,$A17<>0),0,IF($A17="S",OFFSET(G17,-1,0)+1,OFFSET(G17,-1,0))) -> 0 | H17: =IF(OR($A17="S",$A17=0),0,MATCH(0,OFFSET($B17,1,$A17,ROW($A$96)-ROW($A17)),0)) -> 58 | I17: =IF(OR($A17="S",$A17=0),0,MATCH(OFFSET($B17,0,$A17)+1,OFFSET($B17,1,$A17,ROW($A$96)-ROW($A17)),0)) -> 5 | J17: Nível 2 | K17: =IF($A17=0,"-",CONCATENATE(C17&".",IF(AND($A$5>=2,$A17>=2),D17&".",""),IF(AND($A$5>=3,$A17>=3),E17&".",""),IF(AND($A$5>=4,$A17>=4),F17&".",""),IF($A17="S",G17&".",""))) -> 1.2. | N17: =IF($A17="S",Referencia.Descricao,"REFORMA FACHADAS") -> REFORMA FACHADAS | O17: =Referencia.Unidade | P17: =OFFSET(PLQ!$E$12,ROW($P17)-ROW(P$12),0) -> 0 | Q17: =Y17 -> 0 | R17: BDI 1 | S17: =IF($A17="S",IF($Q$10="Preço Unitário (R$)",PO.CustoUnitario,ROUND(PO.CustoUnitario*(1+$Z17),15-13*$X$6)),0) -> 0 | T17: =IF($A17="S",VTOTAL1,IF($A17=0,0,ROUND(SomaAgrup,15-13*$X$7))) -> 29052.44 | U17: =IF($J17="","",IF($N17="","DESCRIÇÃO",IF(AND($J17="Serviço",$O17=""),"UNIDADE",IF($T17<=0,"SEM VALOR",IF(AND($Y17<>"",$Q17>$Y17),"ACIMA REF.",""))))) | V17: =IF(OR($A17=0,$A17="S",$A17>CFF!$A$9),"",MAX(V$12:OFFSET(V17,-1,0))+1) -> 3 | W17: =IF(AND($J17="Serviço",$M17<>""),IF($L17="",$M17,CONCATENATE($L17,"-",$M17))) -> FALSE | X17: =IF(AND(Fonte<>"",Código<>""),MATCH(Fonte&" "&IF(Fonte="sinapi",SUBSTITUTE(SUBSTITUTE(Código,"/00","/"),"/0","/"),Código),INDIRECT("'[Referência "&_xlnm.Database&".xls]Banco'!$a:$a"),0),"X") -> X | Y17: =IF(Import.Desoneracao="sim",Referencia.Desonerado,Referencia.NaoDesonerado) -> 0 | Z17: =ROUND(IF(ISNUMBER(R17),R17,IF(LEFT(R17,3)="BDI",HLOOKUP(R17,DADOS!$T$37:$X$38,2,FALSE),0)),15-11*$X$5) -> 0.2109
A18: =CHOOSE(1+LOG(1+2*(J18="Meta")+4*(J18="Nível 2")+8*(J18="Nível 3")+16*(J18="Nível 4")+32*(J18="Serviço"),2),0,1,2,3,4,"S") -> S | B18: =IF(OR(A18="S",A18=0),0,IF(ISERROR(I18),H18,SMALL(H18:I18,1))) -> 0 | C18: =IF($A18=1,OFFSET(C18,-1,0)+1,OFFSET(C18,-1,0)) -> 1 | D18: =IF($A18=1,0,IF($A18=2,OFFSET(D18,-1,0)+1,OFFSET(D18,-1,0))) -> 2 | E18: =IF(AND($A18<=2,$A18<>0),0,IF($A18=3,OFFSET(E18,-1,0)+1,OFFSET(E18,-1,0))) -> 0 | F18: =IF(AND($A18<=3,$A18<>0),0,IF($A18=4,OFFSET(F18,-1,0)+1,OFFSET(F18,-1,0))) -> 0 | G18: =IF(AND($A18<=4,$A18<>0),0,IF($A18="S",OFFSET(G18,-1,0)+1,OFFSET(G18,-1,0))) -> 1 | H18: =IF(OR($A18="S",$A18=0),0,MATCH(0,OFFSET($B18,1,$A18,ROW($A$96)-ROW($A18)),0)) -> 0 | I18: =IF(OR($A18="S",$A18=0),0,MATCH(OFFSET($B18,0,$A18)+1,OFFSET($B18,1,$A18,ROW($A$96)-ROW($A18)),0)) -> 0 | J18: Serviço | K18: =IF($A18=0,"-",CONCATENATE(C18&".",IF(AND($A$5>=2,$A18>=2),D18&".",""),IF(AND($A$5>=3,$A18>=3),E18&".",""),IF(AND($A$5>=4,$A18>=4),F18&".",""),IF($A18="S",G18&".",""))) -> 1.2.1. | L18: SINAPI | M18: 87905 | N18: =IF($A18="S",Referencia.Descricao,"PINTURA DA QUADRA ESPORTIVA") -> CHAPISCO APLICADO EM ALVENARIA (COM PRESENÇA DE VÃOS) E ESTRUTURAS DE CONCRETO DE FACHADA, COM COLHER DE PEDREIRO. ARGAMASSA TRAÇO 1:3 COM PREPARO EM BETONEIRA 400L. AF_10/2022 | O18: =Referencia.Unidade -> M2 | P18: =OFFSET(PLQ!$E$12,ROW($P18)-ROW(P$12),0) -> 260.21 | Q18: =Y18 -> 8.86 | R18: BDI 1 | S18: =IF($A18="S",IF($Q$10="Preço Unitário (R$)",PO.CustoUnitario,ROUND(PO.CustoUnitario*(1+$Z18),15-13*$X$6)),0) -> 10.73 | T18: =IF($A18="S",VTOTAL1,IF($A18=0,0,ROUND(SomaAgrup,15-13*$X$7))) -> 2792.05 | U18: =IF($J18="","",IF($N18="","DESCRIÇÃO",IF(AND($J18="Serviço",$O18=""),"UNIDADE",IF($T18<=0,"SEM VALOR",IF(AND($Y18<>"",$Q18>$Y18),"ACIMA REF.",""))))) | V18: =IF(OR($A18=0,$A18="S",$A18>CFF!$A$9),"",MAX(V$12:OFFSET(V18,-1,0))+1) | W18: =IF(AND($J18="Serviço",$M18<>""),IF($L18="",$M18,CONCATENATE($L18,"-",$M18))) -> SINAPI-87905 | X18: =IF(AND(Fonte<>"",Código<>""),MATCH(Fonte&" "&IF(Fonte="sinapi",SUBSTITUTE(SUBSTITUTE(Código,"/00","/"),"/0","/"),Código),INDIRECT("'[Referência "&_xlnm.Database&".xls]Banco'!$a:$a"),0),"X") -> 7282 | Y18: =IF(Import.Desoneracao="sim",Referencia.Desonerado,Referencia.NaoDesonerado) -> 8.86 | Z18: =ROUND(IF(ISNUMBER(R18),R18,IF(LEFT(R18,3)="BDI",HLOOKUP(R18,DADOS!$T$37:$X$38,2,FALSE),0)),15-11*$X$5) -> 0.2109
A19: =CHOOSE(1+LOG(1+2*(J19="Meta")+4*(J19="Nível 2")+8*(J19="Nível 3")+16*(J19="Nível 4")+32*(J19="Serviço"),2),0,1,2,3,4,"S") -> S | B19: =IF(OR(A19="S",A19=0),0,IF(ISERROR(I19),H19,SMALL(H19:I19,1))) -> 0 | C19: =IF($A19=1,OFFSET(C19,-1,0)+1,OFFSET(C19,-1,0)) -> 1 | D19: =IF($A19=1,0,IF($A19=2,OFFSET(D19,-1,0)+1,OFFSET(D19,-1,0))) -> 2 | E19: =IF(AND($A19<=2,$A19<>0),0,IF($A19=3,OFFSET(E19,-1,0)+1,OFFSET(E19,-1,0))) -> 0 | F19: =IF(AND($A19<=3,$A19<>0),0,IF($A19=4,OFFSET(F19,-1,0)+1,OFFSET(F19,-1,0))) -> 0 | G19: =IF(AND($A19<=4,$A19<>0),0,IF($A19="S",OFFSET(G19,-1,0)+1,OFFSET(G19,-1,0))) -> 2 | H19: =IF(OR($A19="S",$A19=0),0,MATCH(0,OFFSET($B19,1,$A19,ROW($A$96)-ROW($A19)),0)) -> 0 | I19: =IF(OR($A19="S",$A19=0),0,MATCH(OFFSET($B19,0,$A19)+1,OFFSET($B19,1,$A19,ROW($A$96)-ROW($A19)),0)) -> 0 | J19: Serviço | K19: =IF($A19=0,"-",CONCATENATE(C19&".",IF(AND($A$5>=2,$A19>=2),D19&".",""),IF(AND($A$5>=3,$A19>=3),E19&".",""),IF(AND($A$5>=4,$A19>=4),F19&".",""),IF($A19="S",G19&".",""))) -> 1.2.2. | L19: SINAPI | M19: 87777 | N19: =IF($A19="S",Referencia.Descricao,"(digite a descrição aqui)") -> EMBOÇO OU MASSA ÚNICA EM ARGAMASSA TRAÇO 1:2:8, PREPARO MANUAL, APLICADA MANUALMENTE EM PANOS DE FACHADA COM PRESENÇA DE VÃOS, ESPESSURA DE 25 MM. AF_08/2022 | O19: =Referencia.Unidade -> M2 | P19: =OFFSET(PLQ!$E$12,ROW($P19)-ROW(P$12),0) -> 260.21 | Q19: =Y19 -> 62.1 | R19: BDI 1 | S19: =IF($A19="S",IF($Q$10="Preço Unitário (R$)",PO.CustoUnitario,ROUND(PO.CustoUnitario*(1+$Z19),15-13*$X$6)),0) -> 75.2 | T19: =IF($A19="S",VTOTAL1,IF($A19=0,0,ROUND(SomaAgrup,15-13*$X$7))) -> 19567.79 | U19: =IF($J19="","",IF($N19="","DESCRIÇÃO",IF(AND($J19="Serviço",$O19=""),"UNIDADE",IF($T19<=0,"SEM VALOR",IF(AND($Y19<>"",$Q19>$Y19),"ACIMA REF.",""))))) | V19: =IF(OR($A19=0,$A19="S",$A19>CFF!$A$9),"",MAX(V$12:OFFSET(V19,-1,0))+1) | W19: =IF(AND($J19="Serviço",$M19<>""),IF($L19="",$M19,CONCATENATE($L19,"-",$M19))) -> SINAPI-87777 | X19: =IF(AND(Fonte<>"",Código<>""),MATCH(Fonte&" "&IF(Fonte="sinapi",SUBSTITUTE(SUBSTITUTE(Código,"/00","/"),"/0","/"),Código),INDIRECT("'[Referência "&_xlnm.Database&".xls]Banco'!$a:$a"),0),"X") -> 13354 | Y19: =IF(Import.Desoneracao="sim",Referencia.Desonerado,Referencia.NaoDesonerado) -> 62.1 | Z19: =ROUND(IF(ISNUMBER(R19),R19,IF(LEFT(R19,3)="BDI",HLOOKUP(R19,DADOS!$T$37:$X$38,2,FALSE),0)),15-11*$X$5) -> 0.2109
A20: =CHOOSE(1+LOG(1+2*(J20="Meta")+4*(J20="Nível 2")+8*(J20="Nível 3")+16*(J20="Nível 4")+32*(J20="Serviço"),2),0,1,2,3,4,"S") -> S | B20: =IF(OR(A20="S",A20=0),0,IF(ISERROR(I20),H20,SMALL(H20:I20,1))) -> 0 | C20: =IF($A20=1,OFFSET(C20,-1,0)+1,OFFSET(C20,-1,0)) -> 1 | D20: =IF($A20=1,0,IF($A20=2,OFFSET(D20,-1,0)+1,OFFSET(D20,-1,0))) -> 2 | E20: =IF(AND($A20<=2,$A20<>0),0,IF($A20=3,OFFSET(E20,-1,0)+1,OFFSET(E20,-1,0))) -> 0 | F20: =IF(AND($A20<=3,$A20<>0),0,IF($A20=4,OFFSET(F20,-1,0)+1,OFFSET(F20,-1,0))) -> 0 | G20: =IF(AND($A20<=4,$A20<>0),0,IF($A20="S",OFFSET(G20,-1,0)+1,OFFSET(G20,-1,0))) -> 3 | H20: =IF(OR($A20="S",$A20=0),0,MATCH(0,OFFSET($B20,1,$A20,ROW($A$96)-ROW($A20)),0)) -> 0 | I20: =IF(OR($A20="S",$A20=0),0,MATCH(OFFSET($B20,0,$A20)+1,OFFSET($B20,1,$A20,ROW($A$96)-ROW($A20)),0)) -> 0 | J20: Serviço | K20: =IF($A20=0,"-",CONCATENATE(C20&".",IF(AND($A$5>=2,$A20>=2),D20&".",""),IF(AND($A$5>=3,$A20>=3),E20&".",""),IF(AND($A$5>=4,$A20>=4),F20&".",""),IF($A20="S",G20&".",""))) -> 1.2.3. | L20: SINAPI | M20: 88415 | N20: =IF($A20="S",Referencia.Descricao,"(digite a descrição aqui)") -> APLICAÇÃO MANUAL DE FUNDO SELADOR ACRÍLICO EM PAREDES EXTERNAS DE CASAS. AF_03/2024 | O20: =Referencia.Unidade -> M2 | P20: =OFFSET(PLQ!$E$12,ROW($P20)-ROW(P$12),0) -> 260.21 | Q20: =Y20 -> 4.3 | R20: BDI 1 | S20: =IF($A20="S",IF($Q$10="Preço Unitário (R$)",PO.CustoUnitario,ROUND(PO.CustoUnitario*(1+$Z20),15-13*$X$6)),0) -> 5.21 | T20: =IF($A20="S",VTOTAL1,IF($A20=0,0,ROUND(SomaAgrup,15-13*$X$7))) -> 1355.69 | U20: =IF($J20="","",IF($N20="","DESCRIÇÃO",IF(AND($J20="Serviço",$O20=""),"UNIDADE",IF($T20<=0,"SEM VALOR",IF(AND($Y20<>"",$Q20>$Y20),"ACIMA REF.",""))))) | V20: =IF(OR($A20=0,$A20="S",$A20>CFF!$A$9),"",MAX(V$12:OFFSET(V20,-1,0))+1) | W20: =IF(AND($J20="Serviço",$M20<>""),IF($L20="",$M20,CONCATENATE($L20,"-",$M20))) -> SINAPI-88415 | X20: =IF(AND(Fonte<>"",Código<>""),MATCH(Fonte&" "&IF(Fonte="sinapi",SUBSTITUTE(SUBSTITUTE(Código,"/00","/"),"/0","/"),Código),INDIRECT("'[Referência "&_xlnm.Database&".xls]Banco'!$a:$a"),0),"X") -> 13853 | Y20: =IF(Import.Desoneracao="sim",Referencia.Desonerado,Referencia.NaoDesonerado) -> 4.3 | Z20: =ROUND(IF(ISNUMBER(R20),R20,IF(LEFT(R20,3)="BDI",HLOOKUP(R20,DADOS!$T$37:$X$38,2,FALSE),0)),15-11*$X$5) -> 0.2109
A21: =CHOOSE(1+LOG(1+2*(J21="Meta")+4*(J21="Nível 2")+8*(J21="Nível 3")+16*(J21="Nível 4")+32*(J21="Serviço"),2),0,1,2,3,4,"S") -> S | B21: =IF(OR(A21="S",A21=0),0,IF(ISERROR(I21),H21,SMALL(H21:I21,1))) -> 0 | C21: =IF($A21=1,OFFSET(C21,-1,0)+1,OFFSET(C21,-1,0)) -> 1 | D21: =IF($A21=1,0,IF($A21=2,OFFSET(D21,-1,0)+1,OFFSET(D21,-1,0))) -> 2 | E21: =IF(AND($A21<=2,$A21<>0),0,IF($A21=3,OFFSET(E21,-1,0)+1,OFFSET(E21,-1,0))) -> 0 | F21: =IF(AND($A21<=3,$A21<>0),0,IF($A21=4,OFFSET(F21,-1,0)+1,OFFSET(F21,-1,0))) -> 0 | G21: =IF(AND($A21<=4,$A21<>0),0,IF($A21="S",OFFSET(G21,-1,0)+1,OFFSET(G21,-1,0))) -> 4 | H21: =IF(OR($A21="S",$A21=0),0,MATCH(0,OFFSET($B21,1,$A21,ROW($A$96)-ROW($A21)),0)) -> 0 | I21: =IF(OR($A21="S",$A21=0),0,MATCH(OFFSET($B21,0,$A21)+1,OFFSET($B21,1,$A21,ROW($A$96)-ROW($A21)),0)) -> 0 | J21: Serviço | K21: =IF($A21=0,"-",CONCATENATE(C21&".",IF(AND($A$5>=2,$A21>=2),D21&".",""),IF(AND($A$5>=3,$A21>=3),E21&".",""),IF(AND($A$5>=4,$A21>=4),F21&".",""),IF($A21="S",G21&".",""))) -> 1.2.4. | L21: SINAPI | M21: 95626 | N21: =IF($A21="S",Referencia.Descricao,"(digite a descrição aqui)") -> APLICAÇÃO MANUAL DE TINTA LÁTEX ACRÍLICA EM PAREDE EXTERNAS DE CASAS, DUAS DEMÃOS. AF_03/2024 | O21: =Referencia.Unidade -> M2 | P21: =OFFSET(PLQ!$E$12,ROW($P21)-ROW(P$12),0) -> 260.21 | Q21: =Y21 -> 16.94 | R21: BDI 1 | S21: =IF($A21="S",IF($Q$10="Preço Unitário (R$)",PO.CustoUnitario,ROUND(PO.CustoUnitario*(1+$Z21),15-13*$X$6)),0) -> 20.51 | T21: =IF($A21="S",VTOTAL1,IF($A21=0,0,ROUND(SomaAgrup,15-13*$X$7))) -> 5336.91 | U21: =IF($J21="","",IF($N21="","DESCRIÇÃO",IF(AND($J21="Serviço",$O21=""),"UNIDADE",IF($T21<=0,"SEM VALOR",IF(AND($Y21<>"",$Q21>$Y21),"ACIMA REF.",""))))) | V21: =IF(OR($A21=0,$A21="S",$A21>CFF!$A$9),"",MAX(V$12:OFFSET(V21,-1,0))+1) | W21: =IF(AND($J21="Serviço",$M21<>""),IF($L21="",$M21,CONCATENATE($L21,"-",$M21))) -> SINAPI-95626 | X21: =IF(AND(Fonte<>"",Código<>""),MATCH(Fonte&" "&IF(Fonte="sinapi",SUBSTITUTE(SUBSTITUTE(Código,"/00","/"),"/0","/"),Código),INDIRECT("'[Referência "&_xlnm.Database&".xls]Banco'!$a:$a"),0),"X") -> 13879 | Y21: =IF(Import.Desoneracao="sim",Referencia.Desonerado,Referencia.NaoDesonerado) -> 16.94 | Z21: =ROUND(IF(ISNUMBER(R21),R21,IF(LEFT(R21,3)="BDI",HLOOKUP(R21,DADOS!$T$37:$X$38,2,FALSE),0)),15-11*$X$5) -> 0.2109
A22: =CHOOSE(1+LOG(1+2*(J22="Meta")+4*(J22="Nível 2")+8*(J22="Nível 3")+16*(J22="Nível 4")+32*(J22="Serviço"),2),0,1,2,3,4,"S") -> 2 | B22: =IF(OR(A22="S",A22=0),0,IF(ISERROR(I22),H22,SMALL(H22:I22,1))) -> 11 | C22: =IF($A22=1,OFFSET(C22,-1,0)+1,OFFSET(C22,-1,0)) -> 1 | D22: =IF($A22=1,0,IF($A22=2,OFFSET(D22,-1,0)+1,OFFSET(D22,-1,0))) -> 3 | E22: =IF(AND($A22<=2,$A22<>0),0,IF($A22=3,OFFSET(E22,-1,0)+1,OFFSET(E22,-1,0))) -> 0 | F22: =IF(AND($A22<=3,$A22<>0),0,IF($A22=4,OFFSET(F22,-1,0)+1,OFFSET(F22,-1,0))) -> 0 | G22: =IF(AND($A22<=4,$A22<>0),0,IF($A22="S",OFFSET(G22,-1,0)+1,OFFSET(G22,-1,0))) -> 0 | H22: =IF(OR($A22="S",$A22=0),0,MATCH(0,OFFSET($B22,1,$A22,ROW($A$96)-ROW($A22)),0)) -> 53 | I22: =IF(OR($A22="S",$A22=0),0,MATCH(OFFSET($B22,0,$A22)+1,OFFSET($B22,1,$A22,ROW($A$96)-ROW($A22)),0)) -> 11 | J22: Nível 2 | K22: =IF($A22=0,"-",CONCATENATE(C22&".",IF(AND($A$5>=2,$A22>=2),D22&".",""),IF(AND($A$5>=3,$A22>=3),E22&".",""),IF(AND($A$5>=4,$A22>=4),F22&".",""),IF($A22="S",G22&".",""))) -> 1.3. | L22: SINAPI | N22: TELHADO, FORROS E BEIRAIS | O22: =Referencia.Unidade | P22: =OFFSET(PLQ!$E$12,ROW($P22)-ROW(P$12),0) -> 0 | R22: BDI 1 | S22: =IF($A22="S",IF($Q$10="Preço Unitário (R$)",PO.CustoUnitario,ROUND(PO.CustoUnitario*(1+$Z22),15-13*$X$6)),0) -> 0 | T22: =IF($A22="S",VTOTAL1,IF($A22=0,0,ROUND(SomaAgrup,15-13*$X$7))) -> 64480.38 | U22: =IF($J22="","",IF($N22="","DESCRIÇÃO",IF(AND($J22="Serviço",$O22=""),"UNIDADE",IF($T22<=0,"SEM VALOR",IF(AND($Y22<>"",$Q22>$Y22),"ACIMA REF.",""))))) | V22: =IF(OR($A22=0,$A22="S",$A22>CFF!$A$9),"",MAX(V$12:OFFSET(V22,-1,0))+1) -> 4 | W22: =IF(AND($J22="Serviço",$M22<>""),IF($L22="",$M22,CONCATENATE($L22,"-",$M22))) -> FALSE | X22: =IF(AND(Fonte<>"",Código<>""),MATCH(Fonte&" "&IF(Fonte="sinapi",SUBSTITUTE(SUBSTITUTE(Código,"/00","/"),"/0","/"),Código),INDIRECT("'[Referência "&_xlnm.Database&".xls]Banco'!$a:$a"),0),"X") -> X | Y22: =IF(Import.Desoneracao="sim",Referencia.Desonerado,Referencia.NaoDesonerado) -> 0 | Z22: =ROUND(IF(ISNUMBER(R22),R22,IF(LEFT(R22,3)="BDI",HLOOKUP(R22,DADOS!$T$37:$X$38,2,FALSE),0)),15-11*$X$5) -> 0.2109
A23: =CHOOSE(1+LOG(1+2*(J23="Meta")+4*(J23="Nível 2")+8*(J23="Nível 3")+16*(J23="Nível 4")+32*(J23="Serviço"),2),0,1,2,3,4,"S") -> S | B23: =IF(OR(A23="S",A23=0),0,IF(ISERROR(I23),H23,SMALL(H23:I23,1))) -> 0 | C23: =IF($A23=1,OFFSET(C23,-1,0)+1,OFFSET(C23,-1,0)) -> 1 | D23: =IF($A23=1,0,IF($A23=2,OFFSET(D23,-1,0)+1,OFFSET(D23,-1,0))) -> 3 | E23: =IF(AND($A23<=2,$A23<>0),0,IF($A23=3,OFFSET(E23,-1,0)+1,OFFSET(E23,-1,0))) -> 0 | F23: =IF(AND($A23<=3,$A23<>0),0,IF($A23=4,OFFSET(F23,-1,0)+1,OFFSET(F23,-1,0))) -> 0 | G23: =IF(AND($A23<=4,$A23<>0),0,IF($A23="S",OFFSET(G23,-1,0)+1,OFFSET(G23,-1,0))) -> 1 | H23: =IF(OR($A23="S",$A23=0),0,MATCH(0,OFFSET($B23,1,$A23,ROW($A$96)-ROW($A23)),0)) -> 0 | I23: =IF(OR($A23="S",$A23=0),0,MATCH(OFFSET($B23,0,$A23)+1,OFFSET($B23,1,$A23,ROW($A$96)-ROW($A23)),0)) -> 0 | J23: Serviço | K23: =IF($A23=0,"-",CONCATENATE(C23&".",IF(AND($A$5>=2,$A23>=2),D23&".",""),IF(AND($A$5>=3,$A23>=3),E23&".",""),IF(AND($A$5>=4,$A23>=4),F23&".",""),IF($A23="S",G23&".",""))) -> 1.3.1. | L23: COMPOSIÇÃO | M23: 01 | N23: =IF($A23="S",Referencia.Descricao,"(digite a descrição aqui)") -> COLOCAÇÃO DE FORRO DE PVC EM PLACAS 618 X 1243 X 10mm, PARA AMBIENTES COMERCIAIS, COR BRANCA, INCLUSIVE ESTRUTURA BIDERECIONAL DE FIXAÇÃO (SEM FORNECIMENTO DO FORRO) REF. (SINAPI 96486) | O23: =Referencia.Unidade -> M2 | P23: =OFFSET(PLQ!$E$12,ROW($P23)-ROW(P$12),0) -> 76.79 | Q23: =Y23 -> 44.9 | R23: BDI 1 | S23: =IF($A23="S",IF($Q$10="Preço Unitário (R$)",PO.CustoUnitario,ROUND(PO.CustoUnitario*(1+$Z23),15-13*$X$6)),0) -> 54.37 | T23: =IF($A23="S",VTOTAL1,IF($A23=0,0,ROUND(SomaAgrup,15-13*$X$7))) -> 4175.07 | U23: =IF($J23="","",IF($N23="","DESCRIÇÃO",IF(AND($J23="Serviço",$O23=""),"UNIDADE",IF($T23<=0,"SEM VALOR",IF(AND($Y23<>"",$Q23>$Y23),"ACIMA REF.",""))))) | V23: =IF(OR($A23=0,$A23="S",$A23>CFF!$A$9),"",MAX(V$12:OFFSET(V23,-1,0))+1) | W23: =IF(AND($J23="Serviço",$M23<>""),IF($L23="",$M23,CONCATENATE($L23,"-",$M23))) -> COMPOSIÇÃO-01 | X23: =IF(AND(Fonte<>"",Código<>""),MATCH(Fonte&" "&IF(Fonte="sinapi",SUBSTITUTE(SUBSTITUTE(Código,"/00","/"),"/0","/"),Código),INDIRECT("'[Referência "&_xlnm.Database&".xls]Banco'!$a:$a"),0),"X") -> 7 | Y23: =IF(Import.Desoneracao="sim",Referencia.Desonerado,Referencia.NaoDesonerado) -> 44.9 | Z23: =ROUND(IF(ISNUMBER(R23),R23,IF(LEFT(R23,3)="BDI",HLOOKUP(R23,DADOS!$T$37:$X$38,2,FALSE),0)),15-11*$X$5) -> 0.2109
A24: =CHOOSE(1+LOG(1+2*(J24="Meta")+4*(J24="Nível 2")+8*(J24="Nível 3")+16*(J24="Nível 4")+32*(J24="Serviço"),2),0,1,2,3,4,"S") -> S | B24: =IF(OR(A24="S",A24=0),0,IF(ISERROR(I24),H24,SMALL(H24:I24,1))) -> 0 | C24: =IF($A24=1,OFFSET(C24,-1,0)+1,OFFSET(C24,-1,0)) -> 1 | D24: =IF($A24=1,0,IF($A24=2,OFFSET(D24,-1,0)+1,OFFSET(D24,-1,0))) -> 3 | E24: =IF(AND($A24<=2,$A24<>0),0,IF($A24=3,OFFSET(E24,-1,0)+1,OFFSET(E24,-1,0))) -> 0 | F24: =IF(AND($A24<=3,$A24<>0),0,IF($A24=4,OFFSET(F24,-1,0)+1,OFFSET(F24,-1,0))) -> 0 | G24: =IF(AND($A24<=4,$A24<>0),0,IF($A24="S",OFFSET(G24,-1,0)+1,OFFSET(G24,-1,0))) -> 2 | H24: =IF(OR($A24="S",$A24=0),0,MATCH(0,OFFSET($B24,1,$A24,ROW($A$96)-ROW($A24)),0)) -> 0 | I24: =IF(OR($A24="S",$A24=0),0,MATCH(OFFSET($B24,0,$A24)+1,OFFSET($B24,1,$A24,ROW($A$96)-ROW($A24)),0)) -> 0 | J24: Serviço | K24: =IF($A24=0,"-",CONCATENATE(C24&".",IF(AND($A$5>=2,$A24>=2),D24&".",""),IF(AND($A$5>=3,$A24>=3),E24&".",""),IF(AND($A$5>=4,$A24>=4),F24&".",""),IF($A24="S",G24&".",""))) -> 1.3.2. | L24: SINAPI | M24: 96486 | N24: =IF($A24="S",Referencia.Descricao,"(digite a descrição aqui)") -> FORRO EM RÉGUAS DE PVC, LISO, PARA AMBIENTES COMERCIAIS, INCLUSIVE ESTRUTURA BIDIRECIONAL DE FIXAÇÃO. AF_08/2023_PS | O24: =Referencia.Unidade -> M2 | P24: =OFFSET(PLQ!$E$12,ROW($P24)-ROW(P$12),0) -> 274.14 | Q24: =Y24 -> 95.01 | R24: BDI 1 | S24: =IF($A24="S",IF($Q$10="Preço Unitário (R$)",PO.CustoUnitario,ROUND(PO.CustoUnitario*(1+$Z24),15-13*$X$6)),0) -> 115.05 | T24: =IF($A24="S",VTOTAL1,IF($A24=0,0,ROUND(SomaAgrup,15-13*$X$7))) -> 31539.81 | U24: =IF($J24="","",IF($N24="","DESCRIÇÃO",IF(AND($J24="Serviço",$O24=""),"UNIDADE",IF($T24<=0,"SEM VALOR",IF(AND($Y24<>"",$Q24>$Y24),"ACIMA REF.",""))))) | V24: =IF(OR($A24=0,$A24="S",$A24>CFF!$A$9),"",MAX(V$12:OFFSET(V24,-1,0))+1) | W24: =IF(AND($J24="Serviço",$M24<>""),IF($L24="",$M24,CONCATENATE($L24,"-",$M24))) -> SINAPI-96486 | X24: =IF(AND(Fonte<>"",Código<>""),MATCH(Fonte&" "&IF(Fonte="sinapi",SUBSTITUTE(SUBSTITUTE(Código,"/00","/"),"/0","/"),Código),INDIRECT("'[Referência "&_xlnm.Database&".xls]Banco'!$a:$a"),0),"X") -> 9938 | Y24: =IF(Import.Desoneracao="sim",Referencia.Desonerado,Referencia.NaoDesonerado) -> 95.01 | Z24: =ROUND(IF(ISNUMBER(R24),R24,IF(LEFT(R24,3)="BDI",HLOOKUP(R24,DADOS!$T$37:$X$38,2,FALSE),0)),15-11*$X$5) -> 0.2109
A25: =CHOOSE(1+LOG(1+2*(J25="Meta")+4*(J25="Nível 2")+8*(J25="Nível 3")+16*(J25="Nível 4")+32*(J25="Serviço"),2),0,1,2,3,4,"S") -> S | B25: =IF(OR(A25="S",A25=0),0,IF(ISERROR(I25),H25,SMALL(H25:I25,1))) -> 0 | C25: =IF($A25=1,OFFSET(C25,-1,0)+1,OFFSET(C25,-1,0)) -> 1 | D25: =IF($A25=1,0,IF($A25=2,OFFSET(D25,-1,0)+1,OFFSET(D25,-1,0))) -> 3 | E25: =IF(AND($A25<=2,$A25<>0),0,IF($A25=3,OFFSET(E25,-1,0)+1,OFFSET(E25,-1,0))) -> 0 | F25: =IF(AND($A25<=3,$A25<>0),0,IF($A25=4,OFFSET(F25,-1,0)+1,OFFSET(F25,-1,0))) -> 0 | G25: =IF(AND($A25<=4,$A25<>0),0,IF($A25="S",OFFSET(G25,-1,0)+1,OFFSET(G25,-1,0))) -> 3 | H25: =IF(OR($A25="S",$A25=0),0,MATCH(0,OFFSET($B25,1,$A25,ROW($A$96)-ROW($A25)),0)) -> 0 | I25: =IF(OR($A25="S",$A25=0),0,MATCH(OFFSET($B25,0,$A25)+1,OFFSET($B25,1,$A25,ROW($A$96)-ROW($A25)),0)) -> 0 | J25: Serviço | K25: =IF($A25=0,"-",CONCATENATE(C25&".",IF(AND($A$5>=2,$A25>=2),D25&".",""),IF(AND($A$5>=3,$A25>=3),E25&".",""),IF(AND($A$5>=4,$A25>=4),F25&".",""),IF($A25="S",G25&".",""))) -> 1.3.3. | L25: SINAPI | M25: 96116 | N25: =IF($A25="S",Referencia.Descricao,"(digite a descrição aqui)") -> FORRO EM RÉGUAS DE PVC, FRISADO, PARA AMBIENTES COMERCIAIS, INCLUSIVE ESTRUTURA BIDIRECIONAL DE FIXAÇÃO. AF_08/2023_PS | O25: =Referencia.Unidade -> M2 | P25: =OFFSET(PLQ!$E$12,ROW($P25)-ROW(P$12),0) -> 34 | Q25: =Y25 -> 80.93 | R25: BDI 1 | S25: =IF($A25="S",IF($Q$10="Preço Unitário (R$)",PO.CustoUnitario,ROUND(PO.CustoUnitario*(1+$Z25),15-13*$X$6)),0) -> 98 | T25: =IF($A25="S",VTOTAL1,IF($A25=0,0,ROUND(SomaAgrup,15-13*$X$7))) -> 3332 | U25: =IF($J25="","",IF($N25="","DESCRIÇÃO",IF(AND($J25="Serviço",$O25=""),"UNIDADE",IF($T25<=0,"SEM VALOR",IF(AND($Y25<>"",$Q25>$Y25),"ACIMA REF.",""))))) | V25: =IF(OR($A25=0,$A25="S",$A25>CFF!$A$9),"",MAX(V$12:OFFSET(V25,-1,0))+1) | W25: =IF(AND($J25="Serviço",$M25<>""),IF($L25="",$M25,CONCATENATE($L25,"-",$M25))) -> SINAPI-96116 | X25: =IF(AND(Fonte<>"",Código<>""),MATCH(Fonte&" "&IF(Fonte="sinapi",SUBSTITUTE(SUBSTITUTE(Código,"/00","/"),"/0","/"),Código),INDIRECT("'[Referência "&_xlnm.Database&".xls]Banco'!$a:$a"),0),"X") -> 9936 | Y25: =IF(Import.Desoneracao="sim",Referencia.Desonerado,Referencia.NaoDesonerado) -> 80.93 | Z25: =ROUND(IF(ISNUMBER(R25),R25,IF(LEFT(R25,3)="BDI",HLOOKUP(R25,DADOS!$T$37:$X$38,2,FALSE),0)),15-11*$X$5) -> 0.2109
A26: =CHOOSE(1+LOG(1+2*(J26="Meta")+4*(J26="Nível 2")+8*(J26="Nível 3")+16*(J26="Nível 4")+32*(J26="Serviço"),2),0,1,2,3,4,"S") -> S | B26: =IF(OR(A26="S",A26=0),0,IF(ISERROR(I26),H26,SMALL(H26:I26,1))) -> 0 | C26: =IF($A26=1,OFFSET(C26,-1,0)+1,OFFSET(C26,-1,0)) -> 1 | D26: =IF($A26=1,0,IF($A26=2,OFFSET(D26,-1,0)+1,OFFSET(D26,-1,0))) -> 3 | E26: =IF(AND($A26<=2,$A26<>0),0,IF($A26=3,OFFSET(E26,-1,0)+1,OFFSET(E26,-1,0))) -> 0 | F26: =IF(AND($A26<=3,$A26<>0),0,IF($A26=4,OFFSET(F26,-1,0)+1,OFFSET(F26,-1,0))) -> 0 | G26: =IF(AND($A26<=4,$A26<>0),0,IF($A26="S",OFFSET(G26,-1,0)+1,OFFSET(G26,-1,0))) -> 4 | H26: =IF(OR($A26="S",$A26=0),0,MATCH(0,OFFSET($B26,1,$A26,ROW($A$96)-ROW($A26)),0)) -> 0 | I26: =IF(OR($A26="S",$A26=0),0,MATCH(OFFSET($B26,0,$A26)+1,OFFSET($B26,1,$A26,ROW($A$96)-ROW($A26)),0)) -> 0 | J26: Serviço | K26: =IF($A26=0,"-",CONCATENATE(C26&".",IF(AND($A$5>=2,$A26>=2),D26&".",""),IF(AND($A$5>=3,$A26>=3),E26&".",""),IF(AND($A$5>=4,$A26>=4),F26&".",""),IF($A26="S",G26&".",""))) -> 1.3.4. | L26: COMPOSIÇÃO | M26: 16 | N26: =IF($A26="S",Referencia.Descricao,"(digite a descrição aqui)") -> INSTALAÇÃO DE TESOURA (INTEIRA OU MEIA), BIAPOIADA, PARA VÃOS MAIORES OU IGUAIS A 6,0 M E MENORES QUE 8,0 M, INCLUSO IÇAMENTO. AF_07/2019 (SEM FORNECIMENTO DA TESOURA) | O26: =Referencia.Unidade -> UNIDADE | P26: =OFFSET(PLQ!$E$12,ROW($P26)-ROW(P$12),0) -> 10 | Q26: =Y26 -> 297.75 | R26: BDI 1 | S26: =IF($A26="S",IF($Q$10="Preço Unitário (R$)",PO.CustoUnitario,ROUND(PO.CustoUnitario*(1+$Z26),15-13*$X$6)),0) -> 360.55 | T26: =IF($A26="S",VTOTAL1,IF($A26=0,0,ROUND(SomaAgrup,15-13*$X$7))) -> 3605.5 | U26: =IF($J26="","",IF($N26="","DESCRIÇÃO",IF(AND($J26="Serviço",$O26=""),"UNIDADE",IF($T26<=0,"SEM VALOR",IF(AND($Y26<>"",$Q26>$Y26),"ACIMA REF.",""))))) | V26: =IF(OR($A26=0,$A26="S",$A26>CFF!$A$9),"",MAX(V$12:OFFSET(V26,-1,0))+1) | W26: =IF(AND($J26="Serviço",$M26<>""),IF($L26="",$M26,CONCATENATE($L26,"-",$M26))) -> COMPOSIÇÃO-16 | X26: =IF(AND(Fonte<>"",Código<>""),MATCH(Fonte&" "&IF(Fonte="sinapi",SUBSTITUTE(SUBSTITUTE(Código,"/00","/"),"/0","/"),Código),INDIRECT("'[Referência "&_xlnm.Database&".xls]Banco'!$a:$a"),0),"X") -> 21 | Y26: =IF(Import.Desoneracao="sim",Referencia.Desonerado,Referencia.NaoDesonerado) -> 297.75 | Z26: =ROUND(IF(ISNUMBER(R26),R26,IF(LEFT(R26,3)="BDI",HLOOKUP(R26,DADOS!$T$37:$X$38,2,FALSE),0)),15-11*$X$5) -> 0.2109
A27: =CHOOSE(1+LOG(1+2*(J27="Meta")+4*(J27="Nível 2")+8*(J27="Nível 3")+16*(J27="Nível 4")+32*(J27="Serviço"),2),0,1,2,3,4,"S") -> S | B27: =IF(OR(A27="S",A27=0),0,IF(ISERROR(I27),H27,SMALL(H27:I27,1))) -> 0 | C27: =IF($A27=1,OFFSET(C27,-1,0)+1,OFFSET(C27,-1,0)) -> 1 | D27: =IF($A27=1,0,IF($A27=2,OFFSET(D27,-1,0)+1,OFFSET(D27,-1,0))) -> 3 | E27: =IF(AND($A27<=2,$A27<>0),0,IF($A27=3,OFFSET(E27,-1,0)+1,OFFSET(E27,-1,0))) -> 0 | F27: =IF(AND($A27<=3,$A27<>0),0,IF($A27=4,OFFSET(F27,-1,0)+1,OFFSET(F27,-1,0))) -> 0 | G27: =IF(AND($A27<=4,$A27<>0),0,IF($A27="S",OFFSET(G27,-1,0)+1,OFFSET(G27,-1,0))) -> 5 | H27: =IF(OR($A27="S",$A27=0),0,MATCH(0,OFFSET($B27,1,$A27,ROW($A$96)-ROW($A27)),0)) -> 0 | I27: =IF(OR($A27="S",$A27=0),0,MATCH(OFFSET($B27,0,$A27)+1,OFFSET($B27,1,$A27,ROW($A$96)-ROW($A27)),0)) -> 0 | J27: Serviço | K27: =IF($A27=0,"-",CONCATENATE(C27&".",IF(AND($A$5>=2,$A27>=2),D27&".",""),IF(AND($A$5>=3,$A27>=3),E27&".",""),IF(AND($A$5>=4,$A27>=4),F27&".",""),IF($A27="S",G27&".",""))) -> 1.3.5. | L27: SINAPI | M27: 92543 | N27: =IF($A27="S",Referencia.Descricao,"(digite a descrição aqui)") -> TRAMA DE MADEIRA COMPOSTA POR TERÇAS PARA TELHADOS DE ATÉ 2 ÁGUAS PARA TELHA ONDULADA DE FIBROCIMENTO, METÁLICA, PLÁSTICA OU TERMOACÚSTICA, INCLUSO TRANSPORTE VERTICAL. AF_07/2019 | O27: =Referencia.Unidade -> M2 | P27: =OFFSET(PLQ!$E$12,ROW($P27)-ROW(P$12),0) -> 111.27 | Q27: =Y27 -> 22.68 | R27: BDI 1 | S27: =IF($A27="S",IF($Q$10="Preço Unitário (R$)",PO.CustoUnitario,ROUND(PO.CustoUnitario*(1+$Z27),15-13*$X$6)),0) -> 27.46 | T27: =IF($A27="S",VTOTAL1,IF($A27=0,0,ROUND(SomaAgrup,15-13*$X$7))) -> 3055.47 | U27: =IF($J27="","",IF($N27="","DESCRIÇÃO",IF(AND($J27="Serviço",$O27=""),"UNIDADE",IF($T27<=0,"SEM VALOR",IF(AND($Y27<>"",$Q27>$Y27),"ACIMA REF.",""))))) | V27: =IF(OR($A27=0,$A27="S",$A27>CFF!$A$9),"",MAX(V$12:OFFSET(V27,-1,0))+1) | W27: =IF(AND($J27="Serviço",$M27<>""),IF($L27="",$M27,CONCATENATE($L27,"-",$M27))) -> SINAPI-92543 | X27: =IF(AND(Fonte<>"",Código<>""),MATCH(Fonte&" "&IF(Fonte="sinapi",SUBSTITUTE(SUBSTITUTE(Código,"/00","/"),"/0","/"),Código),INDIRECT("'[Referência "&_xlnm.Database&".xls]Banco'!$a:$a"),0),"X") -> 9746 | Y27: =IF(Import.Desoneracao="sim",Referencia.Desonerado,Referencia.NaoDesonerado) -> 22.68 | Z27: =ROUND(IF(ISNUMBER(R27),R27,IF(LEFT(R27,3)="BDI",HLOOKUP(R27,DADOS!$T$37:$X$38,2,FALSE),0)),15-11*$X$5) -> 0.2109
