Workbook
Name PO.CustoUnitario: ROUND('Calcadao & Passeio'!$O1,15-13*'Calcadao & Passeio'!$V$4)
Name PO.PrecoUnitario: ROUND('Calcadao & Passeio'!$Q1,15-13*'Calcadao & Passeio'!$V$6)
Name PO.Quantidade: ROUND('Calcadao & Passeio'!$N1,15-13*'Calcadao & Passeio'!$V$3)
Name SomaAgrup: SUMIF(OFFSET('Calcadao & Passeio'!#REF!,1,0,'Calcadao & Passeio'!#REF!),"S",OFFSET('Calcadao & Passeio'!A1,1,0,'Calcadao & Passeio'!#REF!))
Name TipoOrçamento: "BASE"
Name VTOTAL1: ROUND(PO.Quantidade*PO.PrecoUnitario,15-13*'Calcadao & Passeio'!$V$7)

Sheet Rua Russa
F3: Trecho 1 a 8
C4: 2025 | D4: =SUM(F8:F9) -> 7805.1 | F4: =SUM(F8:F9) -> 7805.1
D6: Comprimento | E6: Largura | F6: Total | G6: Valor R$ (m²) | H6: Total R$
B8: 1 | C8: Rua Uruguaiana | F8: ='[1]Repaginação Uruguaiana'!$T$16+120-0.55 -> 7805.1 | G8: 82.99 | H8: =F8*+G8 -> 647745.25
C10: Meio fio com sarjeta
B11: 1 m³ | C11: 16
C13: Concreto Usinado | D13: Lado | E13: Total | F13: m³ de concreto
F14: =SUM(M21:M29) -> 0
B15: 1 | C15: Rua Uruguaiana | D15: ='[1]Repaginação Uruguaiana'!$H$16+'[1]Repaginação Uruguaiana'!$I$16 -> 1391 | E15: =D15 -> 1391 | F15: =E15/$C$11 -> 86.9375
C17: Pó de brita | E17: Área (m²) | F17: m³ de pó de brita | G17: Ton. de pó de brita | H17: 1.6
C18: 0.12 | F18: =SUM(M28:M41) -> 0 | G18: =SUM(N28:N42) -> 0
B20: 1 | C20: Rua Uruguaiana | E20: =F8 -> 7805.1 | F20: =E20*$C$18 -> 936.612 | G20: =F20*$H$17 -> 1498.5792

Sheet Calcadao & Passeio
K2: 5270 | L2: 5812
A3: Item | B3: Fonte | C3: Código | D3: Descrição | E3: Unidade | F3: Quantidade | G3: =IF(OR(TipoOrçamento="LICITADO",TipoOrçamento="REPROGRAMADOAC"),"Preço Unitário (R$)","Custo Unitário (R$)") -> Custo Unitário (R$) | H3: BDI (%) | I3: Preço Unitário (R$) | J3: Preço Total (R$) | L3: 1206958.7
D4: Repaginação Rua Uruguaiana | H4: 0.24 | K4: =L3*K5 -> 396000 | L4: =L3*L5 -> 810958.68
A5: 1 | D5: Calçadão de 5,0 m | K5: 0.3280974 | L5: 0.6719026
A6: 1.1 | D6: Repaginação Passeio Rua Uruguaiana | K6: RECURSO | L6: CONTRAPARTIDA
A7: 1.1.1 | B7: SINAPI | C7: 103689 | D7: FORNECIMENTO E INSTALAÇÃO DE PLACA DE OBRA COM CHAPA GALVANIZADA E ESTRUTURA DE MADEIRA. AF_03/2022_PS | E7: M² | F7: 4.5 | G7: 462.77 | H7: BDI 1 | I7: =(G7*$H$4)+G7 -> 573.8348 | J7: =F7*I7 -> 2582.2566 | K7: =F7*$K$5 -> 1.4764383 | L7: =F7*$L$5 -> 3.0235617
A8: 1.1.2 | B8: SINAPI | C8: 87298 | D8: ARGAMASSA TRAÇO 1:3 (EM VOLUME DE CIMENTO E AREIA MÉDIA ÚMIDA) PARA CONTRAPISO, PREPARO MECÂNICO COM BETONEIRA 400 L. AF_08/2019 | E8: M³ | F8: =F9*0.06 -> 105 | G8: 774.41 | H8: BDI 1 | I8: =(G8*$H$4)+G8 -> 960.2684 | J8: =F8*I8 -> 100828.18 | K8: =F8*$K$5 -> 34.450227 | L8: =F8*$L$5 -> 70.549773
A9: 1.1.3 | B9: COMPOSIÇÃO | C9: 1 | D9: FORNECIMENTO E EXECUÇÃO DE PASSEIO EM PEDRA BASALTO IRREGULAR (7 a 9 CM) COM REJUNTE | E9: M² | F9: 1750 | G9: 123 | H9: BDI 1 | I9: =(G9*$H$4)+G9 -> 152.52 | J9: =F9*I9 -> 266910 | K9: =F9*$K$5 -> 574.17044 | L9: =F9*$L$5 -> 1175.8296
A10: 1.1.4 | B10: SINAPI | C10: 97113 | D10: APLICAÇÃO DE LONA PLÁSTICA PARA EXECUÇÃO DE PAVIMENTOS DE CONCRETO. AF_04/2022 | E10: M² | F10: 312 | G10: 2.77 | H10: BDI 1 | I10: =(G10*$H$4)+G10 -> 3.4348 | J10: =F10*I10 -> 1071.6576 | K10: =F10*$K$5 -> 102.36639 | L10: =F10*$L$5 -> 209.63361
A11: 1.1.5 | B11: COMPOSIÇÃO | C11: 2 | D11: FORNECIMENTO E EXECUÇÃO DE PASSEIO COM PEDRA DOLOMITA Nº3 BRANCA | E11: M³ | F11: =F10*0.025 -> 7.8 | G11: 2112.5 | H11: BDI 1 | I11: =(G11*$H$4)+G11 -> 2619.5 | J11: =F11*I11 -> 20432.1 | K11: =F11*$K$5 -> 2.5591597 | L11: =F11*$L$5 -> 5.2408403
A12: 1.1.6 | B12: COMPOSIÇÃO | C12: 3 | D12: FORNECIMENTO E EXECUÇÃO DE PASSEIO COM PEDRA DOLOMITA Nº2 BRANCA | E12: M³ | F12: =F10*0.025 -> 7.8 | G12: 2112.5 | H12: BDI 1 | I12: =(G12*$H$4)+G12 -> 2619.5 | J12: =F12*I12 -> 20432.1 | K12: =F12*$K$5 -> 2.5591597 | L12: =F12*$L$5 -> 5.2408403
A13: 1.1.7 | B13: COMPOSIÇÃO | C13: 4 | D13: FORNECIMENTO E INSTALAÇÃO DE PISO TÁTIL DIRECIONAL E DE ALERTA EM CONCRETO (20 x 20 x 6 cm) | E13: M² | F13: 178 | G13: 93 | H13: BDI 1 | I13: =(G13*$H$4)+G13 -> 115.32 | J13: =F13*I13 -> 20526.96 | K13: =F13*$K$5 -> 58.401336 | L13: =F13*$L$5 -> 119.59866
A14: 1.1.8 | B14: COMPOSIÇÃO | C14: 5 | D14: EXECUÇÃO DAS RAMPAS DE ACESSIBILIDADE COM CONCRETO FCK=25 MPA TRAÇO 1:2, 2;2, 2, (EM MASSA SECA DE CIMENTO/ AREIA MÉDIA/ SEIXO ROLADO) PREPARO MECÂNICO COM BETONEIRA | E14: M³ | F14: =0.38*4 -> 1.52 | G14: 754.47 | H14: BDI 1 | I14: =(G14*$H$4)+G14 -> 935.5428 | J14: =F14*I14 -> 1422.0251 | K14: =F14*$K$5 -> 0.49870804 | L14: =F14*$L$5 -> 1.021292
A15: 1.2 | D15: VIGAS DE CONTENÇÃO | I15: =(G15*$H$4)+G15 -> 0 | J15: =F15*I15 -> 0 | K15: =F15*$K$5 -> 0 | L15: =F15*$L$5 -> 0
A16: 1.2.1 | B16: SINAPI | C16: 92760 | D16: Armação de Pilar ou Viga de Estrutura Convencional de concreto armado utilizando AÇO CA-50 DE 6,3 MM - MONTAGEM. AF_06/2022 | E16: KG | F16: =43*4 -> 172 | G16: 17.03 | H16: BDI 1 | I16: =(G16*$H$4)+G16 -> 21.1172 | J16: =F16*I16 -> 3632.1584 | K16: =F16*$K$5 -> 56.432752 | L16: =F16*$L$5 -> 115.56725
A17: 1.2.2 | B17: SINAPI | C17: 96555 | D17: Concretagem de bloco de coroamento ou Viga baldrame, FCK 30 MPA, COM USO DE JERICA - LANÇAMENTO, ADENSAMENTO E ACABAMENTO. AF_01/2024 | E17: M3 | F17: =2.5*4 -> 10 | G17: 946.09 | H17: BDI 1 | I17: =(G17*$H$4)+G17 -> 1173.1516 | J17: =F17*I17 -> 11731.516 | K17: =F17*$K$5 -> 3.280974 | L17: =F17*$L$5 -> 6.719026
A18: 1.2.3 | B18: SINAPI | C18: 100322 | D18: LASTRO COM MATERIAL GRANULAR (PEDRA BRITADA N.3), APLICADO EM PISOS OU LAJES SOBRE SOLO, ESPESSURA DE *10 CM*. AF_01/2024 | E18: M3 | F18: =0.45*4 -> 1.8 | G18: 200.45 | H18: BDI 1 | I18: =(G18*$H$4)+G18 -> 248.558 | J18: =F18*I18 -> 447.4044 | K18: =F18*$K$5 -> 0.59057531 | L18: =F18*$L$5 -> 1.2094247
A19: 1.2.4 | B19: SINAPI | C19: 96527 | D19: ESCAVAÇÃO MANUAL PARA BLOCO DE COROAMENTO OU SAPATA (INCLUINDO ESCAVAÇÃO PARA COLOCAÇÃO DE FÔRMAS). AF_01/2024 | E19: M3 | F19: =1.6*4 -> 6.4 | G19: 122.15 | H19: BDI 1 | I19: =(G19*$H$4)+G19 -> 151.466 | J19: =F19*I19 -> 969.3824 | K19: =F19*$K$5 -> 2.0998233 | L19: =F19*$L$5 -> 4.3001767
A20: 1.3 | D20: BASES DE CONCRETO PARA ARTESANATOS | I20: =(G20*$H$4)+G20 -> 0 | J20: =F20*I20 -> 0 | K20: =F20*$K$5 -> 0 | L20: =F20*$L$5 -> 0
A21: 1.3.1 | B21: SINAPI | C21: 96527 | D21: Escavação manual para bloco de coroamento ou sapata (Incluindo escavação para colocação de fôrmas). AF_01/2024 | E21: M3 | F21: 4.12 | G21: 114.94 | H21: BDI 1 | I21: =(G21*$H$4)+G21 -> 142.5256 | J21: =F21*I21 -> 587.20547 | K21: =F21*$K$5 -> 1.3517613 | L21: =F21*$L$5 -> 2.7682387
A22: 1.3.2 | B22: SINAPI | C22: 100322 | D22: LASTRO COM MATERIAL GRANULAR (PEDRA BRITADA N.3), APLICADO EM PISOS OU LAJES SOBRE SOLO, ESPESSURA DE *10 CM*. AF_01/2024 | E22: M3 | F22: 0.15 | G22: 168.38 | H22: BDI 1 | I22: =(G22*$H$4)+G22 -> 208.7912 | J22: =F22*I22 -> 31.31868 | K22: =F22*$K$5 -> 0.049214609 | L22: =F22*$L$5 -> 0.10078539
A23: 1.3.3 | B23: SINAPI | C23: 92760 | D23: ARMAÇÃO DE BLOCO UTILIZANDO AÇO CA-50 DE 10 MM - MONTAGEM. AF_01/2024 | E23: KG | F23: 151.49 | G23: 13.26 | H23: BDI 1 | I23: =(G23*$H$4)+G23 -> 16.4424 | J23: =F23*I23 -> 2490.8592 | K23: =F23*$K$5 -> 49.703475 | L23: =F23*$L$5 -> 101.78653
A24: 1.3.4 | B24: SINAPI | C24: 96555 | D24: CONCRETAGEM DE BLOCO DE COROAMENTO OU VIGA BALDRAME, FCK 30 MPA, COM USO DE JERICA - LANÇAMENTO, ADENSAMENTO E ACABAMENTO. AF_01/2024 | E24: M3 | F24: 1.5 | G24: 693.47 | H24: BDI 1 | I24: =(G24*$H$4)+G24 -> 859.9028 | J24: =F24*I24 -> 1289.8542 | K24: =F24*$K$5 -> 0.49214609 | L24: =F24*$L$5 -> 1.0078539
A25: 1.4 | D25: BASES PARA MASTROS DAS BANDEIRAS | I25: =(G25*$H$4)+G25 -> 0 | J25: =F25*I25 -> 0 | K25: =F25*$K$5 -> 0 | L25: =F25*$L$5 -> 0
A26: 1.4.1 | B26: SINAPI | C26: 96555 | D26: CONCRETAGEM DE BLOCO DE COROAMENTO OU VIGA BALDRAME, FCK 30 MPA, COM USO DE JERICA - LANÇAMENTO, ADENSAMENTO E ACABAMENTO. AF_01/2024 | E26: M3 | F26: =0.14*4 -> 0.56 | G26: 793.02 | H26: BDI 1 | I26: =(G26*$H$4)+G26 -> 983.3448 | J26: =F26*I26 -> 550.67309 | K26: =F26*$K$5 -> 0.18373454 | L26: =F26*$L$5 -> 0.37626546
A27: 1.4.2 | B27: SINAPI | C27: 100743 | D27: PINTURA COM TINTA ALQUÍDICA DE ACABAMENTO (ESMALTE SINTÉTICO BRILHANTE) PULVERIZADA SOBRE SUPERFÍCIES METÁLICAS (EXCETO PERFIL) EXECUTADO EM OBRA (02 DEMÃOS). AF_01/2020_PE | E27: M3 | F27: =1.9*4 -> 7.6 | G27: 52.21 | H27: BDI 1 | I27: =(G27*$H$4)+G27 -> 64.7404 | J27: =F27*I27 -> 492.02704 | K27: =F27*$K$5 -> 2.4935402 | L27: =F27*$L$5 -> 5.1064598
A28: 1.5 | D28: Elétrico: Postes de Luz Ornamentais, Pergolados e Artesanatos de Natal | H28: BDI 1 | I28: =(G28*$H$4)+G28 -> 0 | J28: =F28*I28 -> 0 | K28: =F28*$K$5 -> 0 | L28: =F28*$L$5 -> 0
A29: 1.5.1 | B29: COTAÇÃO | C29: 1 | D29: Caixa de Atendimento FTTH - CTO PARA DIJUNTOR | E29: UNID | F29: 4 | G29: 100 | H29: BDI 1 | I29: =(G29*$H$4)+G29 -> 124 | J29: =F29*I29 -> 496 | K29: =F29*$K$5 -> 1.3123896 | L29: =F29*$L$5 -> 2.6876104
A30: 1.5.2 | B30: COTAÇÃO | C30: 2 | D30: DIJUNTORES DE 20 AMP | E30: UNID | F30: =F29*2 -> 8 | G30: 18 | H30: BDI 1 | I30: =(G30*$H$4)+G30 -> 22.32 | J30: =F30*I30 -> 178.56 | K30: =F30*$K$5 -> 2.6247792 | L30: =F30*$L$5 -> 5.3752208
A31: 1.5.3 | B31: COTAÇÃO | C31: 3 | D31: SUPORTE PARA DIJUNTOR | E31: UNID | F31: =F29 -> 4 | G31: 20 | H31: BDI 1 | I31: =(G31*$H$4)+G31 -> 24.8 | J31: =F31*I31 -> 99.2 | K31: =F31*$K$5 -> 1.3123896 | L31: =F31*$L$5 -> 2.6876104
A32: 1.5.4 | B32: COTAÇÃO | C32: 4 | D32: TUBO PRÉ ZINCADO 32MMX3 | E32: M | F32: 30 | G32: 49.5 | H32: BDI 1 | I32: =(G32*$H$4)+G32 -> 61.38 | J32: =F32*I32 -> 1841.4 | K32: =F32*$K$5 -> 9.8429219 | L32: =F32*$L$5 -> 20.157078
A33: 1.5.5 | B33: COTAÇÃO | C33: 5 | D33: CURVA PRÉ ZINCADA 180º 32MM | E33: UNID | F33: 4 | G33: 12 | H33: BDI 1 | I33: =(G33*$H$4)+G33 -> 14.88 | J33: =F33*I33 -> 59.52 | K33: =F33*$K$5 -> 1.3123896 | L33: =F33*$L$5 -> 2.6876104
A34: 1.5.6 | B34: COTAÇÃO | C34: 6 | D34: PRESILHA METALICA PARA CINTA PERFURADA | E34: UNID | F34: 20 | G34: 0.57 | H34: BDI 1 | I34: =(G34*$H$4)+G34 -> 0.7068 | J34: =F34*I34 -> 14.136 | K34: =F34*$K$5 -> 6.5619479 | L34: =F34*$L$5 -> 13.438052
A35: 1.5.7 | B35: COTAÇÃO | C35: 7 | D35: CINTA PERFURADA | E35: UNID | F35: 28 | G35: 1.59 | H35: BDI 1 | I35: =(G35*$H$4)+G35 -> 1.9716 | J35: =F35*I35 -> 55.2048 | K35: =F35*$K$5 -> 9.1867271 | L35: =F35*$L$5 -> 18.813273
A36: 1.5.8 | B36: COTAÇÃO | C36: 8 | D36: LUVAS 32MM PRÉ ZINCADO | E36: UNID | F36: 15 | G36: 4 | H36: BDI 1 | I36: =(G36*$H$4)+G36 -> 4.96 | J36: =F36*I36 -> 74.4 | K36: =F36*$K$5 -> 4.9214609 | L36: =F36*$L$5 -> 10.078539
A37: 1.5.9 | B37: COTAÇÃO | C37: 9 | D37: CABO PP 3X6,00M 1KV CORFIO OU SUL | E37: M | F37: 506.26 | G37: 20 | H37: BDI 1 | I37: =(G37*$H$4)+G37 -> 24.8 | J37: =F37*I37 -> 12555.248 | K37: =F37*$K$5 -> 166.10259 | L37: =F37*$L$5 -> 340.15741
A38: 1.5.10 | B38: COTAÇÃO | C38: 10 | D38: ELETRODUTO CORRUGADO PEAD COM FIO GUIA 40MM | E38: UNID | F38: 466.26 | G38: 2.5 | H38: BDI 1 | I38: =(G38*$H$4)+G38 -> 3.1 | J38: =F38*I38 -> 1445.406 | K38: =F38*$K$5 -> 152.97869 | L38: =F38*$L$5 -> 313.28131
A39: 1.5.11 | B39: COTAÇÃO | C39: 11 | D39: CABO PP 2X1,500M 1KV CORFIO OU SUL | E39: M | F39: 93.33 | G39: 6.4 | H39: BDI 1 | I39: =(G39*$H$4)+G39 -> 7.936 | J39: =F39*I39 -> 740.66688 | K39: =F39*$K$5 -> 30.62133 | L39: =F39*$L$5 -> 62.70867
A40: 1.5.12 | B40: COTAÇÃO | C40: 12 | D40: BASE DE FERRO GIRATÓRIA PARA RELÉ COM FOTOCÉLULA | E40: UNID | F40: 4 | G40: 60 | H40: BDI 1 | I40: =(G40*$H$4)+G40 -> 74.4 | J40: =F40*I40 -> 297.6 | K40: =F40*$K$5 -> 1.3123896 | L40: =F40*$L$5 -> 2.6876104
A41: 1.5.13 | B41: COTAÇÃO | C41: 13 | D41: RELÉ ACIONAMENTO MECANICO ILUMATIC OU EXATRON | E41: UNID | F41: 4 | G41: 55 | H41: BDI 1 | I41: =(G41*$H$4)+G41 -> 68.2 | J41: =F41*I41 -> 272.8 | K41: =F41*$K$5 -> 1.3123896 | L41: =F41*$L$5 -> 2.6876104
...

Sheet Cronograma
C7: Item | E7: Total Etapa | F7: 30 Dias | G7: 60 Dias | H7: 90 Dias | I7: 120 Dias | J7: 150 Dias | K7: 180 Dias | L7: 210 Dias | M7: 240 Dias | N7: 270 Dias | O7: 300 Dias | P7: Total Acumulado
C8: 1 | D8: =VLOOKUP(C8,'Calcadao & Passeio'!$A$5:$J$98,4,0) -> Calçadão de 5,0 m | E8: =E10+E20+E26+E32+E36 -> 494567.63 | F8: =F9/$E$8 -> 0.10475971 | G8: =G9/$E$8 -> 0.19255463 | H8: =H9/$E$8 -> 0.13169239 | I8: =I9/$E$8 -> 0.13169239 | J8: =J9/$E$8 -> 0.13169239 | K8: =K9/$E$8 -> 0.13169239 | L8: =L9/$E$8 -> 0.087794926 | M8: =M9/$E$8 -> 0.0004216613 | ... O8: =O9/$E$8 -> 0.082619469 | P8: =SUM(F8:O8) -> 1 | Q8: =IF(P8=1,"OK';""FALTA") -> OK';"FALTA
F9: =F19+F25+F31+F35+F55 -> 51810.759 | G9: =G19+G25+G31+G35+G55 -> 95231.287 | H9: =H19+H25+H31+H35+H55 -> 65130.792 | I9: =I19+I25+I31+I35+I55 -> 65130.792 | J9: =J19+J25+J31+J35+J55 -> 65130.792 | K9: =K19+K25+K31+K35+K55 -> 65130.792 | L9: =L19+L25+L31+L35+L55 -> 43420.528 | M9: =M19+M25+M31+M35+M55 -> 208.54003 | ... O9: =O19+O25+O31+O35+O55 -> 40860.914
C10: 1.1 | D10: =VLOOKUP(C10,'Calcadao & Passeio'!$A$5:$J$98,4,0) -> Repaginação Passeio Rua Uruguaiana | E10: =SUM(E11:E18) -> 434205.28 | F10: 0.1 | G10: 0.2 | H10: 0.15 | I10: 0.15 | J10: 0.15 | K10: 0.15 | L10: 0.1 | P10: =SUM(F10:O10) -> 1 | Q10: =IF(P10=1,"OK';""FALTA") -> OK';"FALTA
C11: 1.1.1 | D11: =VLOOKUP(C11,'Calcadao & Passeio'!$A$5:$J$98,4,0) -> FORNECIMENTO E INSTALAÇÃO DE PLACA DE OBRA COM CHAPA GALVANIZADA E ESTRUTURA DE MADEIRA. AF_03/2022_PS | E11: =VLOOKUP(C11,'Calcadao & Passeio'!$A$5:$J$98,10,0) -> 2582.2566
C12: 1.1.2 | D12: =VLOOKUP(C12,'Calcadao & Passeio'!$A$5:$J$98,4,0) -> ARGAMASSA TRAÇO 1:3 (EM VOLUME DE CIMENTO E AREIA MÉDIA ÚMIDA) PARA CONTRAPISO, PREPARO MECÂNICO COM BETONEIRA 400 L. AF_08/2019 | E12: =VLOOKUP(C12,'Calcadao & Passeio'!$A$5:$J$98,10,0) -> 100828.18
C13: 1.1.3 | D13: =VLOOKUP(C13,'Calcadao & Passeio'!$A$5:$J$98,4,0) -> FORNECIMENTO E EXECUÇÃO DE PASSEIO EM PEDRA BASALTO IRREGULAR (7 a 9 CM) COM REJUNTE | E13: =VLOOKUP(C13,'Calcadao & Passeio'!$A$5:$J$98,10,0) -> 266910
C14: 1.1.4 | D14: =VLOOKUP(C14,'Calcadao & Passeio'!$A$5:$J$98,4,0) -> APLICAÇÃO DE LONA PLÁSTICA PARA EXECUÇÃO DE PAVIMENTOS DE CONCRETO. AF_04/2022 | E14: =VLOOKUP(C14,'Calcadao & Passeio'!$A$5:$J$98,10,0) -> 1071.6576
C15: 1.1.5 | D15: =VLOOKUP(C15,'Calcadao & Passeio'!$A$5:$J$98,4,0) -> FORNECIMENTO E EXECUÇÃO DE PASSEIO COM PEDRA DOLOMITA Nº3 BRANCA | E15: =VLOOKUP(C15,'Calcadao & Passeio'!$A$5:$J$98,10,0) -> 20432.1
C16: 1.1.6 | D16: =VLOOKUP(C16,'Calcadao & Passeio'!$A$5:$J$98,4,0) -> FORNECIMENTO E EXECUÇÃO DE PASSEIO COM PEDRA DOLOMITA Nº2 BRANCA | E16: =VLOOKUP(C16,'Calcadao & Passeio'!$A$5:$J$98,10,0) -> 20432.1
C17: 1.1.7 | D17: =VLOOKUP(C17,'Calcadao & Passeio'!$A$5:$J$98,4,0) -> FORNECIMENTO E INSTALAÇÃO DE PISO TÁTIL DIRECIONAL E DE ALERTA EM CONCRETO (20 x 20 x 6 cm) | E17: =VLOOKUP(C17,'Calcadao & Passeio'!$A$5:$J$98,10,0) -> 20526.96
C18: 1.1.8 | D18: =VLOOKUP(C18,'Calcadao & Passeio'!$A$5:$J$98,4,0) -> EXECUÇÃO DAS RAMPAS DE ACESSIBILIDADE COM CONCRETO FCK=25 MPA TRAÇO 1:2, 2;2, 2, (EM MASSA SECA DE CIMENTO/ AREIA MÉDIA/ SEIXO ROLADO) PREPARO MECÂNICO COM BETONEIRA | E18: =VLOOKUP(C18,'Calcadao & Passeio'!$A$5:$J$98,10,0) -> 1422.0251
F19: =F10*$E$10 -> 43420.528 | G19: =G10*$E$10 -> 86841.056 | H19: =H10*$E$10 -> 65130.792 | I19: =I10*$E$10 -> 65130.792 | J19: =J10*$E$10 -> 65130.792 | K19: =K10*$E$10 -> 65130.792 | L19: =L10*$E$10 -> 43420.528 | M19: =M10*$E$10 -> 0 | ... O19: =O10*$E$10 -> 0
C20: 1.2 | D20: =VLOOKUP(C20,'Calcadao & Passeio'!$A$5:$J$98,4,0) -> VIGAS DE CONTENÇÃO | E20: =SUM(E21:E24) -> 16780.461 | F20: 0.5 | G20: 0.5 | P20: =SUM(F20:O20) -> 1 | Q20: =IF(P20=1,"OK';""FALTA") -> OK';"FALTA
C21: 1.2.1 | D21: =VLOOKUP(C21,'Calcadao & Passeio'!$A$5:$J$98,4,0) -> Armação de Pilar ou Viga de Estrutura Convencional de concreto armado utilizando AÇO CA-50 DE 6,3 MM - MONTAGEM. AF_06/2022 | E21: =VLOOKUP(C21,'Calcadao & Passeio'!$A$5:$J$98,10,0) -> 3632.1584
C22: 1.2.2 | D22: =VLOOKUP(C22,'Calcadao & Passeio'!$A$5:$J$98,4,0) -> Concretagem de bloco de coroamento ou Viga baldrame, FCK 30 MPA, COM USO DE JERICA - LANÇAMENTO, ADENSAMENTO E ACABAMENTO. AF_01/2024 | E22: =VLOOKUP(C22,'Calcadao & Passeio'!$A$5:$J$98,10,0) -> 11731.516
C23: 1.2.3 | D23: =VLOOKUP(C23,'Calcadao & Passeio'!$A$5:$J$98,4,0) -> LASTRO COM MATERIAL GRANULAR (PEDRA BRITADA N.3), APLICADO EM PISOS OU LAJES SOBRE SOLO, ESPESSURA DE *10 CM*. AF_01/2024 | E23: =VLOOKUP(C23,'Calcadao & Passeio'!$A$5:$J$98,10,0) -> 447.4044
C24: 1.2.4 | D24: =VLOOKUP(C24,'Calcadao & Passeio'!$A$5:$J$98,4,0) -> ESCAVAÇÃO MANUAL PARA BLOCO DE COROAMENTO OU SAPATA (INCLUINDO ESCAVAÇÃO PARA COLOCAÇÃO DE FÔRMAS). AF_01/2024 | E24: =VLOOKUP(C24,'Calcadao & Passeio'!$A$5:$J$98,10,0) -> 969.3824
F25: =$E$20*F20 -> 8390.2306 | G25: =$E$20*G20 -> 8390.2306 | H25: =$E$20*H20 -> 0 | I25: =$E$20*I20 -> 0 | J25: =$E$20*J20 -> 0 | K25: =$E$20*K20 -> 0 | L25: =$E$20*L20 -> 0 | M25: =$E$20*M20 -> 0 | ... O25: =$E$20*O20 -> 0
C26: 1.3 | D26: =VLOOKUP(C26,'Calcadao & Passeio'!$A$5:$J$98,4,0) -> BASES DE CONCRETO PARA ARTESANATOS | E26: =SUM(E27:E30) -> 4399.2375 | N26: 0.5 | O26: 0.5 | P26: =SUM(F26:O26) -> 1 | Q26: =IF(P26=1,"OK';""FALTA") -> OK';"FALTA
C27: 1.3.1 | D27: =VLOOKUP(C27,'Calcadao & Passeio'!$A$5:$J$98,4,0) -> Escavação manual para bloco de coroamento ou sapata (Incluindo escavação para colocação de fôrmas). AF_01/2024 | E27: =VLOOKUP(C27,'Calcadao & Passeio'!$A$5:$J$98,10,0) -> 587.20547
C28: 1.3.2 | D28: =VLOOKUP(C28,'Calcadao & Passeio'!$A$5:$J$98,4,0) -> LASTRO COM MATERIAL GRANULAR (PEDRA BRITADA N.3), APLICADO EM PISOS OU LAJES SOBRE SOLO, ESPESSURA DE *10 CM*. AF_01/2024 | E28: =VLOOKUP(C28,'Calcadao & Passeio'!$A$5:$J$98,10,0) -> 31.31868
C29: 1.3.3 | D29: =VLOOKUP(C29,'Calcadao & Passeio'!$A$5:$J$98,4,0) -> ARMAÇÃO DE BLOCO UTILIZANDO AÇO CA-50 DE 10 MM - MONTAGEM. AF_01/2024 | E29: =VLOOKUP(C29,'Calcadao & Passeio'!$A$5:$J$98,10,0) -> 2490.8592
C30: 1.3.4 | D30: =VLOOKUP(C30,'Calcadao & Passeio'!$A$5:$J$98,4,0) -> CONCRETAGEM DE BLOCO DE COROAMENTO OU VIGA BALDRAME, FCK 30 MPA, COM USO DE JERICA - LANÇAMENTO, ADENSAMENTO E ACABAMENTO. AF_01/2024 | E30: =VLOOKUP(C30,'Calcadao & Passeio'!$A$5:$J$98,10,0) -> 1289.8542
F31: =$E$26*F26 -> 0 | G31: =$E$26*G26 -> 0 | H31: =$E$26*H26 -> 0 | I31: =$E$26*I26 -> 0 | J31: =$E$26*J26 -> 0 | K31: =$E$26*K26 -> 0 | L31: =$E$26*L26 -> 0 | M31: =$E$26*M26 -> 0 | ... O31: =$E$26*O26 -> 2199.6188
C32: 1.4 | D32: =VLOOKUP(C32,'Calcadao & Passeio'!$A$5:$J$98,4,0) -> BASES PARA MASTROS DAS BANDEIRAS | E32: =SUM(E33:E34) -> 1042.7001 | M32: 0.2 | N32: 0.3 | O32: 0.5 | P32: =SUM(F32:O32) -> 1 | Q32: =IF(P32=1,"OK';""FALTA") -> OK';"FALTA
C33: 1.4.1 | D33: =VLOOKUP(C33,'Calcadao & Passeio'!$A$5:$J$98,4,0) -> CONCRETAGEM DE BLOCO DE COROAMENTO OU VIGA BALDRAME, FCK 30 MPA, COM USO DE JERICA - LANÇAMENTO, ADENSAMENTO E ACABAMENTO. AF_01/2024 | E33: =VLOOKUP(C33,'Calcadao & Passeio'!$A$5:$J$98,10,0) -> 550.67309
C34: 1.4.2 | D34: =VLOOKUP(C34,'Calcadao & Passeio'!$A$5:$J$98,4,0) -> PINTURA COM TINTA ALQUÍDICA DE ACABAMENTO (ESMALTE SINTÉTICO BRILHANTE) PULVERIZADA SOBRE SUPERFÍCIES METÁLICAS (EXCETO PERFIL) EXECUTADO EM OBRA (02 DEMÃOS). AF_01/2020_PE | E34: =VLOOKUP(C34,'Calcadao & Passeio'!$A$5:$J$98,10,0) -> 492.02704
F35: =$E$32*F32 -> 0 | G35: =$E$32*G32 -> 0 | H35: =$E$32*H32 -> 0 | I35: =$E$32*I32 -> 0 | J35: =$E$32*J32 -> 0 | K35: =$E$32*K32 -> 0 | L35: =$E$32*L32 -> 0 | M35: =$E$32*M32 -> 208.54003 | ... O35: =$E$32*O32 -> 521.35006
C36: 1.5 | D36: =VLOOKUP(C36,'Calcadao & Passeio'!$A$5:$J$98,4,0) -> Elétrico: Postes de Luz Ornamentais, Pergolados e Artesanatos de Natal | E36: =SUM(E37:E54) -> 38139.946 | O36: 1 | P36: =SUM(F36:O36) -> 1 | Q36: =IF(P36=1,"OK';""FALTA") -> OK';"FALTA
C37: 1.5.1 | D37: =VLOOKUP(C37,'Calcadao & Passeio'!$A$5:$J$98,4,0) -> Caixa de Atendimento FTTH - CTO PARA DIJUNTOR | E37: =VLOOKUP(C37,'Calcadao & Passeio'!$A$5:$J$98,10,0) -> 496
C38: 1.5.2 | D38: =VLOOKUP(C38,'Calcadao & Passeio'!$A$5:$J$98,4,0) -> DIJUNTORES DE 20 AMP | E38: =VLOOKUP(C38,'Calcadao & Passeio'!$A$5:$J$98,10,0) -> 178.56
C39: 1.5.3 | D39: =VLOOKUP(C39,'Calcadao & Passeio'!$A$5:$J$98,4,0) -> SUPORTE PARA DIJUNTOR | E39: =VLOOKUP(C39,'Calcadao & Passeio'!$A$5:$J$98,10,0) -> 99.2
C40: 1.5.4 | D40: =VLOOKUP(C40,'Calcadao & Passeio'!$A$5:$J$98,4,0) -> TUBO PRÉ ZINCADO 32MMX3 | E40: =VLOOKUP(C40,'Calcadao & Passeio'!$A$5:$J$98,10,0) -> 1841.4
C41: 1.5.5 | D41: =VLOOKUP(C41,'Calcadao & Passeio'!$A$5:$J$98,4,0) -> CURVA PRÉ ZINCADA 180º 32MM | E41: =VLOOKUP(C41,'Calcadao & Passeio'!$A$5:$J$98,10,0) -> 59.52
C42: 1.5.6 | D42: =VLOOKUP(C42,'Calcadao & Passeio'!$A$5:$J$98,4,0) -> PRESILHA METALICA PARA CINTA PERFURADA | E42: =VLOOKUP(C42,'Calcadao & Passeio'!$A$5:$J$98,10,0) -> 14.136
C43: 1.5.7 | D43: =VLOOKUP(C43,'Calcadao & Passeio'!$A$5:$J$98,4,0) -> CINTA PERFURADA | E43: =VLOOKUP(C43,'Calcadao & Passeio'!$A$5:$J$98,10,0) -> 55.2048
C44: 1.5.8 | D44: =VLOOKUP(C44,'Calcadao & Passeio'!$A$5:$J$98,4,0) -> LUVAS 32MM PRÉ ZINCADO | E44: =VLOOKUP(C44,'Calcadao & Passeio'!$A$5:$J$98,10,0) -> 74.4
C45: 1.5.9 | D45: =VLOOKUP(C45,'Calcadao & Passeio'!$A$5:$J$98,4,0) -> CABO PP 3X6,00M 1KV CORFIO OU SUL | E45: =VLOOKUP(C45,'Calcadao & Passeio'!$A$5:$J$98,10,0) -> 12555.248
C46: 1.5.10 | D46: =VLOOKUP(C46,'Calcadao & Passeio'!$A$5:$J$98,4,0) -> ELETRODUTO CORRUGADO PEAD COM FIO GUIA 40MM | E46: =VLOOKUP(C46,'Calcadao & Passeio'!$A$5:$J$98,10,0) -> 1445.406
...
