Workbook
Name PO.CustoUnitario: ROUND('Calcadao & Passeio'!$O1,15-13*'Calcadao & Passeio'!$V$4)
Name PO.PrecoUnitario: ROUND('Calcadao & Passeio'!$Q1,15-13*'Calcadao & Passeio'!$V$6)
Name PO.Quantidade: ROUND('Calcadao & Passeio'!$N1,15-13*'Calcadao & Passeio'!$V$3)
Name SomaAgrup: SUMIF(OFFSET('Calcadao & Passeio'!#REF!,1,0,'Calcadao & Passeio'!#REF!),"S",OFFSET('Calcadao & Passeio'!A1,1,0,'Calcadao & Passeio'!#REF!))
Name TipoOrçamento: "BASE"
Name VTOTAL1: ROUND(PO.Quantidade*PO.PrecoUnitario,15-13*'Calcadao & Passeio'!$V$7)

Sheet Rua Russa
F3: Trecho 1 a 8
C4: 2025 | D4: =SUM(F8:F9) -> 7805.1 | F4: =SUM(F8:F9) -> 7805.1
D6: Comprimento | E6: Largura | F6: Total | G6: Valor R$ (m²) | H6: Total R$
B8: 1 | C8: Rua Uruguaiana | F8: ='[1]Repaginação Uruguaiana'!$T$16+120-0.55 -> 7805.1 | G8: 82.99 | H8: =F8*+G8 -> 647745.25
C10: Meio fio com sarjeta
B11: 1 m³ | C11: 16
C13: Concreto Usinado | D13: Lado | E13: Total | F13: m³ de concreto
F14: =SUM(M21:M29) -> 0
B15: 1 | C15: Rua Uruguaiana | D15: ='[1]Repaginação Uruguaiana'!$H$16+'[1]Repaginação Uruguaiana'!$I$16 -> 1391 | E15: =D15 -> 1391 | F15: =E15/$C$11 -> 86.9375
C17: Pó de brita | E17: Área (m²) | F17: m³ de pó de brita | G17: Ton. de pó de brita | H17: 1.6
C18: 0.12 | F18: =SUM(M28:M41) -> 0 | G18: =SUM(N28:N42) -> 0
B20: 1 | C20: Rua Uruguaiana | E20: =F8 -> 7805.1 | F20: =E20*$C$18 -> 936.612 | G20: =F20*$H$17 -> 1498.5792

Sheet Calcadao & Passeio
K2: 5270 | L2: 5812
A3: Item | B3: Fonte | C3: Código | D3: Descrição | E3: Unidade | F3: Quantidade | G3: =IF(OR(TipoOrçamento="LICITADO",TipoOrçamento="REPROGRAMADOAC"),"Preço Unitário (R$)","Custo Unitário (R$)") -> Custo Unitário (R$) | H3: BDI (%) | I3: Preço Unitário (R$) | J3: Preço Total (R$) | L3: 1206958.7
D4: Repaginação Rua Uruguaiana | H4: 0.24 | K4: =L3*K5 -> 396000 | L4: =L3*L5 -> 810958.68
A5: 1 | D5: Calçadão de 5,0 m | K5: 0.3280974 | L5: 0.6719026
A6: 1.1 | D6: Repaginação Passeio Rua Uruguaiana | K6: RECURSO | L6: CONTRAPARTIDA
A7: 1.1.1 | B7: SINAPI | C7: 103689 | D7: FORNECIMENTO E INSTALAÇÃO DE PLACA DE OBRA COM CHAPA GALVANIZADA E ESTRUTURA DE MADEIRA. AF_03/2022_PS | E7: M² | F7: 4.5 | G7: 462.77 | H7: BDI 1 | I7: =(G7*$H$4)+G7 -> 573.8348 | J7: =F7*I7 -> 2582.2566 | K7: =F7*$K$5 -> 1.4764383 | L7: =F7*$L$5 -> 3.0235617
A8: 1.1.2 | B8: SINAPI | C8: 87298 | D8: ARGAMASSA TRAÇO 1:3 (EM VOLUME DE CIMENTO E AREIA MÉDIA ÚMIDA) PARA CONTRAPISO, PREPARO MECÂNICO COM BETONEIRA 400 L. AF_08/2019 | E8: M³ | F8: =F9*0.06 -> 105 | G8: 774.41 | H8: BDI 1 | I8: =(G8*$H$4)+G8 -> 960.2684 | J8: =F8*I8 -> 100828.18 | K8: =F8*$K$5 -> 34.450227 | L8: =F8*$L$5 -> 70.549773
A9: 1.1.3 | B9: COMPOSIÇÃO | C9: 1 | D9: FORNECIMENTO E EXECUÇÃO DE PASSEIO EM PEDRA BASALTO IRREGULAR (7 a 9 CM) COM REJUNTE | E9: M² | F9: 1750 | G9: 123 | H9: BDI 1 | I9: =(G9*$H$4)+G9 -> 152.52 | J9: =F9*I9 -> 266910 | K9: =F9*$K$5 -> 574.17044 | L9: =F9*$L$5 -> 1175.8296
A10: 1.1.4 | B10: SINAPI | C10: 97113 | D10: APLICAÇÃO DE LONA PLÁSTICA PARA EXECUÇÃO DE PAVIMENTOS DE CONCRETO. AF_04/2022 | E10: M² | F10: 312 | G10: 2.77 | H10: BDI 1 | I10: =(G10*$H$4)+G10 -> 3.4348 | J10: =F10*I10 -> 1071.6576 | K10: =F10*$K$5 -> 102.36639 | L10: =F10*$L$5 -> 209.63361
A11: 1.1.5 | B11: COMPOSIÇÃO | C11: 2 | D11: FORNECIMENTO E EXECUÇÃO DE PASSEIO COM PEDRA DOLOMITA Nº3 BRANCA | E11: M³ | F11: =F10*0.025 -> 7.8 | G11: 2112.5 | H11: BDI 1 | I11: =(G11*$H$4)+G11 -> 2619.5 | J11: =F11*I11 -> 20432.1 | K11: =F11*$K$5 -> 2.5591597 | L11: =F11*$L$5 -> 5.2408403
A12: 1.1.6 | B12: COMPOSIÇÃO | C12: 3 | D12: FORNECIMENTO E EXECUÇÃO DE PASSEIO COM PEDRA DOLOMITA Nº2 BRANCA | E12: M³ | F12: =F10*0.025 -> 7.8 | G12: 2112.5 | H12: BDI 1 | I12: =(G12*$H$4)+G12 -> 2619.5 | J12: =F12*I12 -> 20432.1 | K12: =F12*$K$5 -> 2.5591597 | L12: =F12*$L$5 -> 5.2408403
A13: 1.1.7 | B13: COMPOSIÇÃO | C13: 4 | D13: FORNECIMENTO E INSTALAÇÃO DE PISO TÁTIL DIRECIONAL E DE ALERTA EM CONCRETO (20 x 20 x 6 cm) | E13: M² | F13: 178 | G13: 93 | H13: BDI 1 | I13: =(G13*$H$4)+G13 -> 115.32 | J13: =F13*I13 -> 20526.96 | K13: =F13*$K$5 -> 58.401336 | L13: =F13*$L$5 -> 119.59866
A14: 1.1.8 | B14: COMPOSIÇÃO | C14: 5 | D14: EXECUÇÃO DAS RAMPAS DE ACESSIBILIDADE COM CONCRETO FCK=25 MPA TRAÇO 1:2, 2;2, 2, (EM MASSA SECA DE CIMENTO/ AREIA MÉDIA/ SEIXO ROLADO) PREPARO MECÂNICO COM BETONEIRA | E14: M³ | F14: =0.38*4 -> 1.52 | G14: 754.47 | H14: BDI 1 | I14: =(G14*$H$4)+G14 -> 935.5428 | J14: =F14*I14 -> 1422.0251 | K14: =F14*$K$5 -> 0.49870804 | L14: =F14*$L$5 -> 1.021292
A15: 1.2 | D15: VIGAS DE CONTENÇÃO | I15: =(G15*$H$4)+G15 -> 0 | J15: =F15*I15 -> 0 | K15: =F15*$K$5 -> 0 | L15: =F15*$L$5 -> 0
A16: 1.2.1 | B16: SINAPI | C16: 92760 | D16: Armação de Pilar ou Viga de Estrutura Convencional de concreto armado utilizando AÇO CA-50 DE 6,3 MM - MONTAGEM. AF_06/2022 | E16: KG | F16: =43*4 -> 172 | G16: 17.03 | H16: BDI 1 | I16: =(G16*$H$4)+G16 -> 21.1172 | J16: =F16*I16 -> 3632.1584 | K16: =F16*$K$5 -> 56.432752 | L16: =F16*$L$5 -> 115.56725
A17: 1.2.2 | B17: SINAPI | C17: 96555 | D17: Concretagem de bloco de coroamento ou Viga baldrame, FCK 30 MPA, COM USO DE JERICA - LANÇAMENTO, ADENSAMENTO E ACABAMENTO. AF_01/2024 | E17: M3 | F17: =2.5*4 -> 10 | G17: 946.09 | H17: BDI 1 | I17: =(G17*$H$4)+G17 -> 1173.1516 | J17: =F17*I17 -> 11731.516 | K17: =F17*$K$5 -> 3.280974 | L17: =F17*$L$5 -> 6.719026
A18: 1.2.3 | B18: SINAPI | C18: 100322 | D18: LASTRO COM MATERIAL GRANULAR (PEDRA BRITADA N.3), APLICADO EM PISOS OU LAJES SOBRE SOLO, ESPESSURA DE *10 CM*. AF_01/2024 | E18: M3 | F18: =0.45*4 -> 1.8 | G18: 200.45 | H18: BDI 1 | I18: =(G18*$H$4)+G18 -> 248.558 | J18: =F18*I18 -> 447.4044 | K18: =F18*$K$5 -> 0.59057531 | L18: =F18*$L$5 -> 1.2094247
A19: 1.2.4 | B19: SINAPI | C19: 96527 | D19: ESCAVAÇÃO MANUAL PARA BLOCO DE COROAMENTO OU SAPATA (INCLUINDO ESCAVAÇÃO PARA COLOCAÇÃO DE FÔRMAS). AF_01/2024 | E19: M3 | F19: =1.6*4 -> 6.4 | G19: 122.15 | H19: BDI 1 | I19: =(G19*$H$4)+G19 -> 151.466 | J19: =F19*I19 -> 969.3824 | K19: =F19*$K$5 -> 2.0998233 | L19: =F19*$L$5 -> 4.3001767
A20: 1.3 | D20: BASES DE CONCRETO PARA ARTESANATOS | I20: =(G20*$H$4)+G20 -> 0 | J20: =F20*I20 -> 0 | K20: =F20*$K$5 -> 0 | L20: =F20*$L$5 -> 0
A21: 1.3.1 | B21: SINAPI | C21: 96527 | D21: Escavação manual para bloco de coroamento ou sapata (Incluindo escavação para colocação de fôrmas). AF_01/2024 | E21: M3 | F21: 4.12 | G21: 114.94 | H21: BDI 1 | I21: =(G21*$H$4)+G21 -> 142.5256 | J21: =F21*I21 -> 587.20547 | K21: =F21*$K$5 -> 1.3517613 | L21: =F21*$L$5 -> 2.7682387
A22: 1.3.2 | B22: SINAPI | C22: 100322 | D22: LASTRO COM MATERIAL GRANULAR (PEDRA BRITADA N.3), APLICADO EM PISOS OU LAJES SOBRE SOLO, ESPESSURA DE *10 CM*. AF_01/2024 | E22: M3 | F22: 0.15 | G22: 168.38 | H22: BDI 1 | I22: =(G22*$H$4)+G22 -> 208.7912 | J22: =F22*I22 -> 31.31868 | K22: =F22*$K$5 -> 0.049214609 | L22: =F22*$L$5 -> 0.10078539
A23: 1.3.3 | B23: SINAPI | C23: 92760 | D23: ARMAÇÃO DE BLOCO UTILIZANDO AÇO CA-50 DE 10 MM - MONTAGEM. AF_01/2024 | E23: KG | F23: 151.49 | G23: 13.26 | H23: BDI 1 | I23: =(G23*$H$4)+G23 -> 16.4424 | J23: =F23*I23 -> 2490.8592 | K23: =F23*$K$5 -> 49.703475 | L23: =F23*$L$5 -> 101.78653
A24: 1.3.4 | B24: SINAPI | C24: 96555 | D24: CONCRETAGEM DE BLOCO DE COROAMENTO OU VIGA BALDRAME, FCK 30 MPA, COM USO DE JERICA - LANÇAMENTO, ADENSAMENTO E ACABAMENTO. AF_01/2024 | E24: M3 | F24: 1.5 | G24: 693.47 | H24: BDI 1 | I24: =(G24*$H$4)+G24 -> 859.9028 | J24: =F24*I24 -> 1289.8542 | K24: =F24*$K$5 -> 0.49214609 | L24: =F24*$L$5 -> 1.0078539
A25: 1.4 | D25: BASES PARA MASTROS DAS BANDEIRAS | I25: =(G25*$H$4)+G25 -> 0 | J25: =F25*I25 -> 0 | K25: =F25*$K$5 -> 0 | L25: =F25*$L$5 -> 0
A26: 1.4.1 | B26: SINAPI | C26: 96555 | D26: CONCRETAGEM DE BLOCO DE COROAMENTO OU VIGA BALDRAME, FCK 30 MPA, COM USO DE JERICA - LANÇAMENTO, ADENSAMENTO E ACABAMENTO. AF_01/2024 | E26: M3 | F26: =0.14*4 -> 0.56 | G26: 793.02 | H26: BDI 1 | I26: =(G26*$H$4)+G26 -> 983.3448 | J26: =F26*I26 -> 550.67309 | K26: =F26*$K$5 -> 0.18373454 | L26: =F26*$L$5 -> 0.37626546
A27: 1.4.2 | B27: SINAPI | C27: 100743 | D27: PINTURA COM TINTA ALQUÍDICA DE ACABAMENTO (ESMALTE SINTÉTICO BRILHANTE) PULVERIZADA SOBRE SUPERFÍCIES METÁLICAS (EXCETO PERFIL) EXECUTADO EM OBRA (02 DEMÃOS). AF_01/2020_PE | E27: M3 | F27: =1.9*4 -> 7.6 | G27: 52.21 | H27: BDI 1 | I27: =(G27*$H$4)+G27 -> 64.7404 | J27: =F27*I27 -> 492.02704 | K27: =F27*$K$5 -> 2.4935402 | L27: =F27*$L$5 -> 5.1064598
A28: 1.5 | D28: Elétrico: Postes de Luz Ornamentais, Pergolados e Artesanatos de Natal | H28: BDI 1 | I28: =(G28*$H$4)+G28 -> 0 | J28: =F28*I28 -> 0 | K28: =F28*$K$5 -> 0 | L28: =F28*$L$5 -> 0
A29: 1.5.1 | B29: COTAÇÃO | C29: 1 | D29: Caixa de Atendimento FTTH - CTO PARA DIJUNTOR | E29: UNID | F29: 4 | G29: 100 | H29: BDI 1 | I29: =(G29*$H$4)+G29 -> 124 | J29: =F29*I29 -> 496 | K29: =F29*$K$5 -> 1.3123896 | L29: =F29*$L$5 -> 2.6876104
A30: 1.5.2 | B30: COTAÇÃO | C30: 2 | D30: DIJUNTORES DE 20 AMP | E30: UNID | F30: =F29*2 -> 8 | G30: 18 | H30: BDI 1 | I30: =(G30*$H$4)+G30 -> 22.32 | J30: =F30*I30 -> 178.56 | K30: =F30*$K$5 -> 2.6247792 | L30: =F30*$L$5 -> 5.3752208
A31: 1.5.3 | B31: COTAÇÃO | C31: 3 | D31: SUPORTE PARA DIJUNTOR | E31: UNID | F31: =F29 -> 4 | G31: 20 | H31: BDI 1 | I31: =(G31*$H$4)+G31 -> 24.8 | J31: =F31*I31 -> 99.2 | K31: =F31*$K$5 -> 1.3123896 | L31: =F31*$L$5 -> 2.6876104
A32: 1.5.4 | B32: COTAÇÃO | C32: 4 | D32: TUBO PRÉ ZINCADO 32MMX3 | E32: M | F32: 30 | G32: 49.5 | H32: BDI 1 | I32: =(G32*$H$4)+G32 -> 61.38 | J32: =F32*I32 -> 1841.4 | K32: =F32*$K$5 -> 9.8429219 | L32: =F32*$L$5 -> 20.157078
A33: 1.5.5 | B33: COTAÇÃO | C33: 5 | D33: CURVA PRÉ ZINCADA 180º 32MM | E33: UNID | F33: 4 | G33: 12 | H33: BDI 1 | I33: =(G33*$H$4)+G33 -> 14.88 | J33: =F33*I33 -> 59.52 | K33: =F33*$K$5 -> 1.3123896 | L33: =F33*$L$5 -> 2.6876104
A34: 1.5.6 | B34: COTAÇÃO | C34: 6 | D34: PRESILHA METALICA PARA CINTA PERFURADA | E34: UNID | F34: 20 | G34: 0.57 | H34: BDI 1 | I34: =(G34*$H$4)+G34 -> 0.7068 | J34: =F34*I34 -> 14.136 | K34: =F34*$K$5 -> 6.5619479 | L34: =F34*$L$5 -> 13.438052
A35: 1.5.7 | B35: COTAÇÃO | C35: 7 | D35: CINTA PERFURADA | E35: UNID | F35: 28 | G35: 1.59 | H35: BDI 1 | I35: =(G35*$H$4)+G35 -> 1.9716 | J35: =F35*I35 -> 55.2048 | K35: =F35*$K$5 -> 9.1867271 | L35: =F35*$L$5 -> 18.813273
A36: 1.5.8 | B36: COTAÇÃO | C36: 8 | D36: LUVAS 32MM PRÉ ZINCADO | E36: UNID | F36: 15 | G36: 4 | H36: BDI 1 | I36: =(G36*$H$4)+G36 -> 4.96 | J36: =F36*I36 -> 74.4 | K36: =F36*$K$5 -> 4.9214609 | L36: =F36*$L$5 -> 10.078539
A37: 1.5.9 | B37: COTAÇÃO | C37: 9 | D37: CABO PP 3X6,00M 1KV CORFIO OU SUL | E37: M | F37: 506.26 | G37: 20 | H37: BDI 1 | I37: =(G37*$H$4)+G37 -> 24.8 | J37: =F37*I37 -> 12555.248 | K37: =F37*$K$5 -> 166.10259 | L37: =F37*$L$5 -> 340.15741
A38: 1.5.10 | B38: COTAÇÃO | C38: 10 | D38: ELETRODUTO CORRUGADO PEAD COM FIO GUIA 40MM | E38: UNID | F38: 466.26 | G38: 2.5 | H38: BDI 1 | I38: =(G38*$H$4)+G38 -> 3.1 | J38: =F38*I38 -> 1445.406 | K38: =F38*$K$5 -> 152.97869 | L38: =F38*$L$5 -> 313.28131
A39: 1.5.11 | B39: COTAÇÃO | C39: 11 | D39: CABO PP 2X1,500M 1KV CORFIO OU SUL | E39: M | F39: 93.33 | G39: 6.4 | H39: BDI 1 | I39: =(G39*$H$4)+G39 -> 7.936 | J39: =F39*I39 -> 740.66688 | K39: =F39*$K$5 -> 30.62133 | L39: =F39*$L$5 -> 62.70867
A40: 1.5.12 | B40: COTAÇÃO | C40: 12 | D40: BASE DE FERRO GIRATÓRIA PARA RELÉ COM FOTOCÉLULA | E40: UNID | F40: 4 | G40: 60 | H40: BDI 1 | I40: =(G40*$H$4)+G40 -> 74.4 | J40: =F40*I40 -> 297.6 | K40: =F40*$K$5 -> 1.3123896 | L40: =F40*$L$5 -> 2.6876104
A41: 1.5.13 | B41: COTAÇÃO | C41: 13 | D41: RELÉ ACIONAMENTO MECANICO ILUMATIC OU EXATRON | E41: UNID | F41: 4 | G41: 55 | H41: BDI 1 | I41: =(G41*$H$4)+G41 -> 68.2 | J41: =F41*I41 -> 272.8 | K41: =F41*$K$5 -> 1.3123896 | L41: =F41*$L$5 -> 2.6876104
A42: 1.5.14 | B42: COTAÇÃO | C42: 14 | D42: ARANDELAS | E42: UNID | F42: 20 | G42: 650 | H42: BDI 1 | I42: =(G42*$H$4)+G42 -> 806 | J42: =F42*I42 -> 16120 | K42: =F42*$K$5 -> 6.5619479 | L42: =F42*$L$5 -> 13.438052
A43: 1.5.15 | B43: COTAÇÃO | C43: 15 | D43: LAMPADA RETRO ARANDELA 220V BULBO LED VINTAGE FILAMENTO BRANCO QUENTE 4W BASE E27 | E43: UNID | F43: =5*4 -> 20 | G43: 19 | H43: BDI 1 | I43: =(G43*$H$4)+G43 -> 23.56 | J43: =F43*I43 -> 471.2 | K43: =F43*$K$5 -> 6.5619479 | L43: =F43*$L$5 -> 13.438052
A44: 1.5.16 | B44: COTAÇÃO | C44: 16 | D44: LAMPADAS LED PARA OS POSTES 30W BRANCA QUENTE 3.000K BULBO LED VINTAGE FILAMENTO BRANCO QUENTE 4W BASE E27 | E44: UNID | F44: 20 | G44: 15 | H44: BDI 1 | I44: =(G44*$H$4)+G44 -> 18.6 | J44: =F44*I44 -> 372 | K44: =F44*$K$5 -> 6.5619479 | L44: =F44*$L$5 -> 13.438052
A45: 1.5.17 | B45: SINAPI | C45: 88247 | D45: Auxiliar de Eletricista com encargos complementares | E45: H | F45: 42.67 | G45: 26.13 | H45: BDI 1 | I45: =(G45*$H$4)+G45 -> 32.4012 | J45: =F45*I45 -> 1382.5592 | K45: =F45*$K$5 -> 13.999916 | L45: =F45*$L$5 -> 28.670084
A46: 1.5.18 | B46: SINAPI | C46: 88264 | D46: Eletricista com encargos complementares | E46: H | F46: 42.67 | G46: 31.45 | H46: BDI 1 | I46: =(G46*$H$4)+G46 -> 38.998 | J46: =F46*I46 -> 1664.0447 | K46: =F46*$K$5 -> 13.999916 | L46: =F46*$L$5 -> 28.670084
A47: 2 | D47: Quatro (4): PERGOLADOS (3,0 m x 3,0 m x 2,7 m) | H47: BDI 1 | I47: =(G47*$H$4)+G47 -> 0 | J47: =F47*I47 -> 0 | K47: =F47*$K$5 -> 0 | L47: =F47*$L$5 -> 0
A48: 2.1 | D48: FUNDAÇÃO | H48: BDI 1 | I48: =(G48*$H$4)+G48 -> 0 | J48: =F48*I48 -> 0 | K48: =F48*$K$5 -> 0 | L48: =F48*$L$5 -> 0
A49: 2.1.1 | B49: SINAPI | C49: 100323 | D49: Lastro com Material Granular (Pedra britada N° 3) aplicado em pisos ou lajes sobre bloco, espessura de 10 cm) | E49: M3 | F49: =0.56*4 -> 2.24 | G49: 175.22 | H49: BDI 1 | I49: =(G49*$H$4)+G49 -> 217.2728 | J49: =F49*I49 -> 486.69107 | K49: =F49*$K$5 -> 0.73493817 | L49: =F49*$L$5 -> 1.5050618
A50: 2.1.2 | B50: SINAPI | C50: 102487 | D50: Concreto Ciclópico FCK = 15 MPA, 30% Pedra de mão em volume real, inclusive lançamento | E50: M3 | F50: =0.53*4 -> 2.12 | G50: 632.35 | H50: BDI 1 | I50: =(G50*$H$4)+G50 -> 784.114 | J50: =F50*I50 -> 1662.3217 | K50: =F50*$K$5 -> 0.69556648 | L50: =F50*$L$5 -> 1.4244335
A51: 2.2 | D51: REVESTIMENTO DE PILARES EM PEDRA BASALTO | H51: BDI 1 | I51: =(G51*$H$4)+G51 -> 0 | J51: =F51*I51 -> 0 | K51: =F51*$K$5 -> 0 | L51: =F51*$L$5 -> 0
A52: 2.2.1 | B52: COMPOSIÇÃO | D52: Revestimento de Pilares com Pedra Basalto 270 cm de altura x 4 lados (40 x 10 x 10 cm) | E52: Unid | F52: 1536 | G52: 15 | H52: BDI 1 | I52: =(G52*$H$4)+G52 -> 18.6 | J52: =F52*I52 -> 28569.6 | K52: =F52*$K$5 -> 503.9576 | L52: =F52*$L$5 -> 1032.0424
A53: 2.2.2 | B53: SINAPI | C53: 87367 | D53: ARGAMASSA TRAÇO 1:1:6 (EM VOLUME DE CIMENTO, CAL E AREIA MÉDIA ÚMIDA) PARA EMBOÇO/MASSA ÚNICA/ASSENTAMENTO DE ALVENARIA DE VEDAÇÃO, PREPARO MANUAL. AF_08/2019 | E53: M2 | F53: =0.52*4 -> 2.08 | G53: 740.53 | H53: BDI 1 | I53: =(G53*$H$4)+G53 -> 918.2572 | J53: =F53*I53 -> 1909.975 | K53: =F53*$K$5 -> 0.68244258 | L53: =F53*$L$5 -> 1.3975574
A54: 2.3 | D54: PILARES (ARMAÇÃO DE AÇO E CONCRETAGEM) | H54: BDI 1 | I54: =(G54*$H$4)+G54 -> 0 | J54: =F54*I54 -> 0 | K54: =F54*$K$5 -> 0 | L54: =F54*$L$5 -> 0
A55: 2.3.1 | B55: COMPOSIÇÃO | D55: Fornecimento e instalação de Treliça 4.2 mm com ferro 10 mm e aranha com ferro 10 mm | E55: Unid | F55: 16 | G55: 341 | H55: BDI 1 | I55: =(G55*$H$4)+G55 -> 422.84 | J55: =F55*I55 -> 6765.44 | K55: =F55*$K$5 -> 5.2495583 | L55: =F55*$L$5 -> 10.750442
A56: 2.3.2 | B56: SINAPI | C56: 92762 | D56: Armação de Pilar ou Viga de Estrutura Convencional de Concreto Armado utilizando AÇO CA-50 de 10,0 mm | E56: Kg | F56: =23.05*4 -> 92.2 | G56: 10.96 | H56: BDI 1 | I56: =(G56*$H$4)+G56 -> 13.5904 | J56: =F56*I56 -> 1253.0349 | K56: =F56*$K$5 -> 30.25058 | L56: =F56*$L$5 -> 61.94942
A57: 2.3.3 | B57: SINAPI | C57: 103672 | D57: CONCRETAGEM DE PILARES, FCK = 25 MPA, COM USO DE BOMBA - LANÇAMENTO, ADENSAMENTO E ACABAMENTO. AF_02/2022_PS | E57: M³ | F57: =(2.7*0.2*0.2*4)*4 -> 1.728 | G57: 709.4 | H57: BDI 1 | I57: =(G57*$H$4)+G57 -> 879.656 | J57: =F57*I57 -> 1520.0456 | K57: =F57*$K$5 -> 0.5669523 | L57: =F57*$L$5 -> 1.1610477
A58: 2.4 | D58: COBERTURA COM TELHA TERMO ACÚSTICA | H58: BDI 1 | I58: =(G58*$H$4)+G58 -> 0 | J58: =F58*I58 -> 0 | K58: =F58*$K$5 -> 0 | L58: =F58*$L$5 -> 0
A59: 2.4.1 | B59: COMPOSIÇÃO | D59: INSTALAÇÃO E FORNECIMENTO DE MADEIRA ITAUBA DE BITOLA DE 15X8 E BITOLA DE 15X6 NOS PERGOLADOS | E59: UNID | F59: 4 | G59: =5000+6700 -> 11700 | H59: BDI 1 | I59: =(G59*$H$4)+G59 -> 14508 | J59: =F59*I59 -> 58032 | K59: =F59*$K$5 -> 1.3123896 | L59: =F59*$L$5 -> 2.6876104
A60: 2.4.2 | B60: COMPOSIÇÃO | D60: Cobertura em telha termoisolante colonial (0,5 mm e 30 mm de isopor) na cor xx com parafusos, fornecimento e instalação | E60: M² | F60: =(3.6*3*2)*4 -> 86.4 | G60: 117.76 | H60: BDI 1 | I60: =(G60*$H$4)+G60 -> 146.0224 | J60: =F60*I60 -> 12616.335 | K60: =F60*$K$5 -> 28.347615 | L60: =F60*$L$5 -> 58.052385
A61: 2.4.3 | B61: COMPOSIÇÃO | D61: Lambrequins (fornecimento e instalação) | E61: Unid. | F61: 384 | G61: 50.8 | H61: BDI 1 | I61: =(G61*$H$4)+G61 -> 62.992 | J61: =F61*I61 -> 24188.928 | K61: =F61*$K$5 -> 125.9894 | L61: =F61*$L$5 -> 258.0106
A62: 2.5 | D62: ARTES, POSTES DE LUZ, BANCOS, VASOS | H62: BDI 1 | I62: =(G62*$H$4)+G62 -> 0 | J62: =F62*I62 -> 0 | K62: =F62*$K$5 -> 0 | L62: =F62*$L$5 -> 0
A63: 2.5.1 | B63: COTAÇÃO | C63: 17 | D63: Camponesa russa com 170 cm de altura | E63: Unid. | F63: 1 | G63: 16000 | H63: BDI 1 | I63: =(G63*$H$4)+G63 -> 19840 | J63: =F63*I63 -> 19840 | K63: =F63*$K$5 -> 0.3280974 | L63: =F63*$L$5 -> 0.6719026
A64: 2.5.2 | B64: COTAÇÃO | C64: 18 | D64: Menina russa carregando Samovar com 140 cm de altura | E64: Unid. | F64: 1 | G64: 12000 | H64: BDI 1 | I64: =(G64*$H$4)+G64 -> 14880 | J64: =F64*I64 -> 14880 | K64: =F64*$K$5 -> 0.3280974 | L64: =F64*$L$5 -> 0.6719026
A65: 2.5.3 | B65: COTAÇÃO | C65: 19 | D65: Ursa mãe com 170 cm de comprimento | E65: Unid. | F65: 1 | G65: 20000 | H65: BDI 1 | I65: =(G65*$H$4)+G65 -> 24800 | J65: =F65*I65 -> 24800 | K65: =F65*$K$5 -> 0.3280974 | L65: =F65*$L$5 -> 0.6719026
A66: 2.5.4 | B66: COTAÇÃO | C66: 20 | D66: Urso filhote caminhando com 90 cm de comprimento | E66: Unid. | F66: 2 | G66: 5000 | H66: BDI 1 | I66: =(G66*$H$4)+G66 -> 6200 | J66: =F66*I66 -> 12400 | K66: =F66*$K$5 -> 0.65619479 | L66: =F66*$L$5 -> 1.3438052
A67: 2.5.5 | B67: COTAÇÃO | C67: 21 | D67: Urso filhote de pé com 90 cm de altura | E67: Unid. | F67: 1 | G67: 5000 | H67: BDI 1 | I67: =(G67*$H$4)+G67 -> 6200 | J67: =F67*I67 -> 6200 | K67: =F67*$K$5 -> 0.3280974 | L67: =F67*$L$5 -> 0.6719026
A68: 2.5.6 | B68: COTAÇÃO | C68: 22 | D68: Urso com bandoneón 180 cm de altura | E68: Unid. | F68: 1 | G68: 18000 | H68: BDI 1 | I68: =(G68*$H$4)+G68 -> 22320 | J68: =F68*I68 -> 22320 | K68: =F68*$K$5 -> 0.3280974 | L68: =F68*$L$5 -> 0.6719026
A69: 2.5.7 | B69: COTAÇÃO | C69: 23 | D69: Matrioska: 158,0 cm altura x 79,0 cm de base | E69: Unid. | F69: 1 | G69: 11000 | H69: BDI 1 | I69: =(G69*$H$4)+G69 -> 13640 | J69: =F69*I69 -> 13640 | K69: =F69*$K$5 -> 0.3280974 | L69: =F69*$L$5 -> 0.6719026
A70: 2.5.8 | B70: COTAÇÃO | C70: 24 | D70: Matrioska: 112,0 cm altura x 48,0 cm de base | E70: Unid. | F70: 1 | G70: 5000 | H70: BDI 1 | I70: =(G70*$H$4)+G70 -> 6200 | J70: =F70*I70 -> 6200 | K70: =F70*$K$5 -> 0.3280974 | L70: =F70*$L$5 -> 0.6719026
A71: 2.5.9 | B71: COTAÇÃO | C71: 25 | D71: Matrioska: 88,0 cm altura x 36,0 cm de base | E71: Unid. | F71: 1 | G71: 4500 | H71: BDI 1 | I71: =(G71*$H$4)+G71 -> 5580 | J71: =F71*I71 -> 5580 | K71: =F71*$K$5 -> 0.3280974 | L71: =F71*$L$5 -> 0.6719026
A72: 2.5.10 | B72: COTAÇÃO | C72: 26 | D72: Matrioska: 63,0 cm altura x 24,0 cm de base | E72: Unid. | F72: 1 | G72: 4000 | H72: BDI 1 | I72: =(G72*$H$4)+G72 -> 4960 | J72: =F72*I72 -> 4960 | K72: =F72*$K$5 -> 0.3280974 | L72: =F72*$L$5 -> 0.6719026
A73: 2.5.11 | B73: COTAÇÃO | C73: 27 | D73: Matrioska: 40,0 cm altura x 18,0 cm de base | E73: Unid. | F73: 1 | G73: 3500 | H73: BDI 1 | I73: =(G73*$H$4)+G73 -> 4340 | J73: =F73*I73 -> 4340 | K73: =F73*$K$5 -> 0.3280974 | L73: =F73*$L$5 -> 0.6719026
A74: 2.5.12 | B74: COTAÇÃO | C74: 28 | D74: Matrioskas em Silhueta para fotos com 160 cm de altura | E74: Unid. | F74: 2 | G74: 1000 | H74: BDI 1 | I74: =(G74*$H$4)+G74 -> 1240 | J74: =F74*I74 -> 2480 | K74: =F74*$K$5 -> 0.65619479 | L74: =F74*$L$5 -> 1.3438052
... A79: 2.5.17 | B79: COTAÇÃO | C79: 33 | D79: Casa da Sibéria 300 cm x 300 cm x 340 cm (C, L, H c/ telhado) | E79: Unid. | F79: 1 | G79: 45000 | H79: BDI 1 | I79: =(G79*$H$4)+G79 -> 55800 | J79: =F79*I79 -> 55800 | K79: =F79*$K$5 -> 0.3280974 | L79: =F79*$L$5 -> 0.6719026
A80: 2.5.18 | B80: COTAÇÃO | C80: 34 | D80: Estrutura de cerne de madeira itaúba para Placa de Inauguração | E80: Unid. | F80: 1 | G80: 6100 | I80: =(G80*$H$4)+G80 -> 7564 | J80: =F80*I80 -> 7564 | K80: =F80*$K$5 -> 0.3280974 | L80: =F80*$L$5 -> 0.6719026
A81: 2.5.19 | B81: COTAÇÃO | C81: 35 | D81: Pintura artística de: 1 Samovar, 1 menina carregando samovar, família de 5 matrioskas, casal de dançarinos, camponesa russa. Inclui a criação e/ou adaptação de arte para as esculturas, inclui os materiais: tintas e pincéis, Inclui a aplicação de verniz acrílico após a finalização das pinturas, para garantir maior durabilidade. | E81: Conjunto de artes | F81: 1 | G81: 7820 | H81: BDI 1 | I81: =(G81*$H$4)+G81 -> 9696.8 | J81: =F81*I81 -> 9696.8 | K81: =F81*$K$5 -> 0.3280974 | L81: =F81*$L$5 -> 0.6719026
A82: 2.5.20 | B82: COTAÇÃO | C82: 36 | D82: MASTRO SIMPLES GALVANIZADO DIAMETRO NOMINAL 2" | E82: M | F82: 72 | G82: 65.51 | H82: BDI 1 | I82: =(G82*$H$4)+G82 -> 81.2324 | J82: =F82*I82 -> 5848.7328 | K82: =F82*$K$5 -> 23.623013 | L82: =F82*$L$5 -> 48.376987
A83: 2.5.21 | B83: SINAPI | C83: 41388 | D83: Bandeira oficial da Russia com 1,20 m x 0,90 m | E83: Unid. | F83: 18 | G83: 150 | H83: BDI 1 | I83: =(G83*$H$4)+G83 -> 186 | J83: =F83*I83 -> 3348 | K83: =F83*$K$5 -> 5.9057531 | L83: =F83*$L$5 -> 12.094247
A84: 2.5.22 | B84: COMPOSIÇÃO | D84: Poste Veneza em alumínio fundido, 3,04 m de altura, 108 cm de diâmetro dos braços, 22 cm e base e duas luminárias. | E84: Unid. | F84: 4 | G84: 3108.35 | H84: BDI 1 | I84: =(G84*$H$4)+G84 -> 3854.354 | J84: =F84*I84 -> 15417.416 | K84: =F84*$K$5 -> 1.3123896 | L84: =F84*$L$5 -> 2.6876104
A85: 2.5.23 | B85: COMPOSIÇÃO | D85: Poste Kansas em alumínio fundido, 3,20 m de altura, 84 cm de braço e 28 cm de base | E85: Unid. | F85: 8 | G85: 3654.05 | H85: BDI 1 | I85: =(G85*$H$4)+G85 -> 4531.022 | J85: =F85*I85 -> 36248.176 | K85: =F85*$K$5 -> 2.6247792 | L85: =F85*$L$5 -> 5.3752208
A86: 2.5.24 | B86: COMPOSIÇÃO | D86: Flâmula da Rússia com dimensões de 80 cm x 30 cm, em tecido poliéster, com impressão em ambos os lados, ponta triangular e franja dourada na parte inferior | E86: Unid. | F86: 24 | G86: 90 | H86: BDI 1 | I86: =(G86*$H$4)+G86 -> 111.6 | J86: =F86*I86 -> 2678.4 | K86: =F86*$K$5 -> 7.8743375 | L86: =F86*$L$5 -> 16.125662
A87: 2.5.25 | B87: COTAÇÃO | C87: 36 | D87: Conjunto Girassol: 2 Banco Girassol de 120 cm e 1 Mesinha de 70 cm x 43 cm. Madeira ipê, espessura mínima de 2,2 cm, pintados com cetol deck; pés em alumínio fundido, com pintura eletroestática preto brilho. | E87: Unid. | F87: 2 | G87: 4770 | H87: BDI 1 | I87: =(G87*$H$4)+G87 -> 5914.8 | J87: =F87*I87 -> 11829.6 | K87: =F87*$K$5 -> 0.65619479 | L87: =F87*$L$5 -> 1.3438052
A88: 2.5.26 | B88: COTAÇÃO | C88: 37 | D88: Conjunto Francês: 1 Banco Francês de 150 cm, 2 Poltronas de 65 cm e 1 Mesinha de 70 cm x 43 cm. Madeira ipê, espessura mínima de 2,2 cm, pintados com cetol deck; pés em alumínio fundido, com pintura eletroestática preto brilho. | E88: Unid. | F88: 1 | G88: 4600 | H88: BDI 1 | I88: =(G88*$H$4)+G88 -> 5704 | J88: =F88*I88 -> 5704 | K88: =F88*$K$5 -> 0.3280974 | L88: =F88*$L$5 -> 0.6719026
A89: 2.5.27 | B89: COTAÇÃO | C89: 38 | D89: Conjunto Lyon: 2 Banco Lyon de 120 cm e Mesinha de 70 cm x 43 cm. Madeira ipê, espessura mínima de 2,2 cm, pintados com cetol deck; pés em alumínio fundido, com pintura eletroestática preto brilho. | E89: Unid. | F89: 1 | G89: 4547 | H89: BDI 1 | I89: =(G89*$H$4)+G89 -> 5638.28 | J89: =F89*I89 -> 5638.28 | K89: =F89*$K$5 -> 0.3280974 | L89: =F89*$L$5 -> 0.6719026
A90: 3 | D90: Passeio de 2,50 m | H90: BDI 1 | I90: =(G90*$H$4)+G90 -> 0 | J90: =F90*I90 -> 0 | K90: =F90*$K$5 -> 0 | L90: =F90*$L$5 -> 0
A91: 3.1 | D91: Repaginação Passeio Rua Uruguaiana | H91: BDI 1 | I91: =(G91*$H$4)+G91 -> 0 | J91: =F91*I91 -> 0 | K91: =F91*$K$5 -> 0 | L91: =F91*$L$5 -> 0
A92: 3.1.1 | B92: SINAPI | C92: 87298 | D92: ARGAMASSA TRAÇO 1:3 (EM VOLUME DE CIMENTO E AREIA MÉDIA ÚMIDA) PARA CONTRAPISO, PREPARO MECÂNICO COM BETONEIRA 400 L. AF_08/2019 | E92: M³ | F92: =F93*0.06 -> 48.6 | G92: 774.41 | H92: BDI 1 | I92: =(G92*$H$4)+G92 -> 960.2684 | J92: =F92*I92 -> 46669.044 | K92: =F92*$K$5 -> 15.945533 | L92: =F92*$L$5 -> 32.654467
A93: 3.1.2 | B93: COMPOSIÇÃO | D93: PEDRA BASALTO IRREGULAR | E93: M² | F93: 810 | G93: 123 | H93: BDI 1 | I93: =(G93*$H$4)+G93 -> 152.52 | J93: =F93*I93 -> 123541.2 | K93: =F93*$K$5 -> 265.75889 | L93: =F93*$L$5 -> 544.24111
A94: 3.1.3 | B94: SINAPI | C94: 97113 | D94: APLICAÇÃO DE LONA PLÁSTICA PARA EXECUÇÃO DE PAVIMENTOS DE CONCRETO. AF_04/2022 | E94: M² | F94: 225 | G94: 2.77 | H94: BDI 1 | I94: =(G94*$H$4)+G94 -> 3.4348 | J94: =F94*I94 -> 772.83 | K94: =F94*$K$5 -> 73.821914 | L94: =F94*$L$5 -> 151.17809
A95: 3.1.4 | B95: COMPOSIÇÃO | C95: 2 | D95: FORNECIMENTO E EXECUÇÃO DE PASSEIO COM PEDRA DOLOMITA Nº3 BRANCA | E95: M³ | F95: =F94*0.025 -> 5.625 | G95: 2112.5 | H95: BDI 1 | I95: =(G95*$H$4)+G95 -> 2619.5 | J95: =F95*I95 -> 14734.688 | K95: =F95*$K$5 -> 1.8455479 | L95: =F95*$L$5 -> 3.7794521
A96: 3.1.5 | B96: COMPOSIÇÃO | C96: 3 | D96: FORNECIMENTO E EXECUÇÃO DE PASSEIO COM PEDRA DOLOMITA Nº2 BRANCA | E96: M³ | F96: =F94*0.025 -> 5.625 | G96: 2112.5 | H96: BDI 1 | I96: =(G96*$H$4)+G96 -> 2619.5 | J96: =F96*I96 -> 14734.688 | K96: =F96*$K$5 -> 1.8455479 | L96: =F96*$L$5 -> 3.7794521
A97: 3.1.6 | B97: COMPOSIÇÃO | C97: 4 | D97: FORNECIMENTO E INSTALAÇÃO DE PISO TÁTIL DIRECIONAL E DE ALERTA EM CONCRETO (20 x 20 x 6 cm) | E97: M² | F97: 90 | G97: 93 | H97: BDI 1 | I97: =(G97*$H$4)+G97 -> 115.32 | J97: =F97*I97 -> 10378.8 | K97: =F97*$K$5 -> 29.528766 | L97: =F97*$L$5 -> 60.471234
A98: 3.1.7 | B98: COMPOSIÇÃO | C98: 5 | D98: EXECUÇÃO DAS RAMPAS DE ACESSIBILIDADE COM CONCRETO FCK=25 MPA TRAÇO 1:2, 2;2, 2, (EM MASSA SECA DE CIMENTO/ AREIA MÉDIA/ SEIXO ROLADO) PREPARO MECÂNICO COM BETONEIRA | E98: M³ | F98: =0.38*4 -> 1.52 | G98: 754.47 | H98: BDI 1 | I98: =(G98*$H$4)+G98 -> 935.5428 | J98: =F98*I98 -> 1422.0251 | K98: =F98*$K$5 -> 0.49870804 | L98: =F98*$L$5 -> 1.021292
J99: =SUM(J7:J98) -> 1206958.7

Sheet Cronograma
C7: Item | E7: Total Etapa | F7: 30 Dias | G7: 60 Dias | H7: 90 Dias | I7: 120 Dias | J7: 150 Dias | K7: 180 Dias | L7: 210 Dias | M7: 240 Dias | N7: 270 Dias | O7: 300 Dias | P7: Total Acumulado
C8: 1 | D8: =VLOOKUP(C8,'Calcadao & Passeio'!$A$5:$J$98,4,0) -> Calçadão de 5,0 m | E8: =E10+E20+E26+E32+E36 -> 494567.63 | F8: =F9/$E$8 -> 0.10475971 | G8: =G9/$E$8 -> 0.19255463 | H8: =H9/$E$8 -> 0.13169239 | I8: =I9/$E$8 -> 0.13169239 | J8: =J9/$E$8 -> 0.13169239 | K8: =K9/$E$8 -> 0.13169239 | L8: =L9/$E$8 -> 0.087794926 | M8: =M9/$E$8 -> 0.0004216613 | ... O8: =O9/$E$8 -> 0.082619469 | P8: =SUM(F8:O8) -> 1 | Q8: =IF(P8=1,"OK';""FALTA") -> OK';"FALTA
F9: =F19+F25+F31+F35+F55 -> 51810.759 | G9: =G19+G25+G31+G35+G55 -> 95231.287 | H9: =H19+H25+H31+H35+H55 -> 65130.792 | I9: =I19+I25+I31+I35+I55 -> 65130.792 | J9: =J19+J25+J31+J35+J55 -> 65130.792 | K9: =K19+K25+K31+K35+K55 -> 65130.792 | L9: =L19+L25+L31+L35+L55 -> 43420.528 | M9: =M19+M25+M31+M35+M55 -> 208.54003 | ... O9: =O19+O25+O31+O35+O55 -> 40860.914
C10: 1.1 | D10: =VLOOKUP(C10,'Calcadao & Passeio'!$A$5:$J$98,4,0) -> Repaginação Passeio Rua Uruguaiana | E10: =SUM(E11:E18) -> 434205.28 | F10: 0.1 | G10: 0.2 | H10: 0.15 | I10: 0.15 | J10: 0.15 | K10: 0.15 | L10: 0.1 | P10: =SUM(F10:O10) -> 1 | Q10: =IF(P10=1,"OK';""FALTA") -> OK';"FALTA
C11: 1.1.1 | D11: =VLOOKUP(C11,'Calcadao & Passeio'!$A$5:$J$98,4,0) -> FORNECIMENTO E INSTALAÇÃO DE PLACA DE OBRA COM CHAPA GALVANIZADA E ESTRUTURA DE MADEIRA. AF_03/2022_PS | E11: =VLOOKUP(C11,'Calcadao & Passeio'!$A$5:$J$98,10,0) -> 2582.2566
C12: 1.1.2 | D12: =VLOOKUP(C12,'Calcadao & Passeio'!$A$5:$J$98,4,0) -> ARGAMASSA TRAÇO 1:3 (EM VOLUME DE CIMENTO E AREIA MÉDIA ÚMIDA) PARA CONTRAPISO, PREPARO MECÂNICO COM BETONEIRA 400 L. AF_08/2019 | E12: =VLOOKUP(C12,'Calcadao & Passeio'!$A$5:$J$98,10,0) -> 100828.18
C13: 1.1.3 | D13: =VLOOKUP(C13,'Calcadao & Passeio'!$A$5:$J$98,4,0) -> FORNECIMENTO E EXECUÇÃO DE PASSEIO EM PEDRA BASALTO IRREGULAR (7 a 9 CM) COM REJUNTE | E13: =VLOOKUP(C13,'Calcadao & Passeio'!$A$5:$J$98,10,0) -> 266910
C14: 1.1.4 | D14: =VLOOKUP(C14,'Calcadao & Passeio'!$A$5:$J$98,4,0) -> APLICAÇÃO DE LONA PLÁSTICA PARA EXECUÇÃO DE PAVIMENTOS DE CONCRETO. AF_04/2022 | E14: =VLOOKUP(C14,'Calcadao & Passeio'!$A$5:$J$98,10,0) -> 1071.6576
C15: 1.1.5 | D15: =VLOOKUP(C15,'Calcadao & Passeio'!$A$5:$J$98,4,0) -> FORNECIMENTO E EXECUÇÃO DE PASSEIO COM PEDRA DOLOMITA Nº3 BRANCA | E15: =VLOOKUP(C15,'Calcadao & Passeio'!$A$5:$J$98,10,0) -> 20432.1
C16: 1.1.6 | D16: =VLOOKUP(C16,'Calcadao & Passeio'!$A$5:$J$98,4,0) -> FORNECIMENTO E EXECUÇÃO DE PASSEIO COM PEDRA DOLOMITA Nº2 BRANCA | E16: =VLOOKUP(C16,'Calcadao & Passeio'!$A$5:$J$98,10,0) -> 20432.1
C17: 1.1.7 | D17: =VLOOKUP(C17,'Calcadao & Passeio'!$A$5:$J$98,4,0) -> FORNECIMENTO E INSTALAÇÃO DE PISO TÁTIL DIRECIONAL E DE ALERTA EM CONCRETO (20 x 20 x 6 cm) | E17: =VLOOKUP(C17,'Calcadao & Passeio'!$A$5:$J$98,10,0) -> 20526.96
C18: 1.1.8 | D18: =VLOOKUP(C18,'Calcadao & Passeio'!$A$5:$J$98,4,0) -> EXECUÇÃO DAS RAMPAS DE ACESSIBILIDADE COM CONCRETO FCK=25 MPA TRAÇO 1:2, 2;2, 2, (EM MASSA SECA DE CIMENTO/ AREIA MÉDIA/ SEIXO ROLADO) PREPARO MECÂNICO COM BETONEIRA | E18: =VLOOKUP(C18,'Calcadao & Passeio'!$A$5:$J$98,10,0) -> 1422.0251
F19: =F10*$E$10 -> 43420.528 | G19: =G10*$E$10 -> 86841.056 | H19: =H10*$E$10 -> 65130.792 | I19: =I10*$E$10 -> 65130.792 | J19: =J10*$E$10 -> 65130.792 | K19: =K10*$E$10 -> 65130.792 | L19: =L10*$E$10 -> 43420.528 | M19: =M10*$E$10 -> 0 | ... O19: =O10*$E$10 -> 0
C20: 1.2 | D20: =VLOOKUP(C20,'Calcadao & Passeio'!$A$5:$J$98,4,0) -> VIGAS DE CONTENÇÃO | E20: =SUM(E21:E24) -> 16780.461 | F20: 0.5 | G20: 0.5 | P20: =SUM(F20:O20) -> 1 | Q20: =IF(P20=1,"OK';""FALTA") -> OK';"FALTA
C21: 1.2.1 | D21: =VLOOKUP(C21,'Calcadao & Passeio'!$A$5:$J$98,4,0) -> Armação de Pilar ou Viga de Estrutura Convencional de concreto armado utilizando AÇO CA-50 DE 6,3 MM - MONTAGEM. AF_06/2022 | E21: =VLOOKUP(C21,'Calcadao & Passeio'!$A$5:$J$98,10,0) -> 3632.1584
C22: 1.2.2 | D22: =VLOOKUP(C22,'Calcadao & Passeio'!$A$5:$J$98,4,0) -> Concretagem de bloco de coroamento ou Viga baldrame, FCK 30 MPA, COM USO DE JERICA - LANÇAMENTO, ADENSAMENTO E ACABAMENTO. AF_01/2024 | E22: =VLOOKUP(C22,'Calcadao & Passeio'!$A$5:$J$98,10,0) -> 11731.516
C23: 1.2.3 | D23: =VLOOKUP(C23,'Calcadao & Passeio'!$A$5:$J$98,4,0) -> LASTRO COM MATERIAL GRANULAR (PEDRA BRITADA N.3), APLICADO EM PISOS OU LAJES SOBRE SOLO, ESPESSURA DE *10 CM*. AF_01/2024 | E23: =VLOOKUP(C23,'Calcadao & Passeio'!$A$5:$J$98,10,0) -> 447.4044
C24: 1.2.4 | D24: =VLOOKUP(C24,'Calcadao & Passeio'!$A$5:$J$98,4,0) -> ESCAVAÇÃO MANUAL PARA BLOCO DE COROAMENTO OU SAPATA (INCLUINDO ESCAVAÇÃO PARA COLOCAÇÃO DE FÔRMAS). AF_01/2024 | E24: =VLOOKUP(C24,'Calcadao & Passeio'!$A$5:$J$98,10,0) -> 969.3824
F25: =$E$20*F20 -> 8390.2306 | G25: =$E$20*G20 -> 8390.2306 | H25: =$E$20*H20 -> 0 | I25: =$E$20*I20 -> 0 | J25: =$E$20*J20 -> 0 | K25: =$E$20*K20 -> 0 | L25: =$E$20*L20 -> 0 | M25: =$E$20*M20 -> 0 | ... O25: =$E$20*O20 -> 0
C26: 1.3 | D26: =VLOOKUP(C26,'Calcadao & Passeio'!$A$5:$J$98,4,0) -> BASES DE CONCRETO PARA ARTESANATOS | E26: =SUM(E27:E30) -> 4399.2375 | N26: 0.5 | O26: 0.5 | P26: =SUM(F26:O26) -> 1 | Q26: =IF(P26=1,"OK';""FALTA") -> OK';"FALTA
C27: 1.3.1 | D27: =VLOOKUP(C27,'Calcadao & Passeio'!$A$5:$J$98,4,0) -> Escavação manual para bloco de coroamento ou sapata (Incluindo escavação para colocação de fôrmas). AF_01/2024 | E27: =VLOOKUP(C27,'Calcadao & Passeio'!$A$5:$J$98,10,0) -> 587.20547
C28: 1.3.2 | D28: =VLOOKUP(C28,'Calcadao & Passeio'!$A$5:$J$98,4,0) -> LASTRO COM MATERIAL GRANULAR (PEDRA BRITADA N.3), APLICADO EM PISOS OU LAJES SOBRE SOLO, ESPESSURA DE *10 CM*. AF_01/2024 | E28: =VLOOKUP(C28,'Calcadao & Passeio'!$A$5:$J$98,10,0) -> 31.31868
C29: 1.3.3 | D29: =VLOOKUP(C29,'Calcadao & Passeio'!$A$5:$J$98,4,0) -> ARMAÇÃO DE BLOCO UTILIZANDO AÇO CA-50 DE 10 MM - MONTAGEM. AF_01/2024 | E29: =VLOOKUP(C29,'Calcadao & Passeio'!$A$5:$J$98,10,0) -> 2490.8592
C30: 1.3.4 | D30: =VLOOKUP(C30,'Calcadao & Passeio'!$A$5:$J$98,4,0) -> CONCRETAGEM DE BLOCO DE COROAMENTO OU VIGA BALDRAME, FCK 30 MPA, COM USO DE JERICA - LANÇAMENTO, ADENSAMENTO E ACABAMENTO. AF_01/2024 | E30: =VLOOKUP(C30,'Calcadao & Passeio'!$A$5:$J$98,10,0) -> 1289.8542
F31: =$E$26*F26 -> 0 | G31: =$E$26*G26 -> 0 | H31: =$E$26*H26 -> 0 | I31: =$E$26*I26 -> 0 | J31: =$E$26*J26 -> 0 | K31: =$E$26*K26 -> 0 | L31: =$E$26*L26 -> 0 | M31: =$E$26*M26 -> 0 | ... O31: =$E$26*O26 -> 2199.6188
C32: 1.4 | D32: =VLOOKUP(C32,'Calcadao & Passeio'!$A$5:$J$98,4,0) -> BASES PARA MASTROS DAS BANDEIRAS | E32: =SUM(E33:E34) -> 1042.7001 | M32: 0.2 | N32: 0.3 | O32: 0.5 | P32: =SUM(F32:O32) -> 1 | Q32: =IF(P32=1,"OK';""FALTA") -> OK';"FALTA
C33: 1.4.1 | D33: =VLOOKUP(C33,'Calcadao & Passeio'!$A$5:$J$98,4,0) -> CONCRETAGEM DE BLOCO DE COROAMENTO OU VIGA BALDRAME, FCK 30 MPA, COM USO DE JERICA - LANÇAMENTO, ADENSAMENTO E ACABAMENTO. AF_01/2024 | E33: =VLOOKUP(C33,'Calcadao & Passeio'!$A$5:$J$98,10,0) -> 550.67309
C34: 1.4.2 | D34: =VLOOKUP(C34,'Calcadao & Passeio'!$A$5:$J$98,4,0) -> PINTURA COM TINTA ALQUÍDICA DE ACABAMENTO (ESMALTE SINTÉTICO BRILHANTE) PULVERIZADA SOBRE SUPERFÍCIES METÁLICAS (EXCETO PERFIL) EXECUTADO EM OBRA (02 DEMÃOS). AF_01/2020_PE | E34: =VLOOKUP(C34,'Calcadao & Passeio'!$A$5:$J$98,10,0) -> 492.02704
F35: =$E$32*F32 -> 0 | G35: =$E$32*G32 -> 0 | H35: =$E$32*H32 -> 0 | I35: =$E$32*I32 -> 0 | J35: =$E$32*J32 -> 0 | K35: =$E$32*K32 -> 0 | L35: =$E$32*L32 -> 0 | M35: =$E$32*M32 -> 208.54003 | ... O35: =$E$32*O32 -> 521.35006
C36: 1.5 | D36: =VLOOKUP(C36,'Calcadao & Passeio'!$A$5:$J$98,4,0) -> Elétrico: Postes de Luz Ornamentais, Pergolados e Artesanatos de Natal | E36: =SUM(E37:E54) -> 38139.946 | O36: 1 | P36: =SUM(F36:O36) -> 1 | Q36: =IF(P36=1,"OK';""FALTA") -> OK';"FALTA
C37: 1.5.1 | D37: =VLOOKUP(C37,'Calcadao & Passeio'!$A$5:$J$98,4,0) -> Caixa de Atendimento FTTH - CTO PARA DIJUNTOR | E37: =VLOOKUP(C37,'Calcadao & Passeio'!$A$5:$J$98,10,0) -> 496
C38: 1.5.2 | D38: =VLOOKUP(C38,'Calcadao & Passeio'!$A$5:$J$98,4,0) -> DIJUNTORES DE 20 AMP | E38: =VLOOKUP(C38,'Calcadao & Passeio'!$A$5:$J$98,10,0) -> 178.56
C39: 1.5.3 | D39: =VLOOKUP(C39,'Calcadao & Passeio'!$A$5:$J$98,4,0) -> SUPORTE PARA DIJUNTOR | E39: =VLOOKUP(C39,'Calcadao & Passeio'!$A$5:$J$98,10,0) -> 99.2
C40: 1.5.4 | D40: =VLOOKUP(C40,'Calcadao & Passeio'!$A$5:$J$98,4,0) -> TUBO PRÉ ZINCADO 32MMX3 | E40: =VLOOKUP(C40,'Calcadao & Passeio'!$A$5:$J$98,10,0) -> 1841.4
C41: 1.5.5 | D41: =VLOOKUP(C41,'Calcadao & Passeio'!$A$5:$J$98,4,0) -> CURVA PRÉ ZINCADA 180º 32MM | E41: =VLOOKUP(C41,'Calcadao & Passeio'!$A$5:$J$98,10,0) -> 59.52
C42: 1.5.6 | D42: =VLOOKUP(C42,'Calcadao & Passeio'!$A$5:$J$98,4,0) -> PRESILHA METALICA PARA CINTA PERFURADA | E42: =VLOOKUP(C42,'Calcadao & Passeio'!$A$5:$J$98,10,0) -> 14.136
C43: 1.5.7 | D43: =VLOOKUP(C43,'Calcadao & Passeio'!$A$5:$J$98,4,0) -> CINTA PERFURADA | E43: =VLOOKUP(C43,'Calcadao & Passeio'!$A$5:$J$98,10,0) -> 55.2048
C44: 1.5.8 | D44: =VLOOKUP(C44,'Calcadao & Passeio'!$A$5:$J$98,4,0) -> LUVAS 32MM PRÉ ZINCADO | E44: =VLOOKUP(C44,'Calcadao & Passeio'!$A$5:$J$98,10,0) -> 74.4
C45: 1.5.9 | D45: =VLOOKUP(C45,'Calcadao & Passeio'!$A$5:$J$98,4,0) -> CABO PP 3X6,00M 1KV CORFIO OU SUL | E45: =VLOOKUP(C45,'Calcadao & Passeio'!$A$5:$J$98,10,0) -> 12555.248
C46: 1.5.10 | D46: =VLOOKUP(C46,'Calcadao & Passeio'!$A$5:$J$98,4,0) -> ELETRODUTO CORRUGADO PEAD COM FIO GUIA 40MM | E46: =VLOOKUP(C46,'Calcadao & Passeio'!$A$5:$J$98,10,0) -> 1445.406
C47: 1.5.11 | D47: =VLOOKUP(C47,'Calcadao & Passeio'!$A$5:$J$98,4,0) -> CABO PP 2X1,500M 1KV CORFIO OU SUL | E47: =VLOOKUP(C47,'Calcadao & Passeio'!$A$5:$J$98,10,0) -> 740.66688
C48: 1.5.12 | D48: =VLOOKUP(C48,'Calcadao & Passeio'!$A$5:$J$98,4,0) -> BASE DE FERRO GIRATÓRIA PARA RELÉ COM FOTOCÉLULA | E48: =VLOOKUP(C48,'Calcadao & Passeio'!$A$5:$J$98,10,0) -> 297.6
... C54: 1.5.18 | D54: =VLOOKUP(C54,'Calcadao & Passeio'!$A$5:$J$98,4,0) -> Eletricista com encargos complementares | E54: =VLOOKUP(C54,'Calcadao & Passeio'!$A$5:$J$98,10,0) -> 1664.0447
F55: =$E$36*F36 -> 0 | G55: =$E$36*G36 -> 0 | H55: =$E$36*H36 -> 0 | I55: =$E$36*I36 -> 0 | J55: =$E$36*J36 -> 0 | K55: =$E$36*K36 -> 0 | L55: =$E$36*L36 -> 0 | M55: =$E$36*M36 -> 0 | ... O55: =$E$36*O36 -> 38139.946
C56: 2 | D56: =VLOOKUP(C56,'Calcadao & Passeio'!$A$5:$J$98,4,0) -> Quatro (4): PERGOLADOS (3,0 m x 3,0 m x 2,7 m) | E56: =E58+E65+E70+E75 -> 500137.78 | F56: =F57/$E$56 -> 0 | G56: =G57/$E$56 -> 0 | H56: =H57/$E$56 -> 0 | I56: =I57/$E$56 -> 0 | J56: =J57/$E$56 -> 0.072606674 | K56: =K57/$E$56 -> 0.076421031 | L56: =L57/$E$56 -> 0.16207554 | M56: =M57/$E$56 -> 0.23201007 | ... O56: =O57/$E$56 -> 0.25036276 | P56: =SUM(F56:O56) -> 1 | Q56: =IF(P56=1,"OK';""FALTA") -> OK';"FALTA
F57: =F64+F69+F74+F103 -> 0 | G57: =G64+G69+G74+G103 -> 0 | H57: =H64+H69+H74+H103 -> 0 | I57: =I64+I69+I74+I103 -> 0 | J57: =J64+J69+J74+J103 -> 36313.34 | K57: =K64+K69+K74+K103 -> 38221.045 | L57: =L64+L69+L74+L103 -> 81060.103 | M57: =M64+M69+M74+M103 -> 116037 | ... O57: =O64+O69+O74+O103 -> 125215.88
C58: 2.1 | D58: =VLOOKUP(C58,'Calcadao & Passeio'!$A$5:$J$98,4,0) -> FUNDAÇÃO | E58: =SUM(E59:E63) -> 32628.588 | L58: 0.2 | M58: 0.4 | N58: 0.3 | O58: 0.1 | P58: =SUM(F58:O58) -> 1 | Q58: =IF(P58=1,"OK';""FALTA") -> OK';"FALTA
C59: 2.1.1 | D59: =VLOOKUP(C59,'Calcadao & Passeio'!$A$5:$J$98,4,0) -> Lastro com Material Granular (Pedra britada N° 3) aplicado em pisos ou lajes sobre bloco, espessura de 10 cm) | E59: =VLOOKUP(C59,'Calcadao & Passeio'!$A$5:$J$98,10,0) -> 486.69107
C60: 2.1.2 | D60: =VLOOKUP(C60,'Calcadao & Passeio'!$A$5:$J$98,4,0) -> Concreto Ciclópico FCK = 15 MPA, 30% Pedra de mão em volume real, inclusive lançamento | E60: =VLOOKUP(C60,'Calcadao & Passeio'!$A$5:$J$98,10,0) -> 1662.3217
C61: 2.2 | D61: =VLOOKUP(C61,'Calcadao & Passeio'!$A$5:$J$98,4,0) -> REVESTIMENTO DE PILARES EM PEDRA BASALTO | E61: =VLOOKUP(C61,'Calcadao & Passeio'!$A$5:$J$98,10,0) -> 0
C62: 2.2.1 | D62: =VLOOKUP(C62,'Calcadao & Passeio'!$A$5:$J$98,4,0) -> Revestimento de Pilares com Pedra Basalto 270 cm de altura x 4 lados (40 x 10 x 10 cm) | E62: =VLOOKUP(C62,'Calcadao & Passeio'!$A$5:$J$98,10,0) -> 28569.6
C63: 2.2.2 | D63: =VLOOKUP(C63,'Calcadao & Passeio'!$A$5:$J$98,4,0) -> ARGAMASSA TRAÇO 1:1:6 (EM VOLUME DE CIMENTO, CAL E AREIA MÉDIA ÚMIDA) PARA EMBOÇO/MASSA ÚNICA/ASSENTAMENTO DE ALVENARIA DE VEDAÇÃO, PREPARO MANUAL. AF_08/2019 | E63: =VLOOKUP(C63,'Calcadao & Passeio'!$A$5:$J$98,10,0) -> 1909.975
F64: =$E$58*F58 -> 0 | G64: =$E$58*G58 -> 0 | H64: =$E$58*H58 -> 0 | I64: =$E$58*I58 -> 0 | J64: =$E$58*J58 -> 0 | K64: =$E$58*K58 -> 0 | L64: =$E$58*L58 -> 6525.7175 | M64: =$E$58*M58 -> 13051.435 | ... O64: =$E$58*O58 -> 3262.8588
C65: 2.3 | D65: =VLOOKUP(C65,'Calcadao & Passeio'!$A$5:$J$98,4,0) -> PILARES (ARMAÇÃO DE AÇO E CONCRETAGEM) | E65: =SUM(E66:E68) -> 9538.5204 | K65: 0.2 | L65: 0.2 | M65: 0.2 | N65: 0.2 | O65: 0.2 | P65: =SUM(F65:O65) -> 1 | Q65: =IF(P65=1,"OK';""FALTA") -> OK';"FALTA
C66: 2.3.1 | D66: =VLOOKUP(C66,'Calcadao & Passeio'!$A$5:$J$98,4,0) -> Fornecimento e instalação de Treliça 4.2 mm com ferro 10 mm e aranha com ferro 10 mm | E66: =VLOOKUP(C66,'Calcadao & Passeio'!$A$5:$J$98,10,0) -> 6765.44
C67: 2.3.2 | D67: =VLOOKUP(C67,'Calcadao & Passeio'!$A$5:$J$98,4,0) -> Armação de Pilar ou Viga de Estrutura Convencional de Concreto Armado utilizando AÇO CA-50 de 10,0 mm | E67: =VLOOKUP(C67,'Calcadao & Passeio'!$A$5:$J$98,10,0) -> 1253.0349
C68: 2.3.3 | D68: =VLOOKUP(C68,'Calcadao & Passeio'!$A$5:$J$98,4,0) -> CONCRETAGEM DE PILARES, FCK = 25 MPA, COM USO DE BOMBA - LANÇAMENTO, ADENSAMENTO E ACABAMENTO. AF_02/2022_PS | E68: =VLOOKUP(C68,'Calcadao & Passeio'!$A$5:$J$98,10,0) -> 1520.0456
F69: =$E$65*F65 -> 0 | G69: =$E$65*G65 -> 0 | H69: =$E$65*H65 -> 0 | I69: =$E$65*I65 -> 0 | J69: =$E$65*J65 -> 0 | K69: =$E$65*K65 -> 1907.7041 | L69: =$E$65*L65 -> 1907.7041 | M69: =$E$65*M65 -> 1907.7041 | ... O69: =$E$65*O65 -> 1907.7041
C70: 2.4 | D70: =VLOOKUP(C70,'Calcadao & Passeio'!$A$5:$J$98,4,0) -> COBERTURA COM TELHA TERMO ACÚSTICA | E70: =SUM(E71:E73) -> 94837.263 | M70: 0.3 | N70: 0.2 | O70: 0.5 | P70: =SUM(F70:O70) -> 1 | Q70: =IF(P70=1,"OK';""FALTA") -> OK';"FALTA
C71: 2.4.1 | D71: =VLOOKUP(C71,'Calcadao & Passeio'!$A$5:$J$98,4,0) -> INSTALAÇÃO E FORNECIMENTO DE MADEIRA ITAUBA DE BITOLA DE 15X8 E BITOLA DE 15X6 NOS PERGOLADOS | E71: =VLOOKUP(C71,'Calcadao & Passeio'!$A$5:$J$98,10,0) -> 58032
C72: 2.4.2 | D72: =VLOOKUP(C72,'Calcadao & Passeio'!$A$5:$J$98,4,0) -> Cobertura em telha termoisolante colonial (0,5 mm e 30 mm de isopor) na cor xx com parafusos, fornecimento e instalação | E72: =VLOOKUP(C72,'Calcadao & Passeio'!$A$5:$J$98,10,0) -> 12616.335
C73: 2.4.3 | D73: =VLOOKUP(C73,'Calcadao & Passeio'!$A$5:$J$98,4,0) -> Lambrequins (fornecimento e instalação) | E73: =VLOOKUP(C73,'Calcadao & Passeio'!$A$5:$J$98,10,0) -> 24188.928
F74: =$E$70*F70 -> 0 | G74: =$E$70*G70 -> 0 | H74: =$E$70*H70 -> 0 | I74: =$E$70*I70 -> 0 | J74: =$E$70*J70 -> 0 | K74: =$E$70*K70 -> 0 | L74: =$E$70*L70 -> 0 | M74: =$E$70*M70 -> 28451.179 | ... O74: =$E$70*O70 -> 47418.632
C75: 2.5 | D75: =VLOOKUP(C75,'Calcadao & Passeio'!$A$5:$J$98,4,0) -> ARTES, POSTES DE LUZ, BANCOS, VASOS | E75: =SUM(E76:E102) -> 363133.4 | J75: 0.1 | K75: 0.1 | L75: 0.2 | M75: 0.2 | N75: 0.2 | O75: 0.2 | P75: =SUM(F75:O75) -> 1 | Q75: =IF(P75=1,"OK';""FALTA") -> OK';"FALTA
C76: 2.5.1 | D76: =VLOOKUP(C76,'Calcadao & Passeio'!$A$5:$J$98,4,0) -> Camponesa russa com 170 cm de altura | E76: =VLOOKUP(C76,'Calcadao & Passeio'!$A$5:$J$98,10,0) -> 19840
C77: 2.5.2 | D77: =VLOOKUP(C77,'Calcadao & Passeio'!$A$5:$J$98,4,0) -> Menina russa carregando Samovar com 140 cm de altura | E77: =VLOOKUP(C77,'Calcadao & Passeio'!$A$5:$J$98,10,0) -> 14880
C78: 2.5.3 | D78: =VLOOKUP(C78,'Calcadao & Passeio'!$A$5:$J$98,4,0) -> Ursa mãe com 170 cm de comprimento | E78: =VLOOKUP(C78,'Calcadao & Passeio'!$A$5:$J$98,10,0) -> 24800
C79: 2.5.4 | D79: =VLOOKUP(C79,'Calcadao & Passeio'!$A$5:$J$98,4,0) -> Urso filhote caminhando com 90 cm de comprimento | E79: =VLOOKUP(C79,'Calcadao & Passeio'!$A$5:$J$98,10,0) -> 12400
C80: 2.5.5 | D80: =VLOOKUP(C80,'Calcadao & Passeio'!$A$5:$J$98,4,0) -> Urso filhote de pé com 90 cm de altura | E80: =VLOOKUP(C80,'Calcadao & Passeio'!$A$5:$J$98,10,0) -> 6200
C81: 2.5.6 | D81: =VLOOKUP(C81,'Calcadao & Passeio'!$A$5:$J$98,4,0) -> Urso com bandoneón 180 cm de altura | E81: =VLOOKUP(C81,'Calcadao & Passeio'!$A$5:$J$98,10,0) -> 22320
C82: 2.5.7 | D82: =VLOOKUP(C82,'Calcadao & Passeio'!$A$5:$J$98,4,0) -> Matrioska: 158,0 cm altura x 79,0 cm de base | E82: =VLOOKUP(C82,'Calcadao & Passeio'!$A$5:$J$98,10,0) -> 13640
C83: 2.5.8 | D83: =VLOOKUP(C83,'Calcadao & Passeio'!$A$5:$J$98,4,0) -> Matrioska: 112,0 cm altura x 48,0 cm de base | E83: =VLOOKUP(C83,'Calcadao & Passeio'!$A$5:$J$98,10,0) -> 6200
C84: 2.5.9 | D84: =VLOOKUP(C84,'Calcadao & Passeio'!$A$5:$J$98,4,0) -> Matrioska: 88,0 cm altura x 36,0 cm de base | E84: =VLOOKUP(C84,'Calcadao & Passeio'!$A$5:$J$98,10,0) -> 5580
C85: 2.5.10 | D85: =VLOOKUP(C85,'Calcadao & Passeio'!$A$5:$J$98,4,0) -> Matrioska: 63,0 cm altura x 24,0 cm de base | E85: =VLOOKUP(C85,'Calcadao & Passeio'!$A$5:$J$98,10,0) -> 4960
C86: 2.5.11 | D86: =VLOOKUP(C86,'Calcadao & Passeio'!$A$5:$J$98,4,0) -> Matrioska: 40,0 cm altura x 18,0 cm de base | E86: =VLOOKUP(C86,'Calcadao & Passeio'!$A$5:$J$98,10,0) -> 4340
C87: 2.5.12 | D87: =VLOOKUP(C87,'Calcadao & Passeio'!$A$5:$J$98,4,0) -> Matrioskas em Silhueta para fotos com 160 cm de altura | E87: =VLOOKUP(C87,'Calcadao & Passeio'!$A$5:$J$98,10,0) -> 2480
... C102: 2.5.27 | D102: =VLOOKUP(C102,'Calcadao & Passeio'!$A$5:$J$98,4,0) -> Conjunto Lyon: 2 Banco Lyon de 120 cm e Mesinha de 70 cm x 43 cm. Madeira ipê, espessura mínima de 2,2 cm, pintados com cetol deck; pés em alumínio fundido, com pintura eletroestática preto brilho. | E102: =VLOOKUP(C102,'Calcadao & Passeio'!$A$5:$J$98,10,0) -> 5638.28
F103: =$E$75*F75 -> 0 | G103: =$E$75*G75 -> 0 | H103: =$E$75*H75 -> 0 | I103: =$E$75*I75 -> 0 | J103: =$E$75*J75 -> 36313.34 | K103: =$E$75*K75 -> 36313.34 | L103: =$E$75*L75 -> 72626.681 | M103: =$E$75*M75 -> 72626.681 | ... O103: =$E$75*O75 -> 72626.681
C104: 3 | D104: =VLOOKUP(C104,'Calcadao & Passeio'!$A$5:$J$98,4,0) -> Passeio de 2,50 m | E104: =E105 -> 212253.27 | F104: 0.2 | G104: 0.15 | H104: 0.15 | I104: 0.15 | J104: 0.15 | K104: 0.2 | P104: =SUM(F104:O104) -> 1 | Q104: =IF(P104=1,"OK';""FALTA") -> OK';"FALTA
C105: 3.1 | D105: =VLOOKUP(C105,'Calcadao & Passeio'!$A$5:$J$98,4,0) -> Repaginação Passeio Rua Uruguaiana | E105: =SUM(E106:E112) -> 212253.27
C106: 3.1.1 | D106: =VLOOKUP(C106,'Calcadao & Passeio'!$A$5:$J$98,4,0) -> ARGAMASSA TRAÇO 1:3 (EM VOLUME DE CIMENTO E AREIA MÉDIA ÚMIDA) PARA CONTRAPISO, PREPARO MECÂNICO COM BETONEIRA 400 L. AF_08/2019 | E106: =VLOOKUP(C106,'Calcadao & Passeio'!$A$5:$J$98,10,0) -> 46669.044
C107: 3.1.2 | D107: =VLOOKUP(C107,'Calcadao & Passeio'!$A$5:$J$98,4,0) -> PEDRA BASALTO IRREGULAR | E107: =VLOOKUP(C107,'Calcadao & Passeio'!$A$5:$J$98,10,0) -> 123541.2
C108: 3.1.3 | D108: =VLOOKUP(C108,'Calcadao & Passeio'!$A$5:$J$98,4,0) -> APLICAÇÃO DE LONA PLÁSTICA PARA EXECUÇÃO DE PAVIMENTOS DE CONCRETO. AF_04/2022 | E108: =VLOOKUP(C108,'Calcadao & Passeio'!$A$5:$J$98,10,0) -> 772.83
C109: 3.1.4 | D109: =VLOOKUP(C109,'Calcadao & Passeio'!$A$5:$J$98,4,0) -> FORNECIMENTO E EXECUÇÃO DE PASSEIO COM PEDRA DOLOMITA Nº3 BRANCA | E109: =VLOOKUP(C109,'Calcadao & Passeio'!$A$5:$J$98,10,0) -> 14734.688
C110: 3.1.5 | D110: =VLOOKUP(C110,'Calcadao & Passeio'!$A$5:$J$98,4,0) -> FORNECIMENTO E EXECUÇÃO DE PASSEIO COM PEDRA DOLOMITA Nº2 BRANCA | E110: =VLOOKUP(C110,'Calcadao & Passeio'!$A$5:$J$98,10,0) -> 14734.688
C111: 3.1.6 | D111: =VLOOKUP(C111,'Calcadao & Passeio'!$A$5:$J$98,4,0) -> FORNECIMENTO E INSTALAÇÃO DE PISO TÁTIL DIRECIONAL E DE ALERTA EM CONCRETO (20 x 20 x 6 cm) | E111: =VLOOKUP(C111,'Calcadao & Passeio'!$A$5:$J$98,10,0) -> 10378.8
C112: 3.1.7 | D112: =VLOOKUP(C112,'Calcadao & Passeio'!$A$5:$J$98,4,0) -> EXECUÇÃO DAS RAMPAS DE ACESSIBILIDADE COM CONCRETO FCK=25 MPA TRAÇO 1:2, 2;2, 2, (EM MASSA SECA DE CIMENTO/ AREIA MÉDIA/ SEIXO ROLADO) PREPARO MECÂNICO COM BETONEIRA | E112: =VLOOKUP(C112,'Calcadao & Passeio'!$A$5:$J$98,10,0) -> 1422.0251
F113: =$E$104*F104 -> 42450.655 | G113: =$E$104*G104 -> 31837.991 | H113: =$E$104*H104 -> 31837.991 | I113: =$E$104*I104 -> 31837.991 | J113: =$E$104*J104 -> 31837.991 | K113: =$E$104*K104 -> 42450.655 | L113: =$E$104*L104 -> 0 | M113: =$E$104*M104 -> 0 | ... O113: =$E$104*O104 -> 0
E115: Porcentagem mensal | F115: =F116/$E$119 -> 0.078098294 | G115: =G116/$E$119 -> 0.10528055 | H115: =H116/$E$119 -> 0.080341428 | I115: =I116/$E$119 -> 0.080341428 | J115: =J116/$E$119 -> 0.11042808 | K115: =K116/$E$119 -> 0.12080156 | L115: =L116/$E$119 -> 0.10313579 | M115: =M116/$E$119 -> 0.096312775 | ... O115: =O116/$E$119 -> 0.1375994
E116: Custo Mensal | F116: =F113+F57+F9 -> 94261.414 | G116: =G113+G57+G9 -> 127069.28 | H116: =H113+H57+H9 -> 96968.783 | I116: =I113+I57+I9 -> 96968.783 | J116: =J113+J57+J9 -> 133282.12 | K116: =K113+K57+K9 -> 145802.49 | L116: =L113+L57+L9 -> 124480.63 | M116: =M113+M57+M9 -> 116245.54 | ... O116: =O113+O57+O9 -> 166076.79
E117: Porcentagem Acumulada | F117: =F115 -> 0.078098294 | G117: =F117+G115 -> 0.18337885 | H117: =G117+H115 -> 0.26372028 | I117: =H117+I115 -> 0.3440617 | J117: =I117+J115 -> 0.45448978 | K117: =J117+K115 -> 0.57529134 | L117: =K117+L115 -> 0.67842712 | M117: =L117+M115 -> 0.7747399 | N117: =M117+N115 -> 0.8624006 | O117: =N117+O115 -> 1
E118: Custo Acumulado | F118: =F116 -> 94261.414 | G118: =F118+G116 -> 221330.69 | H118: =G118+H116 -> 318299.47 | I118: =H118+I116 -> 415268.26 | J118: =I118+J116 -> 548550.38 | K118: =J118+K116 -> 694352.87 | L118: =K118+L116 -> 818833.5 | M118: =L118+M116 -> 935079.04 | N118: =M118+N116 -> 1040881.9 | O118: =N118+O116 -> 1206958.7
D119: Total: | E119: =E104+E56+E8 -> 1206958.7
E120: ='Calcadao & Passeio'!J99 -> 1206958.7
