Workbook
Name Excel_BuiltIn_Print_Area: #REF!

Sheet Custo trabalhador
A1: PLANILHA DE CUSTOS E FORMAÇÃO DE PREÇOS
A2: FORMAÇÃO DE CUSTO MENSAL POR POSTO DE TRABALHO
A4: * A planilha de custos e formação de preços é ferramenta de apoio à realização de estimativas da contratação e para a análise das propostas na fase de pregão e nas prorrogações contratuais. * O modelo disponibilizado na Instrução Normativa n° 5, de 26 de maio de 2017, é inspiracional, devendo ser adaptado pelo órgão ou entidade contratante às suas necessidades. * A presente proposta visa, tão somente, auxiliar aos órgão que não possuam um modelo definido na formatação dos cálculos de direitos trabalhistas para estimativas de contratos de prestação de serviços, observando as disposições da Consolidação das Leis do Trabalho - CLT e das Convenções Coletivas de Trabalho - CCT (sendo válidos, ainda, os acordos e dissídios coletivos). * É responsabilidade do usuário que optar pela utilização deste modelo a conferência das fórmulas automatizadas em conformidade com as dispoções de CLT e CCT, para minimizar o risco de equívocos no cômputo das previsões financeiras. * Dúvidas sobre a metodologia de cálculo poderão ser esclarecidas com a leitura dos Cadernos Técnicos de divulgação de valores limites em: https://www.comprasgovernamentais.gov.br/index.php/cadernos-tecnicos-e-valores-limites.
A5: SERVIÇOS TERCEIRIZADOS DE DIGITADOR
A6: MÓDULO 1 - REMUNERAÇÃO
A7: * A remuneração é definida no art. 457 da Consolidação das Leis do Trabalho. * É composta por Salário Base, Adicionais (noturno, de insalubridade ou periculosidade) e gratificações, quando houver.
A9: SALÁRIO BASE
A10: * O Salário Base vem definido na Convenção Coletiva de Trabalho da categoria profissional a ser contratada para o objeto da prestação de serviço. * O contratante deverá observar se a CCT abrange o município de prestação de serviço e se está vigente.
A12: SALÁRIO BASE - 220 h | D12: http://www3.mte.gov.br/sistemas/mediador/ConsultarInstColetivo# Subsecretaria de Relações do Trabalho - SRTSistema de Negociações Coletivas de Trabalho - MEDIADOR
A13: CBO 142520 Gerente de projetos de tecnologia da informação | B13: 11128.73
A14: CBO 412110 Digitador | B14: 1545
A16: Merendeira Escola/Creche | B16: 0
A17: Auxiliar de Cozinha | B17: 0
A18: CBO 212410 Consultor de Tecnologia da Informação | B18: 2149.55
A20: GRATIFICAÇÃO DE FUNÇÃO
A21: * Gratificação de função, quando houver, virá informada na Convenção Coletiva de Trabalho da categoria profissional a ser contratada. * O órgão contrantante deverá observar, além da existência de gratificação, se esta incidirá sobre os adicionais, devendo adaptar a planilha ao caso em concreto. * Para o presente modelo foi considerada gratificação como percentual sobre o salário base e sem incidência sobre os adicionais (noturno, periculosidade ou insalubridade).
A23: GRATIFICAÇÃO DE FUNÇÃO
A24: Categoria | B24: Base Cálculo 200 h | C24: Percentual | D24: Valor da Gratificação
A25: Encarregado | B25: =B14 -> 1545 | C25: 0.4316 | D25: =B25*C25 -> 666.822
A27: ADICIONAIS (periculosidade ou insalubridade, se houver)
A28: * Os adicionais de periculosidade ou insalubridade, em conformidade com os art. 192 e 193 da CLT, dependem da natureza do serviço a ser prestado. * O órgão contrantante deverá observar, além da existência de previsão em CLT, se há informações na Convenção Coletiva de Trabalho acerca dos adicionais, bem como seu percentual e a base de cálculo, devendo adaptar a planilha ao caso em concreto.
A30: ADICIONAL DE INSALUBRIDADE
A31: Categoria | B31: Base Cálculo 200 h | C31: Percentual | D31: Valor
A32: Gerente de projetos de tecnologia da informação | B32: =(B13/220)*200 -> 10117.027 | C32: 0.2 | D32: =B32*C32 -> 2023.4055
A33: Digitador | B33: =(B14/220)*200 -> 1404.5455 | C33: 0.2 | D33: =B33*C33 -> 280.90909
A34: =A14 -> CBO 412110 Digitador | B34: 0 | C34: 0.2 | D34: =B34*C34 -> 0
A36: Merendeiro de Esc./Creche | B36: =(B16/220)*200 -> 0 | C36: 0.2 | D36: =B36*C36 -> 0
A37: Auxiliar de Merendeira | B37: =(B17/220)*200 -> 0 | C37: 0.2 | D37: =B37*C37 -> 0
A38: Consultor de Tecnologia da Informação | B38: =(B18/200)*200 -> 2149.55 | C38: 0.2 | D38: =B38*C38 -> 429.91
A42: MÓDULO 1 - REMUNERAÇÃO
A43: Este quadro totaliza a remuneração devida ao trabalhador, conforme previsão da Consolidação das Leis do Trabalho e valores disponíveis na Convenção Coletiva para a categoria, considerando-se para efeitos de cálculos apenas 200 horas mensais (40 horas semanais).
A45: MÓDULO 1 - REMUNERAÇÃO
A46: Categoria | B46: Salário Base | C46: Gratificação de função | D46: Adicional de Insalubridade | G46: Total
A47: =A32 -> Gerente de projetos de tecnologia da informação | B47: =B32 -> 10117.027 | C47: 0 | D47: =D32 -> 2023.4055 | G47: =SUM(B47:F47) -> 12140.433
A48: =A33 -> Digitador | B48: =B33 -> 1404.5455 | C48: 0 | D48: =D33 -> 280.90909 | G48: =SUM(B48:F48) -> 1685.4545
A49: =A34 -> CBO 412110 Digitador | B49: =B34 -> 0 | C49: 0 | D49: =D34 -> 0 | G49: =SUM(B49:F49) -> 0
A51: =A36 -> Merendeiro de Esc./Creche | B51: =B36 -> 0 | C51: 0 | D51: =D36 -> 0 | G51: =SUM(B51:F51) -> 0
A52: =A37 -> Auxiliar de Merendeira | B52: =B37 -> 0 | C52: 0 | D52: =D37 -> 0 | G52: =SUM(B52:F52) -> 0
A53: =A38 -> Consultor de Tecnologia da Informação | B53: =B38 -> 2149.55 | C53: 0 | D53: =D38 -> 429.91 | G53: =SUM(B53:F53) -> 2579.46
A55: MÓDULO 2 - ENCARGOS E BENEFÍCIOS (ANUAIS, MENSAIS E DIÁRIOS)
...

Sheet Uniformes e EPIs
A1: ANEXO II – PLANILHA DE CUSTOS DOS UNIFORMES E EPI'S PARA O SERVIÇO DE DIGITAÇÃO
A4: Categoria Profissional | B4: Tipo de Uniforme | C4: Quantidade de Postos (M) | D4: Quantidade Anual (N) | E4: Valor unitário (O) | F4: Valor Anual (P=MxNxO)
A5: Encarregado | C5: -
B6: TOTAL ENCARREGADO (Q) | C6: =C7+C21+C34+C48 -> 1 | F6: =F5 -> 0
A7: Serviços de Limpeza Com e Sem Banheiros (Ambos) | B7: Uniforme, Camisa c/ gravura do nome da empresa (02 Un. x 2 p/ ano) | C7: 1 | D7: =2*2*C7 -> 4 | E7: 30 | F7: =D7*E7 -> 120
B8: Uniforme, Calça comprida/brim profissional. (02 Un. x 2 p/ ano) | D8: 0 | E8: 35 | F8: =D8*E8 -> 0
B9: Par de Sapato ou de Botina de Segurança, em raspa ou couro de cor preta.(01Un x 2 p/ano) | D9: 0 | E9: 45 | F9: =D9*E9 -> 0
B10: Par de Botas de Borracha de cano long, cor Preto ou Azul. (01 Un. p/posto). | D10: 0 | E10: 40 | F10: =C7*D10*E10 -> 0
B11: Protetor auricular para atenuar ruído. | D11: 0 | E11: 10 | F11: =C7*D11*E11 -> 0
B12: Máscara descartável de proteção respiratória PFF2.(40 mensais) | D12: 0 | E12: 4 | F12: =C7*D12*E12 -> 0
B13: Máscara descartável de proteção respiratória mod.cirúrgico antialérgico e atóxico ou caseira reutilizável (COVID-19)(240/mês). | D13: 0 | E13: 0.8 | F13: =D13*E13 -> 0
B14: Capacete de segurança classe B com jugular. (04 Unid./Bianual). | D14: 0 | E14: 20 | F14: =E14*D14 -> 0
B15: Óculos de segurança transparente.(08 Unid./ano). | D15: 0 | E15: 8 | F15: =C7*D15*E15 -> 0
B16: Luvas de Látex ou nitrílicas. | D16: 0 | E16: 9 | F16: =D16*E16 -> 0
B17: Luvas descartáveis de procedimentos ambidestra. | D17: 0 | E17: =40/100 -> 0.4 | F17: =D17*E17 -> 0
B18: Luvas de Vaqueta. | D18: 0 | E18: 10 | F18: =D18*E18 -> 0
B19: Cinto de Segurança modelo parquedista com talabarte e trava quedas, para trabalhos acima de dois metros de altura | D19: 0 | E19: 510 | F19: =D19*E19 -> 0
B20: TOTAL SERVIÇOS Com e Sem Banheiro ® | C20: 0 | F20: =SUM(F7:F19) -> 120
B21: Uniforme, Camisa com a gravura identificando o nome da empresa | C21: 0 | D21: =(20/10*1) -> 2 | E21: 42 | F21: =C21*D21*E21 -> 0
B22: Uniforme, Calça comprida em brim profissional, 100% algodão | D22: =(20/10*1) -> 2 | E22: 42 | F22: =C21*D22*E22 -> 0
B23: Par de Sapato ou de Botina de Segurança, em raspa ou couro de cor preta. | D23: =(10/10*1) -> 1 | E23: 62.86 | F23: =C21*D23*E23 -> 0
B24: Par de Botas de Borracha de cano long, cor Preto ou Azul. | D24: =(10/10*1) -> 1 | E24: 2.61 | F24: =C21*D24*E24 -> 0
B25: Protetor auricular para atenuar ruído. | D25: =(10/10*1) -> 1 | E25: 4 | F25: =C21*D25*E25 -> 0
B26: Máscara descartável de proteção respiratória PFF2. | D26: =(20/10*1) -> 2 | E26: 2.27 | F26: =C21*D26*E26 -> 0
B27: Capacete de segurança classe B com jugular. | D27: =4/8*1 -> 0.5 | E27: 42 | F27: =C21*D27*E27 -> 0
B28: Óculos de segurança transparente. | D28: =10/10*1 -> 1 | E28: 2.85 | F28: =C21*D28*E28 -> 0
B29: Luvas de Látex ou nitrílicas. | D29: =30/10*1 -> 3
B30: Luvas descartáveis de procedimentos ambidestra. | D30: =(200/10*1)*12 -> 240
B31: Luvas de Vaqueta. | D31: =10/10*1 -> 1
B32: Cinto de Segurança modelo parquedista com talabarte e trava quedas, para trabalhos acima de dois metros de altura | D32: =4/8*1 -> 0.5 | E32: 188 | F32: =C21*D32*E32 -> 0
B33: TOTAL SERVENTE Sem Banheiro (R) | C33: - | F33: =SUM(F21:F32) -> 0
A34: Auxiliar de Cozinha | B34: Uniforme, Camisa c/ gravura do nome da empresa (02 Un. x 2 p/ ano) | C34: 0 | D34: 0 | E34: 30 | F34: =C34*D34*E34 -> 0
B35: Uniforme, Calça comprida/brim profissional. (02 Un. x 2 p/ ano) | D35: 0 | E35: 42 | F35: =C34*D35*E35 -> 0
B36: Jaleco cor branco, com tecido atenuador de chamas. | D36: 0 | E36: 80 | F36: =D36*E36 -> 0
B37: Luva de látex ou nitrílica. (4/mês) | D37: 0 | E37: 9 | F37: =C34*D37*E37 -> 0
B38: Luva descartável de vinil.(50 pares mensal) | D38: 0 | E38: 0.72 | F38: =D38*E38 -> 0
B39: Luva de aço inoxidável ambidestra | D39: 0 | E39: 66 | F39: =D39*E39 -> 0
B40: Luva térmica para atenuar calor e frio.(2 par, repor semestralm). | D40: 0 | E40: 40 | F40: =D40*E40 -> 0
B41: Bota de borracha ou PVC cano longo, de cor branco. | D41: 0 | E41: 38 | F41: =D41*E41 -> 0
B42: Sapato de seguraça de raspa ou couro, de cor branca. | D42: 0 | E42: 95 | F42: =D42*E42 -> 0
...

Sheet Materiais e Equipamentos
A1: ANEXO IV - PLANILHA DE CUSTOS DOS MATERIAIS E EQUIPAMENTOS PARA OS SERVIÇOS DE LIMPEZA E MERENDA
A4: Item | B4: Quant. Estim. ANUAL SECRETARIA DA SAUDE | C4: Quant. Estim. ANUAL por unidade (23 unidades) | D4: DESCRIÇÃO DO ITEM | E4: Valor | F4: VALOR ANUAL por unidade | G4: Quant. Estim. ANUAL SECRETARIA DA SAUDE
E5: unitário
E6: R$
E7: (Preço referência)
A8: 1 | B8: 0 | C8: =B8/23 -> 0 | D8: Água sanitária: Princípio ativo: hipoclorito de sódio, hidróxido de sódio, cloreto de sódio e água, teor de cloro ativo 2,0% a 2,5% p/p. Produto registrado no órgão sanitário competente (ANVISA). Deve apresentar no rótulo: composição, código de barras, responsável químico e seu CRQ, número de registro no órgão competente (ANVISA), validade, modo de utilização e precauções, telefone para emergência/contato e identificação da empresa (nome, endereço completo e CNPJ). Frasco com 2 litros. | E8: 4.81 | F8: =E8*C8 -> 0 | G8: 9000
A9: 2 | B9: 0 | C9: =B9/23 -> 0 | D9: Álcool em gel desinfetante 70%; Produto registrado no órgão sanitário competente (ANVISA). Deve apresentar no rótulo: composição, código de barras, responsável químico e seu CRQ, número de registro no Ministério da Saúde, validade, modo de utilização e precauções, telefone para emergência/contato e identificação da empresa (nome, endereço completo e CNPJ). Frasco de, no mínimo, 400 g. | E9: 5.72 | F9: =E9*C9 -> 0 | G9: 0
A10: 3 | B10: 0 | C10: =B10/23 -> 0 | D10: Álcool líquido 70% Hidratado, na concentração de 70º INPM (70% em peso). Produto notificado/registrado na ANVISA. Frasco com 1 litro. | E10: 5.88 | F10: =E10*C10 -> 0 | G10: 10000
A11: 4 | B11: 0 | C11: =B11/23 -> 0 | D11: Álcool líquido: graduação igual ou inferior a 46,3º INPM (54 GL – Gay Lussac), Produto notificado/registrado na ANVISA. Frasco com 1 litro. | E11: 7.37 | F11: =E11*C11 -> 0 | G11: 2500
A12: 5 | B12: 0 | C12: =B12/23 -> 0 | D12: Balde 8 litros: Em plástico resistente, alça resistente, 8 litros. | E12: 5.43 | F12: =E12*C12 -> 0 | G12: 100
A13: 6 | B13: 0 | C13: =B13/23 -> 0 | D13: BALDE PEQUENO 20L: Em plástico resistente, alça resistente | E13: 13.63 | F13: =E13*C13 -> 0 | G13: 800
A14: 7 | B14: 0 | C14: =B14/23 -> 0 | D14: BALDE GRANDE 30L Em plástico resistente, alça resistente | E14: 41.15 | F14: =E14*C14 -> 0 | G14: 200
A15: 8 | B15: 0 | C15: =B15/23 -> 0 | D15: Bolsa alvejada branca: 100% algodão, medidas mínimas 75x45cm, peso mínimo 170 gramas (seco), qualidade de alta absorção, com etiqueta com as medidas e o CNPJ do fabricante. | E15: 4.6 | F15: =E15*C15 -> 0 | G15: 3000
A16: 9 | B16: 0 | C16: =B16/23 -> 0 | D16: Bolsa não alvejada: 100% algodão, medidas mínimas 75x45cm, peso mínimo 170 gramas (seco), qualidade de alta absorção, com etiqueta com as medidas e o CNPJ do fabricante. | E16: 4.83 | F16: =E16*C16 -> 0 | G16: 3000
A17: 10 | B17: 0 | C17: =B17/23 -> 0 | D17: Cera líquida Incolor: Produto registrado no Ministério da Saúde/ANVISA. Deve apresentar no rótulo: composição, código de barras, responsável químico e seu CRQ, número de registro no Ministério da Saúde/ANVISA, validade, modo de utilização e precauções, telefone para emergência/contato e identificação da empresa (nome, endereço completo e CNPJ). Frasco 750 ml. | E17: 7.18 | F17: =E17*C17 -> 0 | G17: 1200
A18: 11 | B18: 0 | C18: =B18/23 -> 0 | D18: Copos descartáveis, embalagem com 100 unidades de 200 ml. | E18: 4.69 | F18: =E18*C18 -> 0 | G18: 8000
A19: 12 | B19: 0 | C19: =B19/23 -> 0 | D19: Desinfetante líquido: Com ação germicida e bactericida. Produto registrado no Ministério da Saúde/ANVISA. Deve apresentar no rótulo: composição, código de barras, responsável químico e seu CRQ, número de registro no Ministério da Saúde/ANVISA, validade, modo de utilização e precauções, telefone para emergência/contato e identificação da empresa (nome, endereço completo e CNPJ). Frasco 2 LITROS. | E19: 4.28 | F19: =E19*C19 -> 0 | G19: 9500
... A57: 50 | B57: 0 | C57: =B57/23 -> 0 | D57: Vassoura cabo de metal, ponteira giratória, cerdas de nylon, aparação curva, que se adapta a qualquer tipo de piso. | E57: 19.3 | F57: =E57*C57 -> 0 | G57: 200
F58: =SUM(F8:F57) -> 0 | G58: ANUAL
F59: 12
F60: =F58/F59 -> 0 | G60: MENSAL
A62: Item | B62: Especificação | C62: Especificação | D62: Quantidade Estimada (E) | E62: Valor Unitário (F) | F62: Valor Total (G=ExF) | G62: Valor Residual (I=GxH) | I62: Vida útil em meses (J) | J62: Insumo Mensal (K=G-I/J)
G63: % (H) | H63: R$ (I)
A64: 1 | B64: Aspirador de pó | C64: Aspirador de pó | D64: 0 | E64: 150 | F64: =D64*E64 -> 0 | G64: 0.2 | H64: =F64*G64 -> 0 | I64: 60 | J64: =(F64-H64)/I64 -> 0
A65: 2 | B65: Lavadora de roupas 5 kg | C65: Lavadora de roupas 5 kg | D65: 0 | E65: 1600 | F65: =D65*E65 -> 0 | G65: 0.2 | H65: =F65*G65 -> 0 | I65: 60 | J65: =(F65-H65)/I65 -> 0
A66: 3 | B66: Lava-jato 2000 lbs | C66: Lava-jato 2000 lbs | D66: 0 | E66: 658.99 | F66: =D66*E66 -> 0 | G66: 0.2 | H66: =F66*G66 -> 0 | I66: 60 | J66: =(F66-H66)/I66 -> 0
A67: 4 | B67: Escada Fibra Vidro 20 degraus | C67: Escada Fibra Vidro 20 degraus | D67: 0 | E67: 634 | F67: =D67*E67 -> 0 | G67: 0.2 | H67: =F67*G67 -> 0 | I67: 60 | J67: =(F67-H67)/I67 -> 0
A68: 5 | B68: Balde Mop c/ Espremedor | C68: Balde Mop c/ Espremedor | D68: 0 | E68: 258.9 | F68: =D68*E68 -> 0 | G68: 0.2 | H68: =F68*G68 -> 0 | I68: 60 | J68: =(F68-H68)/I68 -> 0
A69: 6
A70: 7
A71: 8
A72: T = | B72: Total de Equipamentos = | C72: Total de Equipamentos = | F72: =SUM(F64:F71) -> 0 | H72: =SUM(H64:H71) -> 0
A73: TOTAL MENSAL DEPRECIAÇÃO | J73: =SUM(J64:J72) -> 0
A74: Remuneração do Capital Investido (0,5% a.m.) | J74: =F72*0.5% -> 0
A75: TOTAL ANUAL DE DEPRECIAÇÃO + REMUNERAÇÃO CAPITAL (L) | J75: =(J73+J74)*12 -> 0
B79: Valor Anual de Materiais e Equipamentos (D+L) | C79: Valor Anual de Materiais e Equipamentos (D+L) | D79: Valor Mensal de Materiais e Equipamentos | E79: Quantidade de postos de trabalho | F79: Valor Mensal por posto de trabalho
A80: VALOR ESTIMADO DA PLANILHA DE CUSTOS DOS MATERIAIS E EQUIPAMENTOS PARA REALIZAÇÃO DO SERVIÇO DE LIMPEZA E CONSERVAÇÃO* | B80: =E58+I75 -> 0 | C80: =F58+J75 -> 0 | D80: =C80/12 -> 0 | E80: 1 | F80: =D80/E80 -> 0
A82: *A PLANILHA DE CUSTOS DOS MATERIAIS E EQUIPAMENTOS PARA REALIZAÇÃO DO SERVIÇOS DE LIMPEZA, CONSERVAÇÃO, SERVIR E PREPARO DE REFEIÇÕES E LANCHES, DEVERÁ SER APRESENTADA JUNTO COM A PLANILHA DE COMPOSIÇÃO DE CUSTOS E FORMAÇÃO DE PREÇO DOS POSTOS DE SERVIÇOS, PARA JUSTIFICAR OS VALORES ATRIBUÍDOS ÀS PLANILHAS DO MÓDULO 5 - INSUMOS DE MÃO DE OBRA.
