Workbook

Sheet Orçamento Básico
D2: PLANILHA ORÇAMENTÁRIA
B4: OBRA: | C4: PAVIMENTAÇÃO ASFALTICA EM CONCRETO BETUMINOSO USINADO A QUENTE | I4: DATA BASE:
B5: LOCAL: | C5: VIAS URBANAS DO MUNICÍPIO DE BARÃO DE COTEGIPE/RS - RUA IRMÃ VICÊNCIA COELHO | I5: BDI: | J5: 0
I6: BDI DIF.:
B9: 1 - PAVIMENTAÇÃO DE VIAS URBANAS - SERVIÇOS INICIAIS E GERAIS
B10: ITEM | C10: REFERÊNCIA SINAPI | D10: DESCRIÇÃO | E10: UNID. | F10: QUANT. | G10: PREÇO UNIT. | H10: BDI ADOTADO | I10: PREÇO UNIT. C/ BDI | J10: PREÇO TOTAL
B11: 1 | C11: SERVIÇOS GERAIS DA PAVIMENTAÇÃO
B12: 1.1.2 | C12: CPU 04 | D12: SINALIZAÇÃO DE SEGURANÇA DA OBRA | E12: OBRA | F12: 1 | H12: =$J$5 -> 0 | I12: =G12+G12*H12 -> 0 | J12: =ROUND(F12*I12,2) -> 0
B13: 1.1.3 | C13: CPU 02 | D13: MOBILIZAÇÃO OU DESMOBILIZAÇÃO DE EQUIPAMENTOS PARA PAVIMENTAÇÃO ASFÁLTICA | E13: Obra | F13: 1 | H13: =$J$5 -> 0 | I13: =G13+G13*H13 -> 0 | J13: =ROUND(F13*I13,2) -> 0
B14: 1.1.4 | C14: CPU 02 | D14: MOBILIZAÇÃO OU DESMOBILIZAÇÃO DE EQUIPAMENTOS PARA PAVIMENTAÇÃO ASFÁLTICA | E14: Obra | F14: 1 | H14: =$J$5 -> 0 | I14: =G14+G14*H14 -> 0 | J14: =ROUND(F14*I14,2) -> 0
B15: 1.1.5 | C15: CPU 03 | D15: LOCAÇÃO DE PAVIMENTAÇÃO | E15: M | F15: 175.77 | H15: =$J$5 -> 0 | I15: =G15+G15*H15 -> 0 | J15: =ROUND(F15*I15,2) -> 0
H16: Total Item | J16: =SUM(J12:J15) -> 0
B21: 2 - PAVIMENTAÇÃO DA RUA IR. VICÊNCIA COELHO - Trecho da Rua Joana Trczinski até Rua Tancredo Neves | G21: Área de Pavimentação (m²) | J21: 1903.23
B22: ITEM | C22: REFERÊNCIA SINAPI | D22: DESCRIÇÃO | E22: UNID. | F22: QUANT. | G22: PREÇO UNIT. | H22: BDI ADOTADO | I22: PREÇO UNIT. C/ BDI | J22: PREÇO TOTAL
B23: 2.1 | C23: EXECUÇÃO DE CAMADA DE REPERFILAMENTO
B24: 2.1.1 | C24: CPU 10 | D24: LIMPEZA, VARIÇÃO E LAVAGEM DA PISTA | E24: M² | F24: 1903.23 | H24: =$J$5 -> 0 | I24: =G24+G24*H24 -> 0 | J24: =ROUND(F24*I24,2) -> 0
B25: 2.1.2 | C25: CPU 08 | D25: PINTURA DE LIGAÇÃO COM EMULSÃO RR-2C - INCLUSIVE TRANSPORTE DA EMULSÃO | E25: M2 | F25: 1903.23 | H25: =$J$5 -> 0 | I25: =G25+G25*H25 -> 0 | J25: =ROUND(F25*I25,2) -> 0
B26: 2.1.3 | C26: CPU 09 | D26: EXECUÇÃO DE PAVIMENTO COM APLICAÇÃO DE CONCRETO ASFALTICO - CBUQ - CAMADA DE ROLAMENTO - EXCLUSIVE CARGA E TRANSPORTE | E26: M³ | F26: 95.1615 | H26: =$J$5 -> 0 | I26: =G26+G26*H26 -> 0 | J26: =ROUND(F26*I26,2) -> 0
B27: 2.1.4 | C27: 100986 | D27: CARGA DE MISTURA ASFÁLTICA EM CAMINHÃO BASCULANTE 10 M³ (UNIDADE: M3). AF_02/2026 | E27: M3 | F27: 114.1938 | H27: =$J$5 -> 0 | I27: =G27+G27*H27 -> 0 | J27: =ROUND(F27*I27,2) -> 0
B28: 2.1.5 | C28: 95875 | D28: TRANSPORTE COM CAMINHÃO BASCULANTE DE 10 M³, EM VIA URBANA PAVIMENTADA, DMT ATÉ 30 KM (UNIDADE: M3XKM). AF_02/2026 | E28: M3XKM | F28: 2283.876 | H28: =$J$5 -> 0 | I28: =G28+G28*H28 -> 0 | J28: =ROUND(F28*I28,2) -> 0
H29: Total Item | J29: =SUM(J24:J28) -> 0
B32: 2.2 | C32: EXECUÇÃO DE CAMADA FINAL DE ROLAMENTO
B33: 2.2.1 | C33: CPU 08 | D33: PINTURA DE LIGAÇÃO COM EMULSÃO RR-2C - INCLUSIVE TRANSPORTE DA EMULSÃO | E33: M2 | F33: 1903.23 | H33: =$J$5 -> 0 | I33: =G33+G33*H33 -> 0 | J33: =ROUND(F33*I33,2) -> 0
B34: 2.2.2 | C34: CPU 09 | D34: EXECUÇÃO DE PAVIMENTO COM APLICAÇÃO DE CONCRETO ASFALTICO - CBUQ - CAMADA DE ROLAMENTO - EXCLUSIVE CARGA E TRANSPORTE | E34: M³ | F34: 57.0969 | H34: =$J$5 -> 0 | I34: =G34+G34*H34 -> 0 | J34: =ROUND(F34*I34,2) -> 0
B35: 2.2.3 | C35: 100986 | D35: CARGA DE MISTURA ASFÁLTICA EM CAMINHÃO BASCULANTE 10 M³ (UNIDADE: M3). AF_02/2026 | E35: M3 | F35: 68.51628 | H35: =$J$5 -> 0 | I35: =G35+G35*H35 -> 0 | J35: =ROUND(F35*I35,2) -> 0
B36: 2.2.4 | C36: 95875 | D36: TRANSPORTE COM CAMINHÃO BASCULANTE DE 10 M³, EM VIA URBANA PAVIMENTADA, DMT ATÉ 30 KM (UNIDADE: M3XKM). AF_02/2026 | E36: M3XKM | F36: 1370.3256 | H36: =$J$5 -> 0 | I36: =G36+G36*H36 -> 0 | J36: =ROUND(F36*I36,2) -> 0
H37: Total Item | J37: =SUM(J33:J36) -> 0
B39: 2.3 | C39: SINALIZAÇÃO HORIZONTAL
B40: 2.3.1 | C40: 102512 | D40: PINTURA DE EIXO VIÁRIO SOBRE ASFALTO COM TINTA RETRORREFLETIVA A BASE DE RESINA ACRÍLICA COM MICROESFERAS DE VIDRO, E = 10 CM, APLICAÇÃO MECÂNICA COM DEMARCADORA AUTOPROPELIDA. AF_05/2021 | E40: M | F40: 158.33 | H40: =$J$5 -> 0 | I40: =G40+G40*H40 -> 0 | J40: =ROUND(F40*I40,2) -> 0
B41: 2.3.2 | C41: 102512 | D41: PINTURA DE EIXO VIÁRIO SOBRE ASFALTO COM TINTA RETRORREFLETIVA A BASE DE RESINA ACRÍLICA COM MICROESFERAS DE VIDRO, E = 10 CM, APLICAÇÃO MECÂNICA COM DEMARCADORA AUTOPROPELIDA. AF_05/2021 | E41: M | F41: 319.33 | H41: =$J$5 -> 0 | I41: =G41+G41*H41 -> 0 | J41: =ROUND(F41*I41,2) -> 0
B42: 2.3.3 | C42: 102509 | D42: PINTURA DE FAIXA DE PEDESTRE OU ZEBRADA TINTA RETRORREFLETIVA A BASE DE RESINA ACRÍLICA COM MICROESFERAS DE VIDRO, E = 30 CM, APLICAÇÃO MANUAL. AF_05/2021 | E42: M2 | F42: 30.57 | H42: =$J$5 -> 0 | I42: =G42+G42*H42 -> 0 | J42: =ROUND(F42*I42,2) -> 0
H43: Total Item | J43: =SUM(J40:J42) -> 0
B45: 2.4 | C45: SERVIÇOS FINAIS
B46: 2.4.1 | C46: CPU 11 | D46: LIMPEZA FINAL DE OBRA | E46: M³ | F46: 1903.23 | H46: =$J$5 -> 0 | I46: =G46+G46*H46 -> 0 | J46: =ROUND(F46*I46,2) -> 0
H47: Total Item | J47: =SUM(J45:J46) -> 0
F48: Valor Total Rua Ir. Vicência Coelho | J48: =J47+J43+J37+J29+J16 -> 0
C54: Local, data, assinaturas

Sheet Cronograma
A3: CRONOGRAMA FÍSICO / FINANCEIRO
A6: OBRA: CAPEAMENTO ASFALTICO - RUA IR. VICÊNCIA COELHO
A7: LOCAL: MUNICÍPIO DE BARÃO DE COTEGIPE
A9: CRONOGRAMA FÍSICO-FINANCEIRO
A11: ITEM | B11: DESCRIÇÃO | C11: TOTAL | D11: MÊS 1 | E11: MÊS 2 | F11: Totais
D12: % | E12: % | F12: % | G12: Valor
A13: 1 | B13: SERVIÇOS INCIIAIS E PRELIMINARES | C13: ='Orçamento Básico'!J16 -> 0 | D13: 1 | F13: =E13+D13 -> 1 | G13: =E14+D14 -> 0
D14: =$C13*D13 -> 0 | E14: =$C13*E13 -> 0
A15: 2 | B15: EXECUÇÃO DA CAMADA DE REPERFILAMENTO | C15: ='Orçamento Básico'!J29 -> 0 | D15: 1 | F15: =E15+D15 -> 1 | G15: =E16+D16 -> 0
D16: =$C15*D15 -> 0 | E16: =$C15*E15 -> 0
A17: 3 | B17: EXECUÇÃO DA CAMADA FINAL DE ROLAMENTO | C17: ='Orçamento Básico'!J37 -> 0 | D17: 1 | F17: =E17+D17 -> 1 | G17: =E18+D18 -> 0
D18: =$C17*D17 -> 0 | E18: =$C17*E17 -> 0
A19: 4 | B19: SINALIZAÇÃO HORIZONTAL | C19: ='Orçamento Básico'!J43 -> 0 | D19: 1 | F19: =E19+D19 -> 1 | G19: =E20+D20 -> 0
D20: =$C19*D19 -> 0 | E20: =$C19*E19 -> 0
A21: 4 | B21: SERVIÇOS FINAIS - DESMOBILIZAÇÃO | C21: ='Orçamento Básico'!J47 -> 0 | D21: 1 | F21: =E21+D21 -> 1 | G21: =E22+D22 -> 0
D22: =$C21*D21 -> 0 | E22: =$C21*E21 -> 0
A25: TOTAL | C25: =SUM(C13:C22) -> 0 | D25: =D14+D16+D18+D20+D22 -> 0 | E25: =E14+E16+E18+E20+E22 -> 0
D26: =D25/$C$25 -> #DIV/0! | E26: =E25/$C$25 -> #DIV/0!
D27: =D25 -> 0 | E27: =E25+D27 -> 0
D28: =+D26 -> #DIV/0! | E28: =E26+D28 -> #DIV/0!
B32: Local, data, assinaturas
