Workbook
Name AbaDeprec: '28. Depreciação'!$A$1
Name AbaRemun: #REF!
Name AbaRemun: #REF!
Name Google_Sheet_Link_1080678013: AbaDeprec
Name Google_Sheet_Link_1283984240: AbaDeprec
Name Google_Sheet_Link_1352214653: AbaDeprec
Name Google_Sheet_Link_1653490250: AbaDeprec
Name Google_Sheet_Link_1771193190: AbaDeprec
Name Google_Sheet_Link_1821469400: AbaDeprec
Name Google_Sheet_Link_188411900: AbaDeprec
Name Google_Sheet_Link_191308448: AbaDeprec
Name Google_Sheet_Link_1940138237: AbaDeprec
Name Google_Sheet_Link_543727741: AbaDeprec
Name Google_Sheet_Link_570812577: AbaDeprec
Name Google_Sheet_Link_577369567: AbaDeprec
Name Google_Sheet_Link_608649082: AbaDeprec
Name Google_Sheet_Link_968232355: AbaDeprec

Sheet 1. Escavad 18 
A1: Código 76999 – Serviços de Escavadeira Hidráulica 18 ton
A2: Planilha de Composição de Custos
A4: Orçamento Sintético
A5: Descrição do Item | E5: Custo (R$/mês) | F5: %
A6: =A39 -> 1. Mão-de-obra | E6: =+F83 -> 0 | F6: =IFERROR(E6/$E$23,0) -> 0
A7: =A41 -> 1.1. Operador de Máquinas | E7: =F60 -> 0 | F7: =IFERROR(E7/$E$23,0) -> 0
A8: =A62 -> 1.2. Vale Transporte | E8: =F68 -> 0 | F8: =IFERROR(E8/$E$23,0) -> 0
A9: =A70 -> 1.3. Vale-refeição (mensal) | E9: =F75 -> 0 | F9: =IFERROR(E9/$E$23,0) -> 0
A10: =A77 -> 1.4. Plano de Benefício Social (Seguro de vida) e (Manutenção e Capacitação Profissional ) | E10: =F81 -> 0 | F10: =IFERROR(E10/$E$23,0) -> 0
A11: =A85 -> 2. Uniformes e Equipamentos de Proteção Individual | E11: =+F104 -> 0 | F11: =IFERROR(E11/$E$23,0) -> 0
A12: =A106 -> 3. Veículos e Máquinas | E12: =+F174 -> 0 | F12: =IFERROR(E12/$E$23,0) -> 0
A13: =A108 -> 3.1. Veículo/Máquina | E13: =SUM(E14:E19) -> 0 | F13: =IFERROR(E13/$E$23,0) -> 0
A14: 3.1.1. Depreciação | E14: =F124 -> 0 | F14: =IFERROR(E14/$E$23,0) -> 0
A15: 3.1.2. Remuneração do Capital | E15: =F142 -> 0 | F15: =IFERROR(E15/$E$23,0) -> 0
A16: =A144 -> 3.1.3. Impostos e Seguros | E16: =F148 -> 0 | F16: =IFERROR(E16/$E$23,0) -> 0
A17: =A149 -> 3.1.4. Consumos óleo diesel | E17: =F158 -> 0 | F17: =IFERROR(E17/$E$23,0) -> 0
A18: =A160 -> 3.1.5. Manutenção/Consumos | E18: =F163 -> 0 | F18: =IFERROR(E18/$E$23,0) -> 0
A19: =A165 -> 3.1.6. Pneus | E19: =F172 -> 0 | F19: =IFERROR(E19/$E$23,0) -> 0
A20: =A176 -> 4. Ferramentas e materiais | E20: =+F187 -> 0 | F20: =IFERROR(E20/$E$23,0) -> 0
A21: =A189 -> 5. Monitoramento da frota | E21: =+F198 -> 0 | F21: =IFERROR(E21/$E$23,0) -> 0
A22: =A202 -> 4. Benefícios e Despesas Indiretas - BDI | E22: =+F208 -> 0 | F22: =IFERROR(E22/$E$23,0) -> 0
A23: PREÇO TOTAL MENSAL COM A COLETA | E23: =E6+E11+E12+E20+E21+E22 -> 0 | F23: =F6+F11+F12+F20+F21+F22 -> 0
A26: Quantitativos
A27: Mão-de-obra | E27: Quantidade
A28: ' | E28: =C59 -> 1
A29: Operador de Escavadeira Hidráulica
A30: Sindicato de Pav de Obras Correção Salarial | E30: 0
A31: Total de mão-de-obra (postos de trabalho) | E31: =SUM(E28) -> 1
A33: Veículos e Equipamentos | E33: Quantidade
A34: =+A108 -> 3.1. Veículo/Máquina | E34: =C123 -> 1
A37: Fator de utilização (FU) | B37: ='27.Horários'!F17/'27.Horários'!F18 -> 1
A39: 1. Mão-de-obra
A41: 1.1. Operador de Máquinas
A42: Discriminação | B42: Unidade | C42: Quantidade | D42: Custo unitário | E42: Subtotal | F42: Total (R$)
A43: Piso da categoria (2) | B43: mês | C43: 1 | D43: =ROUND((E29*E30)+E29,2) -> 0 | E43: =C43*D43 -> 0
A44: Salário mínimo nacional (1) | B44: mês | C44: 1 | D44: 1100
A45: Adicional Noturno | B45: horas trabalhadas
B46: hora contabilizada | C46: =C45*8/7 -> 0 | D46: =D43/220*0.2 -> 0 | E46: =C45*D46 -> 0
A47: Horas Extras (100%) | B47: hora | D47: =D43/220*2 -> 0 | E47: =C47*D47 -> 0 | G47: Excluir esta linha caso a contratação não tenha previsão de horas extras 100% explícita no edital
A48: Horas Extras Noturnas (100%) | B48: horas trabalhadas | G48: Excluir esta linha caso a contratação não tenha previsão de horas extras noturnas 100% explícita no edital
...

Sheet 2. Escavad 20
A1: Código 77000 – Serviços de Escavadeira Hidráulica 20 ton
A2: Planilha de Composição de Custos
A4: Orçamento Sintético
A5: Descrição do Item | E5: Custo (R$/mês) | F5: %
A6: =A39 -> 1. Mão-de-obra | E6: =+F83 -> 0 | F6: =IFERROR(E6/$E$23,0) -> 0
A7: =A41 -> 1.1. Operador de Máquinas | E7: =F60 -> 0 | F7: =IFERROR(E7/$E$23,0) -> 0
A8: =A62 -> 1.2. Vale Transporte | E8: =F68 -> 0 | F8: =IFERROR(E8/$E$23,0) -> 0
A9: =A70 -> 1.3. Vale-refeição (mensal) | E9: =F75 -> 0 | F9: =IFERROR(E9/$E$23,0) -> 0
A10: =A77 -> 1.4. Plano de Benefício Social (Seguro de vida) e (Manutenção e Capacitação Profissional ) | E10: =F81 -> 0 | F10: =IFERROR(E10/$E$23,0) -> 0
A11: =A85 -> 2. Uniformes e Equipamentos de Proteção Individual | E11: =+F104 -> 0 | F11: =IFERROR(E11/$E$23,0) -> 0
A12: =A106 -> 3. Veículos e Máquinas | E12: =+F174 -> 0 | F12: =IFERROR(E12/$E$23,0) -> 0
A13: =A108 -> 3.1. Veículo/Máquina | E13: =SUM(E14:E19) -> 0 | F13: =IFERROR(E13/$E$23,0) -> 0
A14: 3.1.1. Depreciação | E14: =F124 -> 0 | F14: =IFERROR(E14/$E$23,0) -> 0
A15: 3.1.2. Remuneração do Capital | E15: =F142 -> 0 | F15: =IFERROR(E15/$E$23,0) -> 0
A16: =A144 -> 3.1.3. Impostos e Seguros | E16: =F148 -> 0 | F16: =IFERROR(E16/$E$23,0) -> 0
A17: =A149 -> 3.1.4. Consumos óleo diesel | E17: =F158 -> 0 | F17: =IFERROR(E17/$E$23,0) -> 0
A18: =A160 -> 3.1.5. Manutenção/Consumos | E18: =F163 -> 0 | F18: =IFERROR(E18/$E$23,0) -> 0
A19: =A165 -> 3.1.6. Pneus | E19: =F172 -> 0 | F19: =IFERROR(E19/$E$23,0) -> 0
A20: =A176 -> 4. Ferramentas e materiais | E20: =+F187 -> 0 | F20: =IFERROR(E20/$E$23,0) -> 0
A21: =A189 -> 5. Monitoramento da frota | E21: =+F198 -> 0 | F21: =IFERROR(E21/$E$23,0) -> 0
A22: =A202 -> 4. Benefícios e Despesas Indiretas - BDI | E22: =+F208 -> 0 | F22: =IFERROR(E22/$E$23,0) -> 0
A23: PREÇO TOTAL MENSAL COM A COLETA | E23: =E6+E11+E12+E20+E21+E22 -> 0 | F23: =F6+F11+F12+F20+F21+F22 -> 0
A26: Quantitativos
A27: Mão-de-obra | E27: Quantidade
A28: =+A41 -> 1.1. Operador de Máquinas | E28: =C59 -> 1
A29: Operador de Escavadeira Hidráulica
A30: Sindicato de Pav de Obras Correção Salarial | E30: 0
A31: Total de mão-de-obra (postos de trabalho) | E31: =SUM(E28) -> 1
A33: Veículos e Equipamentos | E33: Quantidade
A34: =+A108 -> 3.1. Veículo/Máquina | E34: =C123 -> 1
A37: Fator de utilização (FU) | B37: ='27.Horários'!F17/'27.Horários'!F18 -> 1
A39: 1. Mão-de-obra
A41: 1.1. Operador de Máquinas
A42: Discriminação | B42: Unidade | C42: Quantidade | D42: Custo unitário | E42: Subtotal | F42: Total (R$)
A43: Piso da categoria (2) | B43: mês | C43: 1 | D43: =ROUND((E29*E30)+E29,2) -> 0 | E43: =C43*D43 -> 0
A44: Salário mínimo nacional (1) | B44: mês | C44: 1 | D44: 1100
A45: Adicional Noturno | B45: horas trabalhadas
B46: hora contabilizada | C46: =C45*8/7 -> 0 | D46: =D43/220*0.2 -> 0 | E46: =C45*D46 -> 0
A47: Horas Extras (100%) | B47: hora | D47: =D43/220*2 -> 0 | E47: =C47*D47 -> 0 | G47: Excluir esta linha caso a contratação não tenha previsão de horas extras 100% explícita no edital
A48: Horas Extras Noturnas (100%) | B48: horas trabalhadas | G48: Excluir esta linha caso a contratação não tenha previsão de horas extras noturnas 100% explícita no edital
...

Sheet 3. Escavad 23
A1: Código 77001 – Serviços de Escavadeira Hidráulica 23 ton
A2: Planilha de Composição de Custos
A4: Orçamento Sintético
A5: Descrição do Item | E5: Custo (R$/mês) | F5: %
A6: =A39 -> 1. Mão-de-obra | E6: =+F83 -> 0 | F6: =IFERROR(E6/$E$23,0) -> 0
A7: =A41 -> 1.1. Operador de Máquinas | E7: =F60 -> 0 | F7: =IFERROR(E7/$E$23,0) -> 0
A8: =A62 -> 1.2. Vale Transporte | E8: =F68 -> 0 | F8: =IFERROR(E8/$E$23,0) -> 0
A9: =A70 -> 1.3. Vale-refeição (mensal) | E9: =F75 -> 0 | F9: =IFERROR(E9/$E$23,0) -> 0
A10: =A77 -> 1.4. Plano de Benefício Social (Seguro de vida) e (Manutenção e Capacitação Profissional ) | E10: =F81 -> 0 | F10: =IFERROR(E10/$E$23,0) -> 0
A11: =A85 -> 2. Uniformes e Equipamentos de Proteção Individual | E11: =+F104 -> 0 | F11: =IFERROR(E11/$E$23,0) -> 0
A12: =A106 -> 3. Veículos e Máquinas | E12: =+F174 -> 0 | F12: =IFERROR(E12/$E$23,0) -> 0
A13: =A108 -> 3.1. Veículo/Máquina | E13: =SUM(E14:E19) -> 0 | F13: =IFERROR(E13/$E$23,0) -> 0
A14: 3.1.1. Depreciação | E14: =F124 -> 0 | F14: =IFERROR(E14/$E$23,0) -> 0
A15: 3.1.2. Remuneração do Capital | E15: =F142 -> 0 | F15: =IFERROR(E15/$E$23,0) -> 0
A16: =A144 -> 3.1.3. Impostos e Seguros | E16: =F148 -> 0 | F16: =IFERROR(E16/$E$23,0) -> 0
A17: =A149 -> 3.1.4. Consumos óleo diesel | E17: =F158 -> 0 | F17: =IFERROR(E17/$E$23,0) -> 0
A18: =A160 -> 3.1.5. Manutenção/Consumos | E18: =F163 -> 0 | F18: =IFERROR(E18/$E$23,0) -> 0
A19: =A165 -> 3.1.6. Pneus | E19: =F172 -> 0 | F19: =IFERROR(E19/$E$23,0) -> 0
A20: =A176 -> 4. Ferramentas e materiais | E20: =+F187 -> 0 | F20: =IFERROR(E20/$E$23,0) -> 0
A21: =A189 -> 5. Monitoramento da frota | E21: =+F198 -> 0 | F21: =IFERROR(E21/$E$23,0) -> 0
A22: =A202 -> 4. Benefícios e Despesas Indiretas - BDI | E22: =+F208 -> 0 | F22: =IFERROR(E22/$E$23,0) -> 0
A23: PREÇO TOTAL MENSAL COM A COLETA | E23: =E6+E11+E12+E20+E21+E22 -> 0 | F23: =F6+F11+F12+F20+F21+F22 -> 0
A26: Quantitativos
A27: Mão-de-obra | E27: Quantidade
A28: =+A41 -> 1.1. Operador de Máquinas | E28: =C59 -> 1
A29: Operador de Escavadeira Hidráulica
A30: Sindicato de Pav de Obras Correção Salarial | E30: 0
A31: Total de mão-de-obra (postos de trabalho) | E31: =SUM(E28) -> 1
A33: Veículos e Equipamentos | E33: Quantidade
A34: =+A108 -> 3.1. Veículo/Máquina | E34: =C123 -> 1
A37: Fator de utilização (FU) | B37: ='27.Horários'!F17/'27.Horários'!F18 -> 1
A39: 1. Mão-de-obra
A41: 1.1. Operador de Máquinas
A42: Discriminação | B42: Unidade | C42: Quantidade | D42: Custo unitário | E42: Subtotal | F42: Total (R$)
A43: Piso da categoria (2) | B43: mês | C43: 1 | D43: =ROUND((E29*E30)+E29,2) -> 0 | E43: =C43*D43 -> 0
A44: Salário mínimo nacional (1) | B44: mês | C44: 1 | D44: 1100
A45: Adicional Noturno | B45: horas trabalhadas
B46: hora contabilizada | C46: =C45*8/7 -> 0 | D46: =D43/220*0.2 -> 0 | E46: =C45*D46 -> 0
A47: Horas Extras (100%) | B47: hora | D47: =D43/220*2 -> 0 | E47: =C47*D47 -> 0 | G47: Excluir esta linha caso a contratação não tenha previsão de horas extras 100% explícita no edital
A48: Horas Extras Noturnas (100%) | B48: horas trabalhadas | G48: Excluir esta linha caso a contratação não tenha previsão de horas extras noturnas 100% explícita no edital
...

Sheet 4. Caminhão Truck 6x2
A1: Orientações para preenchimento:
A2: 1. Esta planilha é somente um modelo-base, devendo ser adaptada para cada caso concreto.
A3: Qualquer custo previsto no edital e não contemplado nesta planilha deverá ser devidamente incluído.
A4: 2. Antes de preenchê-la, leia com atenção.
A5: 3. Preencher somente células em amarelo
A6: 4. As células azuis deverão ter seus valores preenchidos em outra planilha do arquivo.
A8: O TCE/RS não se responsabiliza pelo uso incorreto desta planilha.
A9: O orçamento deve ser realizado por responsável técnico habilitado e é de responsabilidade do seu autor.
A11: Código 76997 – Serviços de Caminhão Caçamba-Truck 12 m³ – 6x2
A12: Planilha de Composição de Custos
A14: Orçamento Sintético
A15: Descrição do Item | E15: Custo (R$/mês) | F15: %
A16: =A49 -> 1. Mão-de-obra | E16: =+F93 -> 0 | F16: =IFERROR(E16/$E$33,0) -> 0
A17: =A51 -> 1.1. Motorista | E17: =F70 -> 0 | F17: =IFERROR(E17/$E$33,0) -> 0
A18: =A72 -> 1.2. Vale Transporte | E18: =F78 -> 0 | F18: =IFERROR(E18/$E$33,0) -> 0
A19: =A80 -> 1.3. Vale-refeição (mensal) | E19: =F85 -> 0 | F19: =IFERROR(E19/$E$33,0) -> 0
A20: =A87 -> 1.4. Plano de Benefício Social (Seguro de vida) e (Manutenção e Capacitação Profissional ) | E20: =F91 -> 0 | F20: =IFERROR(E20/$E$33,0) -> 0
A21: =A95 -> 2. Uniformes e Equipamentos de Proteção Individual | E21: =+F114 -> 0 | F21: =IFERROR(E21/$E$33,0) -> 0
A22: =A116 -> 3. Veículos e Máquinas | E22: =+F189 -> 0 | F22: =IFERROR(E22/$E$33,0) -> 0
A23: =A118 -> 3.1. Veículo/Máquina | E23: =SUM(E24:E29) -> 0 | F23: =IFERROR(E23/$E$33,0) -> 0
A24: 3.1.1. Depreciação | E24: =F134 -> 0 | F24: =IFERROR(E24/$E$33,0) -> 0
A25: 3.1.2. Remuneração do Capital | E25: =F152 -> 0 | F25: =IFERROR(E25/$E$33,0) -> 0
A26: =A154 -> 3.1.3. Impostos e Seguros | E26: =F162 -> 0 | F26: =IFERROR(E26/$E$33,0) -> 0
A27: =A164 -> 3.1.4. Consumos de óleo diesel | E27: =F173 -> 0 | F27: =IFERROR(E27/$E$33,0) -> 0
A28: =A175 -> 3.1.5. Manutenção/Consumos | E28: =F178 -> 0 | F28: =IFERROR(E28/$E$33,0) -> 0
A29: =A180 -> 3.1.6. Pneus | E29: =F187 -> 0 | F29: =IFERROR(E29/$E$33,0) -> 0
A30: =A191 -> 4. Ferramentas e materiais | E30: =+F202 -> 0 | F30: =IFERROR(E30/$E$33,0) -> 0
A31: =A204 -> 5. Monitoramento da frota | E31: =+F213 -> 0 | F31: =IFERROR(E31/$E$33,0) -> 0
A32: =A217 -> 4. Benefícios e Despesas Indiretas - BDI | E32: =+F223 -> 0 | F32: =IFERROR(E32/$E$33,0) -> 0
A33: PREÇO TOTAL MENSAL COM A COLETA | E33: =E16+E21+E22+E30+E31+E32 -> 0 | F33: =F16+F21+F22+F30+F31+F32 -> 0
A36: Quantitativos
A37: Mão-de-obra | E37: Quantidade
A38: =+A51 -> 1.1. Motorista | E38: =C69 -> 1
A39: Motorista
A40: Sindicato de Pav de Obras Correção Salarial | E40: 0
A41: Total de mão-de-obra (postos de trabalho) | E41: =SUM(E38) -> 1
A43: Veículos e Equipamentos | E43: Quantidade
A44: =+A118 -> 3.1. Veículo/Máquina | E44: =C133 -> 1
A47: Fator de utilização (FU) | B47: ='27.Horários'!F17/'27.Horários'!F18 -> 1
A49: 1. Mão-de-obra
...

Sheet 5. Caminhão Traçado 6x4
A1: Orientações para preenchimento:
A2: 1. Esta planilha é somente um modelo-base, devendo ser adaptada para cada caso concreto.
A3: Qualquer custo previsto no edital e não contemplado nesta planilha deverá ser devidamente incluído.
A4: 2. Antes de preenchê-la, leia com atenção.
A5: 3. Preencher somente células em amarelo
A6: 4. As células azuis deverão ter seus valores preenchidos em outra planilha do arquivo.
A8: O TCE/RS não se responsabiliza pelo uso incorreto desta planilha.
A9: O orçamento deve ser realizado por responsável técnico habilitado e é de responsabilidade do seu autor.
A11: Código 76998 – Serviços de Caminhão Caçamba-Traçado 14 m³ – 6x4
A12: Planilha de Composição de Custos
A14: Orçamento Sintético
A15: Descrição do Item | E15: Custo (R$/mês) | F15: %
A16: =A49 -> 1. Mão-de-obra | E16: =+F93 -> 0 | F16: =IFERROR(E16/$E$33,0) -> 0
A17: =A51 -> 1.1. Motorista | E17: =F70 -> 0 | F17: =IFERROR(E17/$E$33,0) -> 0
A18: =A72 -> 1.2. Vale Transporte | E18: =F78 -> 0 | F18: =IFERROR(E18/$E$33,0) -> 0
A19: =A80 -> 1.3. Vale-refeição (mensal) | E19: =F85 -> 0 | F19: =IFERROR(E19/$E$33,0) -> 0
A20: =A87 -> 1.4. Plano de Benefício Social (Seguro de vida) e (Manutenção e Capacitação Profissional ) | E20: =F91 -> 0 | F20: =IFERROR(E20/$E$33,0) -> 0
A21: =A95 -> 2. Uniformes e Equipamentos de Proteção Individual | E21: =+F114 -> 0 | F21: =IFERROR(E21/$E$33,0) -> 0
A22: =A116 -> 3. Veículos e Máquinas | E22: =+F187 -> 0 | F22: =IFERROR(E22/$E$33,0) -> 0
A23: =A118 -> 3.1. Veículo/Máquina | E23: =SUM(E24:E29) -> 0 | F23: =IFERROR(E23/$E$33,0) -> 0
A24: 3.1.1. Depreciação | E24: =F134 -> 0 | F24: =IFERROR(E24/$E$33,0) -> 0
A25: 3.1.2. Remuneração do Capital | E25: =F152 -> 0 | F25: =IFERROR(E25/$E$33,0) -> 0
A26: =A154 -> 3.1.3. Impostos e Seguros | E26: =F160 -> 0 | F26: =IFERROR(E26/$E$33,0) -> 0
A27: =A162 -> 3.1.4. Consumos de óleo diesel | E27: =F171 -> 0 | F27: =IFERROR(E27/$E$33,0) -> 0
A28: =A173 -> 3.1.5. Manutenção/Consumos | E28: =F176 -> 0 | F28: =IFERROR(E28/$E$33,0) -> 0
A29: =A178 -> 3.1.6. Pneus | E29: =F185 -> 0 | F29: =IFERROR(E29/$E$33,0) -> 0
A30: =A189 -> 4. Ferramentas e materiais | E30: =+F200 -> 0 | F30: =IFERROR(E30/$E$33,0) -> 0
A31: =A202 -> 5. Monitoramento da frota | E31: =+F211 -> 0 | F31: =IFERROR(E31/$E$33,0) -> 0
A32: =A215 -> 4. Benefícios e Despesas Indiretas - BDI | E32: =+F221 -> 0 | F32: =IFERROR(E32/$E$33,0) -> 0
A33: PREÇO TOTAL MENSAL COM A COLETA | E33: =E16+E21+E22+E30+E31+E32 -> 0 | F33: =F16+F21+F22+F30+F31+F32 -> 0
A36: Quantitativos
A37: Mão-de-obra | E37: Quantidade
A38: =+A51 -> 1.1. Motorista | E38: =C69 -> 1
A39: Operador de Escavadeira Hidráulica
A40: Sindicato de Pav de Obras Correção Salarial | E40: 0
A41: Total de mão-de-obra (postos de trabalho) | E41: =SUM(E38) -> 1
A43: Veículos e Equipamentos | E43: Quantidade
A44: =+A118 -> 3.1. Veículo/Máquina | E44: =C133 -> 1
A47: Fator de utilização (FU) | B47: ='27.Horários'!F17/'27.Horários'!F18 -> 1
A49: 1. Mão-de-obra
...

Sheet 6. Guincho com Plataforma Desl
A1: Orientações para preenchimento:
A2: 1. Esta planilha é somente um modelo-base, devendo ser adaptada para cada caso concreto.
A3: Qualquer custo previsto no edital e não contemplado nesta planilha deverá ser devidamente incluído.
A4: 2. Antes de preenchê-la, leia com atenção.
A5: 3. Preencher somente células em amarelo
A6: 4. As células azuis deverão ter seus valores preenchidos em outra planilha do arquivo.
A8: O TCE/RS não se responsabiliza pelo uso incorreto desta planilha.
A9: O orçamento deve ser realizado por responsável técnico habilitado e é de responsabilidade do seu autor.
A11: Código 75644 – Serviços de Caminhão Guincho com Plataforma Deslizante 19 ton
A12: Planilha de Composição de Custos
A14: Orçamento Sintético
A15: Descrição do Item | E15: Custo (R$/mês) | F15: %
A16: =A49 -> 1. Mão-de-obra | E16: =+F93 -> 0 | F16: =IFERROR(E16/$E$33,0) -> 0
A17: =A51 -> 1.1. Motorista | E17: =F70 -> 0 | F17: =IFERROR(E17/$E$33,0) -> 0
A18: =A72 -> 1.2. Vale Transporte | E18: =F78 -> 0 | F18: =IFERROR(E18/$E$33,0) -> 0
A19: =A80 -> 1.3. Vale-refeição (mensal) | E19: =F85 -> 0 | F19: =IFERROR(E19/$E$33,0) -> 0
A20: =A87 -> 1.4. Plano de Benefício Social (Seguro de vida) e (Manutenção e Capacitação Profissional ) | E20: =F91 -> 0 | F20: =IFERROR(E20/$E$33,0) -> 0
A21: =A95 -> 2. Uniformes e Equipamentos de Proteção Individual | E21: =+F114 -> 0 | F21: =IFERROR(E21/$E$33,0) -> 0
A22: =A116 -> 3. Veículos e Máquinas | E22: =+F187 -> 0 | F22: =IFERROR(E22/$E$33,0) -> 0
A23: =A118 -> 3.1. Veículo/Máquina | E23: =SUM(E24:E29) -> 0 | F23: =IFERROR(E23/$E$33,0) -> 0
A24: 3.1.1. Depreciação | E24: =F134 -> 0 | F24: =IFERROR(E24/$E$33,0) -> 0
A25: 3.1.2. Remuneração do Capital | E25: =F152 -> 0 | F25: =IFERROR(E25/$E$33,0) -> 0
A26: =A154 -> 3.1.3. Impostos e Seguros | E26: =F160 -> 0 | F26: =IFERROR(E26/$E$33,0) -> 0
A27: =A162 -> 3.1.4. Consumos de óleo diesel | E27: =F171 -> 0 | F27: =IFERROR(E27/$E$33,0) -> 0
A28: =A173 -> 3.1.5. Manutenção/Consumos | E28: =F176 -> 0 | F28: =IFERROR(E28/$E$33,0) -> 0
A29: =A178 -> 3.1.6. Pneus | E29: =F185 -> 0 | F29: =IFERROR(E29/$E$33,0) -> 0
A30: =A189 -> 4. Ferramentas e materiais | E30: =+F200 -> 0 | F30: =IFERROR(E30/$E$33,0) -> 0
A31: =A202 -> 5. Monitoramento da frota | E31: =+F211 -> 0 | F31: =IFERROR(E31/$E$33,0) -> 0
A32: =A215 -> 4. Benefícios e Despesas Indiretas - BDI | E32: =+F221 -> 0 | F32: =IFERROR(E32/$E$33,0) -> 0
A33: PREÇO TOTAL MENSAL COM A COLETA | E33: =E16+E21+E22+E30+E31+E32 -> 0 | F33: =F16+F21+F22+F30+F31+F32 -> 0
A36: Quantitativos
A37: Mão-de-obra | E37: Quantidade
A38: =+A51 -> 1.1. Motorista | E38: =C69 -> 1
A39: Motorista
A40: Sindicato de Pav de Obras Correção Salarial | E40: 0
A41: Total de mão-de-obra (postos de trabalho) | E41: =SUM(E38) -> 1
A43: Veículos e Equipamentos | E43: Quantidade
A44: =+A118 -> 3.1. Veículo/Máquina | E44: =C133 -> 1
A47: Fator de utilização (FU) | B47: ='27.Horários'!F17/'27.Horários'!F18 -> 1
A49: 1. Mão-de-obra
...

Sheet 7. Retroescavadeira 4x4
A1: Orientações para preenchimento:
A2: 1. Esta planilha é somente um modelo-base, devendo ser adaptada para cada caso concreto.
A3: Qualquer custo previsto no edital e não contemplado nesta planilha deverá ser devidamente incluído.
A4: 2. Antes de preenchê-la, leia com atenção.
A5: 3. Preencher somente células em amarelo
A6: 4. As células azuis deverão ter seus valores preenchidos em outra planilha do arquivo.
A8: O TCE/RS não se responsabiliza pelo uso incorreto desta planilha.
A9: O orçamento deve ser realizado por responsável técnico habilitado e é de responsabilidade do seu autor.
A11: Código 77002 – Serviços de Retro - escavadeira 4 x 4
A12: Planilha de Composição de Custos
A14: Orçamento Sintético
A15: Descrição do Item | E15: Custo (R$/mês) | F15: %
A16: =A49 -> 1. Mão-de-obra | E16: =+F93 -> 0 | F16: =IFERROR(E16/$E$33,0) -> 0
A17: =A51 -> 1.1. Operador de Máquinas | E17: =F70 -> 0 | F17: =IFERROR(E17/$E$33,0) -> 0
A18: =A72 -> 1.2. Vale Transporte | E18: =F78 -> 0 | F18: =IFERROR(E18/$E$33,0) -> 0
A19: =A80 -> 1.3. Vale-refeição (mensal) | E19: =F85 -> 0 | F19: =IFERROR(E19/$E$33,0) -> 0
A20: =A87 -> 1.4. Plano de Benefício Social (Seguro de vida) e (Manutenção e Capacitação Profissional ) | E20: =F91 -> 0 | F20: =IFERROR(E20/$E$33,0) -> 0
A21: =A95 -> 2. Uniformes e Equipamentos de Proteção Individual | E21: =+F114 -> 0 | F21: =IFERROR(E21/$E$33,0) -> 0
A22: =A116 -> 3. Veículos e Máquinas | E22: =+F187 -> 0 | F22: =IFERROR(E22/$E$33,0) -> 0
A23: =A118 -> 3.1. Veículo/Máquina | E23: =SUM(E24:E29) -> 0 | F23: =IFERROR(E23/$E$33,0) -> 0
A24: 3.1.1. Depreciação | E24: =F134 -> 0 | F24: =IFERROR(E24/$E$33,0) -> 0
A25: 3.1.2. Remuneração do Capital | E25: =F152 -> 0 | F25: =IFERROR(E25/$E$33,0) -> 0
A26: =A154 -> 3.1.3. Impostos e Seguros | E26: =F160 -> 0 | F26: =IFERROR(E26/$E$33,0) -> 0
A27: =A162 -> 3.1.4. Consumos de óleo diesel | E27: =F171 -> 0 | F27: =IFERROR(E27/$E$33,0) -> 0
A28: =A173 -> 3.1.5. Manutenção/Consumos | E28: =F176 -> 0 | F28: =IFERROR(E28/$E$33,0) -> 0
A29: =A178 -> 3.1.6. Pneus | E29: =F185 -> 0 | F29: =IFERROR(E29/$E$33,0) -> 0
A30: =A189 -> 4. Ferramentas e materiais | E30: =+F200 -> 0 | F30: =IFERROR(E30/$E$33,0) -> 0
A31: =A202 -> 5. Monitoramento da frota | E31: =+F211 -> 0 | F31: =IFERROR(E31/$E$33,0) -> 0
A32: =A215 -> 4. Benefícios e Despesas Indiretas - BDI | E32: =+F221 -> 0 | F32: =IFERROR(E32/$E$33,0) -> 0
A33: PREÇO TOTAL MENSAL COM A COLETA | E33: =E16+E21+E22+E30+E31+E32 -> 0 | F33: =F16+F21+F22+F30+F31+F32 -> 0
A36: Quantitativos
A37: Mão-de-obra | E37: Quantidade
A38: =+A51 -> 1.1. Operador de Máquinas | E38: =C69 -> 1
A39: Operador de Máquinas
A40: Sindicato de Pav de Obras Correção Salarial | E40: 0
A41: Total de mão-de-obra (postos de trabalho) | E41: =SUM(E38) -> 1
A43: Veículos e Equipamentos | E43: Quantidade
A44: =+A118 -> 3.1. Veículo/Máquina | E44: =C133 -> 1
A47: Fator de utilização (FU) | B47: ='27.Horários'!F17/'27.Horários'!F18 -> 1
A49: 1. Mão-de-obra
...

Sheet 8. Motoniveladora 17
A1: Orientações para preenchimento:
A2: 1. Esta planilha é somente um modelo-base, devendo ser adaptada para cada caso concreto.
A3: Qualquer custo previsto no edital e não contemplado nesta planilha deverá ser devidamente incluído.
A4: 2. Antes de preenchê-la, leia com atenção.
A5: 3. Preencher somente células em amarelo
A6: 4. As células azuis deverão ter seus valores preenchidos em outra planilha do arquivo.
A8: O TCE/RS não se responsabiliza pelo uso incorreto desta planilha.
A9: O orçamento deve ser realizado por responsável técnico habilitado e é de responsabilidade do seu autor.
A11: Código 77003 – Serviços de Motoniveladora
A12: Planilha de Composição de Custos
A14: Orçamento Sintético
A15: Descrição do Item | E15: Custo (R$/mês) | F15: %
A16: =A49 -> 1. Mão-de-obra | E16: =+F93 -> 0 | F16: =IFERROR(E16/$E$33,0) -> 0
A17: =A51 -> 1.1. Operador de Máquinas | E17: =F70 -> 0 | F17: =IFERROR(E17/$E$33,0) -> 0
A18: =A72 -> 1.2. Vale Transporte | E18: =F78 -> 0 | F18: =IFERROR(E18/$E$33,0) -> 0
A19: =A80 -> 1.3. Vale-refeição (mensal) | E19: =F85 -> 0 | F19: =IFERROR(E19/$E$33,0) -> 0
A20: =A87 -> 1.4. Plano de Benefício Social (Seguro de vida) e (Manutenção e Capacitação Profissional ) | E20: =F91 -> 0 | F20: =IFERROR(E20/$E$33,0) -> 0
A21: =A95 -> 2. Uniformes e Equipamentos de Proteção Individual | E21: =+F114 -> 0 | F21: =IFERROR(E21/$E$33,0) -> 0
A22: =A116 -> 3. Veículos e Máquinas | E22: =+F187 -> 0 | F22: =IFERROR(E22/$E$33,0) -> 0
A23: =A118 -> 3.1. Veículo/Máquina | E23: =SUM(E24:E29) -> 0 | F23: =IFERROR(E23/$E$33,0) -> 0
A24: 3.1.1. Depreciação | E24: =F134 -> 0 | F24: =IFERROR(E24/$E$33,0) -> 0
A25: 3.1.2. Remuneração do Capital | E25: =F152 -> 0 | F25: =IFERROR(E25/$E$33,0) -> 0
A26: =A154 -> 3.1.3. Impostos e Seguros | E26: =F160 -> 0 | F26: =IFERROR(E26/$E$33,0) -> 0
A27: =A162 -> 3.1.4. Consumos de óleo diesel | E27: =F171 -> 0 | F27: =IFERROR(E27/$E$33,0) -> 0
A28: =A173 -> 3.1.5. Manutenção/Consumos | E28: =F176 -> 0 | F28: =IFERROR(E28/$E$33,0) -> 0
A29: =A178 -> 3.1.6. Pneus | E29: =F185 -> 0 | F29: =IFERROR(E29/$E$33,0) -> 0
A30: =A189 -> 4. Ferramentas e materiais | E30: =+F200 -> 0 | F30: =IFERROR(E30/$E$33,0) -> 0
A31: =A202 -> 5. Monitoramento da frota | E31: =+F211 -> 0 | F31: =IFERROR(E31/$E$33,0) -> 0
A32: =A215 -> 4. Benefícios e Despesas Indiretas - BDI | E32: =+F221 -> 0 | F32: =IFERROR(E32/$E$33,0) -> 0
A33: PREÇO TOTAL MENSAL COM A COLETA | E33: =E16+E21+E22+E30+E31+E32 -> 0 | F33: =F16+F21+F22+F30+F31+F32 -> 0
A36: Quantitativos
A37: Mão-de-obra | E37: Quantidade
A38: =+A51 -> 1.1. Operador de Máquinas | E38: =C69 -> 1
A39: Operador de Máquinas
A40: Sindicato de Pav de Obras Correção Salarial | E40: 0
A41: Total de mão-de-obra (postos de trabalho) | E41: =SUM(E38) -> 1
A43: Veículos e Equipamentos | E43: Quantidade
A44: =+A118 -> 3.1. Veículo/Máquina | E44: =C133 -> 1
A47: Fator de utilização (FU) | B47: ='27.Horários'!F17/'27.Horários'!F18 -> 1
A49: 1. Mão-de-obra
...

Sheet 9. Trator de Esteira 14
A1: Orientações para preenchimento:
A2: 1. Esta planilha é somente um modelo-base, devendo ser adaptada para cada caso concreto.
A3: Qualquer custo previsto no edital e não contemplado nesta planilha deverá ser devidamente incluído.
A4: 2. Antes de preenchê-la, leia com atenção.
A5: 3. Preencher somente células em amarelo
A6: 4. As células azuis deverão ter seus valores preenchidos em outra planilha do arquivo.
A8: O TCE/RS não se responsabiliza pelo uso incorreto desta planilha.
A9: O orçamento deve ser realizado por responsável técnico habilitado e é de responsabilidade do seu autor.
A11: Código 77004 – Serviços de Trator Esteira 155 HP
A12: ´
A14: Orçamento Sintético
A15: Descrição do Item | E15: Custo (R$/mês) | F15: %
A16: =A49 -> 1. Mão-de-obra | E16: =+F93 -> 0 | F16: =IFERROR(E16/$E$33,0) -> 0
A17: =A51 -> 1.1. Operador de Máquinas | E17: =F70 -> 0 | F17: =IFERROR(E17/$E$33,0) -> 0
A18: =A72 -> 1.2. Vale Transporte | E18: =F78 -> 0 | F18: =IFERROR(E18/$E$33,0) -> 0
A19: =A80 -> 1.3. Vale-refeição (mensal) | E19: =F85 -> 0 | F19: =IFERROR(E19/$E$33,0) -> 0
A20: =A87 -> 1.4. Plano de Benefício Social (Seguro de vida) e (Manutenção e Capacitação Profissional ) | E20: =F91 -> 0 | F20: =IFERROR(E20/$E$33,0) -> 0
A21: =A95 -> 2. Uniformes e Equipamentos de Proteção Individual | E21: =+F114 -> 0 | F21: =IFERROR(E21/$E$33,0) -> 0
A22: =A116 -> 3. Veículos e Máquinas | E22: =+F187 -> 0 | F22: =IFERROR(E22/$E$33,0) -> 0
A23: =A118 -> 3.1. Veículo/Máquina | E23: =SUM(E24:E29) -> 0 | F23: =IFERROR(E23/$E$33,0) -> 0
A24: 3.1.1. Depreciação | E24: =F134 -> 0 | F24: =IFERROR(E24/$E$33,0) -> 0
A25: 3.1.2. Remuneração do Capital | E25: =F152 -> 0 | F25: =IFERROR(E25/$E$33,0) -> 0
A26: =A154 -> 3.1.3. Impostos e Seguros | E26: =F160 -> 0 | F26: =IFERROR(E26/$E$33,0) -> 0
A27: =A162 -> 3.1.4. Consumos de óleo diesel | E27: =F171 -> 0 | F27: =IFERROR(E27/$E$33,0) -> 0
A28: =A173 -> 3.1.5. Manutenção/Consumos | E28: =F176 -> 0 | F28: =IFERROR(E28/$E$33,0) -> 0
A29: =A178 -> 3.1.6. Pneus | E29: =F185 -> 0 | F29: =IFERROR(E29/$E$33,0) -> 0
A30: =A189 -> 4. Ferramentas e materiais | E30: =+F200 -> 0 | F30: =IFERROR(E30/$E$33,0) -> 0
A31: =A202 -> 5. Monitoramento da frota | E31: =+F211 -> 0 | F31: =IFERROR(E31/$E$33,0) -> 0
A32: =A215 -> 4. Benefícios e Despesas Indiretas - BDI | E32: =+F221 -> 0 | F32: =IFERROR(E32/$E$33,0) -> 0
A33: PREÇO TOTAL MENSAL COM A COLETA | E33: =E16+E21+E22+E30+E31+E32 -> 0 | F33: =F16+F21+F22+F30+F31+F32 -> 0
A36: Quantitativos
A37: Mão-de-obra | E37: Quantidade
A38: =+A51 -> 1.1. Operador de Máquinas | E38: =C69 -> 1
A39: Operador de Máquinas
A40: Sindicato de Pav de Obras Correção Salarial | E40: 0
A41: Total de mão-de-obra (postos de trabalho) | E41: =SUM(E38) -> 1
A43: Veículos e Equipamentos | E43: Quantidade
A44: =+A118 -> 3.1. Veículo/Máquina | E44: =C133 -> 1
A47: Fator de utilização (FU) | B47: ='27.Horários'!F17/'27.Horários'!F18 -> 1
A49: 1. Mão-de-obra
...

Sheet 10. Trator de Esteira 19
A1: Orientações para preenchimento:
A2: 1. Esta planilha é somente um modelo-base, devendo ser adaptada para cada caso concreto.
A3: Qualquer custo previsto no edital e não contemplado nesta planilha deverá ser devidamente incluído.
A4: 2. Antes de preenchê-la, leia com atenção.
A5: 3. Preencher somente células em amarelo
A6: 4. As células azuis deverão ter seus valores preenchidos em outra planilha do arquivo.
A8: O TCE/RS não se responsabiliza pelo uso incorreto desta planilha.
A9: O orçamento deve ser realizado por responsável técnico habilitado e é de responsabilidade do seu autor.
A11: Código 77005 – Serviços de Trator Esteira 168 HP
A12: Planilha de Composição de Custos
A14: Orçamento Sintético
A15: Descrição do Item | E15: Custo (R$/mês) | F15: %
A16: =A49 -> 1. Mão-de-obra | E16: =+F93 -> 0 | F16: =IFERROR(E16/$E$33,0) -> 0
A17: =A51 -> 1.1. Operador de Máquinas | E17: =F70 -> 0 | F17: =IFERROR(E17/$E$33,0) -> 0
A18: =A72 -> 1.2. Vale Transporte | E18: =F78 -> 0 | F18: =IFERROR(E18/$E$33,0) -> 0
A19: =A80 -> 1.3. Vale-refeição (mensal) | E19: =F85 -> 0 | F19: =IFERROR(E19/$E$33,0) -> 0
A20: =A87 -> 1.4. Plano de Benefício Social (Seguro de vida) e (Manutenção e Capacitação Profissional ) | E20: =F91 -> 0 | F20: =IFERROR(E20/$E$33,0) -> 0
A21: =A95 -> 2. Uniformes e Equipamentos de Proteção Individual | E21: =+F114 -> 0 | F21: =IFERROR(E21/$E$33,0) -> 0
A22: =A116 -> 3. Veículos e Máquinas | E22: =+F187 -> 0 | F22: =IFERROR(E22/$E$33,0) -> 0
A23: =A118 -> 3.1. Veículo/Máquina | E23: =SUM(E24:E29) -> 0 | F23: =IFERROR(E23/$E$33,0) -> 0
A24: 3.1.1. Depreciação | E24: =F134 -> 0 | F24: =IFERROR(E24/$E$33,0) -> 0
A25: 3.1.2. Remuneração do Capital | E25: =F152 -> 0 | F25: =IFERROR(E25/$E$33,0) -> 0
A26: =A154 -> 3.1.3. Impostos e Seguros | E26: =F160 -> 0 | F26: =IFERROR(E26/$E$33,0) -> 0
A27: =A162 -> 3.1.4. Consumos de óleo diesel | E27: =F171 -> 0 | F27: =IFERROR(E27/$E$33,0) -> 0
A28: =A173 -> 3.1.5. Manutenção/Consumos | E28: =F176 -> 0 | F28: =IFERROR(E28/$E$33,0) -> 0
A29: =A178 -> 3.1.6. Pneus | E29: =F185 -> 0 | F29: =IFERROR(E29/$E$33,0) -> 0
A30: =A189 -> 4. Ferramentas e materiais | E30: =+F200 -> 0 | F30: =IFERROR(E30/$E$33,0) -> 0
A31: =A202 -> 5. Monitoramento da frota | E31: =+F211 -> 0 | F31: =IFERROR(E31/$E$33,0) -> 0
A32: =A215 -> 4. Benefícios e Despesas Indiretas - BDI | E32: =+F221 -> 0 | F32: =IFERROR(E32/$E$33,0) -> 0
A33: PREÇO TOTAL MENSAL COM A COLETA | E33: =E16+E21+E22+E30+E31+E32 -> 0 | F33: =F16+F21+F22+F30+F31+F32 -> 0
A36: Quantitativos
A37: Mão-de-obra | E37: Quantidade
A38: =+A51 -> 1.1. Operador de Máquinas | E38: =C69 -> 1
A39: Operador de Máquinas
A40: Sindicato de Pav de Obras Correção Salarial | E40: 0
A41: Total de mão-de-obra (postos de trabalho) | E41: =SUM(E38) -> 1
A43: Veículos e Equipamentos | E43: Quantidade
A44: =+A118 -> 3.1. Veículo/Máquina | E44: =C133 -> 1
A47: Fator de utilização (FU) | B47: ='27.Horários'!F17/'27.Horários'!F18 -> 1
A49: 1. Mão-de-obra
...

Sheet 11. Caminhão Içamento S Platafo
A1: Orientações para preenchimento:
A2: 1. Esta planilha é somente um modelo-base, devendo ser adaptada para cada caso concreto.
A3: Qualquer custo previsto no edital e não contemplado nesta planilha deverá ser devidamente incluído.
A4: 2. Antes de preenchê-la, leia com atenção.
A5: 3. Preencher somente células em amarelo
A6: 4. As células azuis deverão ter seus valores preenchidos em outra planilha do arquivo.
A8: O TCE/RS não se responsabiliza pelo uso incorreto desta planilha.
A9: O orçamento deve ser realizado por responsável técnico habilitado e é de responsabilidade do seu autor.
A11: Código 77006 – Serviços de Caminhão Içamento S/ Plataforma
A12: Planilha de Composição de Custos
A14: Orçamento Sintético
A15: Descrição do Item | E15: Custo (R$/mês) | F15: %
A16: =A49 -> 1. Mão-de-obra | E16: =+F93 -> 0 | F16: =IFERROR(E16/$E$33,0) -> 0
A17: =A51 -> 1.1. Operador | E17: =F70 -> 0 | F17: =IFERROR(E17/$E$33,0) -> 0
A18: =A72 -> 1.2. Vale Transporte | E18: =F78 -> 0 | F18: =IFERROR(E18/$E$33,0) -> 0
A19: =A80 -> 1.3. Vale-refeição (mensal) | E19: =F85 -> 0 | F19: =IFERROR(E19/$E$33,0) -> 0
A20: =A87 -> 1.4. Plano de Benefício Social (Seguro de vida) e (Manutenção e Capacitação Profissional ) | E20: =F91 -> 0 | F20: =IFERROR(E20/$E$33,0) -> 0
A21: =A95 -> 2. Uniformes e Equipamentos de Proteção Individual | E21: =+F114 -> 0 | F21: =IFERROR(E21/$E$33,0) -> 0
A22: =A116 -> 3. Veículos e Máquinas | E22: =+F187 -> 0 | F22: =IFERROR(E22/$E$33,0) -> 0
A23: =A118 -> 3.1. Veículo/Máquina | E23: =SUM(E24:E29) -> 0 | F23: =IFERROR(E23/$E$33,0) -> 0
A24: 3.1.1. Depreciação | E24: =F134 -> 0 | F24: =IFERROR(E24/$E$33,0) -> 0
A25: 3.1.2. Remuneração do Capital | E25: =F152 -> 0 | F25: =IFERROR(E25/$E$33,0) -> 0
A26: =A154 -> 3.1.3. Impostos e Seguros | E26: =F160 -> 0 | F26: =IFERROR(E26/$E$33,0) -> 0
A27: =A162 -> 3.1.4. Consumos de óleo diesel | E27: =F171 -> 0 | F27: =IFERROR(E27/$E$33,0) -> 0
A28: =A173 -> 3.1.5. Manutenção/Consumos | E28: =F176 -> 0 | F28: =IFERROR(E28/$E$33,0) -> 0
A29: =A178 -> 3.1.6. Pneus | E29: =F185 -> 0 | F29: =IFERROR(E29/$E$33,0) -> 0
A30: =A189 -> 4. Ferramentas e materiais | E30: =+F200 -> 0 | F30: =IFERROR(E30/$E$33,0) -> 0
A31: =A202 -> 5. Monitoramento da frota | E31: =+F211 -> 0 | F31: =IFERROR(E31/$E$33,0) -> 0
A32: =A215 -> 4. Benefícios e Despesas Indiretas - BDI | E32: =+F221 -> 0 | F32: =IFERROR(E32/$E$33,0) -> 0
A33: PREÇO TOTAL MENSAL COM A COLETA | E33: =E16+E21+E22+E30+E31+E32 -> 0 | F33: =F16+F21+F22+F30+F31+F32 -> 0
A36: Quantitativos
A37: Mão-de-obra | E37: Quantidade
A38: =+A51 -> 1.1. Operador | E38: =C69 -> 1
A39: Motorista
A40: Sindicato de Pav de Obras Correção Salarial | E40: 0
A41: Total de mão-de-obra (postos de trabalho) | E41: =SUM(E38) -> 1
A43: Veículos e Equipamentos | E43: Quantidade
A44: =+A118 -> 3.1. Veículo/Máquina | E44: =C133 -> 1
A47: Fator de utilização (FU) | B47: ='27.Horários'!F17/'27.Horários'!F18 -> 1
A49: 1. Mão-de-obra
...

Sheet 12. Caminhão Guindaste
A1: Orientações para preenchimento:
A2: 1. Esta planilha é somente um modelo-base, devendo ser adaptada para cada caso concreto.
A3: Qualquer custo previsto no edital e não contemplado nesta planilha deverá ser devidamente incluído.
A4: 2. Antes de preenchê-la, leia com atenção.
A5: 3. Preencher somente células em amarelo
A6: 4. As células azuis deverão ter seus valores preenchidos em outra planilha do arquivo.
A8: O TCE/RS não se responsabiliza pelo uso incorreto desta planilha.
A9: O orçamento deve ser realizado por responsável técnico habilitado e é de responsabilidade do seu autor.
A11: Código 77007 – Serviços de Caminhão Guindaste Mín 12 Ton.
A12: Planilha de Composição de Custos
A14: Orçamento Sintético
A15: Descrição do Item | E15: Custo (R$/mês) | F15: %
A16: =A49 -> 1. Mão-de-obra | E16: =+F93 -> 0 | F16: =IFERROR(E16/$E$33,0) -> 0
A17: =A51 -> 1.1. Operador | E17: =F70 -> 0 | F17: =IFERROR(E17/$E$33,0) -> 0
A18: =A72 -> 1.2. Vale Transporte | E18: =F78 -> 0 | F18: =IFERROR(E18/$E$33,0) -> 0
A19: =A80 -> 1.3. Vale-refeição (mensal) | E19: =F85 -> 0 | F19: =IFERROR(E19/$E$33,0) -> 0
A20: =A87 -> 1.4. Plano de Benefício Social (Seguro de vida) e (Manutenção e Capacitação Profissional ) | E20: =F91 -> 0 | F20: =IFERROR(E20/$E$33,0) -> 0
A21: =A95 -> 2. Uniformes e Equipamentos de Proteção Individual | E21: =+F114 -> 0 | F21: =IFERROR(E21/$E$33,0) -> 0
A22: =A116 -> 3. Veículos e Máquinas | E22: =+F187 -> 0 | F22: =IFERROR(E22/$E$33,0) -> 0
A23: =A118 -> 3.1. Veículo/Máquina | E23: =SUM(E24:E29) -> 0 | F23: =IFERROR(E23/$E$33,0) -> 0
A24: 3.1.1. Depreciação | E24: =F134 -> 0 | F24: =IFERROR(E24/$E$33,0) -> 0
A25: 3.1.2. Remuneração do Capital | E25: =F152 -> 0 | F25: =IFERROR(E25/$E$33,0) -> 0
A26: =A154 -> 3.1.3. Impostos e Seguros | E26: =F160 -> 0 | F26: =IFERROR(E26/$E$33,0) -> 0
A27: =A162 -> 3.1.4. Consumos de óleo diesel | E27: =F171 -> 0 | F27: =IFERROR(E27/$E$33,0) -> 0
A28: =A173 -> 3.1.5. Manutenção/Consumos | E28: =F176 -> 0 | F28: =IFERROR(E28/$E$33,0) -> 0
A29: =A178 -> 3.1.6. Pneus | E29: =F185 -> 0 | F29: =IFERROR(E29/$E$33,0) -> 0
A30: =A189 -> 4. Ferramentas e materiais | E30: =+F200 -> 0 | F30: =IFERROR(E30/$E$33,0) -> 0
A31: =A202 -> 5. Monitoramento da frota | E31: =+F211 -> 0 | F31: =IFERROR(E31/$E$33,0) -> 0
A32: =A215 -> 4. Benefícios e Despesas Indiretas - BDI | E32: =+F221 -> 0 | F32: =IFERROR(E32/$E$33,0) -> 0
A33: PREÇO TOTAL MENSAL COM A COLETA | E33: =E16+E21+E22+E30+E31+E32 -> 0 | F33: =F16+F21+F22+F30+F31+F32 -> 0
A36: Quantitativos
A37: Mão-de-obra | E37: Quantidade
A38: =+A51 -> 1.1. Operador | E38: =C69 -> 1
A39: Motorista
A40: Sindicato de Pav de Obras Correção Salarial | E40: 0
A41: Total de mão-de-obra (postos de trabalho) | E41: =SUM(E38) -> 1
A43: Veículos e Equipamentos | E43: Quantidade
A44: =+A118 -> 3.1. Veículo/Máquina | E44: =C133 -> 1
A47: Fator de utilização (FU) | B47: 1
A49: 1. Mão-de-obra
...

Sheet 13. Guincho com Plataforma Desl
A1: Orientações para preenchimento:
A2: 1. Esta planilha é somente um modelo-base, devendo ser adaptada para cada caso concreto.
A3: Qualquer custo previsto no edital e não contemplado nesta planilha deverá ser devidamente incluído.
A4: 2. Antes de preenchê-la, leia com atenção.
A5: 3. Preencher somente células em amarelo
A6: 4. As células azuis deverão ter seus valores preenchidos em outra planilha do arquivo.
A8: O TCE/RS não se responsabiliza pelo uso incorreto desta planilha.
A9: O orçamento deve ser realizado por responsável técnico habilitado e é de responsabilidade do seu autor.
A11: Código 77008 – Serviços de Caminhão Guincho com Plataforma Deslizante 10 ton
A12: Planilha de Composição de Custos
A14: Orçamento Sintético
A15: Descrição do Item | E15: Custo (R$/mês) | F15: %
A16: =A49 -> 1. Mão-de-obra | E16: =+F93 -> 0 | F16: =IFERROR(E16/$E$33,0) -> 0
A17: =A51 -> 1.1. Motorista | E17: =F70 -> 0 | F17: =IFERROR(E17/$E$33,0) -> 0
A18: =A72 -> 1.2. Vale Transporte | E18: =F78 -> 0 | F18: =IFERROR(E18/$E$33,0) -> 0
A19: =A80 -> 1.3. Vale-refeição (mensal) | E19: =F85 -> 0 | F19: =IFERROR(E19/$E$33,0) -> 0
A20: =A87 -> 1.4. Plano de Benefício Social (Seguro de vida) e (Manutenção e Capacitação Profissional ) | E20: =F91 -> 0 | F20: =IFERROR(E20/$E$33,0) -> 0
A21: =A95 -> 2. Uniformes e Equipamentos de Proteção Individual | E21: =+F114 -> 0 | F21: =IFERROR(E21/$E$33,0) -> 0
A22: =A116 -> 3. Veículos e Máquinas | E22: =+F187 -> 0 | F22: =IFERROR(E22/$E$33,0) -> 0
A23: =A118 -> 3.1. Veículo/Máquina | E23: =SUM(E24:E29) -> 0 | F23: =IFERROR(E23/$E$33,0) -> 0
A24: 3.1.1. Depreciação | E24: =F134 -> 0 | F24: =IFERROR(E24/$E$33,0) -> 0
A25: 3.1.2. Remuneração do Capital | E25: =F152 -> 0 | F25: =IFERROR(E25/$E$33,0) -> 0
A26: =A154 -> 3.1.3. Impostos e Seguros | E26: =F160 -> 0 | F26: =IFERROR(E26/$E$33,0) -> 0
A27: =A162 -> 3.1.4. Consumos de óleo diesel | E27: =F171 -> 0 | F27: =IFERROR(E27/$E$33,0) -> 0
A28: =A173 -> 3.1.5. Manutenção/Consumos | E28: =F176 -> 0 | F28: =IFERROR(E28/$E$33,0) -> 0
A29: =A178 -> 3.1.6. Pneus | E29: =F185 -> 0 | F29: =IFERROR(E29/$E$33,0) -> 0
A30: =A189 -> 4. Ferramentas e materiais | E30: =+F200 -> 0 | F30: =IFERROR(E30/$E$33,0) -> 0
A31: =A202 -> 5. Monitoramento da frota | E31: =+F211 -> 0 | F31: =IFERROR(E31/$E$33,0) -> 0
A32: =A215 -> 4. Benefícios e Despesas Indiretas - BDI | E32: =+F221 -> 0 | F32: =IFERROR(E32/$E$33,0) -> 0
A33: PREÇO TOTAL MENSAL COM A COLETA | E33: =E16+E21+E22+E30+E31+E32 -> 0 | F33: =F16+F21+F22+F30+F31+F32 -> 0
A36: Quantitativos
A37: Mão-de-obra | E37: Quantidade
A38: =+A51 -> 1.1. Motorista | E38: =C69 -> 1
A39: Motorista
A40: Sindicato de Pav de Obras Correção Salarial | E40: 0
A41: Total de mão-de-obra (postos de trabalho) | E41: =SUM(E38) -> 1
A43: Veículos e Equipamentos | E43: Quantidade
A44: =+A118 -> 3.1. Veículo/Máquina | E44: =C133 -> 1
A47: Fator de utilização (FU) | B47: ='27.Horários'!F17/'27.Horários'!F18 -> 1
A49: 1. Mão-de-obra
...

Sheet 14. Carreta Prancha
A1: Orientações para preenchimento:
A2: 1. Esta planilha é somente um modelo-base, devendo ser adaptada para cada caso concreto.
A3: Qualquer custo previsto no edital e não contemplado nesta planilha deverá ser devidamente incluído.
A4: 2. Antes de preenchê-la, leia com atenção.
A5: 3. Preencher somente células em amarelo
A6: 4. As células azuis deverão ter seus valores preenchidos em outra planilha do arquivo.
A8: O TCE/RS não se responsabiliza pelo uso incorreto desta planilha.
A9: O orçamento deve ser realizado por responsável técnico habilitado e é de responsabilidade do seu autor.
A11: Código 77009 - Serviços de Carreta Prancha
A12: Planilha de Composição de Custos
A14: Orçamento Sintético
A15: Descrição do Item | E15: Custo (R$/mês) | F15: %
A16: =A49 -> 1. Mão-de-obra | E16: =+F93 -> 0 | F16: =IFERROR(E16/$E$33,0) -> 0
A17: =A51 -> 1.1. Operador | E17: =F70 -> 0 | F17: =IFERROR(E17/$E$33,0) -> 0
A18: =A72 -> 1.2. Vale Transporte | E18: =F78 -> 0 | F18: =IFERROR(E18/$E$33,0) -> 0
A19: =A80 -> 1.3. Vale-refeição (mensal) | E19: =F85 -> 0 | F19: =IFERROR(E19/$E$33,0) -> 0
A20: =A87 -> 1.4. Plano de Benefício Social (Seguro de vida) e (Manutenção e Capacitação Profissional ) | E20: =F91 -> 0 | F20: =IFERROR(E20/$E$33,0) -> 0
A21: =A95 -> 2. Uniformes e Equipamentos de Proteção Individual | E21: =+F114 -> 0 | F21: =IFERROR(E21/$E$33,0) -> 0
A22: =A116 -> 3. Veículos e Máquinas | E22: =+F187 -> 0 | F22: =IFERROR(E22/$E$33,0) -> 0
A23: =A118 -> 3.1. Veículo/Máquina | E23: =SUM(E24:E29) -> 0 | F23: =IFERROR(E23/$E$33,0) -> 0
A24: 3.1.1. Depreciação | E24: =F134 -> 0 | F24: =IFERROR(E24/$E$33,0) -> 0
A25: 3.1.2. Remuneração do Capital | E25: =F152 -> 0 | F25: =IFERROR(E25/$E$33,0) -> 0
A26: =A154 -> 3.1.3. Impostos e Seguros | E26: =F160 -> 0 | F26: =IFERROR(E26/$E$33,0) -> 0
A27: =A162 -> 3.1.4. Consumos de óleo diesel | E27: =F171 -> 0 | F27: =IFERROR(E27/$E$33,0) -> 0
A28: =A173 -> 3.1.5. Manutenção/Consumos | E28: =F176 -> 0 | F28: =IFERROR(E28/$E$33,0) -> 0
A29: =A178 -> 3.1.6. Pneus | E29: =F185 -> 0 | F29: =IFERROR(E29/$E$33,0) -> 0
A30: =A189 -> 4. Ferramentas e materiais | E30: =+F200 -> 0 | F30: =IFERROR(E30/$E$33,0) -> 0
A31: =A202 -> 5. Monitoramento da frota | E31: =+F211 -> 0 | F31: =IFERROR(E31/$E$33,0) -> 0
A32: =A215 -> 4. Benefícios e Despesas Indiretas - BDI | E32: =+F221 -> 0 | F32: =IFERROR(E32/$E$33,0) -> 0
A33: PREÇO TOTAL MENSAL COM A COLETA | E33: =E16+E21+E22+E30+E31+E32 -> 0 | F33: =F16+F21+F22+F30+F31+F32 -> 0
A36: Quantitativos
A37: Mão-de-obra | E37: Quantidade
A38: =+A51 -> 1.1. Operador | E38: =C69 -> 1
A39: Motorista
A40: Sindicato de Pav de Obras Correção Salarial | E40: 0
A41: Total de mão-de-obra (postos de trabalho) | E41: =SUM(E38) -> 1
A43: Veículos e Equipamentos | E43: Quantidade
A44: =+A118 -> 3.1. Veículo/Máquina | E44: =C133 -> 1
A47: Fator de utilização (FU) | B47: ='27.Horários'!F17/'27.Horários'!F18 -> 1
A49: 1. Mão-de-obra
...

Sheet 15. Moto Scraper 
A1: Orientações para preenchimento:
A2: 1. Esta planilha é somente um modelo-base, devendo ser adaptada para cada caso concreto.
A3: Qualquer custo previsto no edital e não contemplado nesta planilha deverá ser devidamente incluído.
A4: 2. Antes de preenchê-la, leia com atenção.
A5: 3. Preencher somente células em amarelo
A6: 4. As células azuis deverão ter seus valores preenchidos em outra planilha do arquivo.
A8: O TCE/RS não se responsabiliza pelo uso incorreto desta planilha.
A9: O orçamento deve ser realizado por responsável técnico habilitado e é de responsabilidade do seu autor.
A11: Código 77010 – Serviços de Moto-Scraper com Trator
A12: Planilha de Composição de Custos
A14: Orçamento Sintético
A15: Descrição do Item | E15: Custo (R$/mês) | F15: %
A16: =A49 -> 1. Mão-de-obra | E16: =+F93 -> 0 | F16: =IFERROR(E16/$E$33,0) -> 0
A17: =A51 -> 1.1. Operador | E17: =F70 -> 0 | F17: =IFERROR(E17/$E$33,0) -> 0
A18: =A72 -> 1.2. Vale Transporte | E18: =F78 -> 0 | F18: =IFERROR(E18/$E$33,0) -> 0
A19: =A80 -> 1.3. Vale-refeição (mensal) | E19: =F85 -> 0 | F19: =IFERROR(E19/$E$33,0) -> 0
A20: =A87 -> 1.4. Plano de Benefício Social (Seguro de vida) e (Manutenção e Capacitação Profissional ) | E20: =F91 -> 0 | F20: =IFERROR(E20/$E$33,0) -> 0
A21: =A95 -> 2. Uniformes e Equipamentos de Proteção Individual | E21: =+F114 -> 0 | F21: =IFERROR(E21/$E$33,0) -> 0
A22: =A116 -> 3. Veículos e Máquinas | E22: =+F187 -> 0 | F22: =IFERROR(E22/$E$33,0) -> 0
A23: =A118 -> 3.1. Veículo/Máquina | E23: =SUM(E24:E29) -> 0 | F23: =IFERROR(E23/$E$33,0) -> 0
A24: 3.1.1. Depreciação | E24: =F134 -> 0 | F24: =IFERROR(E24/$E$33,0) -> 0
A25: 3.1.2. Remuneração do Capital | E25: =F152 -> 0 | F25: =IFERROR(E25/$E$33,0) -> 0
A26: =A154 -> 3.1.3. Impostos e Seguros | E26: =F160 -> 0 | F26: =IFERROR(E26/$E$33,0) -> 0
A27: =A162 -> 3.1.4. Consumos de óleo diesel | E27: =F171 -> 0 | F27: =IFERROR(E27/$E$33,0) -> 0
A28: =A173 -> 3.1.5. Manutenção/Consumos | E28: =F176 -> 0 | F28: =IFERROR(E28/$E$33,0) -> 0
A29: =A178 -> 3.1.6. Pneus | E29: =F185 -> 0 | F29: =IFERROR(E29/$E$33,0) -> 0
A30: =A189 -> 4. Ferramentas e materiais | E30: =+F200 -> 0 | F30: =IFERROR(E30/$E$33,0) -> 0
A31: =A202 -> 5. Monitoramento da frota | E31: =+F211 -> 0 | F31: =IFERROR(E31/$E$33,0) -> 0
A32: =A215 -> 4. Benefícios e Despesas Indiretas - BDI | E32: =+F221 -> 0 | F32: =IFERROR(E32/$E$33,0) -> 0
A33: PREÇO TOTAL MENSAL COM A COLETA | E33: =E16+E21+E22+E30+E31+E32 -> 0 | F33: =F16+F21+F22+F30+F31+F32 -> 0
A36: Quantitativos
A37: Mão-de-obra | E37: Quantidade
A38: =+A51 -> 1.1. Operador | E38: =C69 -> 1
A39: Motorista
A40: Sindicato de Pav de Obras Correção Salarial | E40: 0
A41: Total de mão-de-obra (postos de trabalho) | E41: =SUM(E38) -> 1
A43: Veículos e Equipamentos | E43: Quantidade
A44: =+A118 -> 3.1. Veículo/Máquina | E44: =C133 -> 1
A47: Fator de utilização (FU) | B47: ='27.Horários'!F17/'27.Horários'!F18 -> 1
A49: 1. Mão-de-obra
...

Sheet 16. Máquina Rolo com espargidor
A1: Orientações para preenchimento:
A2: 1. Esta planilha é somente um modelo-base, devendo ser adaptada para cada caso concreto.
A3: Qualquer custo previsto no edital e não contemplado nesta planilha deverá ser devidamente incluído.
A4: 2. Antes de preenchê-la, leia com atenção.
A5: 3. Preencher somente células em amarelo
A6: 4. As células azuis deverão ter seus valores preenchidos em outra planilha do arquivo.
A8: O TCE/RS não se responsabiliza pelo uso incorreto desta planilha.
A9: O orçamento deve ser realizado por responsável técnico habilitado e é de responsabilidade do seu autor.
A11: Código 77011 – Serviços de Máquina Rolo com Espargidor
A12: Planilha de Composição de Custos
A14: Orçamento Sintético
A15: Descrição do Item | E15: Custo (R$/mês) | F15: %
A16: =A49 -> 1. Mão-de-obra | E16: =+F93 -> 0 | F16: =IFERROR(E16/$E$33,0) -> 0
A17: =A51 -> 1.1. Operador de Máquinas | E17: =F70 -> 0 | F17: =IFERROR(E17/$E$33,0) -> 0
A18: =A72 -> 1.2. Vale Transporte | E18: =F78 -> 0 | F18: =IFERROR(E18/$E$33,0) -> 0
A19: =A80 -> 1.3. Vale-refeição (mensal) | E19: =F85 -> 0 | F19: =IFERROR(E19/$E$33,0) -> 0
A20: =A87 -> 1.4. Plano de Benefício Social (Seguro de vida) e (Manutenção e Capacitação Profissional ) | E20: =F91 -> 0 | F20: =IFERROR(E20/$E$33,0) -> 0
A21: =A95 -> 2. Uniformes e Equipamentos de Proteção Individual | E21: =+F114 -> 0 | F21: =IFERROR(E21/$E$33,0) -> 0
A22: =A116 -> 3. Veículos e Máquinas | E22: =+F188 -> 0 | F22: =IFERROR(E22/$E$33,0) -> 0
A23: =A118 -> 3.1. Veículo/Máquina | E23: =SUM(E24:E29) -> 0 | F23: =IFERROR(E23/$E$33,0) -> 0
A24: 3.1.1. Depreciação | E24: =F134 -> 0 | F24: =IFERROR(E24/$E$33,0) -> 0
A25: 3.1.2. Remuneração do Capital | E25: =F152 -> 0 | F25: =IFERROR(E25/$E$33,0) -> 0
A26: =A154 -> 3.1.3. Impostos e Seguros | E26: =F162 -> 0 | F26: =IFERROR(E26/$E$33,0) -> 0
A27: =A164 -> 3.1.4. Consumos de óleo diesel | E27: =F172 -> 0 | F27: =IFERROR(E27/$E$33,0) -> 0
A28: =A174 -> 3.1.5. Manutenção/Consumos | E28: =F177 -> 0 | F28: =IFERROR(E28/$E$33,0) -> 0
A29: =A179 -> 3.1.6. Pneus | E29: =F186 -> 0 | F29: =IFERROR(E29/$E$33,0) -> 0
A30: =A190 -> 4. Ferramentas e materiais | E30: =+F201 -> 0 | F30: =IFERROR(E30/$E$33,0) -> 0
A31: =A203 -> 5. Monitoramento da frota | E31: =+F212 -> 0 | F31: =IFERROR(E31/$E$33,0) -> 0
A32: =A216 -> 4. Benefícios e Despesas Indiretas - BDI | E32: =+F222 -> 0 | F32: =IFERROR(E32/$E$33,0) -> 0
A33: PREÇO TOTAL MENSAL COM A COLETA | E33: =E16+E21+E22+E30+E31+E32 -> 0 | F33: =F16+F21+F22+F30+F31+F32 -> 0
A36: Quantitativos
A37: Mão-de-obra | E37: Quantidade
A38: =+A51 -> 1.1. Operador de Máquinas | E38: =C69 -> 1
A39: Operador de Máquinas
A40: Sindicato de Pav de Obras Correção Salarial | E40: 0
A41: Total de mão-de-obra (postos de trabalho) | E41: =SUM(E38) -> 1
A43: Veículos e Equipamentos | E43: Quantidade
A44: =+A118 -> 3.1. Veículo/Máquina | E44: =C133 -> 1
A47: Fator de utilização (FU) | B47: ='27.Horários'!F17/'27.Horários'!F18 -> 1
A49: 1. Mão-de-obra
...

Sheet 17. Rolo Compac. Vibratório
A1: Orientações para preenchimento:
A2: 1. Esta planilha é somente um modelo-base, devendo ser adaptada para cada caso concreto.
A3: Qualquer custo previsto no edital e não contemplado nesta planilha deverá ser devidamente incluído.
A4: 2. Antes de preenchê-la, leia com atenção.
A5: 3. Preencher somente células em amarelo
A6: 4. As células azuis deverão ter seus valores preenchidos em outra planilha do arquivo.
A8: O TCE/RS não se responsabiliza pelo uso incorreto desta planilha.
A9: O orçamento deve ser realizado por responsável técnico habilitado e é de responsabilidade do seu autor.
A11: Código 77012 – Serviços de Rolo Compactador Vibratório
A12: Planilha de Composição de Custos
A14: Orçamento Sintético
A15: Descrição do Item | E15: Custo (R$/mês) | F15: %
A16: =A49 -> 1. Mão-de-obra | E16: =+F93 -> 0 | F16: =IFERROR(E16/$E$33,0) -> 0
A17: =A51 -> 1.1. Operador de Máquinas | E17: =F70 -> 0 | F17: =IFERROR(E17/$E$33,0) -> 0
A18: =A72 -> 1.2. Vale Transporte | E18: =F78 -> 0 | F18: =IFERROR(E18/$E$33,0) -> 0
A19: =A80 -> 1.3. Vale-refeição (mensal) | E19: =F85 -> 0 | F19: =IFERROR(E19/$E$33,0) -> 0
A20: =A87 -> 1.4. Plano de Benefício Social (Seguro de vida) e (Manutenção e Capacitação Profissional ) | E20: =F91 -> 0 | F20: =IFERROR(E20/$E$33,0) -> 0
A21: =A95 -> 2. Uniformes e Equipamentos de Proteção Individual | E21: =+F114 -> 0 | F21: =IFERROR(E21/$E$33,0) -> 0
A22: =A116 -> 3. Veículos e Máquinas | E22: =+F186 -> 0 | F22: =IFERROR(E22/$E$33,0) -> 0
A23: =A118 -> 3.1. Veículo/Máquina | E23: =SUM(E24:E29) -> 0 | F23: =IFERROR(E23/$E$33,0) -> 0
A24: 3.1.1. Depreciação | E24: =F134 -> 0 | F24: =IFERROR(E24/$E$33,0) -> 0
A25: 3.1.2. Remuneração do Capital | E25: =F152 -> 0 | F25: =IFERROR(E25/$E$33,0) -> 0
A26: =A154 -> 3.1.3. Impostos e Seguros | E26: =F160 -> 0 | F26: =IFERROR(E26/$E$33,0) -> 0
A27: =A162 -> 3.1.4. Consumos de óleo diesel | E27: =F170 -> 0 | F27: =IFERROR(E27/$E$33,0) -> 0
A28: =A172 -> 3.1.5. Manutenção/Consumos | E28: =F175 -> 0 | F28: =IFERROR(E28/$E$33,0) -> 0
A29: =A177 -> 3.1.6. Pneus | E29: =F184 -> 0 | F29: =IFERROR(E29/$E$33,0) -> 0
A30: =A188 -> 4. Ferramentas e materiais | E30: =+F199 -> 0 | F30: =IFERROR(E30/$E$33,0) -> 0
A31: =A201 -> 5. Monitoramento da frota | E31: =+F210 -> 0 | F31: =IFERROR(E31/$E$33,0) -> 0
A32: =A214 -> 4. Benefícios e Despesas Indiretas - BDI | E32: =+F220 -> 0 | F32: =IFERROR(E32/$E$33,0) -> 0
A33: PREÇO TOTAL MENSAL COM A COLETA | E33: =E16+E21+E22+E30+E31+E32 -> 0 | F33: =F16+F21+F22+F30+F31+F32 -> 0
A36: Quantitativos
A37: Mão-de-obra | E37: Quantidade
A38: =+A51 -> 1.1. Operador de Máquinas | E38: =C69 -> 1
A39: Operador de Máquinas
A40: Sindicato de Pav de Obras Correção Salarial | E40: 0
A41: Total de mão-de-obra (postos de trabalho) | E41: =SUM(E38) -> 1
A43: Veículos e Equipamentos | E43: Quantidade
A44: =+A118 -> 3.1. Veículo/Máquina | E44: =C133 -> 1
A47: Fator de utilização (FU) | B47: ='27.Horários'!F17/'27.Horários'!F18 -> 1
A49: 1. Mão-de-obra
...

Sheet 18. Caminhão Pipa
A1: Orientações para preenchimento:
A2: 1. Esta planilha é somente um modelo-base, devendo ser adaptada para cada caso concreto.
A3: Qualquer custo previsto no edital e não contemplado nesta planilha deverá ser devidamente incluído.
A4: 2. Antes de preenchê-la, leia com atenção.
A5: 3. Preencher somente células em amarelo
A6: 4. As células azuis deverão ter seus valores preenchidos em outra planilha do arquivo.
A8: O TCE/RS não se responsabiliza pelo uso incorreto desta planilha.
A9: O orçamento deve ser realizado por responsável técnico habilitado e é de responsabilidade do seu autor.
A11: Código 77420 - Serviços de Caminhão Pipa
A12: Planilha de Composição de Custos
A14: Orçamento Sintético
A15: Descrição do Item | E15: Custo (R$/mês) | F15: %
A16: =A49 -> 1. Mão-de-obra | E16: =+F93 -> 0 | F16: =IFERROR(E16/$E$33,0) -> 0
A17: =A51 -> 1.1. Motorista | E17: =F70 -> 0 | F17: =IFERROR(E17/$E$33,0) -> 0
A18: =A72 -> 1.2. Vale Transporte | E18: =F78 -> 0 | F18: =IFERROR(E18/$E$33,0) -> 0
A19: =A80 -> 1.3. Vale-refeição (mensal) | E19: =F85 -> 0 | F19: =IFERROR(E19/$E$33,0) -> 0
A20: =A87 -> 1.4. Plano de Benefício Social (Seguro de vida) e (Manutenção e Capacitação Profissional ) | E20: =F91 -> 0 | F20: =IFERROR(E20/$E$33,0) -> 0
A21: =A95 -> 2. Uniformes e Equipamentos de Proteção Individual | E21: =+F114 -> 0 | F21: =IFERROR(E21/$E$33,0) -> 0
A22: =A116 -> 3. Veículos e Máquinas | E22: =+F187 -> 0 | F22: =IFERROR(E22/$E$33,0) -> 0
A23: =A118 -> 3.1. Veículo/Máquina | E23: =SUM(E24:E29) -> 0 | F23: =IFERROR(E23/$E$33,0) -> 0
A24: 3.1.1. Depreciação | E24: =F134 -> 0 | F24: =IFERROR(E24/$E$33,0) -> 0
A25: 3.1.2. Remuneração do Capital | E25: =F152 -> 0 | F25: =IFERROR(E25/$E$33,0) -> 0
A26: =A154 -> 3.1.3. Impostos e Seguros | E26: =F160 -> 0 | F26: =IFERROR(E26/$E$33,0) -> 0
A27: =A162 -> 3.1.4. Consumos de óleo diesel | E27: =F171 -> 0 | F27: =IFERROR(E27/$E$33,0) -> 0
A28: =A173 -> 3.1.5. Manutenção/Consumos | E28: =F176 -> 0 | F28: =IFERROR(E28/$E$33,0) -> 0
A29: =A178 -> 3.1.6. Pneus | E29: =F185 -> 0 | F29: =IFERROR(E29/$E$33,0) -> 0
A30: =A189 -> 4. Ferramentas e materiais | E30: =+F200 -> 0 | F30: =IFERROR(E30/$E$33,0) -> 0
A31: =A202 -> 5. Monitoramento da frota | E31: =+F211 -> 0 | F31: =IFERROR(E31/$E$33,0) -> 0
A32: =A215 -> 4. Benefícios e Despesas Indiretas - BDI | E32: =+F221 -> 0 | F32: =IFERROR(E32/$E$33,0) -> 0
A33: PREÇO TOTAL MENSAL COM A COLETA | E33: =E16+E21+E22+E30+E31+E32 -> 0 | F33: =F16+F21+F22+F30+F31+F32 -> 0
A36: Quantitativos
A37: Mão-de-obra | E37: Quantidade
A38: =+A51 -> 1.1. Motorista | E38: =C69 -> 1
A39: Operador de Escavadeira Hidráulica
A40: Sindicato de Pav de Obras Correção Salarial | E40: 0
A41: Total de mão-de-obra (postos de trabalho) | E41: =SUM(E38) -> 1
A43: Veículos e Equipamentos | E43: Quantidade
A44: =+A118 -> 3.1. Veículo/Máquina | E44: =C133 -> 1
A47: Fator de utilização (FU) | B47: ='27.Horários'!F17/'27.Horários'!F18 -> 1
A49: 1. Mão-de-obra
...

Sheet 19. Rolo Compac. Vibratório 18 
A1: Orientações para preenchimento:
A2: 1. Esta planilha é somente um modelo-base, devendo ser adaptada para cada caso concreto.
A3: Qualquer custo previsto no edital e não contemplado nesta planilha deverá ser devidamente incluído.
A4: 2. Antes de preenchê-la, leia com atenção.
A5: 3. Preencher somente células em amarelo
A6: 4. As células azuis deverão ter seus valores preenchidos em outra planilha do arquivo.
A8: O TCE/RS não se responsabiliza pelo uso incorreto desta planilha.
A9: O orçamento deve ser realizado por responsável técnico habilitado e é de responsabilidade do seu autor.
A11: Código 77572 – Serviços de Rolo Compactador Vibratório 8 Ton
A12: Planilha de Composição de Custos
A14: Orçamento Sintético
A15: Descrição do Item | E15: Custo (R$/mês) | F15: %
A16: =A49 -> 1. Mão-de-obra | E16: =+F93 -> 0 | F16: =IFERROR(E16/$E$33,0) -> 0
A17: =A51 -> 1.1. Operador de Máquinas | E17: =F70 -> 0 | F17: =IFERROR(E17/$E$33,0) -> 0
A18: =A72 -> 1.2. Vale Transporte | E18: =F78 -> 0 | F18: =IFERROR(E18/$E$33,0) -> 0
A19: =A80 -> 1.3. Vale-refeição (mensal) | E19: =F85 -> 0 | F19: =IFERROR(E19/$E$33,0) -> 0
A20: =A87 -> 1.4. Plano de Benefício Social (Seguro de vida) e (Manutenção e Capacitação Profissional ) | E20: =F91 -> 0 | F20: =IFERROR(E20/$E$33,0) -> 0
A21: =A95 -> 2. Uniformes e Equipamentos de Proteção Individual | E21: =+F114 -> 0 | F21: =IFERROR(E21/$E$33,0) -> 0
A22: =A116 -> 3. Veículos e Máquinas | E22: =+F186 -> 0 | F22: =IFERROR(E22/$E$33,0) -> 0
A23: =A118 -> 3.1. Veículo/Máquina | E23: =SUM(E24:E29) -> 0 | F23: =IFERROR(E23/$E$33,0) -> 0
A24: 3.1.1. Depreciação | E24: =F134 -> 0 | F24: =IFERROR(E24/$E$33,0) -> 0
A25: 3.1.2. Remuneração do Capital | E25: =F152 -> 0 | F25: =IFERROR(E25/$E$33,0) -> 0
A26: =A154 -> 3.1.3. Impostos e Seguros | E26: =F160 -> 0 | F26: =IFERROR(E26/$E$33,0) -> 0
A27: =A162 -> 3.1.4. Consumos de óleo diesel | E27: =F170 -> 0 | F27: =IFERROR(E27/$E$33,0) -> 0
A28: =A172 -> 3.1.5. Manutenção/Consumos | E28: =F175 -> 0 | F28: =IFERROR(E28/$E$33,0) -> 0
A29: =A177 -> 3.1.6. Pneus | E29: =F184 -> 0 | F29: =IFERROR(E29/$E$33,0) -> 0
A30: =A188 -> 4. Ferramentas e materiais | E30: =+F199 -> 0 | F30: =IFERROR(E30/$E$33,0) -> 0
A31: =A201 -> 5. Monitoramento da frota | E31: =+F210 -> 0 | F31: =IFERROR(E31/$E$33,0) -> 0
A32: =A214 -> 4. Benefícios e Despesas Indiretas - BDI | E32: =+F220 -> 0 | F32: =IFERROR(E32/$E$33,0) -> 0
A33: PREÇO TOTAL MENSAL COM A COLETA | E33: =E16+E21+E22+E30+E31+E32 -> 0 | F33: =F16+F21+F22+F30+F31+F32 -> 0
A36: Quantitativos
A37: Mão-de-obra | E37: Quantidade
A38: =+A51 -> 1.1. Operador de Máquinas | E38: =C69 -> 1
A39: Operador de Máquinas
A40: Sindicato de Pav de Obras Correção Salarial | E40: 0
A41: Total de mão-de-obra (postos de trabalho) | E41: =SUM(E38) -> 1
A43: Veículos e Equipamentos | E43: Quantidade
A44: =+A118 -> 3.1. Veículo/Máquina | E44: =C133 -> 1
A47: Fator de utilização (FU) | B47: ='27.Horários'!F17/'27.Horários'!F18 -> 1
A49: 1. Mão-de-obra
...

Sheet 20. Caminhão Guindaste Articula
A1: Orientações para preenchimento:
A2: 1. Esta planilha é somente um modelo-base, devendo ser adaptada para cada caso concreto.
A3: Qualquer custo previsto no edital e não contemplado nesta planilha deverá ser devidamente incluído.
A4: 2. Antes de preenchê-la, leia com atenção.
A5: 3. Preencher somente células em amarelo
A6: 4. As células azuis deverão ter seus valores preenchidos em outra planilha do arquivo.
A8: O TCE/RS não se responsabiliza pelo uso incorreto desta planilha.
A9: O orçamento deve ser realizado por responsável técnico habilitado e é de responsabilidade do seu autor.
A11: Código 77517 – Serviços de Caminhão Guindaste Articulado
A12: Planilha de Composição de Custos
A14: Orçamento Sintético
A15: Descrição do Item | E15: Custo (R$/mês) | F15: %
A16: =A49 -> 1. Mão-de-obra | E16: =+F93 -> 0 | F16: =IFERROR(E16/$E$33,0) -> 0
A17: =A51 -> 1.1. Operador | E17: =F70 -> 0 | F17: =IFERROR(E17/$E$33,0) -> 0
A18: =A72 -> 1.2. Vale Transporte | E18: =F78 -> 0 | F18: =IFERROR(E18/$E$33,0) -> 0
A19: =A80 -> 1.3. Vale-refeição (mensal) | E19: =F85 -> 0 | F19: =IFERROR(E19/$E$33,0) -> 0
A20: =A87 -> 1.4. Plano de Benefício Social (Seguro de vida) e (Manutenção e Capacitação Profissional ) | E20: =F91 -> 0 | F20: =IFERROR(E20/$E$33,0) -> 0
A21: =A95 -> 2. Uniformes e Equipamentos de Proteção Individual | E21: =+F114 -> 0 | F21: =IFERROR(E21/$E$33,0) -> 0
A22: =A116 -> 3. Veículos e Máquinas | E22: =+F187 -> 0 | F22: =IFERROR(E22/$E$33,0) -> 0
A23: =A118 -> 3.1. Veículo/Máquina | E23: =SUM(E24:E29) -> 0 | F23: =IFERROR(E23/$E$33,0) -> 0
A24: 3.1.1. Depreciação | E24: =F134 -> 0 | F24: =IFERROR(E24/$E$33,0) -> 0
A25: 3.1.2. Remuneração do Capital | E25: =F152 -> 0 | F25: =IFERROR(E25/$E$33,0) -> 0
A26: =A154 -> 3.1.3. Impostos e Seguros | E26: =F160 -> 0 | F26: =IFERROR(E26/$E$33,0) -> 0
A27: =A162 -> 3.1.4. Consumos de óleo diesel | E27: =F171 -> 0 | F27: =IFERROR(E27/$E$33,0) -> 0
