Workbook

Sheet Orçamento
A2: Obra: Construção de centro de convivência - piscina CRAS
A3: Proprietário: Prefeitura Municipal de Barracão
A4: Local: Rua Ernesto Bergamo - Centro - Barracão/RS | E4: PLANILHA ORÇAMENTÁRIA
A5: BDI Padrão: | C5: 0.2532
A6: Bancos: SINAPI: RS 5/2026
A8: Item | B8: Tipo | C8: Banco | D8: Código | E8: Descrição | F8: Un. | G8: Qtd. | H8: Preço Unit | I8: Preço com BDI | J8: Total sem BDI | K8: Total
A9: 1 | E9: SERVIÇOS PRELIMINARES | K9: =SUM(K10:K11) -> 6614.0951
A10: 1.1 | B10: Composição | C10: SINAPI | D10: 103689 | E10: FORNECIMENTO E INSTALAÇÃO DE PLACA DE OBRA COM CHAPA GALVANIZADA E ESTRUTURA DE MADEIRA. AF_03/2022_PS | F10: M2 | G10: 2 | H10: 494.87 | I10: =H10*(1+$C$5) -> 620.17108 | J10: =H10*G10 -> 989.74 | K10: =G10*I10 -> 1240.3422 | M10: =SUM(J10:J11) -> 5277.765
A11: 1.2 | B11: Composição | C11: SINAPI | D11: 105009 | E11: LOCAÇÃO CONVENCIONAL DE OBRA, UTILIZANDO GABARITO DE TÁBUAS CORRIDAS PONTALETADAS A CADA 1,50M - 2 UTILIZAÇÕES. AF_03/2024 | F11: M | G11: 53.5 | H11: 80.15 | I11: =H11*(1+$C$5) -> 100.44398 | J11: =H11*G11 -> 4288.025 | K11: =G11*I11 -> 5373.7529
A13: 2 | E13: INFRAESTRUTURA | K13: =K14+K20+K27 -> 32746.653
A14: 2.1 | E14: SAPATAS | K14: =SUM(K15:K19) -> 8324.8221
A15: 2.1.1 | B15: Composição | C15: SINAPI | D15: 96523 | E15: ESCAVAÇÃO MANUAL PARA BLOCO DE COROAMENTO OU SAPATA (INCLUINDO ESCAVAÇÃO PARA COLOCAÇÃO DE FÔRMAS). AF_01/2024 | F15: M3 | G15: 2.4 | H15: 106.47 | I15: =H15*(1+$C$5) -> 133.4282 | J15: =H15*G15 -> 255.528 | K15: =G15*I15 -> 320.22769 | M15: =SUM(J15:J19) -> 6642.852
A16: 2.1.1 | B16: Composição | C16: SINAPI | D16: 96532 | E16: FABRICAÇÃO, MONTAGEM E DESMONTAGEM DE FÔRMA PARA SAPATA, EM MADEIRA SERRADA, E=25 MM, 2 UTILIZAÇÕES. AF_01/2024 | F16: M2 | G16: 17.6 | H16: 178.29 | I16: =H16*(1+$C$5) -> 223.43303 | J16: =H16*G16 -> 3137.904 | K16: =G16*I16 -> 3932.4213
A17: 2.1.2 | B17: Composição | C17: SINAPI | D17: 96545 | E17: ARMAÇÃO DE BLOCO UTILIZANDO AÇO CA-50 DE 8 MM - MONTAGEM. AF_01/2024 | F17: KG | G17: 47.4 | H17: 16.3 | I17: =H17*(1+$C$5) -> 20.42716 | J17: =H17*G17 -> 772.62 | K17: =G17*I17 -> 968.24738
A18: 2.1.3 | B18: Composição | C18: SINAPI | D18: 96556 | E18: CONCRETAGEM DE SAPATA, FCK 30 MPA, COM USO DE JERICA - LANÇAMENTO, ADENSAMENTO E ACABAMENTO. AF_01/2024 | F18: M3 | G18: 2.4 | H18: 1005.74 | I18: =H18*(1+$C$5) -> 1260.3934 | J18: =H18*G18 -> 2413.776 | K18: =G18*I18 -> 3024.9441
A19: 2.1.4 | B19: Composição | C19: SINAPI | D19: 93382 | E19: REATERRO MANUAL DE VALAS, COM COMPACTADOR DE SOLOS DE PERCUSSÃO. AF_08/2023 | F19: M3 | G19: 2.08 | H19: 30.3 | I19: =H19*(1+$C$5) -> 37.97196 | J19: =H19*G19 -> 63.024 | K19: =G19*I19 -> 78.981677
A20: 2.2 | E20: VIGAS BALDRAMES | K20: =SUM(K21:K26) -> 18889.957
A21: 2.2.1 | B21: Composição | C21: SINAPI | D21: 96527 | E21: ESCAVAÇÃO MANUAL PARA VIGA BALDRAME OU SAPATA CORRIDA (INCLUINDO ESCAVAÇÃO PARA COLOCAÇÃO DE FÔRMAS). AF_01/2024 | F21: M3 | G21: 11.77 | H21: 117.26 | I21: =H21*(1+$C$5) -> 146.95023 | J21: =H21*G21 -> 1380.1502 | K21: =G21*I21 -> 1729.6042 | M21: =SUM(J21:J26) -> 15073.377
A22: 2.2.2 | B22: Composição | C22: SINAPI | D22: 96533 | E22: FABRICAÇÃO, MONTAGEM E DESMONTAGEM DE FÔRMA PARA VIGA BALDRAME, EM MADEIRA SERRADA, E=25 MM, 2 UTILIZAÇÕES. AF_01/2024 | F22: M2 | G22: 58.83 | H22: 90.8 | I22: =H22*(1+$C$5) -> 113.79056 | J22: =H22*G22 -> 5341.764 | K22: =G22*I22 -> 6694.2986
A23: 2.2.3 | B23: Composição | C23: SINAPI | D23: 96555 | E23: CONCRETAGEM DE BLOCO DE COROAMENTO OU VIGA BALDRAME, FCK 30 MPA, COM USO DE JERICA - LANÇAMENTO, ADENSAMENTO E ACABAMENTO. AF_01/2024 | F23: M3 | G23: 4.41 | H23: 837.77 | I23: =H23*(1+$C$5) -> 1049.8934 | J23: =H23*G23 -> 3694.5657 | K23: =G23*I23 -> 4630.0297
A24: 2.2.4 | B24: Composição | C24: SINAPI | D24: 104916 | E24: ARMAÇÃO DE SAPATA ISOLADA, VIGA BALDRAME E SAPATA CORRIDA UTILIZANDO AÇO CA-60 DE 5 MM - MONTAGEM. AF_01/2024 | F24: KG | G24: 78.44 | H24: 17.13 | I24: =H24*(1+$C$5) -> 21.467316 | J24: =H24*G24 -> 1343.6772 | K24: =G24*I24 -> 1683.8963
A25: 2.2.5 | B25: Composição | C25: SINAPI | D25: 104919 | E25: ARMAÇÃO DE SAPATA ISOLADA, VIGA BALDRAME E SAPATA CORRIDA UTILIZANDO AÇO CA-50 DE 10 MM - MONTAGEM. AF_01/2024 | F25: KG | G25: 241.99 | H25: 12.77 | I25: =H25*(1+$C$5) -> 16.003364 | J25: =H25*G25 -> 3090.2123 | K25: =G25*I25 -> 3872.6541
A26: 2.2.6 | B26: Composição | C26: SINAPI | D26: 93382 | E26: REATERRO MANUAL DE VALAS, COM COMPACTADOR DE SOLOS DE PERCUSSÃO. AF_08/2023 | F26: M3 | G26: 7.36 | H26: 30.3 | I26: =H26*(1+$C$5) -> 37.97196 | J26: =H26*G26 -> 223.008 | K26: =G26*I26 -> 279.47363
A27: 2.3 | E27: IMPERMEABILIZAÇÃO | K27: =SUM(K28) -> 5531.8747
A28: 2.3.1 | B28: Composição | C28: SINAPI | D28: 98557 | E28: IMPERMEABILIZAÇÃO DE SUPERFÍCIE COM EMULSÃO ASFÁLTICA, 2 DEMÃOS. AF_09/2023 | F28: M2 | G28: 95.94 | H28: 46.01 | I28: =H28*(1+$C$5) -> 57.659732 | J28: =H28*G28 -> 4414.1994 | K28: =G28*I28 -> 5531.8747 | M28: =SUM(J28) -> 4414.1994
A30: 3 | E30: SUPRAESTRUTURA | K30: =K31+K36 -> 30931
A31: 3.1 | E31: PILARES EM CONCRETO ARMADO | K31: =SUM(K32:K35) -> 9220.5157
A32: 3.1.1 | B32: Composição | C32: SINAPI | D32: 104107 | E32: ARMAÇÃO DE PILAR OU VIGA DE ESTRUTURA DE CONCRETO ARMADO EMBUTIDA EM ALVENARIA DE VEDAÇÃO UTILIZANDO AÇO CA-50 DE 12,5 MM - MONTAGEM. AF_06/2022 | F32: KG | G32: 184.9 | H32: 10.78 | I32: =H32*(1+$C$5) -> 13.509496 | J32: =H32*G32 -> 1993.222 | K32: =G32*I32 -> 2497.9058 | M32: =SUM(J32:J35) -> 7357.5772
A33: 3.1.2 | B33: Composição | C33: SINAPI | D33: 92269 | E33: FABRICAÇÃO DE FÔRMA PARA PILARES E ESTRUTURAS SIMILARES, EM MADEIRA SERRADA, E=25 MM. AF_09/2020 | F33: M2 | G33: 25.2 | H33: 120.26 | I33: =H33*(1+$C$5) -> 150.70983 | J33: =H33*G33 -> 3030.552 | K33: =G33*I33 -> 3797.8878
A34: 3.1.3 | B34: Composição | C34: SINAPI | D34: 103672 | E34: CONCRETAGEM DE PILARES, FCK = 25 MPA, COM USO DE BOMBA - LANÇAMENTO, ADENSAMENTO E ACABAMENTO. AF_02/2022_PS | F34: M3 | G34: 2.16 | H34: 691.84 | I34: =H34*(1+$C$5) -> 867.01389 | J34: =H34*G34 -> 1494.3744 | K34: =G34*I34 -> 1872.75
A35: 3.1.4 | B35: Composição | C35: SINAPI | D35: 104111 | E35: ARMAÇÃO DE PILAR OU VIGA DE ESTRUTURA DE CONCRETO ARMADO EMBUTIDA EM ALVENARIA DE VEDAÇÃO UTILIZANDO AÇO CA-60 DE 5,0 MM - MONTAGEM. AF_06/2022 | F35: KG | G35: 39.84 | H35: 21.07 | I35: =H35*(1+$C$5) -> 26.404924 | J35: =H35*G35 -> 839.4288 | K35: =G35*I35 -> 1051.9722
A36: 3.2 | E36: VIGAS DE AMARRAÇÃO | K36: =SUM(K37:K40) -> 21710.484
A37: 3.2.1 | B37: Composição | C37: SINAPI | D37: 103675 | E37: CONCRETAGEM DE VIGAS E LAJES, FCK=25 MPA, PARA LAJES MACIÇAS OU NERVURADAS COM USO DE BOMBA - LANÇAMENTO, ADENSAMENTO E ACABAMENTO. AF_02/2022_PS | F37: M3 | G37: 4.37 | H37: 691.9 | I37: =H37*(1+$C$5) -> 867.08908 | J37: =H37*G37 -> 3023.603 | K37: =G37*I37 -> 3789.1793 | M37: =SUM(J37:J40) -> 17324.038
A38: 3.2.2 | B38: Composição | C38: SINAPI | D38: 92270 | E38: FABRICAÇÃO DE FÔRMA PARA VIGAS, COM MADEIRA SERRADA, E = 25 MM. AF_09/2020 | F38: M2 | G38: 58.23 | H38: 164.73 | I38: =H38*(1+$C$5) -> 206.43964 | J38: =H38*G38 -> 9592.2279 | K38: =G38*I38 -> 12020.98
A39: 3.2.3 | B39: Composição | C39: SINAPI | D39: 104111 | E39: ARMAÇÃO DE PILAR OU VIGA DE ESTRUTURA DE CONCRETO ARMADO EMBUTIDA EM ALVENARIA DE VEDAÇÃO UTILIZANDO AÇO CA-60 DE 5,0 MM - MONTAGEM. AF_06/2022 | F39: KG | G39: 77.72 | H39: 21.07 | I39: =H39*(1+$C$5) -> 26.404924 | J39: =H39*G39 -> 1637.5604 | K39: =G39*I39 -> 2052.1907
A40: 3.2.4 | B40: Composição | C40: SINAPI | D40: 104108 | E40: ARMAÇÃO DE PILAR OU VIGA DE ESTRUTURA DE CONCRETO ARMADO EMBUTIDA EM ALVENARIA DE VEDAÇÃO UTILIZANDO AÇO CA-50 DE 10,0 MM - MONTAGEM. AF_06/2022 | F40: KG | G40: 239.52 | H40: 12.82 | I40: =H40*(1+$C$5) -> 16.066024 | J40: =H40*G40 -> 3070.6464 | K40: =G40*I40 -> 3848.1341
A42: 4 | E42: FECHAMENTOS E ALVENARIAS | K42: =SUM(K43:K47) -> 29425.914
A43: 4.1 | B43: Composição | C43: SINAPI | D43: 103346 | E43: ALVENARIA DE VEDAÇÃO DE BLOCOS CERÂMICOS FURADOS NA VERTICAL DE 14X19X29 CM (ESPESSURA 14 CM) E ARGAMASSA DE ASSENTAMENTO COM PREPARO EM BETONEIRA. AF_12/2021 | F43: M2 | G43: 178.55 | H43: 97.6 | I43: =H43*(1+$C$5) -> 122.31232 | J43: =H43*G43 -> 17426.48 | K43: =G43*I43 -> 21838.865 | M43: =SUM(J43:J47) -> 23480.621
A44: 4.2 | B44: Composição | C44: SINAPI | D44: 103357 | E44: ALVENARIA DE VEDAÇÃO DE BLOCOS CERÂMICOS FURADOS NA HORIZONTAL DE 9X19X29 CM (ESPESSURA 9 CM) E ARGAMASSA DE ASSENTAMENTO COM PREPARO MANUAL. AF_12/2021 | F44: M2 | G44: 21.09 | H44: 66.02 | I44: =H44*(1+$C$5) -> 82.736264 | J44: =H44*G44 -> 1392.3618 | K44: =G44*I44 -> 1744.9078
A45: 4.3 | B45: Composição | C45: SINAPI | D45: 105029 | E45: CONTRAVERGA MOLDADA IN LOCO EM CONCRETO, ESPESSURA DE *15* CM. AF_03/2024 | F45: M | G45: 23.6 | H45: 50.58 | I45: =H45*(1+$C$5) -> 63.386856 | J45: =H45*G45 -> 1193.688 | K45: =G45*I45 -> 1495.9298
...

Sheet BDI
A2: Obra: Construção de centro de convivência - piscina CRAS
A3: Proprietário: Prefeitura Municipal de Barracão
A4: Local: Rua Ernesto Bergamo - Centro - Barracão/RS
C5: Relatório BDI - Padrão TCU
A6: Bancos: SINAPI: RS 5/2026
A8: Ordem | B8: Abreviação | C8: Descrição | D8: Grupo | E8: Valor
A9: 1 | B9: AC | C9: Administração Central | D9: A.1 Custos indiretos | E9: 4,00%
A10: 2 | B10: DF | C10: Despesas Financeiras | D10: A.2 Custos indiretos | E10: 1,23%
A11: 3 | B11: SG | C11: Seguros e Garantias | D11: A.3 Custos indiretos | E11: 1,57%
A12: 4 | B12: R | C12: Risco | D12: A.3 Custos indiretos | E12: 0,50%
A13: 5 | B13: L | C13: Lucro | D13: B. Lucro/remuneração | E13: 8,96%
A14: 6 | B14: T1 | C14: PIS | D14: C.1.1 Tributo federal | E14: 0,65%
A15: 7 | B15: T2 | C15: CONFINS | D15: C.1.2 Tributo federal | E15: 3,00%
A16: 8 | B16: T3 | C16: Contribuição Previdenciária (CPRB) | D16: C.1.3 Tributo federal | E16: 0,00%
A17: 9 | B17: T4 | C17: Tributos estaduais | D17: C.2 Tributo estadual | E17: 0,00%
A18: 10 | B18: T5 | C18: ISS | D18: C.3.1 ISS | E18: 3,00%
C40: Valor BDI: | D40: 0.2532
E42: Barracão, julho de 2026

Sheet CRONOGRAMA
A2: Obra: Construção de centro de convivência - piscina CRAS
A3: Proprietário: Prefeitura Municipal de Barracão
A4: Local: Rua Ernesto Bergamo - Centro - Barracão/RS
A5: Bancos: SINAPI RS 5/2026 | C5: Cronograma Físico-Financeiro
A6: BDI Padrão: 25,320%
A9: Item | B9: Descrição | C9: Total | D9: 1º mês | E9: 2º mês | F9: 3º mês | G9: 4º mês | H9: 5º mês | I9: 6º mês
A10: 1 | B10: SERVIÇOS PRELIMINARES | C10: =SUM(D10:I10) -> 1 | D10: 1
C11: =SUM(D11:I11) -> 6614.0951 | D11: =Orçamento!K9 -> 6614.0951
A12: 2 | B12: INFRAESTRUTURA | C12: =SUM(D12:I12) -> 1 | D12: 1
C13: =SUM(D13:I13) -> 32746.653 | D13: =Orçamento!K13 -> 32746.653
A14: 3 | B14: SUPRAESTRUTURA | C14: =SUM(D14:I14) -> 1 | E14: 0.5 | F14: 0.5
C15: =SUM(D15:I15) -> 30931 | E15: =E14*Orçamento!K30 -> 15465.5 | F15: =F14*Orçamento!K30 -> 15465.5
A16: 4 | B16: FECHAMENTOS E ALVENARIAS | C16: =SUM(D16:I16) -> 1 | E16: 0.5 | F16: 0.5
C17: =SUM(D17:I17) -> 29425.914 | E17: =E16*Orçamento!K42 -> 14712.957 | F17: =F16*Orçamento!K42 -> 14712.957
A18: 5 | B18: COBERTURA | C18: =SUM(D18:I18) -> 1 | F18: 0.5 | G18: 0.5
C19: =SUM(D19:I19) -> 87281.62 | F19: =F18*Orçamento!K49 -> 43640.81 | G19: =G18*Orçamento!K49 -> 43640.81
A20: 6 | B20: REVESTIMENTOS | C20: =SUM(D20:I20) -> 1 | G20: 0.5 | H20: 0.5
C21: =SUM(D21:I21) -> 56992.159 | G21: =G20*Orçamento!K52 -> 28496.08 | H21: =H20*Orçamento!K52 -> 28496.08
A22: 7 | B22: PAVIMENTAÇÃO | C22: =SUM(D22:I22) -> 1 | G22: 0.25 | H22: 0.75
C23: =SUM(D23:I23) -> 46341.055 | G23: =G22*Orçamento!K64 -> 11585.264 | H23: =H22*Orçamento!K64 -> 34755.791
A24: 8 | B24: ESQUADRIAS | C24: =SUM(D24:I24) -> 1 | H24: 1
C25: =SUM(D25:I25) -> 45008.152 | H25: =H24*Orçamento!K74 -> 45008.152
A26: 9 | B26: PINTURAS | C26: =SUM(D26:I26) -> 1 | H26: 0.5 | I26: 0.5
C27: =SUM(D27:I27) -> 20603.582 | H27: =H26*Orçamento!K83 -> 10301.791 | I27: =I26*Orçamento!K83 -> 10301.791
A28: 10 | B28: INSTALAÇÕES ELÉTRICAS | C28: =SUM(D28:I28) -> 1 | F28: 0.2 | G28: 0.4 | H28: 0.4
C29: =SUM(D29:I29) -> 26654.248 | F29: =F28*Orçamento!K88 -> 5330.8496 | G29: =G28*Orçamento!K88 -> 10661.699 | H29: =H28*Orçamento!K88 -> 10661.699
A30: 11 | B30: INSTALAÇÕES HIDRÁULICAS | C30: =SUM(D30:I30) -> 1 | F30: 0.5 | G30: 0.5
C31: =SUM(D31:I31) -> 4195.0745 | F31: =F30*Orçamento!K114 -> 2097.5372 | G31: =G30*Orçamento!K114 -> 2097.5372
A32: 12 | B32: INSTALAÇÕES SANITÁRIAS | C32: =SUM(D32:I32) -> 1 | F32: 0.2 | G32: 0.4 | H32: 0.4
C33: =SUM(D33:I33) -> 17536.078 | F33: =F32*Orçamento!K130 -> 3507.2155 | G33: =G32*Orçamento!K130 -> 7014.4311 | H33: =H32*Orçamento!K130 -> 7014.4311
A34: 13 | B34: INSTALAÇÕES PLUVIAIS | C34: =SUM(D34:I34) -> 1 | F34: 0.25 | G34: 0.75
C35: =SUM(D35:I35) -> 16129.268 | F35: =F34*Orçamento!K146 -> 4032.317 | G35: =G34*Orçamento!K146 -> 12096.951
A36: 14 | B36: LOUÇAS E EQUIPAMENTOS | C36: =SUM(D36:I36) -> 1 | I36: 1
C37: =SUM(D37:I37) -> 14370.206 | I37: =I36*Orçamento!K156 -> 14370.206
A38: 16 | B38: PISCINA | C38: =SUM(D38:I38) -> 1 | G38: 1
C39: =SUM(D39:I39) -> 64648.411 | G39: =G38*Orçamento!K165 -> 64648.411
A41: Porcentagem do período Total do período | C41: 1 | D41: =(D42*C41)/C42 -> 0.078803844 | E41: =(E42*D41)/D42 -> 0.060420051 | F41: =(F42*E41)/E42 -> 0.17776013 | G41: =(G42*F41)/F42 -> 0.36085945 | H41: =(H42*G41)/G42 -> 0.27276091 | I41: =(I42*H41)/H42 -> 0.049395612
C42: =C11+C13+C15+C17+C19+C21+C23+C25+C27+C29+C31+C33+C35+C37+C39 -> 499477.52 | D42: =D11+D13+D15+D17+D19+D21+D23+D25+D27+D29+D31+D33+D35+D37+D39 -> 39360.748 | E42: =E11+E13+E15+E17+E19+E21+E23+E25+E27+E29+E31+E33+E35+E37+E39 -> 30178.457 | F42: =F11+F13+F15+F17+F19+F21+F23+F25+F27+F29+F31+F33+F35+F37+F39 -> 88787.186 | G42: =G11+G13+G15+G17+G19+G21+G23+G25+G27+G29+G31+G33+G35+G37+G39 -> 180241.18 | H42: =H11+H13+H15+H17+H19+H21+H23+H25+H27+H29+H31+H33+H35+H37+H39 -> 136237.94 | I42: =I11+I13+I15+I17+I19+I21+I23+I25+I27+I29+I31+I33+I35+I37+I39 -> 24671.998
A43: Porcentagem acumulada Total acumulado | I43: =I41+D41+F41+H41+G41+E41 -> 1
I44: =D42+E42+F42+G42+H42+I42 -> 499477.52
...
