Workbook

Sheet Drenagem trecho 2
A1: Planilha de Orçamento GLOBAL | E1: Atualizado: | F1: 45708
A2: 14.2024 - CANALIZAÇÃO RUA DO TANQUE E PAIM FILHO - trecho 02
A3: Obra: Canalização trecho da rua do Tanque e trecho da Rua Pain Filho - Centro
A4: Cliente: Município de Lagoa Vermelha
A5: Base SINAPI 01/26 SICRO 01/24 | D5: Preço Unitário/Preço Total | H5: NÃO ALTERAR VALORES | M5: SINAPI 01/26
A6: Item/Descrição | B6: Qtd. | C6: Un | D6: Material | E6: Mão-de-Obra | F6: Total | H6: BDI | I6: Valor referencia ANTIGO02/25 | K6: portentagens | M6: Valor referencia 01/2026 | N6: VALOR ATUALIZADO COM BDI
A7: 1. SERVIÇOS INICIAIS | N7: MAT. | O7: M.O.
A8: 103689 FORNECIMENTO E INSTALAÇÃO DE PLACA DE OBRA COM CHAPA GALVANIZADA E ESTRUTUR A DE MADEIRA. AF_03/2022_PS | B8: 3 | C8: M2 | D8: =N8 -> 449.68 | E8: =O8 -> 41.71 | H8: 1.2085 | I8: 420.83 | J8: 39.04 | K8: =I8/(I8+J8) -> 0.91510644 | L8: =J8/(I8+J8) -> 0.084893557 | M8: 406.62 | N8: =TRUNC(H8*K8*M8,2) -> 449.68 | O8: =TRUNC(H8*L8*M8,2) -> 41.71
D9: =TRUNC(B8*D8,2) -> 1349.04 | E9: =TRUNC(B8*E8,2) -> 125.13 | F9: =D9+E9 -> 1474.17
A10: 90777 ENGENHEIRO CIVIL DE OBRA JUNIOR COM ENCARGOS COMPLEMENTARES | B10: 288 | C10: H | D10: =N10 -> 0.97 | E10: =O10 -> 154.86 | H10: 1.2085 | I10: 0.75 | J10: 119.47 | K10: =I10/(I10+J10) -> 0.0062385626 | L10: =J10/(I10+J10) -> 0.99376144 | M10: 128.95 | N10: =TRUNC(H10*K10*M10,2) -> 0.97 | O10: =TRUNC(H10*L10*M10,2) -> 154.86
D11: =TRUNC(B10*D10,2) -> 279.36 | E11: =TRUNC(B10*E10,2) -> 44599.68 | F11: =D11+E11 -> 44879.04
C13: Un | D13: Material | E13: Mão-de-Obra | F13: Total
A14: Total de SERVIÇOS INICIAIS | D14: =D9+D11 -> 1628.4 | E14: =E9+E11 -> 44724.81 | F14: =F9+F11 -> 46353.21 | G14: =D14+E14 -> 46353.21
A16: 2. REMOÇÃO PAVIMENTOS E SINALIZAÇÃO
A17: 99063 LOCAÇÃO DE REDE DE ÁGUA OU ESGOTO. AF_10/2018 | B17: 528 | C17: M | D17: =N17 -> 2.74 | E17: =O17 -> 8.47 | H17: 1.2085 | I17: 2.22 | J17: 6.86 | K17: =I17/(I17+J17) -> 0.24449339 | L17: =J17/(I17+J17) -> 0.75550661 | M17: 9.28 | N17: =TRUNC(H17*K17*M17,2) -> 2.74 | O17: =TRUNC(H17*L17*M17,2) -> 8.47
D18: =TRUNC(B17*D17,2) -> 1446.72 | E18: =TRUNC(B17*E17,2) -> 4472.16 | F18: =D18+E18 -> 5918.88
A19: 101817 RECOMPOSICAO DE PAVIMENTO EM PARALELEPÍPEDOS, REJUNTAMENTO COM PÓ DE PEDRA, COM REAPROVEITAMENTO DOS PARALELEPÍPEDOS, PARA O FECHAMENTO DE VALAS - INCLUSO RETIRADA E COLOCAÇÃO DO MATERIAL. AF_12/2020 | B19: 2208.81 | C19: M2 | D19: =N19 -> 20.32 | E19: =O19 -> 43.92 | H19: 1.2085 | I19: 16.61 | J19: 35.9 | K19: =I19/(I19+J19) -> 0.3163207 | L19: =J19/(I19+J19) -> 0.6836793 | M19: 53.16 | N19: =TRUNC(H19*K19*M19,2) -> 20.32 | O19: =TRUNC(H19*L19*M19,2) -> 43.92
D20: =TRUNC(B19*D19,2) -> 44883.01 | E20: =TRUNC(B19*E19,2) -> 97010.93 | F20: =D20+E20 -> 141893.94
A21: S00013244 CONE DE SINALIZACAO EM PVC RIGIDO COM FAIXA REFLETIVA, H = 70 / 76 CM COR VERMELHA OU LARANJADO (APÓS O USO, CONES ENTREGUES AO MUNICÍPIO SECRETARIA DE OBRAS NO ESTADO QUE SE ENCONTRAM) | B21: 30 | C21: UN | D21: =N21 -> 67.55 | E21: =O21 -> 0 | H21: 1.2085 | I21: 55.9 | J21: 0 | K21: =I21/(I21+J21) -> 1 | L21: =J21/(I21+J21) -> 0 | M21: 55.9 | N21: =TRUNC(H21*K21*M21,2) -> 67.55 | O21: =TRUNC(H21*L21*M21,2) -> 0
D22: =TRUNC(B21*D21,2) -> 2026.5 | E22: =TRUNC(B21*E21,2) -> 0 | F22: =D22+E22 -> 2026.5
A23: SICRO 5213842 Fita zebrada para dispositivos de canalização de trânsito - fornecimento, implantação e retirada | B23: 2000 | C23: M | D23: =N23 -> 0.16 | E23: =O23 -> 0 | H23: 1.2085 | I23: 0.12 | J23: 0 | K23: =I23/(I23+J23) -> 1 | L23: =J23/(I23+J23) -> 0 | M23: 0.14 | N23: =TRUNC(H23*K23*M23,2) -> 0.16 | O23: =TRUNC(H23*L23*M23,2) -> 0
D24: =TRUNC(B23*D23,2) -> 320 | E24: =TRUNC(B23*E23,2) -> 0 | F24: =D24+E24 -> 320
C26: Un | D26: Material | E26: Mão-de-Obra | F26: Total
A27: Total de REMOÇÃO PAVIMENTOS E SINALIZAÇÃO | D27: =D18+D20+D22+D24 -> 48676.23 | E27: =E18+E20+E22+E24 -> 101483.09 | F27: =F18+F20+F22+F24 -> 150159.32 | G27: =D27+E27 -> 150159.32
A29: 3. ESCAVAÇÃO E CONFORMAÇÃO LEITO DE DRENAGEM PARA TUBULAÇÃO E CAIXAS
A30: 90095 ESCAVAÇÃO MECANIZADA DE VALA COM PROF. MAIOR QUE 3,0 M ATÉ 4,5 M (MÉDIA MON TANTE E JUSANTE/UMA COMPOSICAO POR TRECHO), ESCAVADEIRA (1,2 M3), LARG. DE 1,5 M A 2,5 M, EM SOLO DE 1A CATEGORIA, LOCAIS COM BAIXO NÍVEL DE INTERFERÊNCIA. AF_02/2021 | B30: 3618.8 | C30: M3 | D30: =N30 -> 4.99 | E30: =O30 -> 1.65 | H30: 1.2085 | I30: 4.51 | J30: 1.49 | K30: =I30/(I30+J30) -> 0.75166667 | L30: =J30/(I30+J30) -> 0.24833333 | M30: 5.5 | N30: =TRUNC(H30*K30*M30,2) -> 4.99 | O30: =TRUNC(H30*L30*M30,2) -> 1.65
D31: =TRUNC(B30*D30,2) -> 18057.81 | E31: =TRUNC(B30*E30,2) -> 5971.02 | F31: =D31+E31 -> 24028.83
A32: 102276 ESCAVAÇÃO MECANIZADA DE VALA COM PROF. ATÉ 1,5 M (MÉDIA MONTANTE E JUSANTE/ UMA COMPOSICAO POR TRECHO), ESCAVADEIRA (0,8 M3), LARG. MENOR QUE 1,5 M, EM SOLO DE 1A CAT EGORIA, EM LOCAIS COM ALTO NÍVEL DE INTERFERÊNCIA. AF_02/2021 | B32: 1523.55 | C32: M3 | D32: =N32 -> 9.41 | E32: =O32 -> 3.77 | H32: 1.2085 | I32: 8.54 | J32: 3.42 | K32: =I32/(I32+J32) -> 0.71404682 | L32: =J32/(I32+J32) -> 0.28595318 | M32: 10.91 | N32: =TRUNC(H32*K32*M32,2) -> 9.41 | O32: =TRUNC(H32*L32*M32,2) -> 3.77
D33: =TRUNC(B32*D32,2) -> 14336.6 | E33: =TRUNC(B32*E32,2) -> 5743.78 | F33: =D33+E33 -> 20080.38
A34: 93588 TRANSPORTE COM CAMINHÃO BASCULANTE DE 10 M³, EM VIA URBANA EM LEITO NATURAL (UNIDADE: M3XKM). AF_07/2020 | B34: 1136.34 | C34: M3XKM | D34: =N34 -> 3.54 | E34: =O34 -> 0.53 | H34: 1.2085 | I34: 2.85 | J34: 0.43 | K34: =I34/(I34+J34) -> 0.86890244 | L34: =J34/(I34+J34) -> 0.13109756 | M34: 3.38 | N34: =TRUNC(H34*K34*M34,2) -> 3.54 | O34: =TRUNC(H34*L34*M34,2) -> 0.53
D35: =TRUNC(B34*D34,2) -> 4022.64 | E35: =TRUNC(B34*E34,2) -> 602.26 | F35: =D35+E35 -> 4624.9
A36: 88316 SERVENTE COM ENCARGOS COMPLEMENTARES - conformação de berço para tubos e caixas 0,1h/m2 | B36: 268.8 | C36: H | D36: =N36 -> 2.38 | E36: =O36 -> 25.99 | H36: 1.2085 | I36: 1.94 | J36: 21.14 | K36: =I36/(I36+J36) -> 0.084055459 | L36: =J36/(I36+J36) -> 0.91594454 | M36: 23.48 | N36: =TRUNC(H36*K36*M36,2) -> 2.38 | O36: =TRUNC(H36*L36*M36,2) -> 25.99
D37: =TRUNC(B36*D36,2) -> 639.74 | E37: =TRUNC(B36*E36,2) -> 6986.11 | F37: =D37+E37 -> 7625.85
A38: 100324 LASTRO COM MATERIAL GRANULAR (PEDRA BRITADA N.1 E PEDRA BRITADA N.2), APLIC ADO EM PISOS OU LAJES SOBRE SOLO, ESPESSURA DE *10 CM*. AF_07/2019 | B38: 113.64 | C38: M3 | D38: =N38 -> 141.4 | E38: =O38 -> 70.19 | H38: 1.2085 | I38: 109.28 | J38: 54.25 | K38: =I38/(I38+J38) -> 0.66825659 | L38: =J38/(I38+J38) -> 0.33174341 | M38: 175.09 | N38: =TRUNC(H38*K38*M38,2) -> 141.4 | O38: =TRUNC(H38*L38*M38,2) -> 70.19
D39: =TRUNC(B38*D38,2) -> 16068.69 | E39: =TRUNC(B38*E38,2) -> 7976.39 | F39: =D39+E39 -> 24045.08
A40: 97914 TRANSPORTE COM CAMINHÃO BASCULANTE DE 6 M³, EM VIA URBANA PAVIMENTADA, DMT ATÉ 30 KM (UNIDADE: M3XKM). AF_07/2020 (brita) | B40: =B38*28 -> 3181.92 | C40: M3XKM | D40: =N40 -> 3.17 | E40: =O40 -> 0.7 | H40: 1.2085 | I40: 2.55 | J40: 0.57 | K40: =I40/(I40+J40) -> 0.81730769 | L40: =J40/(I40+J40) -> 0.18269231 | M40: 3.21 | N40: =TRUNC(H40*K40*M40,2) -> 3.17 | O40: =TRUNC(H40*L40*M40,2) -> 0.7
D41: =TRUNC(B40*D40,2) -> 10086.68 | E41: =TRUNC(B40*E40,2) -> 2227.34 | F41: =D41+E41 -> 12314.02
C43: Un | D43: Material | E43: Mão-de-Obra | F43: Total
A44: Total de ESCAVAÇÃO E CONFORMAÇÃO LEITO | D44: =D31+D33+D35+D37+D39+D41 -> 63212.16 | E44: =E31+E33+E35+E37+E39+E41 -> 29506.9 | F44: =F31+F33+F35+F37+F39+F41 -> 92719.06 | G44: =D44+E44 -> 92719.06
A46: 4. INSTALAÇÃO DE TUBULAÇÃO E CAIXAS DE DRENAGEM
...

Sheet Drenagem trecho 1
A1: Planilha de Orçamento GLOBAL | F1: 45709
A2: 14.2024 - CANALIZAÇÃO RUA DO TANQUE E PAIM FILHO trecho 01
A3: Obra: Canalização trecho da rua do Tanque e trecho da Rua Pain Filho - Centro | B3: Endereço:
A4: Cliente: Município de Lagoa Vermelha | B4: Cidade:
A5: Base SINAPI 01/26 SICRO 01/24 | D5: Preço Unitário/Preço Total | H5: NÃO ALTERAR VALORES | M5: SINAPI 01/26
A6: Item/Descrição | B6: Qtd. | C6: Un | D6: Material | E6: Mão-de-Obra | F6: Total | H6: BDI | I6: Valor referencia ANTIGO02/25 | K6: portentagens | M6: Valor referencia 01/2026 | N6: VALOR ATUALIZADO COM BDI
A7: 1. SERVIÇOS INICIAIS
A8: 103689 FORNECIMENTO E INSTALAÇÃO DE PLACA DE OBRA COM CHAPA GALVANIZADA E ESTRUTUR A DE MADEIRA. AF_03/2022_PS | B8: 3 | C8: M2 | D8: =N8 -> 449.68 | E8: =O8 -> 41.71 | H8: 1.2085 | I8: 420.83 | J8: 39.04 | K8: =I8/(I8+J8) -> 0.91510644 | L8: =J8/(I8+J8) -> 0.084893557 | M8: ='Drenagem trecho 2'!$M$8 -> 406.62 | N8: =TRUNC(H8*K8*M8,2) -> 449.68 | O8: =TRUNC(H8*L8*M8,2) -> 41.71
D9: =TRUNC(B8*D8,2) -> 1349.04 | E9: =TRUNC(B8*E8,2) -> 125.13 | F9: =D9+E9 -> 1474.17
A10: 90777 ENGENHEIRO CIVIL DE OBRA JUNIOR COM ENCARGOS COMPLEMENTARES (12H NA SEMANA X 4 SEMANA X ATÉ 4 MESES) | B10: 192 | C10: H | D10: =N10 -> 0.97 | E10: =O10 -> 154.86 | H10: 1.2085 | I10: 0.75 | J10: 119.47 | K10: =I10/(I10+J10) -> 0.0062385626 | L10: =J10/(I10+J10) -> 0.99376144 | M10: ='Drenagem trecho 2'!$M$10 -> 128.95 | N10: =TRUNC(H10*K10*M10,2) -> 0.97 | O10: =TRUNC(H10*L10*M10,2) -> 154.86
D11: =TRUNC(B10*D10,2) -> 186.24 | E11: =TRUNC(B10*E10,2) -> 29733.12 | F11: =D11+E11 -> 29919.36
C13: Un | D13: Material | E13: Mão-de-Obra | F13: Total
A14: Total de SERVIÇOS INICIAIS | D14: =D9+D11 -> 1535.28 | E14: =E9+E11 -> 29858.25 | F14: =F9+F11 -> 31393.53 | G14: =D14+E14 -> 31393.53
A16: 2. REMOÇÃO PAVIMENTOS E SINALIZAÇÃO
A17: 99063 LOCAÇÃO DE REDE DE ÁGUA OU ESGOTO. AF_10/2018 | B17: 352 | C17: M | D17: =N17 -> 2.74 | E17: =O17 -> 8.47 | H17: 1.2085 | I17: 2.22 | J17: 6.86 | K17: =I17/(I17+J17) -> 0.24449339 | L17: =J17/(I17+J17) -> 0.75550661 | M17: ='Drenagem trecho 2'!$M$17 -> 9.28 | N17: =TRUNC(H17*K17*M17,2) -> 2.74 | O17: =TRUNC(H17*L17*M17,2) -> 8.47
D18: =TRUNC(B17*D17,2) -> 964.48 | E18: =TRUNC(B17*E17,2) -> 2981.44 | F18: =D18+E18 -> 3945.92
A19: 101817 RECOMPOSICAO DE PAVIMENTO EM PARALELEPÍPEDOS, REJUNTAMENTO COM PÓ DE PEDRA, COM REAPROVEITAMENTO DOS PARALELEPÍPEDOS, PARA O FECHAMENTO DE VALAS - INCLUSO RETIRADA E COLOCAÇÃO DO MATERIAL. AF_12/2020 | B19: 1080 | C19: M2 | D19: =N19 -> 20.32 | E19: =O19 -> 43.92 | H19: 1.2085 | I19: 16.61 | J19: 35.9 | K19: =I19/(I19+J19) -> 0.3163207 | L19: =J19/(I19+J19) -> 0.6836793 | M19: ='Drenagem trecho 2'!$M$19 -> 53.16 | N19: =TRUNC(H19*K19*M19,2) -> 20.32 | O19: =TRUNC(H19*L19*M19,2) -> 43.92
D20: =TRUNC(B19*D19,2) -> 21945.6 | E20: =TRUNC(B19*E19,2) -> 47433.6 | F20: =D20+E20 -> 69379.2
A21: S00013244 CONE DE SINALIZACAO EM PVC RIGIDO COM FAIXA REFLETIVA, H = 70 / 76 CM COR VERMELHA OU LARANJADO (APÓS O USO, CONES ENTREGUES AO MUNICÍPIO SECRETARIA DE OBRAS NO ESTADO QUE SE ENCONTRAM) | B21: 30 | C21: UN | D21: =N21 -> 67.55 | E21: =O21 -> 0 | H21: 1.2085 | I21: 55.9 | J21: 0 | K21: =I21/(I21+J21) -> 1 | L21: =J21/(I21+J21) -> 0 | M21: ='Drenagem trecho 2'!$M$21 -> 55.9 | N21: =TRUNC(H21*K21*M21,2) -> 67.55 | O21: =TRUNC(H21*L21*M21,2) -> 0
D22: =TRUNC(B21*D21,2) -> 2026.5 | E22: =TRUNC(B21*E21,2) -> 0 | F22: =D22+E22 -> 2026.5
A23: SICRO 5213842 Fita zebrada para dispositivos de canalização de trânsito - fornecimento, implantação e retirada | B23: 2000 | C23: M | D23: =N23 -> 0.16 | E23: =O23 -> 0 | H23: 1.2085 | I23: 0.12 | J23: 0 | K23: =I23/(I23+J23) -> 1 | L23: =J23/(I23+J23) -> 0 | M23: ='Drenagem trecho 2'!$M$23 -> 0.14 | N23: =TRUNC(H23*K23*M23,2) -> 0.16 | O23: =TRUNC(H23*L23*M23,2) -> 0
D24: =TRUNC(B23*D23,2) -> 320 | E24: =TRUNC(B23*E23,2) -> 0 | F24: =D24+E24 -> 320
C26: Un | D26: Material | E26: Mão-de-Obra | F26: Total
A27: Total de REMOÇÃO PAVIMENTOS E SINALIZAÇÃO | D27: =D18+D20+D22+D24 -> 25256.58 | E27: =E18+E20+E22+E24 -> 50415.04 | F27: =F18+F20+F22+F24 -> 75671.62 | G27: =D27+E27 -> 75671.62
A29: 3. ESCAVAÇÃO E CONFORMAÇÃO LEITO DE DRENAGEM PARA TUBULAÇÃO E CAIXAS
A30: 90095 ESCAVAÇÃO MECANIZADA DE VALA COM PROF. MAIOR QUE 3,0 M ATÉ 4,5 M (MÉDIA MON TANTE E JUSANTE/UMA COMPOSICAO POR TRECHO), ESCAVADEIRA (1,2 M3), LARG. DE 1,5 M A 2,5 M, EM SOLO DE 1A CATEGORIA, LOCAIS COM BAIXO NÍVEL DE INTERFERÊNCIA. AF_02/2021 | B30: 1520 | C30: M3 | D30: =N30 -> 4.99 | E30: =O30 -> 1.65 | H30: 1.2085 | I30: 4.51 | J30: 1.49 | K30: =I30/(I30+J30) -> 0.75166667 | L30: =J30/(I30+J30) -> 0.24833333 | M30: ='Drenagem trecho 2'!$M$30 -> 5.5 | N30: =TRUNC(H30*K30*M30,2) -> 4.99 | O30: =TRUNC(H30*L30*M30,2) -> 1.65
D31: =TRUNC(B30*D30,2) -> 7584.8 | E31: =TRUNC(B30*E30,2) -> 2508 | F31: =D31+E31 -> 10092.8
A32: 102276 ESCAVAÇÃO MECANIZADA DE VALA COM PROF. ATÉ 1,5 M (MÉDIA MONTANTE E JUSANTE/ UMA COMPOSICAO POR TRECHO), ESCAVADEIRA (0,8 M3), LARG. MENOR QUE 1,5 M, EM SOLO DE 1A CAT EGORIA, EM LOCAIS COM ALTO NÍVEL DE INTERFERÊNCIA. AF_02/2021 | B32: 1571.65 | C32: M3 | D32: =N32 -> 9.41 | E32: =O32 -> 3.77 | H32: 1.2085 | I32: 8.54 | J32: 3.42 | K32: =I32/(I32+J32) -> 0.71404682 | L32: =J32/(I32+J32) -> 0.28595318 | M32: ='Drenagem trecho 2'!$M$32 -> 10.91 | N32: =TRUNC(H32*K32*M32,2) -> 9.41 | O32: =TRUNC(H32*L32*M32,2) -> 3.77
D33: =TRUNC(B32*D32,2) -> 14789.22 | E33: =TRUNC(B32*E32,2) -> 5925.12 | F33: =D33+E33 -> 20714.34
A34: 93588 TRANSPORTE COM CAMINHÃO BASCULANTE DE 10 M³, EM VIA URBANA EM LEITO NATURAL (UNIDADE: M3XKM). AF_07/2020 | B34: 651.48 | C34: M3XKM | D34: =N34 -> 3.54 | E34: =O34 -> 0.53 | H34: 1.2085 | I34: 2.85 | J34: 0.43 | K34: =I34/(I34+J34) -> 0.86890244 | L34: =J34/(I34+J34) -> 0.13109756 | M34: ='Drenagem trecho 2'!$M$34 -> 3.38 | N34: =TRUNC(H34*K34*M34,2) -> 3.54 | O34: =TRUNC(H34*L34*M34,2) -> 0.53
D35: =TRUNC(B34*D34,2) -> 2306.23 | E35: =TRUNC(B34*E34,2) -> 345.28 | F35: =D35+E35 -> 2651.51
A36: 88316 SERVENTE COM ENCARGOS COMPLEMENTARES - conformação de berço para tubos e caixas 0,1h/m2 | B36: 60 | C36: H | D36: =N36 -> 2.38 | E36: =O36 -> 25.99 | H36: 1.2085 | I36: 1.94 | J36: 21.14 | K36: =I36/(I36+J36) -> 0.084055459 | L36: =J36/(I36+J36) -> 0.91594454 | M36: ='Drenagem trecho 2'!$M$36 -> 23.48 | N36: =TRUNC(H36*K36*M36,2) -> 2.38 | O36: =TRUNC(H36*L36*M36,2) -> 25.99
D37: =TRUNC(B36*D36,2) -> 142.8 | E37: =TRUNC(B36*E36,2) -> 1559.4 | F37: =D37+E37 -> 1702.2
A38: 100324 LASTRO COM MATERIAL GRANULAR (PEDRA BRITADA N.1 E PEDRA BRITADA N.2), APLIC ADO EM PISOS OU LAJES SOBRE SOLO, ESPESSURA DE *10 CM*. AF_07/2019 | B38: 51.04 | C38: M3 | D38: =N38 -> 141.4 | E38: =O38 -> 70.19 | H38: 1.2085 | I38: 109.28 | J38: 54.25 | K38: =I38/(I38+J38) -> 0.66825659 | L38: =J38/(I38+J38) -> 0.33174341 | M38: ='Drenagem trecho 2'!$M$38 -> 175.09 | N38: =TRUNC(H38*K38*M38,2) -> 141.4 | O38: =TRUNC(H38*L38*M38,2) -> 70.19
D39: =TRUNC(B38*D38,2) -> 7217.05 | E39: =TRUNC(B38*E38,2) -> 3582.49 | F39: =D39+E39 -> 10799.54
A40: 97914 TRANSPORTE COM CAMINHÃO BASCULANTE DE 6 M³, EM VIA URBANA PAVIMENTADA, DMT ATÉ 30 KM (UNIDADE: M3XKM). AF_07/2020 (brita) | B40: =B38*28 -> 1429.12 | C40: M3XKM | D40: =N40 -> 3.17 | E40: =O40 -> 0.7 | H40: 1.2085 | I40: 2.55 | J40: 0.57 | K40: =I40/(I40+J40) -> 0.81730769 | L40: =J40/(I40+J40) -> 0.18269231 | M40: ='Drenagem trecho 2'!$M$40 -> 3.21 | N40: =TRUNC(H40*K40*M40,2) -> 3.17 | O40: =TRUNC(H40*L40*M40,2) -> 0.7
D41: =TRUNC(B40*D40,2) -> 4530.31 | E41: =TRUNC(B40*E40,2) -> 1000.38 | F41: =D41+E41 -> 5530.69
C43: Un | D43: Material | E43: Mão-de-Obra | F43: Total
A44: Total de ESCAVAÇÃO E CONFORMAÇÃO LEITO | D44: =D31+D33+D35+D37+D39+D41 -> 36570.41 | E44: =E31+E33+E35+E37+E39+E41 -> 14920.67 | F44: =F31+F33+F35+F37+F39+F41 -> 51491.08 | G44: =D44+E44 -> 51491.08
A46: 4. INSTALAÇÃO DE TUBULAÇÃO E CAIXAS DE DRENAGEM
...
