Workbook

Sheet RELATÓRIO FINAL - HORA MÉDICA
A1: RESUMO VALORES FINAIS – CONTRATAÇÃO POR HORA TRABALHADA
A3: Cargo/Valor | B3: Valor Unitário Mensal (R$) | C3: Quantidade Horas Mensal | D3: Valor Total Mensal (R$) | E3: Valor Anual (R$)
A4: Médico M1 | B4: ='M1 - HORA MÉDICA'!C152 -> 172.4 | C4: ='M1 - HORA MÉDICA'!G152 -> 7680 | D4: =B4*C4 -> 1324032 | E4: =D4*12 -> 15888384
A5: Médico M2 | B5: ='M2 - HORA MÉDICA'!C152 -> 234.81 | C5: ='M2 - HORA MÉDICA'!G152 -> 2800 | D5: =B5*C5 -> 657468 | E5: =D5*12 -> 7889616
A6: Médico M3 | B6: ='M3 - HORA MÉDICA'!C152 -> 237.28 | C6: ='M3 - HORA MÉDICA'!G152 -> 12960 | D6: =B6*C6 -> 3075148.8 | E6: =D6*12 -> 36901786
A7: Médico M4 | B7: ='M4 - HORA MÉDICA'!C152 -> 285.35 | C7: ='M4 - HORA MÉDICA'!G152 -> 4800 | D7: =B7*C7 -> 1369680 | E7: =D7*12 -> 16436160
A8: TOTAL | C8: =SUM(C4:C7) -> 28240 | D8: =SUM(D4:D7) -> 6426328.8 | E8: =SUM(E4:E7) -> 77115946
A14: OLDAIR PRIMIERI
A15: Contador PM Bento Gonçalves - RS
A16: Sec. de Finanças – CRC/RS-091476/O7

Sheet M1 - HORA MÉDICA
A1: PLANILHA DE CUSTOS E FORMAÇÃO DE PREÇOS
A2: Nº do processo:
A3: Licitação nº: | H3: Pregão:
A4: Data:
A5: DISCRIMINAÇÃO DOS SERVIÇOS (DADOS REFERENTES À CONTRATAÇÃO)
A6: A | B6: Data de apresentação da proposta (dia/mês/ano)
A7: B | B7: Município/UF | H7: Bento Gonçalves/RS
A8: C | B8: Ano do Acordo, Convenção ou Dissídio Coletivo | H8: Remuneração de Mercado aplicado à Lei nº 3.999, de 15 de dezembro de 1961
A9: D | B9: Número de meses de execução contratual | H9: 12
A10: E | B10: Quantidade de horas contratadas | H10: 7680
A11: IDENTIFICAÇÃO DO SERVIÇO
A12: 1. MÓDULOS Mão de obra Mão de obra vinculada à execução contratual
A14: Dados para composição dos custos referente à mão de obra
A15: 1 | B15: Tipo de Serviço (mesmo serviço com características distintas) | H15: MÉDICO – M1
A16: 2 | B16: Classificação Brasileira de Ocupações (CBO)
A17: 3 | B17: Média por hora conforme pesquisa de mercado | H17: 127.14
A18: 4 | B18: Categoria Profissional (vinculada à execução contratual) | H18: =H15 -> MÉDICO – M1
A19: 5 | B19: Data-Base do Cálculo (dia/mês/ano) | H19: 46091
A21: Módulo 1: Composição da Remuneração
A22: 1 | B22: Composição da Remuneração | H22: Percentual (R$) | J22: Valor (R$)
A23: A | B23: Hora base | J23: =ROUND(H17/220*220,2) -> 127.14
A24: B | B24: Outros (especificar) | I24: 0 | J24: =J23*I24 -> 0
A25: C
A26: Total | J26: =SUM(J23:J25) -> 127.14
A28: Módulo 2 – Encargos e Benefícios Anuais, Mensais e Diários
A29: Submódulo 2.1 – 13º (décimo terceiro) Salário e Adicional de Férias
A30: 2.1 | B30: 13º (décimo terceiro) Salário e Adicional de Férias | J30: Valor (R$)
A31: A | B31: 13º (décimo terceiro) Salário Obrigatória a cotação de 8,33% sobre o valor do Módulo 1 – Composição da Remuneração, conforme Anexo XII da IN 5/17 | J31: 0
A32: B | B32: Férias Obrigatória a cotação de 3,025% sobre o valor do Módulo 1 – Composição da Remuneração, conforme Anexo XII da IN 5/17 (Férias + Adicional = 9,075% + 3,025% = 12,10%) | J32: 0
A33: C | B33: Adicional de Férias | J33: 0
A34: Total | J34: =SUM(J31+J33+J32) -> 0
A36: Total | J36: =J34+J35 -> 0
A38: Submódulo 2.2 - Encargos Previdenciários (GPS), Fundo de Garantia por Tempo de Serviço (FGTS) e outras contribuições
A39: 2.2 | B39: GPS, FGTS e outras contribuições | I39: Percentual (%) | J39: Valor (R$)
A40: A | B40: INSS
A41: B | B41: Salário Educação
A42: C | B42: SAT (Seguro Acidente de Trabalho) | E42: RAT | F42: 1 | G42: FAP | H42: 1
A43: D | B43: SESC ou SESI
A44: E | B44: SENAC ou SENAI
A45: F | B45: SEBRAE
...

Sheet M2 - HORA MÉDICA
A1: PLANILHA DE CUSTOS E FORMAÇÃO DE PREÇOS
A2: Nº do processo:
A3: Licitação nº: | H3: Pregão:
A4: Data:
A5: DISCRIMINAÇÃO DOS SERVIÇOS (DADOS REFERENTES À CONTRATAÇÃO)
A6: A | B6: Data de apresentação da proposta (dia/mês/ano)
A7: B | B7: Município/UF | H7: Bento Gonçalves/RS
A8: C | B8: Ano do Acordo, Convenção ou Dissídio Coletivo | H8: Remuneração de Mercado aplicado à Lei nº 3.999, de 15 de dezembro de 1961
A9: D | B9: Número de meses de execução contratual | H9: 12
A10: E | B10: Quantidade de horas contratadas | H10: 2800
A11: IDENTIFICAÇÃO DO SERVIÇO
A12: 1. MÓDULOS Mão de obra Mão de obra vinculada à execução contratual
A14: Dados para composição dos custos referente à mão de obra
A15: 1 | B15: Tipo de Serviço (mesmo serviço com características distintas) | H15: MÉDICO – M2
A16: 2 | B16: Classificação Brasileira de Ocupações (CBO)
A17: 3 | B17: Média por hora conforme pesquisa de mercado | H17: 173.23
A18: 4 | B18: Categoria Profissional (vinculada à execução contratual) | H18: =H15 -> MÉDICO – M2
A19: 5 | B19: Data-Base do Cálculo (dia/mês/ano) | H19: 46091
A21: Módulo 1: Composição da Remuneração
A22: 1 | B22: Composição da Remuneração | H22: Percentual (R$) | J22: Valor (R$)
A23: A | B23: Hora base | J23: =ROUND(H17/220*220,2) -> 173.23
A24: B | B24: Outros (especificar) | I24: 0 | J24: =J23*I24 -> 0
A25: C
A26: Total | J26: =SUM(J23:J25) -> 173.23
A28: Módulo 2 – Encargos e Benefícios Anuais, Mensais e Diários
A29: Submódulo 2.1 – 13º (décimo terceiro) Salário e Adicional de Férias
A30: 2.1 | B30: 13º (décimo terceiro) Salário e Adicional de Férias | J30: Valor (R$)
A31: A | B31: 13º (décimo terceiro) Salário Obrigatória a cotação de 8,33% sobre o valor do Módulo 1 – Composição da Remuneração, conforme Anexo XII da IN 5/17 | J31: 0
A32: B | B32: Férias Obrigatória a cotação de 3,025% sobre o valor do Módulo 1 – Composição da Remuneração, conforme Anexo XII da IN 5/17 (Férias + Adicional = 9,075% + 3,025% = 12,10%) | J32: 0
A33: C | B33: Adicional de Férias | J33: 0
A34: Total | J34: =SUM(J31+J33+J32) -> 0
A36: Total | J36: =J34+J35 -> 0
A38: Submódulo 2.2 - Encargos Previdenciários (GPS), Fundo de Garantia por Tempo de Serviço (FGTS) e outras contribuições
A39: 2.2 | B39: GPS, FGTS e outras contribuições | I39: Percentual (%) | J39: Valor (R$)
A40: A | B40: INSS
A41: B | B41: Salário Educação
A42: C | B42: SAT (Seguro Acidente de Trabalho) | E42: RAT | F42: 1 | G42: FAP | H42: 1
A43: D | B43: SESC ou SESI
A44: E | B44: SENAC ou SENAI
A45: F | B45: SEBRAE
...

Sheet M3 - HORA MÉDICA
A1: PLANILHA DE CUSTOS E FORMAÇÃO DE PREÇOS
A2: Nº do processo:
A3: Licitação nº: | H3: Pregão:
A4: Data:
A5: DISCRIMINAÇÃO DOS SERVIÇOS (DADOS REFERENTES À CONTRATAÇÃO)
A6: A | B6: Data de apresentação da proposta (dia/mês/ano)
A7: B | B7: Município/UF | H7: Bento Gonçalves/RS
A8: C | B8: Ano do Acordo, Convenção ou Dissídio Coletivo | H8: Remuneração de Mercado aplicado à Lei nº 3.999, de 15 de dezembro de 1961
A9: D | B9: Número de meses de execução contratual | H9: 12
A10: E | B10: Quantidade de horas contratadas | H10: 12960
A11: IDENTIFICAÇÃO DO SERVIÇO
A12: 1. MÓDULOS Mão de obra Mão de obra vinculada à execução contratual
A14: Dados para composição dos custos referente à mão de obra
A15: 1 | B15: Tipo de Serviço (mesmo serviço com características distintas) | H15: MÉDICO – M3
A16: 2 | B16: Classificação Brasileira de Ocupações (CBO)
A17: 3 | B17: Média por hora conforme pesquisa de mercado | H17: 175.05
A18: 4 | B18: Categoria Profissional (vinculada à execução contratual) | H18: =H15 -> MÉDICO – M3
A19: 5 | B19: Data-Base do Cálculo (dia/mês/ano) | H19: 46091
A21: Módulo 1: Composição da Remuneração
A22: 1 | B22: Composição da Remuneração | H22: Percentual (R$) | J22: Valor (R$)
A23: A | B23: Hora base | J23: =ROUND(H17/220*220,2) -> 175.05
A24: B | B24: Outros (especificar) | I24: 0 | J24: =J23*I24 -> 0
A25: C
A26: Total | J26: =SUM(J23:J25) -> 175.05
A28: Módulo 2 – Encargos e Benefícios Anuais, Mensais e Diários
A29: Submódulo 2.1 – 13º (décimo terceiro) Salário e Adicional de Férias
A30: 2.1 | B30: 13º (décimo terceiro) Salário e Adicional de Férias | J30: Valor (R$)
A31: A | B31: 13º (décimo terceiro) Salário Obrigatória a cotação de 8,33% sobre o valor do Módulo 1 – Composição da Remuneração, conforme Anexo XII da IN 5/17 | J31: 0
A32: B | B32: Férias Obrigatória a cotação de 3,025% sobre o valor do Módulo 1 – Composição da Remuneração, conforme Anexo XII da IN 5/17 (Férias + Adicional = 9,075% + 3,025% = 12,10%) | J32: 0
A33: C | B33: Adicional de Férias | J33: 0
A34: Total | J34: =SUM(J31+J33+J32) -> 0
A36: Total | J36: =J34+J35 -> 0
A38: Submódulo 2.2 - Encargos Previdenciários (GPS), Fundo de Garantia por Tempo de Serviço (FGTS) e outras contribuições
A39: 2.2 | B39: GPS, FGTS e outras contribuições | I39: Percentual (%) | J39: Valor (R$)
A40: A | B40: INSS
A41: B | B41: Salário Educação
A42: C | B42: SAT (Seguro Acidente de Trabalho) | E42: RAT | F42: 1 | G42: FAP | H42: 1
A43: D | B43: SESC ou SESI
A44: E | B44: SENAC ou SENAI
A45: F | B45: SEBRAE
...

Sheet M4 - HORA MÉDICA
A1: PLANILHA DE CUSTOS E FORMAÇÃO DE PREÇOS
A2: Nº do processo:
A3: Licitação nº: | H3: Pregão:
A4: Data:
A5: DISCRIMINAÇÃO DOS SERVIÇOS (DADOS REFERENTES À CONTRATAÇÃO)
A6: A | B6: Data de apresentação da proposta (dia/mês/ano)
A7: B | B7: Município/UF | H7: Bento Gonçalves/RS
A8: C | B8: Ano do Acordo, Convenção ou Dissídio Coletivo | H8: Remuneração de Mercado aplicado à Lei nº 3.999, de 15 de dezembro de 1961
A9: D | B9: Número de meses de execução contratual | H9: 12
A10: E | B10: Quantidade de horas contratadas | H10: 4800
A11: IDENTIFICAÇÃO DO SERVIÇO
A12: 1. MÓDULOS Mão de obra Mão de obra vinculada à execução contratual
A14: Dados para composição dos custos referente à mão de obra
A15: 1 | B15: Tipo de Serviço (mesmo serviço com características distintas) | H15: MÉDICO – M4
A16: 2 | B16: Classificação Brasileira de Ocupações (CBO)
A17: 3 | B17: Média por hora conforme pesquisa de mercado | H17: 210.56
A18: 4 | B18: Categoria Profissional (vinculada à execução contratual) | H18: =H15 -> MÉDICO – M4
A19: 5 | B19: Data-Base do Cálculo (dia/mês/ano) | H19: 46091
A21: Módulo 1: Composição da Remuneração
A22: 1 | B22: Composição da Remuneração | H22: Percentual (R$) | J22: Valor (R$)
A23: A | B23: Hora base | J23: =ROUND(H17/220*220,2) -> 210.56
A24: B | B24: Outros (especificar) | I24: 0 | J24: =J23*I24 -> 0
A25: C
A26: Total | J26: =SUM(J23:J25) -> 210.56
A28: Módulo 2 – Encargos e Benefícios Anuais, Mensais e Diários
A29: Submódulo 2.1 – 13º (décimo terceiro) Salário e Adicional de Férias
A30: 2.1 | B30: 13º (décimo terceiro) Salário e Adicional de Férias | J30: Valor (R$)
A31: A | B31: 13º (décimo terceiro) Salário Obrigatória a cotação de 8,33% sobre o valor do Módulo 1 – Composição da Remuneração, conforme Anexo XII da IN 5/17 | J31: 0
A32: B | B32: Férias Obrigatória a cotação de 3,025% sobre o valor do Módulo 1 – Composição da Remuneração, conforme Anexo XII da IN 5/17 (Férias + Adicional = 9,075% + 3,025% = 12,10%) | J32: 0
A33: C | B33: Adicional de Férias | J33: 0
A34: Total | J34: =SUM(J31+J33+J32) -> 0
A36: Total | J36: =J34+J35 -> 0
A38: Submódulo 2.2 - Encargos Previdenciários (GPS), Fundo de Garantia por Tempo de Serviço (FGTS) e outras contribuições
A39: 2.2 | B39: GPS, FGTS e outras contribuições | I39: Percentual (%) | J39: Valor (R$)
A40: A | B40: INSS
A41: B | B41: Salário Educação
A42: C | B42: SAT (Seguro Acidente de Trabalho) | E42: RAT | F42: 1 | G42: FAP | H42: 1
A43: D | B43: SESC ou SESI
A44: E | B44: SENAC ou SENAI
A45: F | B45: SEBRAE
...
