Workbook
Name AbaDeprec: '2.Tabelas Auxiliares'!$A$79
Name AbaRemun: '2.Tabelas Auxiliares'!$A$97

Sheet Zeladoria - Serviços de limpeza
A1: MUNICÍPIO DE BENTO GONÇALVES ESTADO DO RIO GRANDE DO SUL Secretaria Municipal de Finanças
A7: Serviço de Limpeza de Áreas Públicas – Zeladoria
A8: Planilha de Composição de Custos
A10: Orçamento Sintético
A11: Descrição do Item | E11: Custo (R$/mês) | F11: %
A12: =A76 -> 1. Mão-de-obra | E12: =F190 -> 246388.98 | F12: =IFERROR(E12/$E$44,0) -> 0.42535962
A13: =A78 -> 1.1. Auxiliar Administrativo | E13: =F88 -> 3940.247 | F13: =IFERROR(E13/$E$44,0) -> 0.0068023415
A14: =A90 -> 1.2. Técnico Supervisor | E14: =F100 -> 7836.6837 | F14: =IFERROR(E14/$E$44,0) -> 0.01352905
A15: =A102 -> 1.3. Gari Ajudante | E15: =F112 -> 18804.094 | F15: =IFERROR(E15/$E$44,0) -> 0.032462905
A16: =A114 -> 1.4. Gari Varredor | E16: =F124 -> 79917.398 | F16: =IFERROR(E16/$E$44,0) -> 0.13796735
A17: =A126 -> 1.5. Roçador | E17: =F136 -> 56412.281 | F17: =IFERROR(E17/$E$44,0) -> 0.097388716
A18: =A138 -> 1.6. Motoristas Operadores | E18: =F148 -> 14249.037 | F18: =IFERROR(E18/$E$44,0) -> 0.024599173
A19: =A150 -> 1.7. Motoristas Caminhão/Caminhonete | E19: =F160 -> 39903.352 | F19: =IFERROR(E19/$E$44,0) -> 0.068888124
A20: =A162 -> 1.8. Vale Transporte | E20: =F174 -> 6826.431 | F20: =IFERROR(E20/$E$44,0) -> 0.011784976
A21: =A177 -> 1.9. Auxílio Alimentação (mensal) | E21: =F188 -> 18499.455 | F21: =IFERROR(E21/$E$44,0) -> 0.031936985
A22: =A192 -> 2. Uniformes e Equipamentos de Proteção Individual | E22: =+F249 -> 13477.877 | F22: =IFERROR(E22/$E$44,0) -> 0.023267861
A23: =A251 -> 3. Veículos e Equipamentos | E23: =F497 -> 192047.02 | F23: =IFERROR(E23/$E$44,0) -> 0.33154505
A24: =A253 -> 3.1. Caminhões e equipamentos acoplados | E24: =F373 -> 140180 | F24: =IFERROR(E24/$E$44,0) -> 0.24200315
A25: =A255 -> 3.1.1 Depreciação | E25: =F291 -> 23733.939 | F25: =IFERROR(E25/$E$44,0) -> 0.040973664
A26: =A293 -> 3.1.2 Remuneração do Capital | E26: =F328 -> 36025.702 | F26: =IFERROR(E26/$E$44,0) -> 0.062193848
A27: =A331 -> 3.1.3. Impostos e Seguros | E27: =F337 -> 5056.6808 | F27: =IFERROR(E27/$E$44,0) -> 0.0087297242
A28: =A339 -> 3.1.4. Consumos | E28: =F356 -> 54907.534 | F28: =IFERROR(E28/$E$44,0) -> 0.09479096
A29: =A358 -> 3.1.5. Manutenção | E29: =F363 -> 17160 | F29: =IFERROR(E29/$E$44,0) -> 0.029624584
A30: =A365 -> 3.1.6. Pneus | E30: =F372 -> 3296.1409 | F30: =IFERROR(E30/$E$44,0) -> 0.0056903732
A31: =A375 -> 3.2. Veículo Leve camionete | E31: =F445 -> 17646.813 | F31: =IFERROR(E31/$E$44,0) -> 0.030465006
A32: =A377 -> 3.2.1 Depreciação | E32: =F395 -> 2628.465 | F32: =IFERROR(E32/$E$44,0) -> 0.0045377146
A33: =A397 -> 3.2.2 Remuneração do Capital | E33: =F415 -> 3989.7421 | F33: =IFERROR(E33/$E$44,0) -> 0.0068877885
A34: =A417 -> 3.2.3. Impostos e Seguros | E34: =F423 -> 1841.4667 | F34: =IFERROR(E34/$E$44,0) -> 0.0031790609
A35: =A425 -> 3.2.4. Consumos | E35: =F433 -> 8209.1429 | F35: =IFERROR(E35/$E$44,0) -> 0.014172054
A36: =A435 -> 3.2.5. Manutenção | E36: =F438 -> 528 | F36: =IFERROR(E36/$E$44,0) -> 0.00091152567
A37: =A440 -> 3.2.6. Pneus | E37: =F444 -> 449.9968 | F37: =IFERROR(E37/$E$44,0) -> 0.00077686294
A38: =A447 -> 3.3. Equipamentos – Roçadeira e Soprador | E38: =F495 -> 34220.206 | F38: =IFERROR(E38/$E$44,0) -> 0.059076887
A39: =A449 -> 3.3.1 Depreciação | E39: =F462 -> 208.66915 | F39: =IFERROR(E39/$E$44,0) -> 0.00036024108
A40: =A464 -> 3.3.2 Remuneração do Capital | E40: =F477 -> 203.90814 | F40: =IFERROR(E40/$E$44,0) -> 0.00035202178
A41: =A479 -> 3.3.3. Consumos | E41: =F494 -> 33807.629 | F41: =IFERROR(E41/$E$44,0) -> 0.058364624
A42: =A499 -> 4. Ferramentas e Materiais de Consumo | E42: =+F518 -> 2078.32 | F42: =IFERROR(E42/$E$44,0) -> 0.0035879584
A43: =A523 -> 5. Benefícios e Despesas Indiretas - BDI | E43: =+F529 -> 125256.45 | F43: =IFERROR(E43/$E$44,0) -> 0.21623952
A44: PREÇO TOTAL MENSAL COM A COLETA | E44: =E12+E22+E23+E42+E43 -> 579248.64 | F44: =F12+F22+F23+F42+F43 -> 1
A46: Quantitativos
A47: Mão-de-obra | E47: Quantidade
...

Sheet 2.Tabelas Auxiliares
A1: Tabelas Auxiliares
A3: 2. Composição dos Encargos Sociais
A4: Código | B4: Descrição | D4: Valor
A5: A1 | B5: INSS | D5: 0.2
A6: A2 | B6: SESI | D6: 0.015
A7: A3 | B7: SENAI | D7: 0.01
A8: A4 | B8: INCRA | D8: 0.002
A9: A5 | B9: SEBRAE | D9: 0.006
A10: A6 | B10: Salário educação | D10: 0.025
A11: A7 | B11: Seguro contra acidentes de trabalho | D11: 0.03
A12: A8 | B12: FGTS | D12: 0.08
A13: A | B13: SOMA GRUPO A | D13: =SUM(D5:D12) -> 0.368
A15: B1 | B15: Férias gozadas | D15: =ROUND(IF('2.Tabelas Auxiliares'!C56>24,(1-12/'2.Tabelas Auxiliares'!C56)*0.1111,0.1111-D24),4) -> 0.0546
A16: B2 | B16: 13º salário | D16: =ROUND('2.Tabelas Auxiliares'!C60/'2.Tabelas Auxiliares'!C57,4) -> 0.0833
A17: B3 | B17: Licença Paternidade | D17: 0.0006
A18: B4 | B18: Faltas justificadas | D18: 0.0082
A19: B5 | B19: Auxilio acidente de trabalho | D19: 0.0031
A20: B6 | B20: Auxilio doença | D20: 0.0166
A21: B | B21: SOMA GRUPO B | D21: =SUM(D15:D20) -> 0.1664
A23: C1 | B23: Aviso prévio indenizado | D23: =ROUND(('2.Tabelas Auxiliares'!C61) *'2.Tabelas Auxiliares'!C54/'2.Tabelas Auxiliares'!C57,4) -> 0.029
A24: C2 | B24: Férias indenizadas | D24: =ROUND(IF('2.Tabelas Auxiliares'!C56>12,12/'2.Tabelas Auxiliares'!C56*0.1111,0.1111),4) -> 0.0565
A25: C3 | B25: Férias indenizadas s/ aviso previo inden. | D25: =D23*D24 -> 0.0016385
A26: C4 | B26: Depósito rescisão sem justa causa | D26: =ROUND(('2.Tabelas Auxiliares'!C57+'2.Tabelas Auxiliares'!C58+'2.Tabelas Auxiliares'!C60)/'2.Tabelas Auxiliares'!C55*'2.Tabelas Auxiliares'!C62*'2.Tabelas Auxiliares'!C63*'2.Tabelas Auxiliares'!C54/'2.Tabelas Auxiliares'!C57,4) -> 0.0203
A27: C5 | B27: Indenização adicional | D27: =ROUND(('2.Tabelas Auxiliares'!C59/'2.Tabelas Auxiliares'!C57)*'2.Tabelas Auxiliares'!C54/12,4) -> 0.002
A28: C | B28: SOMA GRUPO C | D28: =SUM(D23:D27) -> 0.1094385
A30: D1 | B30: Reincidência de Grupo A sobre Grupo B | D30: =ROUND(D13*D21,4) -> 0.0612
A31: D2 | B31: Reincidência de FGTS sobre aviso prévio indenizado | D31: =ROUND((D23*D12),4) -> 0.0023
A32: D | B32: SOMA GRUPO D | D32: =SUM(D30:D31) -> 0.0635
B33: SOMA (A+B+C+D) | D33: =D32+D28+D21+D13 -> 0.7073385
A35: 3. CAGED 2025
A36: Rio Grande do Sul - Atividades de limpeza - (CBO 5142-15 / 5142-25 - CNAE 81.29-0-00)
A37: Admissões | C37: 6845
A38: Desligamentos | C38: 6520
A39: Dispensados com justa causa | C39: 142
A40: Dispensados sem justa causa | C40: 3812
A41: Espontâneos | C41: 1118
A42: Fim de contrato por prazo determinado | C42: 75
A43: Término de contrato | C43: 1098
A44: Aposentados | C44: 4
A45: Mortos | C45: 89
...
