Workbook
Name Auxiliar: #REF!
Name Auxiliar: #REF!
Name CUSTO_VALE_TRANSPORTE: #REF!
Name CUSTO_VALE_TRANSPORTE: #REF!
Name ecwece4c: #REF!
Name ecwece4c: #REF!
Name MOMB4: '[1]SERVENTE MANUTENCAO'!$I$144
Name MONA1: #REF!
Name MONA1: #REF!
Name MONA2: #REF!
Name MONA2: #REF!
Name MONA3: [2]HIDRAULICO!$I$138
Name MONA4: '[2]SERVENTE (AUX PRODUCAO)'!$I$138
Name MONA5: #REF!
Name MONA5: #REF!
Name MONA6: #REF!
Name MONA6: #REF!
Name MONA7: #REF!
Name MONA7: #REF!
Name MONA8: [2]MECANICO_REFRIGERACAO!$I$138
Name MONB1: #REF!
Name MONB1: #REF!
Name MONB2: #REF!
Name MONB2: #REF!
Name MONB3: [2]HIDRAULICO!$I$144
Name MONB4: '[2]SERVENTE (AUX PRODUCAO)'!$I$144
Name MONB5: #REF!
Name MONB5: #REF!
Name MONB6: #REF!
Name MONB6: #REF!
Name MONB7: #REF!
Name MONB7: #REF!
Name MONB8: [2]MECANICO_REFRIGERACAO!$I$144
Name MONC1: #REF!
Name MONC1: #REF!
Name MONC2: #REF!
Name MONC2: #REF!
Name MONC3: [2]HIDRAULICO!$I$148
Name MONC4: '[2]SERVENTE (AUX PRODUCAO)'!$I$148
Name MONC5: #REF!
Name MONC5: #REF!
Name MONC6: #REF!
Name MONC6: #REF!
Name MONC7: #REF!
Name MONC7: #REF!
Name MONC8: [2]MECANICO_REFRIGERACAO!$I$148
Name mont: #REF!
Name mont: #REF!
Name MONTANTEA: #REF!
Name MONTANTEA: #REF!
Name MONTANTEA1: #REF!
Name MONTANTEA1: #REF!
Name MONTANTEA2: #REF!
Name MONTANTEA2: #REF!
Name MONTANTEB: #REF!
Name MONTANTEB: #REF!
Name MONTANTEB1: #REF!
Name MONTANTEB1: #REF!
Name MONTANTEB2: #REF!
Name MONTANTEB2: #REF!

Sheet Vigilante diurno
A1: PLANILHA DE CUSTOS E FORMAÇÃO DE PREÇOS DE SERVIÇOS CONTINUADOS COM DEDICAÇÃO EXCLUSIVA DE MÃO DE OBRA (ANEXO III - DECRETOS 52.768 de 15.12.2015)
A2: PROCESSO: | C2: 25/2000-0162808-8 | E2: REGIME DE TRIBUTAÇÃO: LUCRO REAL e PRESUMIDO (*)
A3: LICITAÇÃO/EDITAL | E3: ABERTURA:
A5: Cargo/Função: | D5: Vigilantes | G5: =IF(D6="12x36","Regime de trabalho:","Quantidade de HORAS/MÊS") -> Regime de trabalho: | I5: =IF(D6="12x36",D6,5*D6) -> 12X36
A6: =IF(D6="12x36","Regime de trabalho:","Regime de trabalho (horas semanais):") -> Regime de trabalho: | D6: 12X36
A7: Convenção Coletiva de Trabalho: | D7: CCT RS000837/2025 | G7: INSALUBRIDADE (10%, 20%, 40%) | I7: Não aplicável
A8: Origem do salário: | D8: CCT RS000837/2025
A9: Cidade: | D9: Porto Alegre | G9: PERICULOSIDADE (30%) | I9: 0.3
A10: Salário Normativo | G10: Vlr. do salário e nº de horas correspondentes | H10: 220 | I10: 2105.4
A11: ISS | H11: Alíquota | I11: 0.025
A12: Adicional Troca de Uniforme (somente para postos de vigilantes que prevêm pagamento para troca de uniforme na CCT) | G12: CCT | H12: Valor | I12: 1.59
A13: Quantidade de dias trabalhados no mês | I13: 15
A14: Tarifa Transporte | G14: CCT | H14: Vr. Unitário | I14: 5
H15: Dias | I15: =I13 -> 15
H16: Desconto | I16: 0.06
A17: Auxílio Alimentação | G17: CCT | H17: Vr. Unitário | I17: 30
H18: Dias | I18: =I13 -> 15
H19: Desconto | I19: 0.2
A20: Auxílio Lanche | G20: CCT | H20: Vr. Unitário | I20: 0
H21: Dias | I21: =I13 -> 15
H22: Desconto | I22: 0
A23: Custeio Compulsório para a Apredizagem - cláusula 93ª | G23: CCT | H23: Valor mensal | I23: 90.04
A24: Adicional de Supervisor (37%) | H24: Porcentagem
A25: Base de cálculo da insalubridade | H25: Valor | I25: Não aplicável
A26: Quantitativo de horas trabalhadas em feriados no mês (estimado) - Não aplicável para postos 12x36 | H26: Horas por mês | I26: Não aplicável
H27: Acréscimo da hora extra | I27: Não aplicável
A28: Hora Intervalar (somente para postos 12x36, quando for o caso) | H28: Horas por mês | I28: 15
A29: Sem fornecimento de materiais ou apenas fornecimento de EPIs ou uniformes, utilizar 10%. Com fornecimento de materiais ou equipamentos, utilizar 20%. (Decreto 52.768/2015, alterado pelo Decreto 53.424/2017) | H29: Porcentagem | I29: 0.2
A31: MONTANTE A
A32: I | B32: Remuneração - Grupo I | H32: % | I32: Valor Mensal/unidade de serviço (R$)
A33: 1 | B33: Salário | H33: =I33/$I$44 -> 0.75891438 | I33: =IF(D6="12x36",I10,I10/H10*I5) -> 2105.4
A34: =A33+1 -> 2 | B34: Adicional Periculosidade 30% | H34: =I34/$I$44 -> 0.23076923 | I34: =IF(I9=30%,(I33+I41+I42)*I9,0) -> 640.206
A35: =A34+1 -> 3 | B35: Adicional Insalubridade 10% (Ver súmula 228 e 139 TST) | H35: =I35/$I$44 -> 0 | I35: =IF(I7=10%,I25*I7,0) -> 0
A36: =A35+1 -> 4 | B36: Adicional Insalubridade 20% (Ver súmula 228 e 139 TST) | H36: =I36/$I$44 -> 0 | I36: =IF(I7=20%,I25*I7,0) -> 0
A37: =A36+1 -> 5 | B37: Adicional Insalubridade 40% (Ver súmula 228 e 139 TST) | H37: =I37/$I$44 -> 0 | I37: =IF(I7=40%,I25*I7,0) -> 0
A38: =A37+1 -> 6 | B38: Adicional de Supervisor (IN 02/2008 MPOG SLTI) | H38: =I38/$I$44 -> 0 | I38: =IF(I24="Não aplicável",0,I33*I24) -> 0
A39: =A38+1 -> 7 | B39: Feriados | H39: =I39/$I$44 -> 0 | I39: =IF(I26="Não aplicável",0,(I33+I34+I35+I36+I37+I38+I43)/I5*I26*(1+I27)) -> 0
A40: =A39+1 -> 8 | B40: DSR = número total das horas extras do mês / número de dias úteis X domingos e feriados do mês X valor da hora extra com acréscimo | H40: =I40/$I$44 -> 0 | I40: =IF(I26="Não aplicável",0,I26/I13*5*(I10/H10*(1+I27))) -> 0
A41: =A40+1 -> 9 | B41: Adicional Troca de Uniforme | H41: =I41/$I$44 -> 0.0085969925 | I41: =I12*I13 -> 23.85
A42: =A41+1 -> 10 | B42: Integração RSF (20% sobre Ad.Troca de Uniforme - somente para vigilantes) | H42: =I42/$I$44 -> 0.0017193985 | I42: =I41*20% -> 4.77
...

Sheet Vigilante noturno
A1: PLANILHA DE CUSTOS E FORMAÇÃO DE PREÇOS DE SERVIÇOS CONTINUADOS COM DEDICAÇÃO EXCLUSIVA DE MÃO DE OBRA (ANEXO III - DECRETOS 52.768 de 15.12.2015)
A2: PROCESSO: | C2: 25/2000-0162808-8 | E2: REGIME DE TRIBUTAÇÃO: LUCRO REAL e PRESUMIDO (*)
A3: LICITAÇÃO/EDITAL | E3: ABERTURA:
A5: Cargo/Função: | D5: Vigilantes | G5: =IF(D6="12x36","Regime de trabalho:","Quantidade de HORAS/MÊS") -> Regime de trabalho: | I5: =IF(D6="12x36",D6,5*D6) -> 12X36
A6: =IF(D6="12x36","Regime de trabalho:","Regime de trabalho (horas semanais):") -> Regime de trabalho: | D6: 12X36
A7: Convenção Coletiva de Trabalho: | D7: CCT RS000837/2025 | G7: INSALUBRIDADE (10%, 20%, 40%) | I7: Não aplicável
A8: Origem do salário: | D8: CCT RS000837/2025
A9: Cidade: | D9: Porto Alegre | G9: PERICULOSIDADE (30%) | I9: 0.3
A10: Salário Normativo | G10: Vlr. do salário e nº de horas correspondentes | H10: 220 | I10: 2105.4
A11: ISS | G11: =D9 -> Porto Alegre | H11: Alíquota | I11: 0.025
A12: Adicional Troca de Uniforme (somente para postos de vigilantes que prevêm pagamento para troca de uniforme na CCT) | G12: CCT | H12: Valor | I12: 1.59
A13: Quantidade de dias trabalhados no mês | I13: 15
A14: Tarifa Transporte | G14: CCT | H14: Vr. Unitário | I14: 5
H15: Dias | I15: =I13 -> 15
H16: Desconto | I16: 0.06
A17: Vale Alimentação | G17: CCT | H17: Vr. Unitário | I17: 30
H18: Dias | I18: =I13 -> 15
H19: Desconto | I19: 0.2
A20: Auxílio Lanche | G20: CCT | H20: Vr. Unitário | I20: 0
H21: Dias | I21: =I13 -> 15
H22: Desconto | I22: 0
A23: Custeio Compulsório para a Apredizagem - cláusula 93ª | G23: CCT | H23: Valor mensal | I23: 90.04
A24: Adicional de Supervisor (37%) | H24: Porcentagem
A25: Base de cálculo da insalubridade | H25: Valor | I25: Não aplicável
A26: Quantitativo de horas trabalhadas em feriados no mês (estimado) - Não aplicável para postos 12x36 | H26: Horas por mês | I26: Não aplicável
H27: Acréscimo da hora extra | I27: Não aplicável
A28: Hora Intervalar (somente para postos 12x36, quando for o caso) | H28: Horas por mês | I28: 15
A29: Sem fornecimento de materiais ou apenas fornecimento de EPIs ou uniformes, utilizar 10%. Com fornecimento de materiais ou equipamentos, utilizar 20%. (Decreto 52.768/2015, alterado pelo Decreto 53.424/2017) | H29: Porcentagem | I29: 0.2
A30: Adicional Noturno: Horas: [(60/52,5) x Nº de horas noturnas diárias] x Nº de dias trabalhados com hora noturna Valor hora: (vlr. do salário/nº de horas correspondente do salário) x 20% (noturno) | G30: CCT | H30: Nº horas | I30: =((60/52.5)*7)*15 -> 120
H31: Vr. Hora | I31: =I10/H10*20% -> 1.914
A32: Reduzida Noturna Horas Reduzidas: 60/52,5=1,143 x 7h noturnas = 8h noturnas 5h diurnas + 8h noturnas = 13h X 15 dias = 195 horas mensais 195h - 190,67 = 4,33 horas Valor hora: (vlr. do salário/nº de horas correspondente do salário) x 150% (H.Extra) | G32: CCT | H32: Nº horas | I32: =((5+7+1)*15)-190.67 -> 4.33
H33: Vr. Hora | I33: =(I10/H10)*1.5 -> 14.355
A35: MONTANTE A
A36: I | B36: Remuneração - Grupo I | H36: % | I36: Valor Mensal/unidade de serviço (R$)
A37: 1 | B37: Salário | H37: =I37/$I$52 -> 0.65192917 | I37: =IF(D6="12x36",I10,I10/H10*I5) -> 2105.4
A38: =A37+1 -> 2 | B38: Adicional Noturno 20% (Ver súmula 60 TST) | H38: =I38/$I$52 -> 0 | I38: 0
A39: =A38+1 -> 3 | B39: Adicional Periculosidade 30% | H39: =I39/$I$52 -> 0.23076923 | I39: =IF(I9=30%,(I37+I49+I46+I47+I48+I50)*I9,0) -> 745.26737
A40: =A39+1 -> 4 | B40: Adicional Insalubridade 10% (Ver súmula 228 e 139 TST) | H40: =I40/$I$52 -> 0 | I40: =IF(I7=10%,I25*I7,0) -> 0
A41: =A40+1 -> 5 | B41: Adicional Insalubridade 20% (Ver súmula 228 e 139 TST) | H41: =I41/$I$52 -> 0 | I41: =IF(I7=20%,I25*I7,0) -> 0
A42: =A41+1 -> 6 | B42: Adicional Insalubridade 40% (Ver súmula 228 e 139 TST) | H42: =I42/$I$52 -> 0 | I42: =IF(I7=40%,I25*I7,0) -> 0
...

Sheet Resumo
A2: Quadro Resumo Mensal
A3: Função | B3: Cidade | C3: Carga Horária | D3: Dias da semana | E3: Valor Unitário | F3: Nº de Postos | G3: Valor Total
A4: Vigilante Diurno | B4: POA | C4: 12x36 | E4: ='Vigilante diurno'!I177 -> 11638.18 | F4: 2 | G4: =F4*E4 -> 23276.36
A5: Vigilante Noturno | B5: POA | C5: 12x36 | E5: ='Vigilante noturno'!I185 -> 13307.1 | F5: 3 | G5: =F5*E5 -> 39921.3
A6: TOTAL | F6: =SUM(F4:F5) -> 5 | G6: =SUM(G4:G5) -> 63197.66
A8: Função | B8: Nº de Postos | C8: V. Unit Mont A | D8: V. Unit Mont B | E8: V. Unit Mont C | F8: V. Mont A | G8: V. Mont B | H8: V. Mont C
A9: Vigilante Diurno | B9: 2 | C9: ='Vigilante diurno'!I161*2 -> 10922.44 | D9: ='Vigilante diurno'!I167*2 -> 0 | E9: ='Vigilante diurno'!I171*2 -> 715.74 | F9: =C9*B9 -> 21844.88 | G9: =D9*B9 -> 0 | H9: =E9*B9 -> 1431.48
A10: Vigilante Noturno | B10: 3 | C10: ='Vigilante noturno'!I169*2 -> 12488.72 | D10: ='Vigilante noturno'!I175*2 -> 0 | E10: ='Vigilante noturno'!I179*2 -> 818.38 | F10: =C10*B10 -> 37466.16 | G10: =D10*B10 -> 0 | H10: =E10*B10 -> 2455.14
B11: =SUM(B9:B10) -> 5 | F11: =SUM(F9:F10) -> 59311.04 | G11: =SUM(G9:G10) -> 0 | H11: =SUM(H9:H10) -> 3886.62
G13: Montante A | H13: =F11 -> 59311.04
G14: Montante B | H14: =G11 -> 0
G15: Montante C | H15: =H11 -> 3886.62
G16: Total | H16: =SUM(H13:H15) -> 63197.66
