Workbook
Name Auxiliar: #REF!
Name Auxiliar: #REF!
Name Auxiliar: #REF!
Name Auxiliar: #REF!
Name Auxiliar: #REF!
Name Auxiliar: #REF!
Name Auxiliar: #REF!
Name Auxiliar: #REF!
Name CUSTO_VALE_TRANSPORTE: #REF!
Name CUSTO_VALE_TRANSPORTE: #REF!
Name CUSTO_VALE_TRANSPORTE: #REF!
Name CUSTO_VALE_TRANSPORTE: #REF!
Name CUSTO_VALE_TRANSPORTE: #REF!
Name CUSTO_VALE_TRANSPORTE: #REF!
Name CUSTO_VALE_TRANSPORTE: #REF!
Name CUSTO_VALE_TRANSPORTE: #REF!
Name ecwece4c: #REF!
Name ecwece4c: #REF!
Name ecwece4c: #REF!
Name ecwece4c: #REF!
Name ecwece4c: #REF!
Name ecwece4c: #REF!
Name ecwece4c: #REF!
Name ecwece4c: #REF!
Name MOMB4: '[1]SERVENTE MANUTENCAO'!$I$144
Name MONA1: #REF!
Name MONA1: #REF!
Name MONA1: #REF!
Name MONA1: #REF!
Name MONA1: #REF!
Name MONA1: #REF!
Name MONA1: #REF!
Name MONA1: #REF!
Name MONA2: #REF!
Name MONA2: #REF!
Name MONA2: #REF!
Name MONA2: #REF!
Name MONA2: #REF!
Name MONA2: #REF!
Name MONA2: #REF!
Name MONA2: #REF!
Name MONA3: [2]HIDRAULICO!$I$138
Name MONA4: '[2]SERVENTE (AUX PRODUCAO)'!$I$138
Name MONA5: #REF!
Name MONA5: #REF!
Name MONA5: #REF!
Name MONA5: #REF!
Name MONA5: #REF!
Name MONA5: #REF!
Name MONA5: #REF!
Name MONA5: #REF!
Name MONA6: #REF!
Name MONA6: #REF!
Name MONA6: #REF!
Name MONA6: #REF!
Name MONA6: #REF!
Name MONA6: #REF!
Name MONA6: #REF!
Name MONA6: #REF!
Name MONA7: #REF!

Sheet Santa Maria
A1: PLANILHA DE CUSTOS E FORMAÇÃO DE PREÇOS DE SERVIÇOS CONTINUADOS COM DEDICAÇÃO EXCLUSIVA DE MÃO DE OBRA (ANEXO III - DECRETO 52.768 de 15.12.2015)
A2: PROCESSO: | C2: 24/2100-0000042-7 | E2: REGIME DE TRIBUTAÇÃO: LUCRO REAL
A3: LICITAÇÃO/EDITAL | E3: ABERTURA:
A4: Cargo/Função: | D4: Jovem Aprendiz | G4: =IF(D5="12x36","Regime de trabalho:","Quantidade de HORAS/MÊS") -> Quantidade de HORAS/MÊS | I4: =IF(D5="12x36",D5,5*D5) -> 100
A5: =IF(D5="12x36","Regime de trabalho:","Regime de trabalho (horas semanais):") -> Regime de trabalho (horas semanais): | D5: 20
A6: Convenção Coletiva de Trabalho: | D6: -- | G6: INSALUBRIDADE (10%, 20%, 40%) | I6: Não aplicável
A7: Origem do salário: | D7: Lei Estadual nº 16.040/2023 - Categoria IV
A8: Cidade: | D8: Santa Maria | G8: PERICULOSIDADE (30%) | I8: Não aplicável
A9: Salário Normativo | G9: Vlr. do salário e nº de horas correspondentes | H9: 220 | I9: 1711.69
A10: ISS | G10: =D8 -> Santa Maria | H10: Alíquota | I10: 0
A11: Tarifa Transporte | G11: CCT | H11: Vr. Unitário | I11: 6.15
H12: Dias | I12: 22
H13: Desconto | I13: 0.06
A14: Auxílio Alimentação | G14: CCT | H14: Vr. Unitário | I14: 200
H15: Mês | I15: 1
H16: Desconto | I16: 0.2
A17: Auxílio Lanche | G17: CCT | H17: Vr. Unitário | I17: 0
H18: Dias | I18: 0
H19: Desconto | I19: 0
A20: Despesas Atividades Teóricas | G20: CCT | H20: Valor mensal | I20: 428.1
A21: Adicional de Supervisor (37%) | H21: Porcentagem | I21: Não aplicável
A22: Base de cálculo da insalubridade | H22: Valor | I22: Não aplicável
A23: Quantitativo de horas trabalhadas em feriados no mês (estimado) - Não aplicável para postos 12x36 | H23: Horas por mês | I23: Não aplicável
H24: Acréscimo da hora extra | I24: Não aplicável
A25: Hora Intervalar (somente para postos 12x36, quando for o caso) | H25: Horas por mês | I25: Não aplicável
A26: Sem fornecimento de materiais ou apenas fornecimento de EPIs ou uniformes, utilizar 10%. Com fornecimento de materiais ou equipamentos, utilizar 20%. (Decreto 52.768/2015, alterado pelo Decreto 53.424/2017) | H26: Porcentagem | I26: 0.1
A28: MONTANTE A
A29: I | B29: Remuneração - Grupo I | H29: % | I29: Valor Mensal/unidade de serviço (R$)
A30: 1 | B30: Salário | H30: =I30/$I$39 -> 1 | I30: =IF(D5="12x36",I9,I9/H9*I4) -> 778.04091
A31: =A30+1 -> 2 | B31: Adicional Periculosidade 30% (Ver súmulas 364, 132 e 191 do TST) | H31: =I31/$I$39 -> 0 | I31: =IF(I8=30%,I30*I8,0) -> 0
A32: =A31+1 -> 3 | B32: Adicional Insalubridade 10% (Ver súmula 228 e 139 TST) | H32: =I32/$I$39 -> 0 | I32: =IF(I6=10%,I22*I6,0) -> 0
A33: =A32+1 -> 4 | B33: Adicional Insalubridade 20% (Ver súmula 228 e 139 TST) | H33: =I33/$I$39 -> 0 | I33: =IF(I6=20%,I22*I6,0) -> 0
A34: =A33+1 -> 5 | B34: Adicional Insalubridade 40% (Ver súmula 228 e 139 TST) | H34: =I34/$I$39 -> 0 | I34: =IF(I6=40%,I22*I6,0) -> 0
A35: =A34+1 -> 6 | B35: Adicional de Supervisor (IN 05/2017 MPOG SLTI) | H35: =I35/$I$39 -> 0 | I35: =IF(I21="Não aplicável",0,I30*I21) -> 0
A36: =A35+1 -> 7 | B36: Feriados | H36: =I36/$I$39 -> 0 | I36: =IF(I23="Não aplicável",0,(I30+I31+I32+I33+I34+I35+I38)/I4*I23*(1+I24)) -> 0
A37: =A36+1 -> 8 | B37: DSR = número total das horas extras do mês / número de dias úteis X domingos e feriados do mês X valor da hora extra com acréscimo | H37: =I37/$I$39 -> 0 | I37: =IF(I23="Não aplicável",0,I23/I12*5*(I9/H9*(1+I24))) -> 0
A38: =A37+1 -> 9 | B38: =IF(D5="12x36","Para postos 12x36 os feriados são considerados compensados, conforme parágrafo único, Art. 59-A da CLT","Outros") -> Outros | H38: =I38/$I$39 -> 0 | I38: 0
A39: Total de Remuneração | H39: =SUM(H30:H38) -> 1 | I39: =SUM(I30:I38) -> 778.04091
A41: II | B41: Encargos Sociais - Grupo II: Obrigações Sociais | H41: % | I41: Valor Mensal/unidade de serviço (R$)
A42: 1 | B42: INSS (art. 22, inc. I, Lei nº 8.212/91) | H42: 0.2 | I42: =$I$39*H42 -> 155.60818
...

Sheet São Leopoldo
A1: PLANILHA DE CUSTOS E FORMAÇÃO DE PREÇOS DE SERVIÇOS CONTINUADOS COM DEDICAÇÃO EXCLUSIVA DE MÃO DE OBRA (ANEXO III - DECRETO 52.768 de 15.12.2015)
A2: PROCESSO: | C2: 24/2100-0000042-7 | E2: REGIME DE TRIBUTAÇÃO: LUCRO PRESUMIDO
A3: LICITAÇÃO/EDITAL | E3: ABERTURA:
A4: Cargo/Função: | D4: Jovem Aprendiz | G4: =IF(D5="12x36","Regime de trabalho:","Quantidade de HORAS/MÊS") -> Quantidade de HORAS/MÊS | I4: =IF(D5="12x36",D5,5*D5) -> 100
A5: =IF(D5="12x36","Regime de trabalho:","Regime de trabalho (horas semanais):") -> Regime de trabalho (horas semanais): | D5: 20
A6: Convenção Coletiva de Trabalho: | D6: -- | G6: INSALUBRIDADE (10%, 20%, 40%) | I6: Não aplicável
A7: Origem do salário: | D7: Lei Estadual nº 16.040/2023 - Categoria IV
A8: Cidade: | D8: São Leopoldo | G8: PERICULOSIDADE (30%) | I8: Não aplicável
A9: Salário Normativo | G9: Vlr. do salário e nº de horas correspondentes | H9: 220 | I9: 1711.69
A10: ISS | G10: =D8 -> São Leopoldo | H10: Alíquota | I10: 0
A11: Tarifa Transporte | G11: CCT | H11: Vr. Unitário | I11: 4.8
H12: Dias | I12: 22
H13: Desconto | I13: 0.06
A14: Auxílio Alimentação | G14: CCT | H14: Vr. Unitário | I14: 200
H15: Mês | I15: 1
H16: Desconto | I16: 0.2
A17: Auxílio Lanche | G17: CCT | H17: Vr. Unitário | I17: 0
H18: Dias | I18: 0
H19: Desconto | I19: 0
A20: Despesas Atividades Teóricas | G20: CCT | H20: Valor mensal | I20: 428.1
A21: Adicional de Supervisor (37%) | H21: Porcentagem | I21: Não aplicável
A22: Base de cálculo da insalubridade | H22: Valor | I22: Não aplicável
A23: Quantitativo de horas trabalhadas em feriados no mês (estimado) - Não aplicável para postos 12x36 | H23: Horas por mês | I23: Não aplicável
H24: Acréscimo da hora extra | I24: Não aplicável
A25: Hora Intervalar (somente para postos 12x36, quando for o caso) | H25: Horas por mês | I25: Não aplicável
A26: Sem fornecimento de materiais ou apenas fornecimento de EPIs ou uniformes, utilizar 10%. Com fornecimento de materiais ou equipamentos, utilizar 20%. (Decreto 52.768/2015, alterado pelo Decreto 53.424/2017) | H26: Porcentagem | I26: 0.1
A28: MONTANTE A
A29: I | B29: Remuneração - Grupo I | H29: % | I29: Valor Mensal/unidade de serviço (R$)
A30: 1 | B30: Salário | H30: =I30/$I$39 -> 1 | I30: =IF(D5="12x36",I9,I9/H9*I4) -> 778.04091
A31: =A30+1 -> 2 | B31: Adicional Periculosidade 30% (Ver súmulas 364, 132 e 191 do TST) | H31: =I31/$I$39 -> 0 | I31: =IF(I8=30%,I30*I8,0) -> 0
A32: =A31+1 -> 3 | B32: Adicional Insalubridade 10% (Ver súmula 228 e 139 TST) | H32: =I32/$I$39 -> 0 | I32: =IF(I6=10%,I22*I6,0) -> 0
A33: =A32+1 -> 4 | B33: Adicional Insalubridade 20% (Ver súmula 228 e 139 TST) | H33: =I33/$I$39 -> 0 | I33: =IF(I6=20%,I22*I6,0) -> 0
A34: =A33+1 -> 5 | B34: Adicional Insalubridade 40% (Ver súmula 228 e 139 TST) | H34: =I34/$I$39 -> 0 | I34: =IF(I6=40%,I22*I6,0) -> 0
A35: =A34+1 -> 6 | B35: Adicional de Supervisor (IN 05/2017 MPOG SLTI) | H35: =I35/$I$39 -> 0 | I35: =IF(I21="Não aplicável",0,I30*I21) -> 0
A36: =A35+1 -> 7 | B36: Feriados | H36: =I36/$I$39 -> 0 | I36: =IF(I23="Não aplicável",0,(I30+I31+I32+I33+I34+I35+I38)/I4*I23*(1+I24)) -> 0
A37: =A36+1 -> 8 | B37: DSR = número total das horas extras do mês / número de dias úteis X domingos e feriados do mês X valor da hora extra com acréscimo | H37: =I37/$I$39 -> 0 | I37: =IF(I23="Não aplicável",0,I23/I12*5*(I9/H9*(1+I24))) -> 0
A38: =A37+1 -> 9 | B38: =IF(D5="12x36","Para postos 12x36 os feriados são considerados compensados, conforme parágrafo único, Art. 59-A da CLT","Outros") -> Outros | H38: =I38/$I$39 -> 0 | I38: 0
A39: Total de Remuneração | H39: =SUM(H30:H38) -> 1 | I39: =SUM(I30:I38) -> 778.04091
A41: II | B41: Encargos Sociais - Grupo II: Obrigações Sociais | H41: % | I41: Valor Mensal/unidade de serviço (R$)
A42: 1 | B42: INSS (art. 22, inc. I, Lei nº 8.212/91) | H42: 0.2 | I42: =$I$39*H42 -> 155.60818
...

Sheet Novo Hamburgo
A1: PLANILHA DE CUSTOS E FORMAÇÃO DE PREÇOS DE SERVIÇOS CONTINUADOS COM DEDICAÇÃO EXCLUSIVA DE MÃO DE OBRA (ANEXO III - DECRETO 52.768 de 15.12.2015)
A2: PROCESSO: | C2: 24/2100-0000042-7 | E2: REGIME DE TRIBUTAÇÃO: LUCRO PRESUMIDO
A3: LICITAÇÃO/EDITAL | E3: ABERTURA:
A4: Cargo/Função: | D4: Jovem Aprendiz | G4: =IF(D5="12x36","Regime de trabalho:","Quantidade de HORAS/MÊS") -> Quantidade de HORAS/MÊS | I4: =IF(D5="12x36",D5,5*D5) -> 100
A5: =IF(D5="12x36","Regime de trabalho:","Regime de trabalho (horas semanais):") -> Regime de trabalho (horas semanais): | D5: 20
A6: Convenção Coletiva de Trabalho: | D6: -- | G6: INSALUBRIDADE (10%, 20%, 40%) | I6: Não aplicável
A7: Origem do salário: | D7: Lei Estadual nº 16.040/2023 - Categoria IV
A8: Cidade: | D8: Novo Hamburgo | G8: PERICULOSIDADE (30%) | I8: Não aplicável
A9: Salário Normativo | G9: Vlr. do salário e nº de horas correspondentes | H9: 220 | I9: 1711.69
A10: ISS | G10: =D8 -> Novo Hamburgo | H10: Alíquota | I10: 0
A11: Tarifa Transporte | G11: CCT | H11: Vr. Unitário | I11: 5
H12: Dias | I12: 22
H13: Desconto | I13: 0.06
A14: Auxílio Alimentação | G14: CCT | H14: Vr. Unitário | I14: 200
H15: Mês | I15: 1
H16: Desconto | I16: 0.2
A17: Auxílio Lanche | G17: CCT | H17: Vr. Unitário | I17: 0
H18: Dias | I18: 0
H19: Desconto | I19: 0
A20: Despesas Atividades Teóricas | G20: CCT | H20: Valor mensal | I20: 428.1
A21: Adicional de Supervisor (37%) | H21: Porcentagem | I21: Não aplicável
A22: Base de cálculo da insalubridade | H22: Valor | I22: Não aplicável
A23: Quantitativo de horas trabalhadas em feriados no mês (estimado) - Não aplicável para postos 12x36 | H23: Horas por mês | I23: Não aplicável
H24: Acréscimo da hora extra | I24: Não aplicável
A25: Hora Intervalar (somente para postos 12x36, quando for o caso) | H25: Horas por mês | I25: Não aplicável
A26: Sem fornecimento de materiais ou apenas fornecimento de EPIs ou uniformes, utilizar 10%. Com fornecimento de materiais ou equipamentos, utilizar 20%. (Decreto 52.768/2015, alterado pelo Decreto 53.424/2017) | H26: Porcentagem | I26: 0.1
A28: MONTANTE A
A29: I | B29: Remuneração - Grupo I | H29: % | I29: Valor Mensal/unidade de serviço (R$)
A30: 1 | B30: Salário | H30: =I30/$I$39 -> 1 | I30: =IF(D5="12x36",I9,I9/H9*I4) -> 778.04091
A31: =A30+1 -> 2 | B31: Adicional Periculosidade 30% (Ver súmulas 364, 132 e 191 do TST) | H31: =I31/$I$39 -> 0 | I31: =IF(I8=30%,I30*I8,0) -> 0
A32: =A31+1 -> 3 | B32: Adicional Insalubridade 10% (Ver súmula 228 e 139 TST) | H32: =I32/$I$39 -> 0 | I32: =IF(I6=10%,I22*I6,0) -> 0
A33: =A32+1 -> 4 | B33: Adicional Insalubridade 20% (Ver súmula 228 e 139 TST) | H33: =I33/$I$39 -> 0 | I33: =IF(I6=20%,I22*I6,0) -> 0
A34: =A33+1 -> 5 | B34: Adicional Insalubridade 40% (Ver súmula 228 e 139 TST) | H34: =I34/$I$39 -> 0 | I34: =IF(I6=40%,I22*I6,0) -> 0
A35: =A34+1 -> 6 | B35: Adicional de Supervisor (IN 05/2017 MPOG SLTI) | H35: =I35/$I$39 -> 0 | I35: =IF(I21="Não aplicável",0,I30*I21) -> 0
A36: =A35+1 -> 7 | B36: Feriados | H36: =I36/$I$39 -> 0 | I36: =IF(I23="Não aplicável",0,(I30+I31+I32+I33+I34+I35+I38)/I4*I23*(1+I24)) -> 0
A37: =A36+1 -> 8 | B37: DSR = número total das horas extras do mês / número de dias úteis X domingos e feriados do mês X valor da hora extra com acréscimo | H37: =I37/$I$39 -> 0 | I37: =IF(I23="Não aplicável",0,I23/I12*5*(I9/H9*(1+I24))) -> 0
A38: =A37+1 -> 9 | B38: =IF(D5="12x36","Para postos 12x36 os feriados são considerados compensados, conforme parágrafo único, Art. 59-A da CLT","Outros") -> Outros | H38: =I38/$I$39 -> 0 | I38: 0
A39: Total de Remuneração | H39: =SUM(H30:H38) -> 1 | I39: =SUM(I30:I38) -> 778.04091
A41: II | B41: Encargos Sociais - Grupo II: Obrigações Sociais | H41: % | I41: Valor Mensal/unidade de serviço (R$)
A42: 1 | B42: INSS (art. 22, inc. I, Lei nº 8.212/91) | H42: 0.2 | I42: =$I$39*H42 -> 155.60818
...

Sheet Canoas
A1: PLANILHA DE CUSTOS E FORMAÇÃO DE PREÇOS DE SERVIÇOS CONTINUADOS COM DEDICAÇÃO EXCLUSIVA DE MÃO DE OBRA (ANEXO III - DECRETO 52.768 de 15.12.2015)
A2: PROCESSO: | C2: 24/2100-0000042-7 | E2: REGIME DE TRIBUTAÇÃO: LUCRO PRESUMIDO
A3: LICITAÇÃO/EDITAL | E3: ABERTURA:
A4: Cargo/Função: | D4: Jovem Aprendiz | G4: =IF(D5="12x36","Regime de trabalho:","Quantidade de HORAS/MÊS") -> Quantidade de HORAS/MÊS | I4: =IF(D5="12x36",D5,5*D5) -> 100
A5: =IF(D5="12x36","Regime de trabalho:","Regime de trabalho (horas semanais):") -> Regime de trabalho (horas semanais): | D5: 20
A6: Convenção Coletiva de Trabalho: | D6: -- | G6: INSALUBRIDADE (10%, 20%, 40%) | I6: Não aplicável
A7: Origem do salário: | D7: Lei Estadual nº 16.040/2023 - Categoria IV
A8: Cidade: | D8: Canoas | G8: PERICULOSIDADE (30%) | I8: Não aplicável
A9: Salário Normativo | G9: Vlr. do salário e nº de horas correspondentes | H9: 220 | I9: 1711.69
A10: ISS | G10: =D8 -> Canoas | H10: Alíquota | I10: 0
A11: Tarifa Transporte | G11: CCT | H11: Vr. Unitário | I11: 4.8
H12: Dias | I12: 22
H13: Desconto | I13: 0.06
A14: Auxílio Alimentação | G14: CCT | H14: Vr. Unitário | I14: 200
H15: Mês | I15: 1
H16: Desconto | I16: 0.2
A17: Auxílio Lanche | G17: CCT | H17: Vr. Unitário | I17: 0
H18: Dias | I18: 0
H19: Desconto | I19: 0
A20: Despesas Atividades Teóricas | G20: CCT | H20: Valor mensal | I20: 428.1
A21: Adicional de Supervisor (37%) | H21: Porcentagem | I21: Não aplicável
A22: Base de cálculo da insalubridade | H22: Valor | I22: Não aplicável
A23: Quantitativo de horas trabalhadas em feriados no mês (estimado) - Não aplicável para postos 12x36 | H23: Horas por mês | I23: Não aplicável
H24: Acréscimo da hora extra | I24: Não aplicável
A25: Hora Intervalar (somente para postos 12x36, quando for o caso) | H25: Horas por mês | I25: Não aplicável
A26: Sem fornecimento de materiais ou apenas fornecimento de EPIs ou uniformes, utilizar 10%. Com fornecimento de materiais ou equipamentos, utilizar 20%. (Decreto 52.768/2015, alterado pelo Decreto 53.424/2017) | H26: Porcentagem | I26: 0.1
A28: MONTANTE A
A29: I | B29: Remuneração - Grupo I | H29: % | I29: Valor Mensal/unidade de serviço (R$)
A30: 1 | B30: Salário | H30: =I30/$I$39 -> 1 | I30: =IF(D5="12x36",I9,I9/H9*I4) -> 778.04091
A31: =A30+1 -> 2 | B31: Adicional Periculosidade 30% (Ver súmulas 364, 132 e 191 do TST) | H31: =I31/$I$39 -> 0 | I31: =IF(I8=30%,I30*I8,0) -> 0
A32: =A31+1 -> 3 | B32: Adicional Insalubridade 10% (Ver súmula 228 e 139 TST) | H32: =I32/$I$39 -> 0 | I32: =IF(I6=10%,I22*I6,0) -> 0
A33: =A32+1 -> 4 | B33: Adicional Insalubridade 20% (Ver súmula 228 e 139 TST) | H33: =I33/$I$39 -> 0 | I33: =IF(I6=20%,I22*I6,0) -> 0
A34: =A33+1 -> 5 | B34: Adicional Insalubridade 40% (Ver súmula 228 e 139 TST) | H34: =I34/$I$39 -> 0 | I34: =IF(I6=40%,I22*I6,0) -> 0
A35: =A34+1 -> 6 | B35: Adicional de Supervisor (IN 05/2017 MPOG SLTI) | H35: =I35/$I$39 -> 0 | I35: =IF(I21="Não aplicável",0,I30*I21) -> 0
A36: =A35+1 -> 7 | B36: Feriados | H36: =I36/$I$39 -> 0 | I36: =IF(I23="Não aplicável",0,(I30+I31+I32+I33+I34+I35+I38)/I4*I23*(1+I24)) -> 0
A37: =A36+1 -> 8 | B37: DSR = número total das horas extras do mês / número de dias úteis X domingos e feriados do mês X valor da hora extra com acréscimo | H37: =I37/$I$39 -> 0 | I37: =IF(I23="Não aplicável",0,I23/I12*5*(I9/H9*(1+I24))) -> 0
A38: =A37+1 -> 9 | B38: =IF(D5="12x36","Para postos 12x36 os feriados são considerados compensados, conforme parágrafo único, Art. 59-A da CLT","Outros") -> Outros | H38: =I38/$I$39 -> 0 | I38: 0
A39: Total de Remuneração | H39: =SUM(H30:H38) -> 1 | I39: =SUM(I30:I38) -> 778.04091
A41: II | B41: Encargos Sociais - Grupo II: Obrigações Sociais | H41: % | I41: Valor Mensal/unidade de serviço (R$)
A42: 1 | B42: INSS (art. 22, inc. I, Lei nº 8.212/91) | H42: 0.2 | I42: =$I$39*H42 -> 155.60818
...

Sheet Caxias do Sul
A1: PLANILHA DE CUSTOS E FORMAÇÃO DE PREÇOS DE SERVIÇOS CONTINUADOS COM DEDICAÇÃO EXCLUSIVA DE MÃO DE OBRA (ANEXO III - DECRETO 52.768 de 15.12.2015)
A2: PROCESSO: | C2: 24/2100-0000042-7 | E2: REGIME DE TRIBUTAÇÃO: LUCRO PRESUMIDO
A3: LICITAÇÃO/EDITAL | E3: ABERTURA:
A4: Cargo/Função: | D4: Jovem Aprendiz | G4: =IF(D5="12x36","Regime de trabalho:","Quantidade de HORAS/MÊS") -> Quantidade de HORAS/MÊS | I4: =IF(D5="12x36",D5,5*D5) -> 100
A5: =IF(D5="12x36","Regime de trabalho:","Regime de trabalho (horas semanais):") -> Regime de trabalho (horas semanais): | D5: 20
A6: Convenção Coletiva de Trabalho: | D6: -- | G6: INSALUBRIDADE (10%, 20%, 40%) | I6: Não aplicável
A7: Origem do salário: | D7: Lei Estadual nº 16.040/2023 - Categoria IV
A8: Cidade: | D8: Caxias do Sul | G8: PERICULOSIDADE (30%) | I8: Não aplicável
A9: Salário Normativo | G9: Vlr. do salário e nº de horas correspondentes | H9: 220 | I9: 1711.69
A10: ISS | G10: =D8 -> Caxias do Sul | H10: Alíquota | I10: 0
A11: Tarifa Transporte | G11: CCT | H11: Vr. Unitário | I11: 6.1
H12: Dias | I12: 22
H13: Desconto | I13: 0.06
A14: Auxílio Alimentação | G14: CCT | H14: Vr. Unitário | I14: 200
H15: Mês | I15: 1
H16: Desconto | I16: 0.2
A17: Auxílio Lanche | G17: CCT | H17: Vr. Unitário | I17: 0
H18: Dias | I18: 0
H19: Desconto | I19: 0
A20: Despesas Atividades Teóricas | G20: CCT | H20: Valor mensal | I20: 428.1
A21: Adicional de Supervisor (37%) | H21: Porcentagem | I21: Não aplicável
A22: Base de cálculo da insalubridade | H22: Valor | I22: Não aplicável
A23: Quantitativo de horas trabalhadas em feriados no mês (estimado) - Não aplicável para postos 12x36 | H23: Horas por mês | I23: Não aplicável
H24: Acréscimo da hora extra | I24: Não aplicável
A25: Hora Intervalar (somente para postos 12x36, quando for o caso) | H25: Horas por mês | I25: Não aplicável
A26: Sem fornecimento de materiais ou apenas fornecimento de EPIs ou uniformes, utilizar 10%. Com fornecimento de materiais ou equipamentos, utilizar 20%. (Decreto 52.768/2015, alterado pelo Decreto 53.424/2017) | H26: Porcentagem | I26: 0.1
A28: MONTANTE A
A29: I | B29: Remuneração - Grupo I | H29: % | I29: Valor Mensal/unidade de serviço (R$)
A30: 1 | B30: Salário | H30: =I30/$I$39 -> 1 | I30: =IF(D5="12x36",I9,I9/H9*I4) -> 778.04091
A31: =A30+1 -> 2 | B31: Adicional Periculosidade 30% (Ver súmulas 364, 132 e 191 do TST) | H31: =I31/$I$39 -> 0 | I31: =IF(I8=30%,I30*I8,0) -> 0
A32: =A31+1 -> 3 | B32: Adicional Insalubridade 10% (Ver súmula 228 e 139 TST) | H32: =I32/$I$39 -> 0 | I32: =IF(I6=10%,I22*I6,0) -> 0
A33: =A32+1 -> 4 | B33: Adicional Insalubridade 20% (Ver súmula 228 e 139 TST) | H33: =I33/$I$39 -> 0 | I33: =IF(I6=20%,I22*I6,0) -> 0
A34: =A33+1 -> 5 | B34: Adicional Insalubridade 40% (Ver súmula 228 e 139 TST) | H34: =I34/$I$39 -> 0 | I34: =IF(I6=40%,I22*I6,0) -> 0
A35: =A34+1 -> 6 | B35: Adicional de Supervisor (IN 05/2017 MPOG SLTI) | H35: =I35/$I$39 -> 0 | I35: =IF(I21="Não aplicável",0,I30*I21) -> 0
A36: =A35+1 -> 7 | B36: Feriados | H36: =I36/$I$39 -> 0 | I36: =IF(I23="Não aplicável",0,(I30+I31+I32+I33+I34+I35+I38)/I4*I23*(1+I24)) -> 0
A37: =A36+1 -> 8 | B37: DSR = número total das horas extras do mês / número de dias úteis X domingos e feriados do mês X valor da hora extra com acréscimo | H37: =I37/$I$39 -> 0 | I37: =IF(I23="Não aplicável",0,I23/I12*5*(I9/H9*(1+I24))) -> 0
A38: =A37+1 -> 9 | B38: =IF(D5="12x36","Para postos 12x36 os feriados são considerados compensados, conforme parágrafo único, Art. 59-A da CLT","Outros") -> Outros | H38: =I38/$I$39 -> 0 | I38: 0
A39: Total de Remuneração | H39: =SUM(H30:H38) -> 1 | I39: =SUM(I30:I38) -> 778.04091
A41: II | B41: Encargos Sociais - Grupo II: Obrigações Sociais | H41: % | I41: Valor Mensal/unidade de serviço (R$)
A42: 1 | B42: INSS (art. 22, inc. I, Lei nº 8.212/91) | H42: 0.2 | I42: =$I$39*H42 -> 155.60818
...

Sheet Viamão
A1: PLANILHA DE CUSTOS E FORMAÇÃO DE PREÇOS DE SERVIÇOS CONTINUADOS COM DEDICAÇÃO EXCLUSIVA DE MÃO DE OBRA (ANEXO III - DECRETO 52.768 de 15.12.2015)
A2: PROCESSO: | C2: 24/2100-0000042-7 | E2: REGIME DE TRIBUTAÇÃO: LUCRO PRESUMIDO
A3: LICITAÇÃO/EDITAL | E3: ABERTURA:
A4: Cargo/Função: | D4: Jovem Aprendiz | G4: =IF(D5="12x36","Regime de trabalho:","Quantidade de HORAS/MÊS") -> Quantidade de HORAS/MÊS | I4: =IF(D5="12x36",D5,5*D5) -> 100
A5: =IF(D5="12x36","Regime de trabalho:","Regime de trabalho (horas semanais):") -> Regime de trabalho (horas semanais): | D5: 20
A6: Convenção Coletiva de Trabalho: | D6: -- | G6: INSALUBRIDADE (10%, 20%, 40%) | I6: Não aplicável
A7: Origem do salário: | D7: Lei Estadual nº 16.040/2023 - Categoria IV
A8: Cidade: | D8: Viamão | G8: PERICULOSIDADE (30%) | I8: Não aplicável
A9: Salário Normativo | G9: Vlr. do salário e nº de horas correspondentes | H9: 220 | I9: 1711.69
A10: ISS | G10: =D8 -> Viamão | H10: Alíquota | I10: 0
A11: Tarifa Transporte | G11: CCT | H11: Vr. Unitário | I11: 4.25
H12: Dias | I12: 22
H13: Desconto | I13: 0.06
A14: Auxílio Alimentação | G14: CCT | H14: Vr. Unitário | I14: 200
H15: Mês | I15: 1
H16: Desconto | I16: 0.2
A17: Auxílio Lanche | G17: CCT | H17: Vr. Unitário | I17: 0
H18: Dias | I18: 0
H19: Desconto | I19: 0
A20: Despesas Atividades Teóricas | G20: CCT | H20: Valor mensal | I20: 428.1
A21: Adicional de Supervisor (37%) | H21: Porcentagem | I21: Não aplicável
A22: Base de cálculo da insalubridade | H22: Valor | I22: Não aplicável
A23: Quantitativo de horas trabalhadas em feriados no mês (estimado) - Não aplicável para postos 12x36 | H23: Horas por mês | I23: Não aplicável
H24: Acréscimo da hora extra | I24: Não aplicável
A25: Hora Intervalar (somente para postos 12x36, quando for o caso) | H25: Horas por mês | I25: Não aplicável
A26: Sem fornecimento de materiais ou apenas fornecimento de EPIs ou uniformes, utilizar 10%. Com fornecimento de materiais ou equipamentos, utilizar 20%. (Decreto 52.768/2015, alterado pelo Decreto 53.424/2017) | H26: Porcentagem | I26: 0.1
A28: MONTANTE A
A29: I | B29: Remuneração - Grupo I | H29: % | I29: Valor Mensal/unidade de serviço (R$)
A30: 1 | B30: Salário | H30: =I30/$I$39 -> 1 | I30: =IF(D5="12x36",I9,I9/H9*I4) -> 778.04091
A31: =A30+1 -> 2 | B31: Adicional Periculosidade 30% (Ver súmulas 364, 132 e 191 do TST) | H31: =I31/$I$39 -> 0 | I31: =IF(I8=30%,I30*I8,0) -> 0
A32: =A31+1 -> 3 | B32: Adicional Insalubridade 10% (Ver súmula 228 e 139 TST) | H32: =I32/$I$39 -> 0 | I32: =IF(I6=10%,I22*I6,0) -> 0
A33: =A32+1 -> 4 | B33: Adicional Insalubridade 20% (Ver súmula 228 e 139 TST) | H33: =I33/$I$39 -> 0 | I33: =IF(I6=20%,I22*I6,0) -> 0
A34: =A33+1 -> 5 | B34: Adicional Insalubridade 40% (Ver súmula 228 e 139 TST) | H34: =I34/$I$39 -> 0 | I34: =IF(I6=40%,I22*I6,0) -> 0
A35: =A34+1 -> 6 | B35: Adicional de Supervisor (IN 05/2017 MPOG SLTI) | H35: =I35/$I$39 -> 0 | I35: =IF(I21="Não aplicável",0,I30*I21) -> 0
A36: =A35+1 -> 7 | B36: Feriados | H36: =I36/$I$39 -> 0 | I36: =IF(I23="Não aplicável",0,(I30+I31+I32+I33+I34+I35+I38)/I4*I23*(1+I24)) -> 0
A37: =A36+1 -> 8 | B37: DSR = número total das horas extras do mês / número de dias úteis X domingos e feriados do mês X valor da hora extra com acréscimo | H37: =I37/$I$39 -> 0 | I37: =IF(I23="Não aplicável",0,I23/I12*5*(I9/H9*(1+I24))) -> 0
A38: =A37+1 -> 9 | B38: =IF(D5="12x36","Para postos 12x36 os feriados são considerados compensados, conforme parágrafo único, Art. 59-A da CLT","Outros") -> Outros | H38: =I38/$I$39 -> 0 | I38: 0
A39: Total de Remuneração | H39: =SUM(H30:H38) -> 1 | I39: =SUM(I30:I38) -> 778.04091
A41: II | B41: Encargos Sociais - Grupo II: Obrigações Sociais | H41: % | I41: Valor Mensal/unidade de serviço (R$)
A42: 1 | B42: INSS (art. 22, inc. I, Lei nº 8.212/91) | H42: 0.2 | I42: =$I$39*H42 -> 155.60818
...

Sheet Porto Alegre
A1: PLANILHA DE CUSTOS E FORMAÇÃO DE PREÇOS DE SERVIÇOS CONTINUADOS COM DEDICAÇÃO EXCLUSIVA DE MÃO DE OBRA (ANEXO III - DECRETO 52.768 de 15.12.2015)
A2: PROCESSO: | C2: 24/2100-0000042-7 | E2: REGIME DE TRIBUTAÇÃO: LUCRO PRESUMIDO
A3: LICITAÇÃO/EDITAL | E3: ABERTURA:
A4: Cargo/Função: | D4: Jovem Aprendiz | G4: =IF(D5="12x36","Regime de trabalho:","Quantidade de HORAS/MÊS") -> Quantidade de HORAS/MÊS | I4: =IF(D5="12x36",D5,5*D5) -> 100
A5: =IF(D5="12x36","Regime de trabalho:","Regime de trabalho (horas semanais):") -> Regime de trabalho (horas semanais): | D5: 20
A6: Convenção Coletiva de Trabalho: | D6: -- | G6: INSALUBRIDADE (10%, 20%, 40%) | I6: Não aplicável
A7: Origem do salário: | D7: Lei Estadual nº 16.040/2023 - Categoria IV
A8: Cidade: | D8: Porto Alegre | G8: PERICULOSIDADE (30%) | I8: Não aplicável
A9: Salário Normativo | G9: Vlr. do salário e nº de horas correspondentes | H9: 220 | I9: 1711.69
A10: ISS | G10: =D8 -> Porto Alegre | H10: Alíquota | I10: 0
A11: Tarifa Transporte | G11: CCT | H11: Vr. Unitário | I11: 4.8
H12: Dias | I12: 22
H13: Desconto | I13: 0.06
A14: Auxílio Alimentação | G14: CCT | H14: Vr. Unitário | I14: 200
H15: Mês | I15: 1
H16: Desconto | I16: 0.2
A17: Auxílio Lanche | G17: CCT | H17: Vr. Unitário | I17: 0
H18: Dias | I18: 0
H19: Desconto | I19: 0
A20: Despesas Atividades Teóricas | G20: CCT | H20: Valor mensal | I20: 428.1
A21: Adicional de Supervisor (37%) | H21: Porcentagem | I21: Não aplicável
A22: Base de cálculo da insalubridade | H22: Valor | I22: Não aplicável
A23: Quantitativo de horas trabalhadas em feriados no mês (estimado) - Não aplicável para postos 12x36 | H23: Horas por mês | I23: Não aplicável
H24: Acréscimo da hora extra | I24: Não aplicável
A25: Hora Intervalar (somente para postos 12x36, quando for o caso) | H25: Horas por mês | I25: Não aplicável
A26: Sem fornecimento de materiais ou apenas fornecimento de EPIs ou uniformes, utilizar 10%. Com fornecimento de materiais ou equipamentos, utilizar 20%. (Decreto 52.768/2015, alterado pelo Decreto 53.424/2017) | H26: Porcentagem | I26: 0.1
A28: MONTANTE A
A29: I | B29: Remuneração - Grupo I | H29: % | I29: Valor Mensal/unidade de serviço (R$)
A30: 1 | B30: Salário | H30: =I30/$I$39 -> 1 | I30: =IF(D5="12x36",I9,I9/H9*I4) -> 778.04091
A31: =A30+1 -> 2 | B31: Adicional Periculosidade 30% (Ver súmulas 364, 132 e 191 do TST) | H31: =I31/$I$39 -> 0 | I31: =IF(I8=30%,I30*I8,0) -> 0
A32: =A31+1 -> 3 | B32: Adicional Insalubridade 10% (Ver súmula 228 e 139 TST) | H32: =I32/$I$39 -> 0 | I32: =IF(I6=10%,I22*I6,0) -> 0
A33: =A32+1 -> 4 | B33: Adicional Insalubridade 20% (Ver súmula 228 e 139 TST) | H33: =I33/$I$39 -> 0 | I33: =IF(I6=20%,I22*I6,0) -> 0
A34: =A33+1 -> 5 | B34: Adicional Insalubridade 40% (Ver súmula 228 e 139 TST) | H34: =I34/$I$39 -> 0 | I34: =IF(I6=40%,I22*I6,0) -> 0
A35: =A34+1 -> 6 | B35: Adicional de Supervisor (IN 05/2017 MPOG SLTI) | H35: =I35/$I$39 -> 0 | I35: =IF(I21="Não aplicável",0,I30*I21) -> 0
A36: =A35+1 -> 7 | B36: Feriados | H36: =I36/$I$39 -> 0 | I36: =IF(I23="Não aplicável",0,(I30+I31+I32+I33+I34+I35+I38)/I4*I23*(1+I24)) -> 0
A37: =A36+1 -> 8 | B37: DSR = número total das horas extras do mês / número de dias úteis X domingos e feriados do mês X valor da hora extra com acréscimo | H37: =I37/$I$39 -> 0 | I37: =IF(I23="Não aplicável",0,I23/I12*5*(I9/H9*(1+I24))) -> 0
A38: =A37+1 -> 9 | B38: =IF(D5="12x36","Para postos 12x36 os feriados são considerados compensados, conforme parágrafo único, Art. 59-A da CLT","Outros") -> Outros | H38: =I38/$I$39 -> 0 | I38: 0
A39: Total de Remuneração | H39: =SUM(H30:H38) -> 1 | I39: =SUM(I30:I38) -> 778.04091
A41: II | B41: Encargos Sociais - Grupo II: Obrigações Sociais | H41: % | I41: Valor Mensal/unidade de serviço (R$)
A42: 1 | B42: INSS (art. 22, inc. I, Lei nº 8.212/91) | H42: 0.2 | I42: =$I$39*H42 -> 155.60818
...

Sheet Alvorada
A1: PLANILHA DE CUSTOS E FORMAÇÃO DE PREÇOS DE SERVIÇOS CONTINUADOS COM DEDICAÇÃO EXCLUSIVA DE MÃO DE OBRA (ANEXO III - DECRETO 52.768 de 15.12.2015)
A2: PROCESSO: | C2: 24/2100-0000042-7 | E2: REGIME DE TRIBUTAÇÃO: LUCRO PRESUMIDO
A3: LICITAÇÃO/EDITAL | E3: ABERTURA:
A4: Cargo/Função: | D4: Jovem Aprendiz | G4: =IF(D5="12x36","Regime de trabalho:","Quantidade de HORAS/MÊS") -> Quantidade de HORAS/MÊS | I4: =IF(D5="12x36",D5,5*D5) -> 100
A5: =IF(D5="12x36","Regime de trabalho:","Regime de trabalho (horas semanais):") -> Regime de trabalho (horas semanais): | D5: 20
A6: Convenção Coletiva de Trabalho: | D6: -- | G6: INSALUBRIDADE (10%, 20%, 40%) | I6: Não aplicável
A7: Origem do salário: | D7: Lei Estadual nº 16.040/2023 - Categoria IV
A8: Cidade: | D8: Alvorada | G8: PERICULOSIDADE (30%) | I8: Não aplicável
A9: Salário Normativo | G9: Vlr. do salário e nº de horas correspondentes | H9: 220 | I9: 1711.69
A10: ISS | G10: =D8 -> Alvorada | H10: Alíquota | I10: 0
A11: Tarifa Transporte | G11: CCT | H11: Vr. Unitário | I11: 4
H12: Dias | I12: 22
H13: Desconto | I13: 0.06
A14: Auxílio Alimentação | G14: CCT | H14: Vr. Unitário | I14: 200
H15: Mês | I15: 1
H16: Desconto | I16: 0.2
A17: Auxílio Lanche | G17: CCT | H17: Vr. Unitário | I17: 0
H18: Dias | I18: 0
H19: Desconto | I19: 0
A20: Despesas Atividades Teóricas | G20: CCT | H20: Valor mensal | I20: 428.1
A21: Adicional de Supervisor (37%) | H21: Porcentagem | I21: Não aplicável
A22: Base de cálculo da insalubridade | H22: Valor | I22: Não aplicável
A23: Quantitativo de horas trabalhadas em feriados no mês (estimado) - Não aplicável para postos 12x36 | H23: Horas por mês | I23: Não aplicável
H24: Acréscimo da hora extra | I24: Não aplicável
A25: Hora Intervalar (somente para postos 12x36, quando for o caso) | H25: Horas por mês | I25: Não aplicável
A26: Sem fornecimento de materiais ou apenas fornecimento de EPIs ou uniformes, utilizar 10%. Com fornecimento de materiais ou equipamentos, utilizar 20%. (Decreto 52.768/2015, alterado pelo Decreto 53.424/2017) | H26: Porcentagem | I26: 0.1
A28: MONTANTE A
A29: I | B29: Remuneração - Grupo I | H29: % | I29: Valor Mensal/unidade de serviço (R$)
A30: 1 | B30: Salário | H30: =I30/$I$39 -> 1 | I30: =IF(D5="12x36",I9,I9/H9*I4) -> 778.04091
A31: =A30+1 -> 2 | B31: Adicional Periculosidade 30% (Ver súmulas 364, 132 e 191 do TST) | H31: =I31/$I$39 -> 0 | I31: =IF(I8=30%,I30*I8,0) -> 0
A32: =A31+1 -> 3 | B32: Adicional Insalubridade 10% (Ver súmula 228 e 139 TST) | H32: =I32/$I$39 -> 0 | I32: =IF(I6=10%,I22*I6,0) -> 0
A33: =A32+1 -> 4 | B33: Adicional Insalubridade 20% (Ver súmula 228 e 139 TST) | H33: =I33/$I$39 -> 0 | I33: =IF(I6=20%,I22*I6,0) -> 0
A34: =A33+1 -> 5 | B34: Adicional Insalubridade 40% (Ver súmula 228 e 139 TST) | H34: =I34/$I$39 -> 0 | I34: =IF(I6=40%,I22*I6,0) -> 0
A35: =A34+1 -> 6 | B35: Adicional de Supervisor (IN 05/2017 MPOG SLTI) | H35: =I35/$I$39 -> 0 | I35: =IF(I21="Não aplicável",0,I30*I21) -> 0
A36: =A35+1 -> 7 | B36: Feriados | H36: =I36/$I$39 -> 0 | I36: =IF(I23="Não aplicável",0,(I30+I31+I32+I33+I34+I35+I38)/I4*I23*(1+I24)) -> 0
A37: =A36+1 -> 8 | B37: DSR = número total das horas extras do mês / número de dias úteis X domingos e feriados do mês X valor da hora extra com acréscimo | H37: =I37/$I$39 -> 0 | I37: =IF(I23="Não aplicável",0,I23/I12*5*(I9/H9*(1+I24))) -> 0
A38: =A37+1 -> 9 | B38: =IF(D5="12x36","Para postos 12x36 os feriados são considerados compensados, conforme parágrafo único, Art. 59-A da CLT","Outros") -> Outros | H38: =I38/$I$39 -> 0 | I38: 0
A39: Total de Remuneração | H39: =SUM(H30:H38) -> 1 | I39: =SUM(I30:I38) -> 778.04091
A41: II | B41: Encargos Sociais - Grupo II: Obrigações Sociais | H41: % | I41: Valor Mensal/unidade de serviço (R$)
A42: 1 | B42: INSS (art. 22, inc. I, Lei nº 8.212/91) | H42: 0.2 | I42: =$I$39*H42 -> 155.60818
...

Sheet Resumo
A1: Quadro Resumo Mensal
A2: Lote | B2: Função | C2: Cidade | D2: Valor Unitário | E2: Quantidad | F2: Valor Total
A3: 1 | B3: Jovem Aprendiz | C3: Caxias do Sul | D3: ='Caxias do Sul'!I174 -> 2177.8839 | E3: 150 | F3: =E3*D3 -> 326682.58
C4: Canoas | D4: =Canoas!I174 -> 2118.517 | E4: 100 | F4: =E4*D4 -> 211851.7
C5: Novo Hamburgo | D5: ='Novo Hamburgo'!I174 -> 2127.6503 | E5: 80 | F5: =E5*D5 -> 170212.03
C6: São Leopoldo | D6: ='São Leopoldo'!I174 -> 2118.517 | E6: 80 | F6: =E6*D6 -> 169481.36
C7: Santa Maria | D7: ='Santa Maria'!I174 -> 2740.0477 | E7: 90 | F7: =E7*D7 -> 246604.29
A8: TOTAL LOTE 1 | E8: =SUM(E3:E7) -> 500 | F8: =SUM(F3:F7) -> 1124831.9
A9: VALOR GLOBAL LOTE 1 (500 JOVENS APRENDIZES POR 24 MESES): | F9: =F8*24 -> 26995967
A10: 2 | B10: Jovem Aprendiz | C10: Alvorada | D10: =Alvorada!I174 -> 2081.9835 | E10: 65 | F10: =E10*D10 -> 135328.93
C11: Porto Alegre | D11: ='Porto Alegre'!I174 -> 2118.517 | E11: 370 | F11: =E11*D11 -> 783851.28
C12: Viamão | D12: =Viamão!I174 -> 2093.4002 | E12: 65 | F12: =E12*D12 -> 136071.01
A13: TOTAL LOTE 2 | E13: =SUM(E10:E12) -> 500 | F13: =SUM(F10:F12) -> 1055251.2
A14: VALOR GLOBAL LOTE 2 (500 JOVENS APRENDIZES POR 24 MESES): | F14: =F13*24 -> 25326029
A15: Valor Total Lote 1 + Lote 2 | F15: =F14+F9 -> 52321996
