Workbook

Sheet Técnico Segurança do Trabalho
A1: PLANILHA DE CUSTOS E FORMAÇÃO DE PREÇOS DE SERVIÇOS CONTINUADOS COM DEDICAÇÃO EXCLUSIVA DE MÃO DE OBRA (ANEXO III - DECRETO 52.768 de 15.12.2015)
A2: PROCESSO: | C2: 23/1300-0006172-0 | E2: REGIME DE TRIBUTAÇÃO: LUCRO REAL
A3: LICITAÇÃO/EDITAL | E3: ABERTURA:
A5: Cargo/Função: | D5: Técnico em Segurança do Trabalho | G5: =IF(D6="12x36","Regime de trabalho:","Quantidade de HORAS/MÊS") -> Quantidade de HORAS/MÊS | I5: =IF(D6="12x36",D6,5*D6) -> 200
A6: =IF(D6="12x36","Regime de trabalho:","Regime de trabalho (horas semanais):") -> Regime de trabalho (horas semanais): | D6: 40
A7: Convenção Coletiva de Trabalho: | D7: RS003603/2023 | G7: INSALUBRIDADE (10%, 20%, 40%) | I7: Não aplicável
A8: Origem do salário: | D8: RS003603/2023
A9: Cidade: | D9: Porto Alegre | G9: PERICULOSIDADE (30%) | I9: Não aplicável
A10: Salário Normativo | G10: Vlr. do salário e nº de horas correspondentes | H10: 220 | I10: 3390.2
A11: ISS | G11: =D9 -> Porto Alegre | H11: Alíquota | I11: 0.02
A12: Tarifa Transporte | G12: CCT | H12: Vr. Unitário | I12: 4.8
H13: Dias | I13: 22
H14: Desconto | I14: 0.03
A15: Vale Alimentação, conforme CLÁUSULA NONA da CCT | G15: CCT | H15: Vr. Unitário | I15: 319.97
H16: Mês | I16: 1
H17: Desconto | I17: 0.2
A18: Auxílio Lanche | G18: CCT | H18: Vr. Unitário | I18: 0
H19: Dias | I19: 0
H20: Desconto | I20: 0
A21: Outros benefícios que refletem na planilha de custos, caso constem na CCT. | G21: CCT | H21: Valor mensal | I21: Não aplicável
A22: Adicional de Supervisor (37%) | H22: Porcentagem | I22: Não aplicável
A23: Base de cálculo da insalubridade | H23: Valor | I23: Não aplicável
A24: Hora Intervalar | H24: Horas por mês | I24: Não aplicável
A25: Sem fornecimento de materiais ou apenas fornecimento de EPIs ou uniformes, utilizar 10%. Com fornecimento de materiais ou equipamentos, utilizar 20%. (Decreto 52.768/2015, alterado pelo Decreto 53.424/2017) | H25: Porcentagem | I25: 0.2
A27: MONTANTE A
A28: I | B28: Remuneração - Grupo I | H28: % | I28: Valor Mensal/unidade de serviço (R$)
A29: 1 | B29: Salário | H29: =I29/$I$37 -> 1 | I29: =IF(D6="12x36",I10,I10/H10*I5) -> 3082
A30: =A29+1 -> 2 | B30: Adicional Periculosidade 30% (Ver súmulas 364, 132 e 191 do TST) | H30: =I30/$I$37 -> 0 | I30: =IF(I9=30%,I29*I9,0) -> 0
A31: =A30+1 -> 3 | B31: Adicional Insalubridade 10% (Ver súmula 228 e 139 TST) | H31: =I31/$I$37 -> 0 | I31: =IF(I7=10%,I23*I7,0) -> 0
A32: =A31+1 -> 4 | B32: Adicional Insalubridade 20% (Ver súmula 228 e 139 TST) | H32: =I32/$I$37 -> 0 | I32: =IF(I7=20%,I23*I7,0) -> 0
A33: =A32+1 -> 5 | B33: Adicional Insalubridade 40% (Ver súmula 228 e 139 TST) | H33: =I33/$I$37 -> 0 | I33: =IF(I7=40%,I23*I7,0) -> 0
A34: =A33+1 -> 6 | B34: Adicional de Supervisor (IN 02/2008 MPOG SLTI) | H34: =I34/$I$37 -> 0 | I34: =IF(I22="Não aplicável",0,I29*I22) -> 0
A35: =A34+1 -> 7 | B35: DSR - Descanso Semanal Remunerado | H35: =I35/$I$37 -> 0 | I35: 0
A36: =A35+1 -> 8 | B36: =IF(D6="12x36","Para postos 12x36 os feriados são considerados compensados, conforme parágrafo único, Art. 59-A da CLT","Outros") -> Outros | H36: =I36/$I$37 -> 0 | I36: 0
A37: Total de Remuneração | H37: =SUM(H29:H36) -> 1 | I37: =SUM(I29:I36) -> 3082
A39: II | B39: Encargos Sociais - Grupo II: Obrigações Sociais | H39: % | I39: Valor Mensal/unidade de serviço (R$)
A40: 1 | B40: INSS (art. 22, inc. I, Lei nº 8.212/91) | H40: 0.2 | I40: =$I$37*H40 -> 616.4
A41: 2 | B41: SESI ou SESC (art. 30, Lei nº 8.036/90) | H41: 0.015 | I41: =$I$37*H41 -> 46.23
A42: 3 | B42: SENAI ou SENAC (Decreto-Lei nº 2.318/86) | H42: 0.01 | I42: =$I$37*H42 -> 30.82
A43: 4 | B43: INCRA (art. 15I, Lei Complementar nº 011/71) | H43: 0.002 | I43: =$I$37*H43 -> 6.164
...

Sheet Técnico Eletromecânico
A1: PLANILHA DE CUSTOS E FORMAÇÃO DE PREÇOS DE SERVIÇOS CONTINUADOS COM DEDICAÇÃO EXCLUSIVA DE MÃO DE OBRA (ANEXO III - DECRETO 52.768 de 15.12.2015)
A2: PROCESSO: | C2: 23/1300-0006172-0 | E2: REGIME DE TRIBUTAÇÃO: LUCRO REAL
A3: LICITAÇÃO/EDITAL | E3: ABERTURA:
A5: Cargo/Função: | D5: Técnico Eletromecânico | G5: =IF(D6="12x36","Regime de trabalho:","Quantidade de HORAS/MÊS") -> Quantidade de HORAS/MÊS | I5: =IF(D6="12x36",D6,5*D6) -> 200
A6: =IF(D6="12x36","Regime de trabalho:","Regime de trabalho (horas semanais):") -> Regime de trabalho (horas semanais): | D6: 40
A7: Convenção Coletiva de Trabalho: | D7: RS002555/2024 | G7: INSALUBRIDADE (10%, 20%, 40%) | I7: Não aplicável
A8: Origem do salário: | D8: RS002555/2024
A9: Cidade: | D9: Porto Alegre | G9: PERICULOSIDADE (30%) | I9: 0.3
A10: Salário Normativo | G10: Vlr. do salário e nº de horas correspondentes | H10: 220 | I10: 3313.2
A11: ISS | G11: =D9 -> Porto Alegre | H11: Alíquota | I11: 0.02
A12: Tarifa Transporte | G12: CCT | H12: Vr. Unitário | I12: 4.8
H13: Dias | I13: 22
H14: Desconto | I14: 0.06
A15: Auxílio Alimentação | G15: CCT | H15: Vr. Unitário | I15: 0
H16: Dias | I16: 0
H17: Desconto | I17: 0
A18: Auxílio Lanche | G18: CCT | H18: Vr. Unitário | I18: 0
H19: Dias | I19: 0
H20: Desconto | I20: 0
A21: Outros benefícios que refletem na planilha de custos, caso constem na CCT. | G21: CCT | H21: Valor mensal | I21: Não aplicável
A22: Adicional de Supervisor (37%) | H22: Porcentagem | I22: Não aplicável
A23: Base de cálculo da insalubridade | H23: Valor | I23: Não aplicável
A24: Hora Intervalar | H24: Horas por mês | I24: Não aplicável
A25: Sem fornecimento de materiais ou apenas fornecimento de EPIs ou uniformes, utilizar 10%. Com fornecimento de materiais ou equipamentos, utilizar 20%. (Decreto 52.768/2015, alterado pelo Decreto 53.424/2017) | H25: Porcentagem | I25: 0.2
A27: MONTANTE A
A28: I | B28: Remuneração - Grupo I | H28: % | I28: Valor Mensal/unidade de serviço (R$)
A29: 1 | B29: Salário | H29: =I29/$I$37 -> 0.76923077 | I29: =IF(D6="12x36",I10,I10/H10*I5) -> 3012
A30: =A29+1 -> 2 | B30: Adicional Periculosidade 30% (Ver súmulas 364, 132 e 191 do TST) | H30: =I30/$I$37 -> 0.23076923 | I30: =IF(I9=30%,I29*I9,0) -> 903.6
A31: =A30+1 -> 3 | B31: Adicional Insalubridade 10% (Ver súmula 228 e 139 TST) | H31: =I31/$I$37 -> 0 | I31: =IF(I7=10%,I23*I7,0) -> 0
A32: =A31+1 -> 4 | B32: Adicional Insalubridade 20% (Ver súmula 228 e 139 TST) | H32: =I32/$I$37 -> 0 | I32: =IF(I7=20%,I23*I7,0) -> 0
A33: =A32+1 -> 5 | B33: Adicional Insalubridade 40% (Ver súmula 228 e 139 TST) | H33: =I33/$I$37 -> 0 | I33: =IF(I7=40%,I23*I7,0) -> 0
A34: =A33+1 -> 6 | B34: Adicional de Supervisor (IN 02/2008 MPOG SLTI) | H34: =I34/$I$37 -> 0 | I34: =IF(I22="Não aplicável",0,I29*I22) -> 0
A35: =A34+1 -> 7 | B35: DSR - Descanso Semanal Remunerado | H35: =I35/$I$37 -> 0 | I35: 0
A36: =A35+1 -> 8 | B36: =IF(D6="12x36","Para postos 12x36 os feriados são considerados compensados, conforme parágrafo único, Art. 59-A da CLT","Outros") -> Outros | H36: =I36/$I$37 -> 0 | I36: 0
A37: Total de Remuneração | H37: =SUM(H29:H36) -> 1 | I37: =SUM(I29:I36) -> 3915.6
A39: II | B39: Encargos Sociais - Grupo II: Obrigações Sociais | H39: % | I39: Valor Mensal/unidade de serviço (R$)
A40: 1 | B40: INSS (art. 22, inc. I, Lei nº 8.212/91) | H40: 0.2 | I40: =$I$37*H40 -> 783.12
A41: 2 | B41: SESI ou SESC (art. 30, Lei nº 8.036/90) | H41: 0.015 | I41: =$I$37*H41 -> 58.734
A42: 3 | B42: SENAI ou SENAC (Decreto-Lei nº 2.318/86) | H42: 0.01 | I42: =$I$37*H42 -> 39.156
A43: 4 | B43: INCRA (art. 15I, Lei Complementar nº 011/71) | H43: 0.002 | I43: =$I$37*H43 -> 7.8312
...

Sheet Técnico Eletricista 
A1: PLANILHA DE CUSTOS E FORMAÇÃO DE PREÇOS DE SERVIÇOS CONTINUADOS COM DEDICAÇÃO EXCLUSIVA DE MÃO DE OBRA (ANEXO III - DECRETO 52.768 de 15.12.2015)
A2: PROCESSO: | C2: 23/1300-0006172-0 | E2: REGIME DE TRIBUTAÇÃO: LUCRO REAL
A3: LICITAÇÃO/EDITAL | E3: ABERTURA:
A5: Cargo/Função: | D5: Técnico Eletricista/Eletrotécnico | G5: =IF(D6="12x36","Regime de trabalho:","Quantidade de HORAS/MÊS") -> Quantidade de HORAS/MÊS | I5: =IF(D6="12x36",D6,5*D6) -> 200
A6: =IF(D6="12x36","Regime de trabalho:","Regime de trabalho (horas semanais):") -> Regime de trabalho (horas semanais): | D6: 40
A7: Convenção Coletiva de Trabalho: | D7: RS002555/2024 | G7: INSALUBRIDADE (10%, 20%, 40%) | I7: Não aplicável
A8: Origem do salário: | D8: RS002555/2024
A9: Cidade: | D9: Porto Alegre | G9: PERICULOSIDADE (30%) | I9: 0.3
A10: Salário Normativo | G10: Vlr. do salário e nº de horas correspondentes | H10: 220 | I10: 3313.2
A11: ISS | G11: =D9 -> Porto Alegre | H11: Alíquota | I11: 0.02
A12: Tarifa Transporte | G12: CCT | H12: Vr. Unitário | I12: 4.8
H13: Dias | I13: 22
H14: Desconto | I14: 0.06
A15: Auxílio Alimentação | G15: CCT | H15: Vr. Unitário | I15: 0
H16: Dias | I16: 0
H17: Desconto | I17: 0
A18: Auxílio Lanche | G18: CCT | H18: Vr. Unitário | I18: 0
H19: Dias | I19: 0
H20: Desconto | I20: 0
A21: Outros benefícios que refletem na planilha de custos, caso constem na CCT. | G21: CCT | H21: Valor mensal | I21: Não aplicável
A22: Adicional de Supervisor (37%) | H22: Porcentagem | I22: Não aplicável
A23: Base de cálculo da insalubridade | H23: Valor | I23: Não aplicável
A24: Hora Intervalar | H24: Horas por mês | I24: Não aplicável
A25: Sem fornecimento de materiais ou apenas fornecimento de EPIs ou uniformes, utilizar 10%. Com fornecimento de materiais ou equipamentos, utilizar 20%. (Decreto 52.768/2015, alterado pelo Decreto 53.424/2017) | H25: Porcentagem | I25: 0.2
A27: MONTANTE A
A28: I | B28: Remuneração - Grupo I | H28: % | I28: Valor Mensal/unidade de serviço (R$)
A29: 1 | B29: Salário | H29: =I29/$I$37 -> 0.76923077 | I29: =IF(D6="12x36",I10,I10/H10*I5) -> 3012
A30: =A29+1 -> 2 | B30: Adicional Periculosidade 30% (Ver súmulas 364, 132 e 191 do TST) | H30: =I30/$I$37 -> 0.23076923 | I30: =IF(I9=30%,I29*I9,0) -> 903.6
A31: =A30+1 -> 3 | B31: Adicional Insalubridade 10% (Ver súmula 228 e 139 TST) | H31: =I31/$I$37 -> 0 | I31: =IF(I7=10%,I23*I7,0) -> 0
A32: =A31+1 -> 4 | B32: Adicional Insalubridade 20% (Ver súmula 228 e 139 TST) | H32: =I32/$I$37 -> 0 | I32: =IF(I7=20%,I23*I7,0) -> 0
A33: =A32+1 -> 5 | B33: Adicional Insalubridade 40% (Ver súmula 228 e 139 TST) | H33: =I33/$I$37 -> 0 | I33: =IF(I7=40%,I23*I7,0) -> 0
A34: =A33+1 -> 6 | B34: Adicional de Supervisor (IN 02/2008 MPOG SLTI) | H34: =I34/$I$37 -> 0 | I34: =IF(I22="Não aplicável",0,I29*I22) -> 0
A35: =A34+1 -> 7 | B35: DSR - Descanso Semanal Remunerado | H35: =I35/$I$37 -> 0 | I35: 0
A36: =A35+1 -> 8 | B36: =IF(D6="12x36","Para postos 12x36 os feriados são considerados compensados, conforme parágrafo único, Art. 59-A da CLT","Outros") -> Outros | H36: =I36/$I$37 -> 0 | I36: 0
A37: Total de Remuneração | H37: =SUM(H29:H36) -> 1 | I37: =SUM(I29:I36) -> 3915.6
A39: II | B39: Encargos Sociais - Grupo II: Obrigações Sociais | H39: % | I39: Valor Mensal/unidade de serviço (R$)
A40: 1 | B40: INSS (art. 22, inc. I, Lei nº 8.212/91) | H40: 0.2 | I40: =$I$37*H40 -> 783.12
A41: 2 | B41: SESI ou SESC (art. 30, Lei nº 8.036/90) | H41: 0.015 | I41: =$I$37*H41 -> 58.734
A42: 3 | B42: SENAI ou SENAC (Decreto-Lei nº 2.318/86) | H42: 0.01 | I42: =$I$37*H42 -> 39.156
A43: 4 | B43: INCRA (art. 15I, Lei Complementar nº 011/71) | H43: 0.002 | I43: =$I$37*H43 -> 7.8312
...

Sheet Técnico em Edificações
A1: PLANILHA DE CUSTOS E FORMAÇÃO DE PREÇOS DE SERVIÇOS CONTINUADOS COM DEDICAÇÃO EXCLUSIVA DE MÃO DE OBRA (ANEXO III - DECRETO 52.768 de 15.12.2015)
A2: PROCESSO: | C2: 23/1300-0006172-0 | E2: REGIME DE TRIBUTAÇÃO: LUCRO REAL
A3: LICITAÇÃO/EDITAL | E3: ABERTURA:
A5: Cargo/Função: | D5: Técnico em Edificações | G5: =IF(D6="12x36","Regime de trabalho:","Quantidade de HORAS/MÊS") -> Quantidade de HORAS/MÊS | I5: =IF(D6="12x36",D6,5*D6) -> 200
A6: =IF(D6="12x36","Regime de trabalho:","Regime de trabalho (horas semanais):") -> Regime de trabalho (horas semanais): | D6: 40
A7: Convenção Coletiva de Trabalho: | D7: RS002555/2024 | G7: INSALUBRIDADE (10%, 20%, 40%) | I7: Não aplicável
A8: Origem do salário: | D8: RS002555/2024
A9: Cidade: | D9: Porto Alegre | G9: PERICULOSIDADE (30%) | I9: Não aplicável
A10: Salário Normativo | G10: Vlr. do salário e nº de horas correspondentes | H10: 220 | I10: 3313.2
A11: ISS | G11: =D9 -> Porto Alegre | H11: Alíquota | I11: 0.02
A12: Tarifa Transporte | G12: CCT | H12: Vr. Unitário | I12: 4.8
H13: Dias | I13: 22
H14: Desconto | I14: 0.06
A15: Auxílio Alimentação | G15: CCT | H15: Vr. Unitário | I15: 0
H16: Dias | I16: 0
H17: Desconto | I17: 0
A18: Auxílio Lanche | G18: CCT | H18: Vr. Unitário | I18: 0
H19: Dias | I19: 0
H20: Desconto | I20: 0
A21: Outros benefícios que refletem na planilha de custos, caso constem na CCT. | G21: CCT | H21: Valor mensal | I21: Não aplicável
A22: Adicional de Supervisor (37%) | H22: Porcentagem | I22: Não aplicável
A23: Base de cálculo da insalubridade | H23: Valor | I23: Não aplicável
A24: Hora Intervalar | H24: Horas por mês | I24: Não aplicável
A25: Sem fornecimento de materiais ou apenas fornecimento de EPIs ou uniformes, utilizar 10%. Com fornecimento de materiais ou equipamentos, utilizar 20%. (Decreto 52.768/2015, alterado pelo Decreto 53.424/2017) | H25: Porcentagem | I25: 0.2
A27: MONTANTE A
A28: I | B28: Remuneração - Grupo I | H28: % | I28: Valor Mensal/unidade de serviço (R$)
A29: 1 | B29: Salário | H29: =I29/$I$37 -> 1 | I29: =IF(D6="12x36",I10,I10/H10*I5) -> 3012
A30: =A29+1 -> 2 | B30: Adicional Periculosidade 30% (Ver súmulas 364, 132 e 191 do TST) | H30: =I30/$I$37 -> 0 | I30: =IF(I9=30%,I29*I9,0) -> 0
A31: =A30+1 -> 3 | B31: Adicional Insalubridade 10% (Ver súmula 228 e 139 TST) | H31: =I31/$I$37 -> 0 | I31: =IF(I7=10%,I23*I7,0) -> 0
A32: =A31+1 -> 4 | B32: Adicional Insalubridade 20% (Ver súmula 228 e 139 TST) | H32: =I32/$I$37 -> 0 | I32: =IF(I7=20%,I23*I7,0) -> 0
A33: =A32+1 -> 5 | B33: Adicional Insalubridade 40% (Ver súmula 228 e 139 TST) | H33: =I33/$I$37 -> 0 | I33: =IF(I7=40%,I23*I7,0) -> 0
A34: =A33+1 -> 6 | B34: Adicional de Supervisor (IN 02/2008 MPOG SLTI) | H34: =I34/$I$37 -> 0 | I34: =IF(I22="Não aplicável",0,I29*I22) -> 0
A35: =A34+1 -> 7 | B35: DSR - Descanso Semanal Remunerado | H35: =I35/$I$37 -> 0 | I35: 0
A36: =A35+1 -> 8 | B36: =IF(D6="12x36","Para postos 12x36 os feriados são considerados compensados, conforme parágrafo único, Art. 59-A da CLT","Outros") -> Outros | H36: =I36/$I$37 -> 0 | I36: 0
A37: Total de Remuneração | H37: =SUM(H29:H36) -> 1 | I37: =SUM(I29:I36) -> 3012
A39: II | B39: Encargos Sociais - Grupo II: Obrigações Sociais | H39: % | I39: Valor Mensal/unidade de serviço (R$)
A40: 1 | B40: INSS (art. 22, inc. I, Lei nº 8.212/91) | H40: 0.2 | I40: =$I$37*H40 -> 602.4
A41: 2 | B41: SESI ou SESC (art. 30, Lei nº 8.036/90) | H41: 0.015 | I41: =$I$37*H41 -> 45.18
A42: 3 | B42: SENAI ou SENAC (Decreto-Lei nº 2.318/86) | H42: 0.01 | I42: =$I$37*H42 -> 30.12
A43: 4 | B43: INCRA (art. 15I, Lei Complementar nº 011/71) | H43: 0.002 | I43: =$I$37*H43 -> 6.024
...

Sheet Engenheiro Civil
A1: PLANILHA DE CUSTOS E FORMAÇÃO DE PREÇOS DE SERVIÇOS CONTINUADOS COM DEDICAÇÃO EXCLUSIVA DE MÃO DE OBRA (ANEXO III - DECRETO 52.768 de 15.12.2015)
A2: PROCESSO: | C2: 23/1300-0006172-0 | E2: REGIME DE TRIBUTAÇÃO: LUCRO REAL
A3: LICITAÇÃO/EDITAL | E3: ABERTURA:
A5: Cargo/Função: | D5: Engenheiro Civil | G5: =IF(D6="12x36","Regime de trabalho:","Quantidade de HORAS/MÊS") -> Quantidade de HORAS/MÊS | I5: =IF(D6="12x36",D6,5*D6) -> 200
A6: =IF(D6="12x36","Regime de trabalho:","Regime de trabalho (horas semanais):") -> Regime de trabalho (horas semanais): | D6: 40
A7: Convenção Coletiva de Trabalho: | D7: SENGE/RS | G7: INSALUBRIDADE (10%, 20%, 40%) | I7: Não aplicável
A8: Origem do salário: | D8: Parecer nº 17.417/2018 da PGE e Informação CONTRATOS nº 0174/2024 às fls. 1560-1583.
A9: Cidade: | D9: Porto Alegre | G9: PERICULOSIDADE (30%) | I9: Não aplicável
A10: Salário Normativo | G10: Vlr. do salário e nº de horas correspondentes | H10: 200 | I10: 10830.77
A11: ISS | G11: =D9 -> Porto Alegre | H11: Alíquota | I11: 0.02
A12: Tarifa Transporte | G12: CCT | H12: Vr. Unitário | I12: 4.8
H13: Dias | I13: 22
H14: Desconto | I14: 0.06
A15: Auxílio Alimentação | G15: CCT | H15: Vr. Unitário | I15: 0
H16: Dias | I16: 0
H17: Desconto | I17: 0
A18: Auxílio Lanche | G18: CCT | H18: Vr. Unitário | I18: 0
H19: Dias | I19: 0
H20: Desconto | I20: 0
A21: Outros benefícios que refletem na planilha de custos, caso constem na CCT. | G21: CCT | H21: Valor mensal | I21: Não aplicável
A22: Adicional de Supervisor (37%) | H22: Porcentagem | I22: Não aplicável
A23: Base de cálculo da insalubridade | H23: Valor | I23: Não aplicável
A24: Hora Intervalar | H24: Horas por mês | I24: Não aplicável
A25: Sem fornecimento de materiais ou apenas fornecimento de EPIs ou uniformes, utilizar 10%. Com fornecimento de materiais ou equipamentos, utilizar 20%. (Decreto 52.768/2015, alterado pelo Decreto 53.424/2017) | H25: Porcentagem | I25: 0.2
A27: MONTANTE A
A28: I | B28: Remuneração - Grupo I | H28: % | I28: Valor Mensal/unidade de serviço (R$)
A29: 1 | B29: Salário | H29: =I29/$I$37 -> 1 | I29: =IF(D6="12x36",I10,I10/H10*I5) -> 10830.77
A30: =A29+1 -> 2 | B30: Adicional Periculosidade 30% (Ver súmulas 364, 132 e 191 do TST) | H30: =I30/$I$37 -> 0 | I30: =IF(I9=30%,I29*I9,0) -> 0
A31: =A30+1 -> 3 | B31: Adicional Insalubridade 10% (Ver súmula 228 e 139 TST) | H31: =I31/$I$37 -> 0 | I31: =IF(I7=10%,I23*I7,0) -> 0
A32: =A31+1 -> 4 | B32: Adicional Insalubridade 20% (Ver súmula 228 e 139 TST) | H32: =I32/$I$37 -> 0 | I32: =IF(I7=20%,I23*I7,0) -> 0
A33: =A32+1 -> 5 | B33: Adicional Insalubridade 40% (Ver súmula 228 e 139 TST) | H33: =I33/$I$37 -> 0 | I33: =IF(I7=40%,I23*I7,0) -> 0
A34: =A33+1 -> 6 | B34: Adicional de Supervisor (IN 02/2008 MPOG SLTI) | H34: =I34/$I$37 -> 0 | I34: =IF(I22="Não aplicável",0,I29*I22) -> 0
A35: =A34+1 -> 7 | B35: DSR - Descanso Semanal Remunerado | H35: =I35/$I$37 -> 0 | I35: 0
A36: =A35+1 -> 8 | B36: =IF(D6="12x36","Para postos 12x36 os feriados são considerados compensados, conforme parágrafo único, Art. 59-A da CLT","Outros") -> Outros | H36: =I36/$I$37 -> 0 | I36: 0
A37: Total de Remuneração | H37: =SUM(H29:H36) -> 1 | I37: =SUM(I29:I36) -> 10830.77
A39: II | B39: Encargos Sociais - Grupo II: Obrigações Sociais | H39: % | I39: Valor Mensal/unidade de serviço (R$)
A40: 1 | B40: INSS (art. 22, inc. I, Lei nº 8.212/91) | H40: 0.2 | I40: =$I$37*H40 -> 2166.154
A41: 2 | B41: SESI ou SESC (art. 30, Lei nº 8.036/90) | H41: 0.015 | I41: =$I$37*H41 -> 162.46155
A42: 3 | B42: SENAI ou SENAC (Decreto-Lei nº 2.318/86) | H42: 0.01 | I42: =$I$37*H42 -> 108.3077
A43: 4 | B43: INCRA (art. 15I, Lei Complementar nº 011/71) | H43: 0.002 | I43: =$I$37*H43 -> 21.66154
...

Sheet Engenheiro Mecânico
A1: PLANILHA DE CUSTOS E FORMAÇÃO DE PREÇOS DE SERVIÇOS CONTINUADOS COM DEDICAÇÃO EXCLUSIVA DE MÃO DE OBRA (ANEXO III - DECRETO 52.768 de 15.12.2015)
A2: PROCESSO: | C2: 23/1300-0006172-0 | E2: REGIME DE TRIBUTAÇÃO: LUCRO REAL
A3: LICITAÇÃO/EDITAL | E3: ABERTURA:
A5: Cargo/Função: | D5: Engenheiro Mecânico | G5: =IF(D6="12x36","Regime de trabalho:","Quantidade de HORAS/MÊS") -> Quantidade de HORAS/MÊS | I5: =IF(D6="12x36",D6,5*D6) -> 200
A6: =IF(D6="12x36","Regime de trabalho:","Regime de trabalho (horas semanais):") -> Regime de trabalho (horas semanais): | D6: 40
A7: Convenção Coletiva de Trabalho: | D7: SENGE/RS | G7: INSALUBRIDADE (10%, 20%, 40%) | I7: Não aplicável
A8: Origem do salário: | D8: Parecer nº 17.417/2018 da PGE e Informação CONTRATOS nº 0174/2024 às fls. 1560-1583.
A9: Cidade: | D9: Porto Alegre | G9: PERICULOSIDADE (30%) | I9: Não aplicável
A10: Salário Normativo | G10: Vlr. do salário e nº de horas correspondentes | H10: 200 | I10: 10830.77
A11: ISS | G11: =D9 -> Porto Alegre | H11: Alíquota | I11: 0.02
A12: Tarifa Transporte | G12: CCT | H12: Vr. Unitário | I12: 4.8
H13: Dias | I13: 22
H14: Desconto | I14: 0.06
A15: Auxílio Alimentação | G15: CCT | H15: Vr. Unitário | I15: 0
H16: Dias | I16: 0
H17: Desconto | I17: 0
A18: Auxílio Lanche | G18: CCT | H18: Vr. Unitário | I18: 0
H19: Dias | I19: 0
H20: Desconto | I20: 0
A21: Outros benefícios que refletem na planilha de custos, caso constem na CCT. | G21: CCT | H21: Valor mensal | I21: Não aplicável
A22: Adicional de Supervisor (37%) | H22: Porcentagem | I22: Não aplicável
A23: Base de cálculo da insalubridade | H23: Valor | I23: Não aplicável
A24: Hora Intervalar | H24: Horas por mês | I24: Não aplicável
A25: Sem fornecimento de materiais ou apenas fornecimento de EPIs ou uniformes, utilizar 10%. Com fornecimento de materiais ou equipamentos, utilizar 20%. (Decreto 52.768/2015, alterado pelo Decreto 53.424/2017) | H25: Porcentagem | I25: 0.2
A27: MONTANTE A
A28: I | B28: Remuneração - Grupo I | H28: % | I28: Valor Mensal/unidade de serviço (R$)
A29: 1 | B29: Salário | H29: =I29/$I$37 -> 1 | I29: =IF(D6="12x36",I10,I10/H10*I5) -> 10830.77
A30: =A29+1 -> 2 | B30: Adicional Periculosidade 30% (Ver súmulas 364, 132 e 191 do TST) | H30: =I30/$I$37 -> 0 | I30: =IF(I9=30%,I29*I9,0) -> 0
A31: =A30+1 -> 3 | B31: Adicional Insalubridade 10% (Ver súmula 228 e 139 TST) | H31: =I31/$I$37 -> 0 | I31: =IF(I7=10%,I23*I7,0) -> 0
A32: =A31+1 -> 4 | B32: Adicional Insalubridade 20% (Ver súmula 228 e 139 TST) | H32: =I32/$I$37 -> 0 | I32: =IF(I7=20%,I23*I7,0) -> 0
A33: =A32+1 -> 5 | B33: Adicional Insalubridade 40% (Ver súmula 228 e 139 TST) | H33: =I33/$I$37 -> 0 | I33: =IF(I7=40%,I23*I7,0) -> 0
A34: =A33+1 -> 6 | B34: Adicional de Supervisor (IN 02/2008 MPOG SLTI) | H34: =I34/$I$37 -> 0 | I34: =IF(I22="Não aplicável",0,I29*I22) -> 0
A35: =A34+1 -> 7 | B35: DSR - Descanso Semanal Remunerado | H35: =I35/$I$37 -> 0 | I35: 0
A36: =A35+1 -> 8 | B36: =IF(D6="12x36","Para postos 12x36 os feriados são considerados compensados, conforme parágrafo único, Art. 59-A da CLT","Outros") -> Outros | H36: =I36/$I$37 -> 0 | I36: 0
A37: Total de Remuneração | H37: =SUM(H29:H36) -> 1 | I37: =SUM(I29:I36) -> 10830.77
A39: II | B39: Encargos Sociais - Grupo II: Obrigações Sociais | H39: % | I39: Valor Mensal/unidade de serviço (R$)
A40: 1 | B40: INSS (art. 22, inc. I, Lei nº 8.212/91) | H40: 0.2 | I40: =$I$37*H40 -> 2166.154
A41: 2 | B41: SESI ou SESC (art. 30, Lei nº 8.036/90) | H41: 0.015 | I41: =$I$37*H41 -> 162.46155
A42: 3 | B42: SENAI ou SENAC (Decreto-Lei nº 2.318/86) | H42: 0.01 | I42: =$I$37*H42 -> 108.3077
A43: 4 | B43: INCRA (art. 15I, Lei Complementar nº 011/71) | H43: 0.002 | I43: =$I$37*H43 -> 21.66154
...

Sheet Engenheiro Eletricista
A1: PLANILHA DE CUSTOS E FORMAÇÃO DE PREÇOS DE SERVIÇOS CONTINUADOS COM DEDICAÇÃO EXCLUSIVA DE MÃO DE OBRA (ANEXO III - DECRETO 52.768 de 15.12.2015)
A2: PROCESSO: | C2: 23/1300-0006172-0 | E2: REGIME DE TRIBUTAÇÃO: LUCRO REAL
A3: LICITAÇÃO/EDITAL | E3: ABERTURA:
A5: Cargo/Função: | D5: Engenheiro Eletricista | G5: =IF(D6="12x36","Regime de trabalho:","Quantidade de HORAS/MÊS") -> Quantidade de HORAS/MÊS | I5: =IF(D6="12x36",D6,5*D6) -> 200
A6: =IF(D6="12x36","Regime de trabalho:","Regime de trabalho (horas semanais):") -> Regime de trabalho (horas semanais): | D6: 40
A7: Convenção Coletiva de Trabalho: | D7: SENGE/RS | G7: INSALUBRIDADE (10%, 20%, 40%) | I7: Não aplicável
A8: Origem do salário: | D8: Parecer nº 17.417/2018 da PGE e Informação CONTRATOS nº 0174/2024 às fls. 1560-1583.
A9: Cidade: | D9: Porto Alegre | G9: PERICULOSIDADE (30%) | I9: 0.3
A10: Salário Normativo | G10: Vlr. do salário e nº de horas correspondentes | H10: 200 | I10: 10830.77
A11: ISS | G11: =D9 -> Porto Alegre | H11: Alíquota | I11: 0.02
A12: Tarifa Transporte | G12: CCT | H12: Vr. Unitário | I12: 4.8
H13: Dias | I13: 22
H14: Desconto | I14: 0.06
A15: Auxílio Alimentação | G15: CCT | H15: Vr. Unitário | I15: 0
H16: Dias | I16: 0
H17: Desconto | I17: 0
A18: Auxílio Lanche | G18: CCT | H18: Vr. Unitário | I18: 0
H19: Dias | I19: 0
H20: Desconto | I20: 0
A21: Outros benefícios que refletem na planilha de custos, caso constem na CCT. | G21: CCT | H21: Valor mensal | I21: Não aplicável
A22: Adicional de Supervisor (37%) | H22: Porcentagem | I22: Não aplicável
A23: Base de cálculo da insalubridade | H23: Valor | I23: Não aplicável
A24: Hora Intervalar | H24: Horas por mês | I24: Não aplicável
A25: Sem fornecimento de materiais ou apenas fornecimento de EPIs ou uniformes, utilizar 10%. Com fornecimento de materiais ou equipamentos, utilizar 20%. (Decreto 52.768/2015, alterado pelo Decreto 53.424/2017) | H25: Porcentagem | I25: 0.2
A27: MONTANTE A
A28: I | B28: Remuneração - Grupo I | H28: % | I28: Valor Mensal/unidade de serviço (R$)
A29: 1 | B29: Salário | H29: =I29/$I$37 -> 0.76923077 | I29: =IF(D6="12x36",I10,I10/H10*I5) -> 10830.77
A30: =A29+1 -> 2 | B30: Adicional Periculosidade 30% (Ver súmulas 364, 132 e 191 do TST) | H30: =I30/$I$37 -> 0.23076923 | I30: =IF(I9=30%,I29*I9,0) -> 3249.231
A31: =A30+1 -> 3 | B31: Adicional Insalubridade 10% (Ver súmula 228 e 139 TST) | H31: =I31/$I$37 -> 0 | I31: =IF(I7=10%,I23*I7,0) -> 0
A32: =A31+1 -> 4 | B32: Adicional Insalubridade 20% (Ver súmula 228 e 139 TST) | H32: =I32/$I$37 -> 0 | I32: =IF(I7=20%,I23*I7,0) -> 0
A33: =A32+1 -> 5 | B33: Adicional Insalubridade 40% (Ver súmula 228 e 139 TST) | H33: =I33/$I$37 -> 0 | I33: =IF(I7=40%,I23*I7,0) -> 0
A34: =A33+1 -> 6 | B34: Adicional de Supervisor (IN 02/2008 MPOG SLTI) | H34: =I34/$I$37 -> 0 | I34: =IF(I22="Não aplicável",0,I29*I22) -> 0
A35: =A34+1 -> 7 | B35: DSR - Descanso Semanal Remunerado | H35: =I35/$I$37 -> 0 | I35: 0
A36: =A35+1 -> 8 | B36: =IF(D6="12x36","Para postos 12x36 os feriados são considerados compensados, conforme parágrafo único, Art. 59-A da CLT","Outros") -> Outros | H36: =I36/$I$37 -> 0 | I36: 0
A37: Total de Remuneração | H37: =SUM(H29:H36) -> 1 | I37: =SUM(I29:I36) -> 14080.001
A39: II | B39: Encargos Sociais - Grupo II: Obrigações Sociais | H39: % | I39: Valor Mensal/unidade de serviço (R$)
A40: 1 | B40: INSS (art. 22, inc. I, Lei nº 8.212/91) | H40: 0.2 | I40: =$I$37*H40 -> 2816.0002
A41: 2 | B41: SESI ou SESC (art. 30, Lei nº 8.036/90) | H41: 0.015 | I41: =$I$37*H41 -> 211.20002
A42: 3 | B42: SENAI ou SENAC (Decreto-Lei nº 2.318/86) | H42: 0.01 | I42: =$I$37*H42 -> 140.80001
A43: 4 | B43: INCRA (art. 15I, Lei Complementar nº 011/71) | H43: 0.002 | I43: =$I$37*H43 -> 28.160002
...

Sheet Resumo
A1: Quadro Resumo Mensal
A2: Função | B2: Cidade | C2: Carga Horária | D2: Dias da semana | E2: Valor Unitário | F2: Nº de Postos | G2: Valor Total
A3: Engenheiro Eletricista | B3: Porto Alegre | C3: 40 horas semanais | D3: segunta a sexta | E3: ='Engenheiro Eletricista'!I168 -> 27788.084 | F3: 1 | G3: =E3*F3 -> 27788.084
A4: Engenheiro Mecânico | B4: Porto Alegre | C4: 40 horas semanais | D4: segunta a sexta | E4: ='Engenheiro Mecânico'!I168 -> 21375.449 | F4: 1 | G4: =E4*F4 -> 21375.449
A5: Engenheiro Civil | B5: Porto Alegre | C5: 40 horas semanais | D5: segunta a sexta | E5: ='Engenheiro Civil'!I168 -> 21375.449 | F5: 1 | G5: =E5*F5 -> 21375.449
A6: Técnico em Edificações | B6: Porto Alegre | C6: 40 horas semanais | D6: segunta a sexta | E6: ='Técnico em Edificações'!I168 -> 5978.7828 | F6: 1 | G6: =E6*F6 -> 5978.7828
A7: Técnico Eletricista/Eletrotécnico | B7: Porto Alegre | C7: 40 horas semanais | D7: segunta a sexta | E7: ='Técnico Eletricista '!I168 -> 7762.1146 | F7: 1 | G7: =E7*F7 -> 7762.1146
A8: Técnico Eletromecânico | B8: Porto Alegre | C8: 40 horas semanais | D8: segunta a sexta | E8: ='Técnico Eletromecânico'!I168 -> 7762.1146 | F8: 1 | G8: =E8*F8 -> 7762.1146
A9: Técnico em Segurança do Trabalho | B9: Porto Alegre | C9: 40 horas semanais | D9: segunta a sexta | E9: ='Técnico Segurança do Trabalho'!I168 -> 6504.8053 | F9: 1 | G9: =E9*F9 -> 6504.8053
A10: TOTAL MENSAL | F10: =SUM(F3:F9) -> 7 | G10: =SUM(G3:G9) -> 98546.8
A11: TOTAL ANUAL | G11: =G10*12 -> 1182561.6
