Workbook
Name \e: #N/A
Name \f: #N/A
Name _1Excel_BuiltIn_Print_Area_2_1: #REF!
Name _1Excel_BuiltIn_Print_Area_2_1: #REF!
Name _2Excel_BuiltIn_Print_Area_2_1: #REF!
Name _4Excel_BuiltIn_Print_Area_2_1: #REF!
Name _e: #N/A
Name _f: #N/A
Name _tab072005: "$#REF!.$A$32:$F$1001"
Name _tab092003: "$#REF!.$A$9:$I$2080"
Name Área_impressão_IM: #REF!
Name Área_impressão_IM___0: #REF!
Name bdi: [1]Completo!#REF!
Name BuiltIn_Print_Area: #REF!
Name BuiltIn_Print_Area___0: #REF!
Name BuiltIn_Print_Titles: #REF!
Name BuiltIn_Print_Titles___0: #REF!
Name COD: "$#REF!.$A$9:$A$1445"
Name CQuantidadesValidReal: #REF!
Name CQuantidadesValidReal: #REF!
Name cu_10.1: [2]CCU_Reformas!$I$1046
Name cu_10.1mat: [2]CCU_Reformas!$G$1046
Name cu_10.1mo: [2]CCU_Reformas!$H$1046
Name cu_10.2: [2]CCU_Reformas!$I$1064
Name cu_10.2mat: [2]CCU_Reformas!$G$1064
Name cu_10.2mo: [2]CCU_Reformas!$H$1064
Name cu_10.3: [2]CCU_Reformas!$I$1082
Name cu_10.3mat: [2]CCU_Reformas!$G$1082
Name cu_10.3mo: [2]CCU_Reformas!$H$1082
Name cu_11.1: [2]CCU_Reformas!$I$1100
Name cu_11.10: [2]CCU_Reformas!$I$1186
Name cu_11.10mat: [2]CCU_Reformas!$G$1186
Name cu_11.10mo: [2]CCU_Reformas!$H$1186
Name cu_11.11: [2]CCU_Reformas!$I$1196
Name cu_11.11mat: [2]CCU_Reformas!$G$1196
Name cu_11.11mo: [2]CCU_Reformas!$H$1196
Name cu_11.12: [2]CCU_Reformas!$I$1205
Name cu_11.12mat: [2]CCU_Reformas!$G$1205
Name cu_11.12mo: [2]CCU_Reformas!$H$1205
Name cu_11.13: [2]CCU_Reformas!$I$1219
Name cu_11.13mat: [2]CCU_Reformas!$G$1219
Name cu_11.13mo: [2]CCU_Reformas!$H$1219
Name cu_11.14: [2]CCU_Reformas!$I$1233
Name cu_11.14mat: [2]CCU_Reformas!$G$1233
Name cu_11.14mo: [2]CCU_Reformas!$H$1233
Name cu_11.15: [2]CCU_Reformas!$I$1247
Name cu_11.15mat: [2]CCU_Reformas!$G$1247
Name cu_11.15mo: [2]CCU_Reformas!$H$1247
Name cu_11.16: [2]CCU_Reformas!$I$1261
Name cu_11.16mat: [2]CCU_Reformas!$G$1261
Name cu_11.16mo: [2]CCU_Reformas!$H$1261
Name cu_11.17: [2]CCU_Reformas!$I$1274
Name cu_11.17mat: [2]CCU_Reformas!$G$1274
Name cu_11.17mo: [2]CCU_Reformas!$H$1274
Name cu_11.18: [2]CCU_Reformas!$I$1287
Name cu_11.18mat: [2]CCU_Reformas!$G$1287
Name cu_11.18mo: [2]CCU_Reformas!$H$1287
Name cu_11.19: [2]CCU_Reformas!$I$1300
Name cu_11.19mat: [2]CCU_Reformas!$G$1300
Name cu_11.19mo: [2]CCU_Reformas!$H$1300

Sheet Cronograma
A2: OBRA: | B2: RUA MARECHAL FLORIANO PEIXOTO, 94 - PORTO ALEGRE/RS | H2: ENCARGOS SOCIAIS: | J2: 112,84% (H)
A3: LOCAL: | B3: CASA DO TRABALHADOR | J3: 69,95% (M)
A4: REFERÊNCIA: | B4: SINAPI: RS 4/2025 | H4: BDI: | J4: 0.2532
B5: PESQUISA DE MERCADO | H5: MODALIDADE: | J5: NÃO DESONERADO
H6: PRAZO DE EXECUÇÃO: | J6: 60 DIAS
H7: DATA DO ORÇAMENTO: | J7: 45907
A8: ORÇAMENTISTA: | H8: RRT:
A10: CRONOGRAMA FÍSICO-FINANCEIRO
A12: ITEM | B12: SERVIÇO | G12: VALOR TOTAL | H12: ETAPA 1 | J12: ETAPA 2
H13: 30 DIAS | J13: 60 DIAS
H14: % | I14: R$ | J14: % | K14: R$
A15: 1 | B15: DIVISORIA LEVE NAVAL 35mm | H15: 0.5 | I15: 10.105,62 | J15: 0.5 | K15: 10.105,62
A16: 2 | B16: PORTA DIVISÓRIA 80X2,10m | H16: 0.5 | I16: 325,00 | J16: 0.5 | K16: 325,00
A17: 3 | B17: DIVISÓRIA DE VIDRO TEMPERADO 8mm | H17: 0.5 | I17: 20.292,00 | J17: 0.5 | K17: 20.292,00
A18: 4 | B18: PORTA DE VIDRO TEMPERADO 8mm COMPLETA COM FERRAGEM 80x2,10 | H18: 0.5 | I18: 6.125,00 | J18: 0.5 | K18: 6.125,00
A19: 5 | B19: BIOMBOS DE VIDRO TEMPERADO 8mm | H19: 1 | I19: 9.674,48
A20: 6 | B20: DIVISÓRIA DE GESSO ACARTONADO | H20: 1 | I20: 1.575,00
B21: TOTAL POR ETAPA | I21: 48.097,10 | K21: 36.847,63
A22: TOTAL ACUMULADO: | G22: 84.944,73
A25: Porto Alegre,09 de Julho de 2025.

Sheet Orçamento
A1: OBRA: | B1: RUA MARECHAL FLORIANO PEIXOTO, 94 - PORTO ALEGRE/RS | H1: ENCARGOS SOCIAIS: | J1: 112,84% (H)
A2: LOCAL: | B2: CASA DO TRABALHADOR | J2: 69,95% (M)
A3: REFERÊNCIA: | B3: SINAPI: RS 4/2025 | H3: BDI: | J3: 0.2532 | O3: 1.2532 | P3: 0.79795737
B4: PESQUISA DE MERCADO | H4: MODALIDADE: | J4: NÃO DESONERADO
H5: PRAZO DE EXECUÇÃO: | J5: 60 DIAS
H6: DATA DO ORÇAMENTO: | J6: 45907
A7: ORÇAMENTISTA: | H7: RRT: | J7: 15691579
A9: PLANILHA ORÇAMENTÁRIA SINTÉTICA
A12: Item | B12: Tipo | C12: Banco | D12: Código | E12: Descrição | F12: Un. | H12: Qtd. | I12: TOTAL | L12: Preço Unit. sem BDI
I13: MAT | J13: M.O. | K13: Total | L13: MAT | M13: M.O. | N13: Total
E15: DIVISÓRIAS
A16: 1 | B16: Composição | C16: PESQUISA MERCADO | E16: Divisória leve naval 35mm | F16: M2 | H16: 109,25 | I16: 100 | J16: 85 | K16: 20.211,25 | L16: 100 | M16: 85 | N16: 20.211,25
A17: 2 | B17: Composição | C17: PESQUISA MERCADO | E17: Porta Divilux leve 80x2,10 | F17: Un. | H17: 1 | I17: 500 | J17: 150 | K17: 650,00 | L17: 500 | M17: 150 | N17: 650,00
A18: 3 | B18: Composição | C18: PESQUISA MERCADO | E18: Divisória de painel de Vidro temperado 8mm | F18: M2 | H18: 169,10 | I18: 150,00 | J18: 90 | K18: 40.584,00 | L18: 150,00 | M18: 90 | N18: 40.584,00
A19: 4 | B19: Composição | C19: SINAPI | D19: 102184 | E19: Divisória de painel de Vidro temperado 8mm | F19: Un. | H19: 7 | I19: 1.500,00 | J19: 250,0 | K19: 12.250,00 | L19: 1500 | M19: 250,0 | N19: 12.250,00
A20: 5 | B20: Composição | C20: PESQUISA MERCADO | E20: Biombos vidro temperado 8mm | F20: Un. | H20: 4 | I20: 2.200,00 | J20: 218,62 | K20: 9.674,48 | L20: 2.200,00 | M20: 218,62 | N20: 9.674,48
A21: 6 | B21: Composição | C21: SINAPI | D21: 96366 | E21: Divisória de gesso acartonado | F21: M2 | H21: 4,50 | I21: 200,00 | J21: 150,00 | K21: 1.575,00 | L21: 200,00 | M21: 150,00 | N21: 1.575,00
E22: TOTAL | K22: 84.944,73

Sheet Planilha2
B5: =51*4 -> 204
B6: 13
B7: 16
B8: 2
B9: 8
B10: 10
B11: 3
B12: 9
B13: 4
B14: 7
B15: 27
B16: 5
B17: 2
... B31: 5
B32: =SUM(B5:B31) -> 450
B33: =B32*1.2 -> 540

Sheet Planilha1
D4: 35
D5: 35
D6: 35
D7: 35
D8: 28
D9: 35
D10: 35
D11: 34
D12: 34
D13: 41
D14: 40
D15: 40
... D26: 54
D27: =3*26 -> 78
D28: =2*26 -> 52
D29: =5*22 -> 110
D30: 15
D31: 45
D32: 45
D33: 10
D34: 100
D35: =5*27 -> 135
D36: 25
D37: =5*30 -> 150
D38: =4*33 -> 132
D39: 36
D40: =6*38 -> 228
D41: =7*55 -> 385
D42: =SUM(D4:D41) -> 2474
D43: =D42*1.2 -> 2968.8

Sheet Composições
B1: Planilha de Composições - Anexo III
B2: OBRA: | C2: RUA MARECHAL FLORIANO PEIXOTO, 94 - PORTO ALEGRE/RS | H2: ENCARGOS SOCIAIS: | I2: 112,84% (H)
B3: LOCAL: | C3: CASA DO TRABALHADOR | I3: 69,95% (M)
B4: REFERÊNCIA: | C4: SINAPI: RS 4/2025 | H4: BDI: | I4: 0.2532
C5: ORSE: SE 3/2025 | H5: MODALIDADE: | I5: NÃO DESONERADO
C6: SEINFRA: CE 10/2023 | H6: PRAZO DE EXECUÇÃO: | I6: 60 DIAS
C7: OBRAS-SP: SP 2/2025 | H7: DATA DO ORÇAMENTO: | I7: 45821
B8: ORÇAMENTISTA: | C8: ARQ. ALEXSANDRA BORBA
B9: RRT: | C9: 15691579
B11: Código | C11: Descrição | D11: Banco | E11: Tipo | F11: Unidade | G11: Quantidade | H11: Custo Unitário | I11: Custo Total
B12: 1 | C12: Ponto elétrico para Ar Condicionado do tipo CASSETE, instalado no teto ou sobre o forro. | D12: PRÓPRIO | E12: Composição Principal | F12: UN | I12: 71.98
B13: 38102 | C13: TOMADA 2P+T 20A, 250V (APENAS MODULO) | D13: SINAPI | E13: Insumo | F13: UN | G13: 1 | H13: 11.99 | I13: 11.99
B14: 2559 | C14: CONDULETE DE ALUMINIO TIPO C, PARA ELETRODUTO ROSCAVEL DE 3/4", COM TAMPA CEGA | D14: SINAPI | E14: Insumo | F14: UN | G14: 1 | H14: 16.19 | I14: 16.19
B15: 2436 | C15: ELETRICISTA (HORISTA) | D15: SINAPI | E15: Insumo | F15: H | G15: 1 | H15: 23.07 | I15: 23.07
B16: 247 | C16: AJUDANTE DE ELETRICISTA (HORISTA) | D16: SINAPI | E16: Insumo | F16: H | G16: 1 | H16: 18.21 | I16: 18.21
B17: 43484 | C17: EPI - FAMILIA ELETRICISTA - HORISTA (ENCARGOS COMPLEMENTARES - COLETADO CAIXA) | D17: SINAPI | E17: Insumo | F17: H | G17: 2 | H17: 1.26 | I17: 2.52
B19: 2 | C19: DISPOSITIVO DR, 4 POLOS, SENSIBILIDADE DE 30 MA, CORRENTE DE 125 A, TIPO AC | D19: PRÓPRIO | E19: Composição Principal | F19: UN | I19: 810.96
B20: =Preços!A14 -> 5 | C20: DISPOSITIVO DR, 4 POLOS, SENSIBILIDADE DE 30 MA, CORRENTE DE 125 A, TIPO AC | D20: PESQUISA DE MERCADO | E20: Insumo | F20: UN | G20: 1 | H20: 755.97 | I20: 755.97
B21: 88264 | C21: ELETRICISTA COM ENCARGOS COMPLEMENTARES | D21: SINAPI | E21: Composição | F21: H | G21: 1 | H21: 30.02 | I21: 30.02
B22: 88247 | C22: AUXILIAR DE ELETRICISTA COM ENCARGOS COMPLEMENTARES | D22: SINAPI | E22: Composição | F22: H | G22: 1 | H22: 24.97 | I22: 24.97
B24: 3 | C24: ESQUADRIA DE VIDRO - ACESSO PRINCIPAL | D24: PRÓPRIO | E24: Composição Principal | F24: M2 | I24: 986.41
B25: 3104 | C25: CONJ. DE FERRAGENS PARA PORTA DE VIDRO TEMPERADO, EM ZAMAC CROMADO, CONTEMPLANDO DOBRADICA INF., DOBRADICA SUP., PIVO PARA DOBRADICA INF., PIVO PARA DOBRADICA SUP., FECHADURA CENTRAL EM ZAMC. CROMADO, CONTRA FECHADURA DE PRESSAO | D25: SINAPI | E25: Insumo | F25: CJ | G25: 1 | H25: 185.56 | I25: 185.56
B26: 10502 | C26: VIDRO TEMPERADO VERDE E = 10 MM, SEM COLOCACAO | D26: SINAPI | E26: Insumo | F26: M2 | G26: 1 | H26: 378.12 | I26: 378.12
B27: 10489 | C27: VIDRACEIRO (HORISTA) | D27: SINAPI | E27: Insumo | F27: H | G27: 5 | H27: 18.92 | I27: 94.6
B28: 6110 | C28: SERRALHEIRO (HORISTA) | D28: SINAPI | E28: Insumo | F28: H | G28: 5 | H28: 21.56 | I28: 107.8
B29: 252 | C29: AJUDANTE DE SERRALHEIRO (HORISTA) | D29: SINAPI | E29: Insumo | F29: H | G29: 5 | H29: 18.21 | I29: 91.05
B30: 1 | C30: TUBO RETANGULAR 40X20, EM ALUMÍNIO, COR PRETA - 2,00mm - BARRA DE 6MT | D30: PESQUISA DE MERCADO | E30: Insumo | F30: BARRA | G30: 1 | H30: 129.28 | I30: 129.28
B31: 4 | C31: ELETROCALHA | D31: PRÓPRIO | E31: Composição Principal | F31: M | I31: =I32+I33+I34 -> 69.83
B32: =Preços!A15 -> 6 | C32: ELETROCALHA LISA OU PERFURADA EM AÇO GALVANIZADO, LARGURA 100MM E ALTURA 25MM | D32: PESQUISA DE MERCADO | E32: Insumo | F32: M | G32: 1 | H32: =Preços!F15 -> 30.06 | I32: =H32*G32 -> 30.06
B33: 6110 | C33: SERRALHEIRO (HORISTA) | D33: SINAPI | E33: Insumo | F33: H | G33: 1 | H33: 21.56 | I33: =H33*G33 -> 21.56
B34: 252 | C34: AJUDANTE DE SERRALHEIRO (HORISTA) | D34: SINAPI | E34: Insumo | F34: H | G34: 1 | H34: 18.21 | I34: =H34*G34 -> 18.21
B35: 5 | C35: REDE LÓGICA - PASSAGEM DE CABOS | D35: PRÓPRIO | E35: Composição Principal | F35: M | I35: =SUM(I36:I37) -> 3.6501
B36: 88264 | C36: ELETRICISTA COM ENCARGOS COMPLEMENTARES | D36: SINAPI | E36: Composição | F36: H | G36: 0.08 | H36: 30.02 | I36: =H36*G36 -> 2.4016
B37: 88247 | C37: AUXILIAR DE ELETRICISTA COM ENCARGOS COMPLEMENTARES | D37: SINAPI | E37: Composição | F37: H | G37: 0.05 | H37: 24.97 | I37: =H37*G37 -> 1.2485
B38: 6 | C38: CANALETA AR CONDICIONADO - DRENOS | D38: PRÓPRIO | E38: Composição Principal | F38: M | I38: =SUM(I39:I40) -> 19.744167
B39: =Preços!A11 -> 2 | C39: =Preços!B11 -> Canaleta para Dreno de Ar Condicionado - Barra de 2 metros | D39: PESQUISA DE MERCADO | E39: Insumo | F39: M | G39: 2 | H39: =Preços!F11 -> 20.003333 | I39: =H39/G39 -> 10.001667
B40: 2701 | C40: INSTALADOR DE TUBULACOES - TUBOS/EQUIPAMENTOS (HORISTA) | D40: SINAPI | E40: Composição | F40: H | G40: 0.25 | H40: 38.97 | I40: =H40*G40 -> 9.7425
B41: 7 | C41: CANALETA AR CONDICIONADO - TUBULAÇÕES REFRIGERANTES | D41: PRÓPRIO | E41: Composição Principal | F41: M | I41: =SUM(I42:I43) -> 29.699167
B42: =Preços!A12 -> 3 | C42: =Preços!B12 -> Canaleta de PVC para Dreno Ar Condicionado Split CB30 Branca 85 x 70mm - Barra de 2 Metros | D42: PESQUISA DE MERCADO | E42: Insumo | F42: M | G42: 2 | H42: =Preços!F12 -> 39.913333 | I42: =H42/G42 -> 19.956667
B43: 2701 | C43: INSTALADOR DE TUBULACOES - TUBOS/EQUIPAMENTOS (HORISTA) | D43: SINAPI | E43: Composição | F43: H | G43: 0.25 | H43: 38.97 | I43: =H43*G43 -> 9.7425
...

Sheet BDI
B3: OBRA: | C3: RUA MARECHAL FLORIANO PEIXOTO, 94 - PORTO ALEGRE/RS | E3: ENCARGOS SOCIAIS: | G3: 112,84% (H)
B4: LOCAL: | C4: CASA DO TRABALHADOR | G4: 69,95% (M)
B5: REFERÊNCIA: | C5: SINAPI: RS 4/2025 | E5: BDI: | G5: 0.2532
C6: ORSE: SE 3/2025 | E6: MODALIDADE: | G6: NÃO DESONERADO
C7: SEINFRA: CE 10/2023 | E7: PRAZO DE EXECUÇÃO: | G7: 60 DIAS
C8: OBRAS-SP: SP 2/2025 | E8: DATA DO ORÇAMENTO: | G8: 45821
B9: ORÇAMENTISTA: | C9: ARQ. ALEXSANDRA BORBA | E9: RRT: | G9: 15691579
B12: ANEXO IV - QUADRO DE DETALHAMENTO DO BDI
B14: PARCELAS DO BDI | E14: Limites conf. Acordão TCU 2622/2013
B16: Siglas | C16: Itens | D16: % Adotado | E16: Mín. | F16: Média | G16: Máximo
B17: AC | C17: Administração Central | D17: 0.0425 | E17: 3 | F17: =(G17+E17)/2 -> 4.25 | G17: 5.5
B18: R | C18: Risco | D18: 0.0123 | E18: 0.97 | F18: =(G18+E18)/2 -> 1.12 | G18: 1.27
B19: SG | C19: Seguro e Garantia | D19: 0.009 | E19: 0.8 | F19: =(G19+E19)/2 -> 0.9 | G19: 1
B20: DF | C20: Despesas Financeiras | D20: 0.0099 | E20: 0.59 | F20: =(G20+E20)/2 -> 0.99 | G20: 1.39
B21: L | C21: Lucro | D21: 0.0831 | E21: 6.16 | F21: =(G21+E21)/2 -> 7.56 | G21: 8.96
B22: P | C22: Tributos (PIS) | D22: 0.0065 | E22: CONF. ENQUADRAMENTO
B23: C | C23: Tributos (COFINS) | D23: 0.03
B24: ISS | C24: Tributos (ISS) | D24: 0.035 | E24: 2 | F24: =(G24+E24)/2 -> 3.5 | G24: 5
B25: CPRB | C25: Tributos (Contribuição Previdenciária sobre a Receita Bruta - 0% ou 4,5% - Desoneração) | D25: 0 | E25: 0 | F25: 4.5 | G25: 0
B27: BDI | C27: BDI | D27: =((1+D17+D19+D18)*(1+D20)*(1+D21))/(1-D23-D22-D24)-1 -> 0.25321333
C29: Os valores de BDI foram calculados com o emprego da fórmula:
C31: BDI = (1+AC+S+R+G)*(1+DF)*(1+L) -1 (1-C-P-ISS)
B34: Nota ref. alíquotas de PIS, COFINS e ISS para empresas Optantes do Simples Nacional:
B35: Conforme acórdão TCU 2622/2013, item 9.3.2.5:
B36: "prever, nos editais de licitação, a exigência para que as empresas licitantes optantes pelo Simples Nacional apresentem os percentuais de ISS, PIS e COFINS discriminados na composição do BDI que sejam compatíveis com as alíquotas a que a empresa está obrigada a recolher, previstas no Anexo IV da Lei Complementar n. 123/2006, bem como que a composição de encargos sociais não inclua os gastos relativos às contribuições que essas empresas estão dispensadas de recolhimento (Sesi, Senai, Sebrae etc.), conforme dispões o art. 13, § 3º, da referida Lei Complementar;
B40: Porto Alegre, 13 de JUNHO de 2025.
B45: Alexsandra Borba
B46: Arquiteta e Urbanista
B47: CAU nº A294846-0

Sheet Encargos Sociais
A4: ANEXO V - TABELA DE ENCARGOS SOCIAIS
A6: OBRA: | B6: RUA MARECHAL FLORIANO PEIXOTO, 94 - PORTO ALEGRE/RS
A7: LOCAL: | B7: CASA DO TRABALHADOR
A8: REFERÊNCIA: | B8: SINAPI
A9: DATA-BASE: | B9: RS 04/2025
A10: ORÇAMENTISTA: | B10: ARQ. ALEXSANDRA BORBA
A11: RRT: | B11: 15691579
A13: ITEM | B13: COMPOSIÇÃO DE ENCARGOS SOCIAIS DIURNOS | C13: HORISTA % | D13: MENS. %
A14: A | B14: GRUPO A - ENCARGOS BÁSICOS PREVIDENCIÁRIOS
A15: A.1 | B15: INSS | C15: 0.2 | D15: 0.2
A16: A.2 | B16: SESI | C16: 0.015 | D16: 0.015
A17: A.3 | B17: SENAI | C17: 0.01 | D17: 0.01
A18: A.4 | B18: INCRA | C18: 0.002 | D18: 0.002
A19: A.5 | B19: SEBRAE | C19: 0.006 | D19: 0.006
A20: A.6 | B20: SALÁRIO-EDUCAÇÃO | C20: 0.025 | D20: 0.025
A21: A.7 | B21: SEGURO CONTRA ACIDENTES DE TRABALHO | C21: 0.03 | D21: 0.03
A22: A.8 | B22: FGTS | C22: 0.08 | D22: 0.08
A23: A.9 | B23: SECONCI | C23: 0 | D23: 0
B24: TOTAL GRUPO "A" | C24: =SUM(C15:C23) -> 0.368 | D24: =SUM(D15:D23) -> 0.368
A26: B | B26: GRUPO B - ENCARGOS QUE RECEBEM INCIDÊNCIA DE "A"
A27: B.1 | B27: REPOUSO SEMANAL REMUNERADO | C27: 0.1793 | D27: Não incide
A28: B.2 | B28: FERIADO | C28: 0.0424 | D28: Não incide
A29: B.3 | B29: AUXILIO ENFERMIDADE | C29: 0.0087 | D29: 0.0066
A30: B.4 | B30: 13º SALÁRIO | C30: 0.1096 | D30: 0.0833
A31: B.5 | B31: LICENÇA PATERNIDADE | C31: 0.0007 | D31: 0.0005
A32: B.6 | B32: FALTAS JUSTIFICADAS | C32: 0.0073 | D32: 0.0056
A33: B.7 | B33: DIAS DE CHUVA | C33: 0.0155 | D33: Não incide
A34: B.8 | B34: AUXÍLIO ACIDENTE DE TRABALHO | C34: 0.001 | D34: 0.0008
A35: B.9 | B35: FÉRIAS GOZADAS | C35: 0.1051 | D35: 0.0799
A36: B.10 | B36: SALÁRIO MATERNIDADE | C36: 0.0004 | D36: 0.0003
B37: TOTAL GRUPO "B" | C37: =SUM(C27:C36) -> 0.47 | D37: =SUM(D27:D36) -> 0.177
A39: C | B39: GRUPO C - ENCARGOS QUE NÃO RECEBEM INCIDÊNCIA DE "A"
A40: C.1 | B40: AVISO PRÉVIO INDENIZADO | C40: 0.0453 | D40: 0.0363
A41: C.2 | B41: AVISO-PRÉVIO TRABALHADO | C41: 0.0011 | D41: 0.0008
A42: C.3 | B42: FÉRIAS INDENIZADAS | C42: 0.0343 | D42: 0.0261
A43: C.4 | B43: DEPÓSITO RESCISÃO SEM JUSTA CAUSA | C43: 0.0277 | D43: 0.0211
A44: C.5 | B44: INDENIZAÇÃO ADICIONAL | C44: 0.0049 | D44: 0.002
B45: TOTAL GRUPO "C" | C45: =SUM(C40:C44) -> 0.1133 | D45: =SUM(D40:D44) -> 0.0863
A47: D | B47: GRUPO D - INCIDÊNCIA DE ENCARGOS
A48: D.1 | B48: REINCIDÊNCIA DE GRUPO A SOBRE B | C48: 0.173 | D48: 0.0651
...

Sheet Preços
A1: ANEXO VI
A2: PESQUISA DE MERCADO
A3: OBRA: | B3: RUA MARECHAL FLORIANO PEIXOTO, 94 - PORTO ALEGRE/RS
A4: LOCAL: | B4: CASA DO TRABALHADOR
A5: ORÇAMENTISTA: | B5: ARQ. ALEXSANDRA BORBA
A6: RRT: | B6: 15691579
A7: DATA: | B7: 45821
A9: Cod. | B9: Item | C9: Fonte 1 (R$) | D9: Fonte 2 (R$) | E9: Fonte 3 (R$) | F9: Média (R$)
A10: 1 | B10: TUBO RETANGULAR 40X20, EM ALUMÍNIO, COR PRETA - 2,00mm - Barra de 06 metros | C10: 165 | D10: 114.58 | E10: 108.27 | F10: =AVERAGE(C10:E10) -> 129.28333
A11: 2 | B11: Canaleta para Dreno de Ar Condicionado - Barra de 2 metros | C11: 24.41 | D11: 17.1 | E11: 18.5 | F11: =AVERAGE(C11:E11) -> 20.003333
A12: 3 | B12: Canaleta de PVC para Dreno Ar Condicionado Split CB30 Branca 85 x 70mm - Barra de 2 Metros | C12: 45.99 | D12: 45 | E12: 28.75 | F12: =AVERAGE(C12:E12) -> 39.913333
A13: 4 | B13: Canaleta em alumínio para passagem de cabos elétricos/rede, 53 x 15mm, Dutotec ou Similar - Barra de 2 metros. | C13: 115.46 | D13: 164.33 | E13: 168.08 | F13: =AVERAGE(C13:E13) -> 149.29
A14: 5 | B14: DISPOSITIVO DR, 4 POLOS, SENSIBILIDADE DE 30 MA, CORRENTE DE 125A, TIPO AC | C14: 646.92 | D14: 740.52 | E14: 880.46 | F14: =AVERAGE(C14:E14) -> 755.96667
A15: 6 | B15: Eletrocalha (m) | C15: 23.25 | D15: 43.95 | E15: 24.98 | F15: 30.06
A16: 7 | B16: Luminária Tubular Led Slim Batten Sobrepor 36w 120cm | C16: 35 | D16: 35.64 | E16: 23.9 | F16: =AVERAGE(C16:E16) -> 31.513333
A17: 8 | B17: TRILHO ELETRIFICADO PERFIL SUSPENSO SLIM LINEAR 120cm BRANCO NEUTRO - 4000K | C17: 147.62 | D17: 216 | E17: 207.77 | F17: =AVERAGE(C17:E17) -> 190.46333
A18: 9 | B18: TRILHO ELETRIFICADO SUSPENSO 8m - 4000K / h = 3,00m 12 LEDS LINEARES + 8 SPOTS DIRECIONÁVEIS | C18: 899.1 | D18: 899 | E18: 840.48 | F18: =AVERAGE(C18:E18) -> 879.52667
A19: 10 | B19: LUMINÁRIA TIPO CALHA, DE EMBUTIR NO FORRO - 62x62cm BRANCO NEUTRO - 4000K. | C19: 126.02 | D19: 139.9 | E19: =253.94/2 -> 126.97 | F19: =AVERAGE(C19:E19) -> 130.96333
A21: Porto Alegre, 13 de junho de 2025.
A24: Alexsandra Borba
A25: Arquiteta e Urbanista
A26: CAU nº A294846-0

Sheet Fontes
A1: Item | B1: Fonte 1 - Link | C1: Fonte 2 - Link | D1: Fonte 3 - Link
A2: TUBO RETANGULAR 40X20, EM ALUMÍNIO, COR PRETA - 2,00mm - Barra de 06 metros | B2: https://www.aluminioalure.com.br/doyx0q7hp-tubo-retangular-de-aluminio-3-x-112-x-116-762cm-x-381cm-x-158mm | C2: https://www.bogonialuminios.com.br/tg073nl-leve-tubo-retangular-50-8x25-4x0-6mm-natural?utm_source=google&utm_medium=shopping&utm_campaign=tg073nl-leve-tubo-retangular-50-8x25-4x0-6mm-natural&inStock&srsltid=AfmBOoppqb-aXXUhEHsAEuoZhqflJKwxEG_HaBpWIgAvzF4uwZpuugpRCu4#derivacao=19/307 | D2: https://www.webmetal.com.br/tubo-retangular-de-aluminio-2-natural/p?idsku=219&skuId=217
A3: Canaleta para Dreno de Ar Condicionado, 30x30mm - Barra de 2 metros | B3: https://www.lojaartech.com.br/canaleta-para-dreno-cb80-split-ate-30-000-btus | C3: https://www.frigelar.com.br/canaleta-branca-split-cb30-35-x-30-mm-barra-2-metros-controlbox/p/kit6260?gad_source=1&gad_campaignid=17336221344&gbraid=0AAAAADi_dD78bezugjHh3To53jpTHWZGi&gclid=Cj0KCQjwgIXCBhDBARIsAELC9ZgjzMt8wKcuMjL2krlSEkCEsJettxe84AEhiIQH10RERCn4lIZAiDgaAt3DEALw_wcB | D3: https://www.lojaartech.com.br/canaleta-para-dreno-cb30-barra-1mt-medidas-35x3x100cm-?utm_source=google&utm_medium=Shopping&utm_campaign=canaleta-para-dreno-cb30-barra-1mt-medidas-35x3x100cm-&inStock&parceiro=8962&gad_source=1&gad_campaignid=17420412232&gbraid=0AAAAADQ02g3LUScQXZT86EJCcrtLF52XR&gclid=Cj0KCQjwgIXCBhDBARIsAELC9ZiL2eEoc4hHTp8NIH_LpO0R89VJGulxqSUwKFTkauhrzb6J7AxzRN8aAmH5EALw_wcB
A4: Canaleta de PVC para TR Ar Condicionado Split CB30 Branca 85 x 70mm - Barra de 2 Metros | B4: https://www.frigelar.com.br/canaleta-branca-split-cb80-85-x-70mm-barra-2-metros-controlbox/p/kit6262?gad_source=1&gad_campaignid=22669787899&gbraid=0AAAAADi_dD4XqORcH_cAGg8K_3rVETQ7F&gclid=CjwKCAjwgb_CBhBMEiwA0p3oOCV8GXWW58UsclcGppVelCK5UxFDV_w17RlZRN_h6-Y_XI01Wl9xnhoCmKUQAvD_BwE | C4: https://www.dufrio.com.br/canaleta-para-instalacao-split-2-metros-controlbox-85x70-cb80.html?gad_source=1&gad_campaignid=17331224835&gbraid=0AAAAADfUKvaRvRIOhSiS6MlH1Z6BNSyTU&gclid=CjwKCAjwgb_CBhBMEiwA0p3oONnwRWhp4nFz9M5MqySqnBMwx_ZO_lJHhn7dyNXOqzV1ifo7EO1Q7BoCJ7wQAvD_BwE | D4: https://www.controlbox.com.br/cb60-2m?utm_term=&utm_campaign=&utm_source=adwords&utm_medium=ppc&hsa_acc=3945002083&hsa_cam=22167981726&hsa_grp=&hsa_ad=&hsa_src=x&hsa_tgt=&hsa_kw=&hsa_mt=&hsa_net=adwords&hsa_ver=3&gad_source=1&gad_campaignid=22168013640&gbraid=0AAAAADrxEuxYeCzTMJj8X6z-AdXfFQwoe&gclid=CjwKCAjwgb_CBhBMEiwA0p3oOHn704NJXA_HSDp-NSKKjcd9HBsh-qe0v7BxauAsqi_PJBXmojhE8xoCI9UQAvD_BwE
A5: Canaleta em alumínio para passagem de cabos elétricos/rede, 53 x 15mm, Dutotec ou Similar - Barra de 2 metros. | B5: https://www.redemacsuperbem.com.br/produto/canaleta-dutotec-x-53x15-2m-c-tampa-branco?srsltid=AfmBOoqkMbicBnvdvG6AjOogpSqRApM2nzCPuOfAMaIB93Dc4DbQbRJlj1c | C5: https://www.eletrorastro.com.br/produto/canaleta-aluminio-53x15x2000mm-branco-dutotec-82009?utm_source=google&utm_medium=cpc&srsltid=AfmBOooxCsetWwgLRYLdhV59Kls7FgIuYWlGTwSrDJALBRuaUH3X8o5IWUc | D5: https://www.lojaeletrica.com.br/canaleta-aluminio-simples-branco-53x15-2-metros-com-tampa-dx-10040.html?mp_feed=MTozOmhDRUxnZGpmc3VPQnZ6b2tqTVRPUXNsTmhMMEJoVGVDdklNR2YxUT0%3D&srsltid=AfmBOoq2P9Llk3DoVafaAW1Fxx60cLFWLhOwNP7N97YfuDKEer_Z5Vgm4Yw
A6: Caixa de transição para canaleta em alumínio para passagem de cabos elétricos/rede, 53 x 15 mm, Dutotec ou Similar | B6: https://www.redemacsuperbem.com.br/produto/dutotec-x-53mm-caixa-derivacao-xt-branco?gad_source=1&gad_campaignid=22569001887&gbraid=0AAAAADz16aRV9uwlFDXfv3VlC6X8ecT1l&gclid=CjwKCAjwo4rCBhAbEiwAxhJlCZ1UxETiH5wKWoxSbKvGI9Gt0a5D9MUNH6UwZQad0ygnFI0pKAXQcRoCWG0QAvD_BwE | C6: https://www.dimensional.com.br/caixa-derivacao-perfilado-x-aluminio---abs---dt5224000alabs---dutotec/p?idsku=185619&gad_source=1&gad_campaignid=18285008559&gbraid=0AAAAADgOTvusYSTv20wlDomtAI4z_9C5T&gclid=CjwKCAjwo4rCBhAbEiwAxhJlCWHEmAJstFPf-lV5BIuZ9Z7LcpGYoaCGPLpO428MI_9wyX-TPu5oZxoCd1YQAvD_BwE | D6: https://www.andra.com.br/caixa-derivacao-aluminio-abs-t-1x1-prf25-branco-dt-52440-00-124907-dutotec/p?idsku=13924&gad_source=1&gad_campaignid=21070779022&gbraid=0AAAAApkqR1vk81N_-4dvhAIErn4cBMMLf&gclid=CjwKCAjwo4rCBhAbEiwAxhJlCWhGQwOr4Q7nMZ5Qa-gW6NfX_D7LCKBOc9zd04VaaBAUz_vZShBwCRoCpNQQAvD_BwE
A7: DISPOSITIVO DR, 4 POLOS, SENSIBILIDADE DE 30 MA, CORRENTE DE 125A, TIPO AC | B7: https://www.dimensional.com.br/interruptor-dr-4p-400vca-125a-30ma-sdr4125003-steck/p?idsku=142686&gad_source=4&gad_campaignid=18285008559&gbraid=0AAAAADgOTvvEsUFgXTLenw9LY6O7KurBx&gclid=CjwKCAjwo4rCBhAbEiwAxhJlCVHkR8bt7gqJgBVR5ruqpJkXKuoA4TenCpKHuXmdcj9TK6u4KuxX9xoCe6MQAvD_BwE | C7: https://www.abtcomercial.com.br/ferramentas/eletrica/disp-dr-4x-125a-30ma-sdr4125003?gad_source=4&gad_campaignid=21814129322&gbraid=0AAAAA-XUzye2qLH3Czr2EeilY-gw-t_zJ&gclid=CjwKCAjwo4rCBhAbEiwAxhJlCcVPl7XfbYG1r6yZHgcW8XpmazsGBwUcZ2NnTH9za9_HymVxoLDjeRoCDfIQAvD_BwE | D7: https://www.zigferramentas.com.br/dispositivo-dr-fuga-tetra-125a-steck-sdr4125003?utm_source=Site&utm_medium=GoogleShopping&utm_campaign=IntegracaoGoogle&gad_source=4&gad_campaignid=17347944458&gbraid=0AAAAABQCe5SVX_a2I5veIZpkU2oyBL2vn&gclid=CjwKCAjwo4rCBhAbEiwAxhJlCUzaZIeFG43VNQqQeWMxv6BJJe-N02snU8WjLcZgG2s0RjdCC_rlqBoCasAQAvD_BwE
A8: Eletrocalha (m) | B8: https://www.lojaeletrica.com.br | C8: https://www.infraeletrocalhas.com.br | D8: https://www.cassol.com.br
A9: Switch 48p PoE+ | B9: https://www.mercadolivre.com.br | C9: https://www.kabum.com.br | D9: https://www.amazon.com.br
A10: Switch 8p PoE | B10: https://www.mercadolivre.com.br | C10: https://www.kabum.com.br | D10: https://www.mercadolivre.com.br
A11: Roteador GW | B11: https://www.cisco.com | C11: https://www.tp-link.com/br/ | D11: https://www.tp-link.com/br/
A12: AP Wi-Fi 6 | B12: https://www.amazon.com | C12: https://www.trendnet.com | D12: https://www.cdw.com
... A27: LUMINÁRIA TIPO CALHA, DE EMBUTIR NO FORRO - 62x62cm BRANCO NEUTRO - 4000K. | B27: https://www.diamantedoled.com.br/produtos/luminaria-de-embutir-compacta-alto-rendimento-com-aletas-parabolicas-duplas-para-4-lampadas-9w-10w-60cm-134197/?variant=881562496&pf=mc&gad_source=1&gad_campaignid=22607615426&gbraid=0AAAAA-L-QLaPpFps4NexfLqoE_Sd37xvC&gclid=CjwKCAjwgb_CBhBMEiwA0p3oOAjJMd1LlX0UjrVuLRagQ69X0IWBTlGbgZ7HbPxm9IskPFBbYbtNLxoCQewQAvD_BwE | C27: https://www.claron.com.br/luminaria-comercial-aletada-alto-rendimento-de-embutir-para-lampada-led-t8-4x-9w-10w-claron?utm_source=Site&utm_medium=GoogleMerchant&utm_campaign=GoogleMerchant&gad_source=1&gad_campaignid=21930037189&gbraid=0AAAAADioG6BqgyaPeyPSwxjA35yhetRUE&gclid=CjwKCAjwgb_CBhBMEiwA0p3oOKCDIbvpdAOXPs3-JeR4ks9JXt4atPd2U3oemOVOtpw15LwRoGheRhoCwVIQAvD_BwE | D27: https://www.inspirehome.com.br/painel-luminaria-de-embutir-led-slim-quadrado-4100k-40w-bivolt-62x62cm-aluminio-e-policarbonato-branco-germany-blumenau-iluminac-o-80474104/p?utm_source=google&utm_medium=cpc&utm_campaign=Pmax_Revenda_Importado&gad_source=1&gad_campaignid=18144592721&gbraid=0AAAAADcW9N-D7HRC6Z2PPpvFylIgmDm2T&gclid=CjwKCAjwgb_CBhBMEiwA0p3oODhKsu_q8wuR1zOj6zCbbyKNplzs2a26ace3Ejrth8v0Z0ViqMQFihoC664QAvD_BwE
