Workbook
Name \e: #N/A
Name \f: #N/A
Name _1Excel_BuiltIn_Print_Area_2_1: #REF!
Name _1Excel_BuiltIn_Print_Area_2_1: #REF!
Name _2Excel_BuiltIn_Print_Area_2_1: #REF!
Name _4Excel_BuiltIn_Print_Area_2_1: #REF!
Name _e: #N/A
Name _f: #N/A
Name _tab072005: "$#REF!.$A$32:$F$1001"
Name _tab092003: "$#REF!.$A$9:$I$2080"
Name Área_impressão_IM: #REF!
Name Área_impressão_IM___0: #REF!
Name bdi: [1]Completo!#REF!
Name BuiltIn_Print_Area: #REF!
Name BuiltIn_Print_Area___0: #REF!
Name BuiltIn_Print_Titles: #REF!
Name BuiltIn_Print_Titles___0: #REF!
Name COD: "$#REF!.$A$9:$A$1445"
Name CQuantidadesValidReal: #REF!
Name CQuantidadesValidReal: #REF!
Name cu_10.1: [2]CCU_Reformas!$I$1046
Name cu_10.1mat: [2]CCU_Reformas!$G$1046
Name cu_10.1mo: [2]CCU_Reformas!$H$1046
Name cu_10.2: [2]CCU_Reformas!$I$1064
Name cu_10.2mat: [2]CCU_Reformas!$G$1064
Name cu_10.2mo: [2]CCU_Reformas!$H$1064
Name cu_10.3: [2]CCU_Reformas!$I$1082
Name cu_10.3mat: [2]CCU_Reformas!$G$1082
Name cu_10.3mo: [2]CCU_Reformas!$H$1082
Name cu_11.1: [2]CCU_Reformas!$I$1100
Name cu_11.10: [2]CCU_Reformas!$I$1186
Name cu_11.10mat: [2]CCU_Reformas!$G$1186
Name cu_11.10mo: [2]CCU_Reformas!$H$1186
Name cu_11.11: [2]CCU_Reformas!$I$1196
Name cu_11.11mat: [2]CCU_Reformas!$G$1196
Name cu_11.11mo: [2]CCU_Reformas!$H$1196
Name cu_11.12: [2]CCU_Reformas!$I$1205
Name cu_11.12mat: [2]CCU_Reformas!$G$1205
Name cu_11.12mo: [2]CCU_Reformas!$H$1205
Name cu_11.13: [2]CCU_Reformas!$I$1219
Name cu_11.13mat: [2]CCU_Reformas!$G$1219
Name cu_11.13mo: [2]CCU_Reformas!$H$1219
Name cu_11.14: [2]CCU_Reformas!$I$1233
Name cu_11.14mat: [2]CCU_Reformas!$G$1233
Name cu_11.14mo: [2]CCU_Reformas!$H$1233
Name cu_11.15: [2]CCU_Reformas!$I$1247
Name cu_11.15mat: [2]CCU_Reformas!$G$1247
Name cu_11.15mo: [2]CCU_Reformas!$H$1247
Name cu_11.16: [2]CCU_Reformas!$I$1261
Name cu_11.16mat: [2]CCU_Reformas!$G$1261
Name cu_11.16mo: [2]CCU_Reformas!$H$1261
Name cu_11.17: [2]CCU_Reformas!$I$1274
Name cu_11.17mat: [2]CCU_Reformas!$G$1274
Name cu_11.17mo: [2]CCU_Reformas!$H$1274
Name cu_11.18: [2]CCU_Reformas!$I$1287
Name cu_11.18mat: [2]CCU_Reformas!$G$1287
Name cu_11.18mo: [2]CCU_Reformas!$H$1287
Name cu_11.19: [2]CCU_Reformas!$I$1300
Name cu_11.19mat: [2]CCU_Reformas!$G$1300
Name cu_11.19mo: [2]CCU_Reformas!$H$1300

Sheet Orçamento
A1: OBRA: | B1: RUA MARECHAL FLORIANO PEIXOTO, 94 - PORTO ALEGRE/RS | I1: ENCARGOS SOCIAIS: | K1: 112,84% (H)
A2: LOCAL: | B2: CASA DO TRABALHADOR | K2: 69,95% (M)
A3: REFERÊNCIA: | B3: SINAPI: RS 4/2025 | I3: BDI: | K3: 0.2532 | T3: 1.2532 | U3: 0.79795737
B4: ORSE: SE 3/2025 | I4: MODALIDADE: | K4: NÃO DESONERADO
B5: SEINFRA: CE 10/2023 | I5: PRAZO DE EXECUÇÃO: | K5: 60 DIAS
B6: OBRAS-SP: SP 2/2025 | I6: DATA DO ORÇAMENTO: | K6: 45821
A7: ORÇAMENTISTA: | B7: ARQ. ALEXSANDRA BORBA | I7: RRT: | K7: 15691579
A9: PLANILHA ORÇAMENTÁRIA SINTÉTICA
A11: Item | B11: Tipo | C11: Banco | D11: Código | E11: Descrição | F11: Un. | G11: Qtd. | H11: Preço Unit. SEM BDI | K11: Preço Unit. com BDI | N11: Preço Total com BDI | R11: Preço Total sem BDI
H12: MAT | I12: M.O. | J12: Total | K12: MAT | L12: M.O. | M12: Total | N12: MAT | O12: M.O. | P12: Total | R12: MAT | S12: M.O. | T12: Total
A13: 1 | E13: ADMINISTRAÇÃO DA OBRA | N13: =N14+N15 -> 114.40002 | O13: =O14+O15 -> 7033.0012 | P13: =P14+P15 -> 7147.4013
A14: 1.1 | B14: CREA/CAU | E14: TAXA DE RESPONSABILIDADE TÉCNICA - ART/RRT | F14: UN | G14: 1 | H14: 0 | I14: 271.4651 | J14: 271.4651 | K14: =H14*$T$3 -> 0 | L14: =I14*$T$3 -> 340.20006 | M14: =J14*$T$3 -> 340.20006 | N14: =K14*G14 -> 0 | O14: =L14*G14 -> 340.20006 | P14: =O14+N14 -> 340.20006 | R14: =H14*G14 -> 0 | S14: =I14*G14 -> 271.4651 | T14: =S14+R14 -> 271.4651 | V14: =(T14)*1.2532 -> 340.20006
A15: 1.2 | B15: Composição | C15: SINAPI | D15: 90778 | E15: ENGENHEIRO CIVIL DE OBRA PLENO COM ENCARGOS COMPLEMENTARES | F15: H | G15: 40 | H15: 2.2821581 | I15: 133.51423 | J15: 135.79639 | K15: =H15*$T$3 -> 2.8600005 | L15: =I15*$T$3 -> 167.32003 | M15: =J15*$T$3 -> 170.18003 | N15: =K15*G15 -> 114.40002 | O15: =L15*G15 -> 6692.8012 | P15: =O15+N15 -> 6807.2012 | R15: =H15*G15 -> 91.286323 | S15: =I15*G15 -> 5340.5691 | T15: =S15+R15 -> 5431.8554 | V15: =(T15)*1.2532 -> 6807.2012
A16: 2 | E16: ESQUADRIAS | N16: =N17+N18+N19 -> 17735.181 | O16: =O17+O18+O19 -> 6015.0724 | P16: =P17+P18+P19 -> 23750.254 | R16: =H16*G16 -> 0 | S16: =I16*G16 -> 0 | T16: =S16+R16 -> 0 | V16: =(T16)*1.2532 -> 0
A17: 2.1 | B17: Composição | C17: Próprio | D17: =Composições!B24 -> 3 | E17: ESQUADRIAS DE VIDRO TEMPERADO 10MM, COM MONTANTES EM ALUMINIO ANODIZADO PRETO RETANGULAR 4X2, INCLUINDO ABERTURAS - FORNECIMENTO E INSTALAÇÃO. | F17: M2 | G17: 16.17 | H17: 692.96 | I17: 293.45 | J17: 986.41 | K17: =H17*$T$3 -> 868.41747 | L17: =I17*$T$3 -> 367.75154 | M17: =J17*$T$3 -> 1236.169 | N17: =K17*G17 -> 14042.311 | O17: =L17*G17 -> 5946.5424 | P17: =O17+N17 -> 19988.853 | R17: =H17*G17 -> 11205.163 | S17: =I17*G17 -> 4745.0865 | T17: =S17+R17 -> 15950.25 | V17: =(T17)*1.2532 -> 19988.853
A18: 2.2 | B18: Composição | C18: SINAPI | D18: 100675 | E18: KIT DE PORTA-PRONTA DE MADEIRA EM ACABAMENTO MELAMÍNICO BRANCO, FOLHA LEVE OU MÉDIA, 90X210, EXCLUSIVE FECHADURA, FIXAÇÃO COM PREENCHIMENTO TOTAL DE ESPUMA EXPANSIVA - FORNECIMENTO E INSTALAÇÃO. AF_12/2019 | F18: UN | G18: 2 | H18: 1022.343 | I18: 19.917016 | J18: 1042.26 | K18: =H18*$T$3 -> 1281.2002 | L18: =I18*$T$3 -> 24.960004 | M18: =J18*$T$3 -> 1306.1602 | N18: =K18*G18 -> 2562.4005 | O18: =L18*G18 -> 49.920009 | P18: =O18+N18 -> 2612.3205 | R18: =H18*G18 -> 2044.686 | S18: =I18*G18 -> 39.834032 | T18: =S18+R18 -> 2084.52 | V18: =(T18)*1.2532 -> 2612.3205
A19: 2.3 | B19: Composição | C19: SINAPI | D19: 90789 | E19: KIT DE PORTA-PRONTA DE MADEIRA EM ACABAMENTO MELAMÍNICO BRANCO, FOLHA LEVE OU MÉDIA, 70X210CM, EXCLUSIVE FECHADURA, FIXAÇÃO COM PREENCHIMENTO PARCIAL DE ESPUMA EXPANSIVA - FORNECIMENTO E INSTALAÇÃO. AF_12/2019 | F19: UN | G19: 1 | H19: 902.06687 | I19: 14.849987 | J19: 916.91686 | K19: =H19*$T$3 -> 1130.4702 | L19: =I19*$T$3 -> 18.610003 | M19: =J19*$T$3 -> 1149.0802 | N19: =K19*G19 -> 1130.4702 | O19: =L19*G19 -> 18.610003 | P19: =O19+N19 -> 1149.0802 | R19: =H19*G19 -> 902.06687 | S19: =I19*G19 -> 14.849987 | T19: =S19+R19 -> 916.91686 | V19: =(T19)*1.2532 -> 1149.0802
A20: 3 | E20: FORRO | N20: =N21 -> 56456.103 | O20: =O21 -> 14114.026 | P20: =P21 -> 70570.129 | R20: =H20*G20 -> 0 | S20: =I20*G20 -> 0 | T20: =S20+R20 -> 0 | V20: =(T20)*1.2532 -> 0
A21: 3.1 | B21: Insumo | C21: ORSE | D21: 39513/SINAPI | E21: Forro de fibra mineral em placas de 625 x 625 mm, e = 15/16 mm, borda rebaixada, com pintura antimofo, apoiado em perfil de aco galvanizado com 24 mm de base - instalado | F21: m2 | G21: =164.17*2 -> 328.34 | H21: 137.20398 | I21: 34.300996 | J21: 171.50498 | K21: =H21*$T$3 -> 171.94403 | L21: =I21*$T$3 -> 42.986008 | M21: =J21*$T$3 -> 214.93004 | N21: =K21*G21 -> 56456.103 | O21: =L21*G21 -> 14114.026 | P21: =O21+N21 -> 70570.129 | R21: =H21*G21 -> 45049.556 | S21: =I21*G21 -> 11262.389 | T21: =S21+R21 -> 56311.944 | V21: =(T21)*1.2532 -> 70570.129
A22: 4 | E22: INSTALAÇÕES HIDROSSANITÁRIAS | N22: =SUM(N23:N33) -> 5718.706 | O22: =SUM(O23:O33) -> 5818.025 | P22: =SUM(P23:P33) -> 11536.731 | R22: =H22*G22 -> 0 | S22: =I22*G22 -> 0 | T22: =S22+R22 -> 0 | V22: =(T22)*1.2532 -> 0
A23: 4.1 | B23: Composição | C23: SINAPI | D23: 89427 | E23: LUVA COM BUCHA DE LATÃO, PVC, SOLDÁVEL, DN 25MM X 3/4 , INSTALADO EM RAMAL DE DISTRIBUIÇÃO DE ÁGUA - FORNECIMENTO E INSTALAÇÃO. AF_06/2022 | F23: UN | G23: 5 | H23: 9.2164076 | I23: 3.5828286 | J23: 12.799236 | K23: =H23*$T$3 -> 11.550002 | L23: =I23*$T$3 -> 4.4900008 | M23: =J23*$T$3 -> 16.040003 | N23: =K23*G23 -> 57.75001 | O23: =L23*G23 -> 22.450004 | P23: =O23+N23 -> 80.200014 | R23: =H23*G23 -> 46.082038 | S23: =I23*G23 -> 17.914143 | T23: =S23+R23 -> 63.996181 | V23: =(T23)*1.2532 -> 80.200014
A24: 4.2 | B24: Composição | C24: SINAPI | D24: 89798 | E24: TUBO PVC, SERIE NORMAL, ESGOTO PREDIAL, DN 50 MM, FORNECIDO E INSTALADO EM PRUMADA DE ESGOTO SANITÁRIO OU VENTILAÇÃO. AF_08/2022 | F24: M | G24: 46.5 | H24: 11.993299 | I24: 1.7634858 | J24: 13.756785 | K24: =H24*$T$3 -> 15.030003 | L24: =I24*$T$3 -> 2.2100004 | M24: =J24*$T$3 -> 17.240003 | N24: =K24*G24 -> 698.89512 | O24: =L24*G24 -> 102.76502 | P24: =O24+N24 -> 801.66014 | R24: =H24*G24 -> 557.68842 | S24: =I24*G24 -> 82.002089 | T24: =S24+R24 -> 639.69051 | V24: =(T24)*1.2532 -> 801.66014
A25: 4.3 | B25: Composição | C25: SINAPI | D25: 89802 | E25: JOELHO 45 GRAUS, PVC, SERIE NORMAL, ESGOTO PREDIAL, DN 50 MM, JUNTA ELÁSTICA, FORNECIDO E INSTALADO EM PRUMADA DE ESGOTO SANITÁRIO OU VENTILAÇÃO. AF_08/2022 | F25: UN | G25: 5 | H25: 9.152571 | I25: 1.460262 | J25: 10.612833 | K25: =H25*$T$3 -> 11.470002 | L25: =I25*$T$3 -> 1.8300003 | M25: =J25*$T$3 -> 13.300002 | N25: =K25*G25 -> 57.35001 | O25: =L25*G25 -> 9.1500016 | P25: =O25+N25 -> 66.500012 | R25: =H25*G25 -> 45.762855 | S25: =I25*G25 -> 7.3013099 | T25: =S25+R25 -> 53.064165 | V25: =(T25)*1.2532 -> 66.500012
A26: 4.4 | B26: Composição | C26: SINAPI | D26: 89827 | E26: JUNÇÃO SIMPLES, PVC, SERIE NORMAL, ESGOTO PREDIAL, DN 50 X 50 MM, JUNTA ELÁSTICA, FORNECIDO E INSTALADO EM PRUMADA DE ESGOTO SANITÁRIO OU VENTILAÇÃO. AF_08/2022 | F26: UN | G26: 1 | H26: 17.930102 | I26: 1.9390364 | J26: 19.869139 | K26: =H26*$T$3 -> 22.470004 | L26: =I26*$T$3 -> 2.4300004 | M26: =J26*$T$3 -> 24.900004 | N26: =K26*G26 -> 22.470004 | O26: =L26*G26 -> 2.4300004 | P26: =O26+N26 -> 24.900004 | R26: =H26*G26 -> 17.930102 | S26: =I26*G26 -> 1.9390364 | T26: =S26+R26 -> 19.869139 | V26: =(T26)*1.2532 -> 24.900004
A27: 4.5 | B27: Composição | C27: SINAPI | D27: 89801 | E27: JOELHO 90 GRAUS, PVC, SERIE NORMAL, ESGOTO PREDIAL, DN 50 MM, JUNTA ELÁSTICA, FORNECIDO E INSTALADO EM PRUMADA DE ESGOTO SANITÁRIO OU VENTILAÇÃO. AF_08/2022 | F27: UN | G27: 12 | H27: 8.4184503 | I27: 1.460262 | J27: 9.8787123 | K27: =H27*$T$3 -> 10.550002 | L27: =I27*$T$3 -> 1.8300003 | M27: =J27*$T$3 -> 12.380002 | N27: =K27*G27 -> 126.60002 | O27: =L27*G27 -> 21.960004 | P27: =O27+N27 -> 148.56003 | R27: =H27*G27 -> 101.0214 | S27: =I27*G27 -> 17.523144 | T27: =S27+R27 -> 118.54455 | V27: =(T27)*1.2532 -> 148.56003
A28: 4.6 | B28: Composição | C28: SINAPI | D28: 94648 | E28: TUBO, PVC, SOLDÁVEL, DE 25MM, INSTALADO EM RESERVAÇÃO PREDIAL DE ÁGUA - FORNECIMENTO E INSTALAÇÃO. AF_04/2024 | F28: M | G28: 38.65 | H28: 5.2665187 | I28: 1.9629751 | J28: 7.2294938 | K28: =H28*$T$3 -> 6.6000012 | L28: =I28*$T$3 -> 2.4600004 | M28: =J28*$T$3 -> 9.0600016 | N28: =K28*G28 -> 255.09005 | O28: =L28*G28 -> 95.079017 | P28: =O28+N28 -> 350.16906 | R28: =H28*G28 -> 203.55095 | S28: =I28*G28 -> 75.868989 | T28: =S28+R28 -> 279.41993 | V28: =(T28)*1.2532 -> 350.16906
A29: 4.7 | B29: Composição | C29: SINAPI | D29: 89489 | E29: CURVA 90 GRAUS, PVC, SOLDÁVEL, DN 25MM, INSTALADO EM PRUMADA DE ÁGUA - FORNECIMENTO E INSTALAÇÃO. AF_06/2022 | F29: UN | G29: 14 | H29: 5.2744982 | I29: 3.0003197 | J29: 8.2748179 | K29: =H29*$T$3 -> 6.6100012 | L29: =I29*$T$3 -> 3.7600007 | M29: =J29*$T$3 -> 10.370002 | N29: =K29*G29 -> 92.540016 | O29: =L29*G29 -> 52.640009 | P29: =O29+N29 -> 145.18003 | R29: =H29*G29 -> 73.842975 | S29: =I29*G29 -> 42.004476 | T29: =S29+R29 -> 115.84745 | V29: =(T29)*1.2532 -> 145.18003
A30: 4.8 | B30: Composição | C30: SINAPI | D30: 89987 | E30: REGISTRO DE GAVETA BRUTO, LATÃO, ROSCÁVEL, 3/4", COM ACABAMENTO E CANOPLA CROMADOS - FORNECIMENTO E INSTALAÇÃO. AF_08/2021 | F30: UN | G30: 4 | H30: 110.05428 | I30: 9.3919583 | J30: 119.44624 | K30: =H30*$T$3 -> 137.92002 | L30: =I30*$T$3 -> 11.770002 | M30: =J30*$T$3 -> 149.69003 | N30: =K30*G30 -> 551.6801 | O30: =L30*G30 -> 47.080008 | P30: =O30+N30 -> 598.76011 | R30: =H30*G30 -> 440.21712 | S30: =I30*G30 -> 37.567833 | T30: =S30+R30 -> 477.78496 | V30: =(T30)*1.2532 -> 598.76011
A31: 4.9 | B31: Composição | C31: SINAPI | D31: 89617 | E31: TE, PVC, SOLDÁVEL, DN 25MM, INSTALADO EM PRUMADA DE ÁGUA - FORNECIMENTO E INSTALAÇÃO. AF_06/2022 | F31: UN | G31: 2 | H31: 4.2211945 | I31: 3.9977664 | J31: 8.2189609 | K31: =H31*$T$3 -> 5.2900009 | L31: =I31*$T$3 -> 5.0100009 | M31: =J31*$T$3 -> 10.300002 | N31: =K31*G31 -> 10.580002 | O31: =L31*G31 -> 10.020002 | P31: =O31+N31 -> 20.600004 | R31: =H31*G31 -> 8.442389 | S31: =I31*G31 -> 7.9955329 | T31: =S31+R31 -> 16.437922 | V31: =(T31)*1.2532 -> 20.600004
A32: 4.10 | B32: Composição | C32: SINAPI | D32: 89427 | E32: LUVA COM BUCHA DE LATÃO, PVC, SOLDÁVEL, DN 25MM X 3/4 , INSTALADO EM RAMAL DE DISTRIBUIÇÃO DE ÁGUA - FORNECIMENTO E INSTALAÇÃO. AF_06/2022 | F32: UN | G32: 5 | H32: 9.2164076 | I32: 3.5828286 | J32: 12.799236 | K32: =H32*$T$3 -> 11.550002 | L32: =I32*$T$3 -> 4.4900008 | M32: =J32*$T$3 -> 16.040003 | N32: =K32*G32 -> 57.75001 | O32: =L32*G32 -> 22.450004 | P32: =O32+N32 -> 80.200014 | R32: =H32*G32 -> 46.082038 | S32: =I32*G32 -> 17.914143 | T32: =S32+R32 -> 63.996181 | V32: =(T32)*1.2532 -> 80.200014
A33: 4.11 | B33: Composição | C33: SINAPI | D33: 89865 | E33: TUBO, PVC, SOLDÁVEL, DE 25MM, INSTALADO EM DRENO DE AR-CONDICIONADO - FORNECIMENTO E INSTALAÇÃO. AF_08/2022 | F33: M | G33: 400 | H33: 7.5566563 | I33: 10.836261 | J33: 18.392917 | K33: =H33*$T$3 -> 9.4700017 | L33: =I33*$T$3 -> 13.580002 | M33: =J33*$T$3 -> 23.050004 | N33: =K33*G33 -> 3788.0007 | O33: =L33*G33 -> 5432.001 | P33: =O33+N33 -> 9220.0016 | R33: =H33*G33 -> 3022.6625 | S33: =I33*G33 -> 4334.5044 | T33: =S33+R33 -> 7357.167 | V33: =(T33)*1.2532 -> 9220.0016
A34: 5 | E34: CLIMATIZAÇÃO | N34: =SUM(N35:N40) -> 60919.146 | O34: =SUM(O35:O40) -> 22039.617 | P34: =SUM(P35:P40) -> 82958.763 | R34: =H34*G34 -> 0 | S34: =I34*G34 -> 0 | T34: =S34+R34 -> 0 | V34: =(T34)*1.2532 -> 0
A35: 5.1 | B35: Composição | C35: SEINFRA-CE | D35: C4778 | E35: REDE FRIGORÍGENA C/ TUBO DE COBRE 1/2" FLEXÍVEL, ISOLADO COM BORRACHA ELASTOMÉRICA, SUSTENTAÇÃO, SOLDA E LIMPEZA | F35: M | G35: 142 | H35: 50.566559 | I35: 15.600067 | J35: 66.166625 | K35: =H35*$T$3 -> 63.370011 | L35: =I35*$T$3 -> 19.550003 | M35: =J35*$T$3 -> 82.920015 | N35: =K35*G35 -> 8998.5416 | O35: =L35*G35 -> 2776.1005 | P35: =O35+N35 -> 11774.642 | R35: =H35*G35 -> 7180.4513 | S35: =I35*G35 -> 2215.2095 | T35: =S35+R35 -> 9395.6608 | V35: =(T35)*1.2532 -> 11774.642
A36: 5.2 | B36: Composição | C36: SEINFRA-CE | D36: C4776 | E36: REDE FRIGORÍGENA C/ TUBO DE COBRE 1/4" FLEXÍVEL, ISOLADO COM BORRACHA ELASTOMÉRICA, SUSTENTAÇÃO, SOLDA E LIMPEZA | F36: M | G36: 142 | H36: 39.818073 | I36: 11.817749 | J36: 51.635821 | K36: =H36*$T$3 -> 49.900009 | L36: =I36*$T$3 -> 14.810003 | M36: =J36*$T$3 -> 64.710011 | N36: =K36*G36 -> 7085.8013 | O36: =L36*G36 -> 2103.0204 | P36: =O36+N36 -> 9188.8216 | R36: =H36*G36 -> 5654.1663 | S36: =I36*G36 -> 1678.1203 | T36: =S36+R36 -> 7332.2867 | V36: =(T36)*1.2532 -> 9188.8216
A37: 5.3 | B37: Composição | C37: SEINFRA-CE | D37: C4779 | E37: REDE FRIGORÍGENA C/ TUBO DE COBRE 5/8" FLEXÍVEL, ISOLADO COM BORRACHA ELASTOMÉRICA, SUSTENTAÇÃO, SOLDA E LIMPEZA | F37: M | G37: 270 | H37: 61.498575 | I37: 16.078841 | J37: 77.577416 | K37: =H37*$T$3 -> 77.070014 | L37: =I37*$T$3 -> 20.150004 | M37: =J37*$T$3 -> 97.220017 | N37: =K37*G37 -> 20808.904 | O37: =L37*G37 -> 5440.501 | P37: =O37+N37 -> 26249.405 | R37: =H37*G37 -> 16604.615 | S37: =I37*G37 -> 4341.2871 | T37: =S37+R37 -> 20945.902 | V37: =(T37)*1.2532 -> 26249.405
A38: 5.4 | B38: Composição | C38: SEINFRA-CE | D38: C4777 | E38: REDE FRIGORÍGENA C/ TUBO DE COBRE 3/8" FLEXÍVEL, ISOLADO COM BORRACHA ELASTOMÉRICA, SUSTENTAÇÃO, SOLDA E LIMPEZA | F38: M | G38: 270 | H38: 38.828606 | I38: 13.708908 | J38: 52.537513 | K38: =H38*$T$3 -> 48.660009 | L38: =I38*$T$3 -> 17.180003 | M38: =J38*$T$3 -> 65.840012 | N38: =K38*G38 -> 13138.202 | O38: =L38*G38 -> 4638.6008 | P38: =O38+N38 -> 17776.803 | R38: =H38*G38 -> 10483.724 | S38: =I38*G38 -> 3701.4051 | T38: =S38+R38 -> 14185.129 | V38: =(T38)*1.2532 -> 17776.803
A39: 5.5 | B39: Composição | C39: Próprio | D39: =Composições!B38 -> 6 | E39: CANALETA PARA DRENO DE AR CONDICIONADO - FORNECIMENTO E INSTALAÇÃO. | F39: M | G39: 290 | H39: 10.001667 | I39: 9.7425 | J39: 19.744167 | K39: =H39*$T$3 -> 12.534089 | L39: =I39*$T$3 -> 12.209301 | M39: =J39*$T$3 -> 24.74339 | N39: =K39*G39 -> 3634.8857 | O39: =L39*G39 -> 3540.6973 | P39: =O39+N39 -> 7175.583 | R39: =H39*G39 -> 2900.4833 | S39: =I39*G39 -> 2825.325 | T39: =S39+R39 -> 5725.8083 | V39: =(T39)*1.2532 -> 7175.583
A40: 5.6 | B40: Composição | C40: Próprio | D40: =Composições!B41 -> 7 | E40: CANALETA PARA TUBULAÇÃO REFRIGERANTE, DE AR CONDICIONADO - FORNECIMENTO E INSTALAÇÃO. | F40: M | G40: 290 | H40: 19.956667 | I40: 9.7425 | J40: 29.699167 | K40: =H40*$T$3 -> 25.009695 | L40: =I40*$T$3 -> 12.209301 | M40: =J40*$T$3 -> 37.218996 | N40: =K40*G40 -> 7252.8115 | O40: =L40*G40 -> 3540.6973 | P40: =O40+N40 -> 10793.509 | R40: =H40*G40 -> 5787.4333 | S40: =I40*G40 -> 2825.325 | T40: =S40+R40 -> 8612.7583 | V40: =(T40)*1.2532 -> 10793.509
A41: 6 | E41: PISO TÁTIL | N41: =N42 -> 7198.775 | O41: =O42 -> 3085.1893 | P41: =P42 -> 10283.964 | R41: =H41*G41 -> 0 | S41: =I41*G41 -> 0 | T41: =S41+R41 -> 0 | V41: =(T41)*1.2532 -> 0
A42: 6.1 | B42: Insumo | C42: SINAPI | D42: 38181 | E42: PISO TATIL ALERTA OU DIRECIONAL, DE BORRACHA, COLORIDO, 25 X 25 CM, E = 5 MM | F42: M2 | G42: 36.56 | H42: =J42*0.7 -> 157.1202 | I42: =J42*0.3 -> 67.337229 | J42: 224.45743 | K42: =H42*$T$3 -> 196.90303 | L42: =I42*$T$3 -> 84.387015 | M42: =J42*$T$3 -> 281.29005 | N42: =K42*G42 -> 7198.775 | O42: =L42*G42 -> 3085.1893 | P42: =O42+N42 -> 10283.964 | R42: =H42*G42 -> 5744.3145 | S42: =I42*G42 -> 2461.8491 | T42: =S42+R42 -> 8206.1636 | V42: =(T42)*1.2532 -> 10283.964
...

Sheet Planilha2
B5: =51*4 -> 204
B6: 13
B7: 16
B8: 2
B9: 8
B10: 10
B11: 3
B12: 9
B13: 4
B14: 7
B15: 27
B16: 5
B17: 2
... B31: 5
B32: =SUM(B5:B31) -> 450
B33: =B32*1.2 -> 540

Sheet Planilha1
D4: 35
D5: 35
D6: 35
D7: 35
D8: 28
D9: 35
D10: 35
D11: 34
D12: 34
D13: 41
D14: 40
D15: 40
... D26: 54
D27: =3*26 -> 78
D28: =2*26 -> 52
D29: =5*22 -> 110
D30: 15
D31: 45
D32: 45
D33: 10
D34: 100
D35: =5*27 -> 135
D36: 25
D37: =5*30 -> 150
D38: =4*33 -> 132
D39: 36
D40: =6*38 -> 228
D41: =7*55 -> 385
D42: =SUM(D4:D41) -> 2474
D43: =D42*1.2 -> 2968.8

Sheet Cronograma
A2: OBRA: | B2: RUA MARECHAL FLORIANO PEIXOTO, 94 - PORTO ALEGRE/RS | H2: ENCARGOS SOCIAIS: | J2: 112,84% (H)
A3: LOCAL: | B3: CASA DO TRABALHADOR | J3: 69,95% (M)
A4: REFERÊNCIA: | B4: SINAPI: RS 4/2025 | H4: BDI: | J4: 0.2532
B5: ORSE: SE 3/2025 | H5: MODALIDADE: | J5: NÃO DESONERADO
B6: SEINFRA: CE 10/2023 | H6: PRAZO DE EXECUÇÃO: | J6: 60 DIAS
B7: OBRAS-SP: SP 2/2025 | H7: DATA DO ORÇAMENTO: | J7: 45821
A8: ORÇAMENTISTA: | B8: ARQ. ALEXSANDRA BORBA | H8: RRT: | J8: 15691579
A10: ANEXO II - CRONOGRAMA FÍSICO-FINANCEIRO
A12: ITEM | B12: SERVIÇO | G12: VALOR TOTAL | H12: ETAPA 1 | J12: ETAPA 2
H13: 30 DIAS | J13: 60 DIAS
G14: 1 | H14: % | I14: R$ | J14: % | K14: R$
A15: =Orçamento!A13 -> 1 | B15: =Orçamento!E13 -> ADMINISTRAÇÃO DA OBRA | G15: =Orçamento!P13 -> 7147.4013 | H15: 0.5 | I15: =H15*G15 -> 3573.7006 | J15: 0.5 | K15: =J15*G15 -> 3573.7006
A16: =Orçamento!A16 -> 2 | B16: =Orçamento!E16 -> ESQUADRIAS | G16: =Orçamento!P16 -> 23750.254 | H16: 1 | I16: =H16*G16 -> 23750.254
A17: 3 | B17: =Orçamento!E20 -> FORRO | G17: =Orçamento!P20 -> 70570.129 | H17: 1 | I17: =H17*G17 -> 70570.129 | J17: 0 | K17: =J17*G17 -> 0
A18: 4 | B18: =Orçamento!E22 -> INSTALAÇÕES HIDROSSANITÁRIAS | G18: =Orçamento!P22 -> 11536.731 | H18: 1 | I18: =H18*G18 -> 11536.731
A19: 5 | B19: =Orçamento!E34 -> CLIMATIZAÇÃO | G19: =Orçamento!P34 -> 82958.763 | H19: 0.5 | I19: =H19*G19 -> 41479.382 | J19: 0.5 | K19: =J19*G19 -> 41479.382
A20: 6 | B20: =Orçamento!E41 -> PISO TÁTIL | G20: =Orçamento!P41 -> 10283.964 | H20: 1 | I20: =H20*G20 -> 10283.964
A21: 7 | B21: =Orçamento!E43 -> INSTALAÇÕES ELÉTRICAS | G21: =Orçamento!P43 -> 76887.65 | H21: 0.5 | I21: =H21*G21 -> 38443.825 | J21: 0.5 | K21: =J21*G21 -> 38443.825
A22: 8 | B22: =Orçamento!E67 -> ILUMINAÇÃO | G22: =Orçamento!P67 -> 27353.937 | H22: 1 | I22: =H22*G22 -> 27353.937
A23: 9 | B23: =Orçamento!E74 -> INSTALAÇÕES DE REDE LÓGICA | G23: =Orçamento!P74 -> 48825.511 | H23: 0.5 | I23: =H23*G23 -> 24412.756 | J23: 0.5 | K23: =J23*G23 -> 24412.756
A24: 10 | B24: =Orçamento!E83 -> SOM E VÍDEO - AUDITÓRIO | G24: =Orçamento!P83 -> 1712.6482 | H24: 1 | I24: =H24*G24 -> 1712.6482
A25: =Orçamento!A86 -> 11 | B25: =Orçamento!E86 -> ENTREGA DA OBRA | G25: =Orçamento!P86 -> 3295.4709 | H25: 0 | I25: =H25*G25 -> 0 | J25: 1 | K25: =J25*G25 -> 3295.4709
A26: TOTAL POR ETAPA | G26: =Orçamento!P90 -> 364322.47 | H26: =I26/G26 -> 0.69476177 | I26: =SUM(I15:I25) -> 253117.33 | J26: =K26/G26 -> 0.30523823 | K26: =SUM(K15:K25)+0.01 -> 111205.14
A27: TOTAL ACUMULADO: | H27: =H26 -> 0.69476177 | I27: =I26 -> 253117.33 | J27: =J26+H26 -> 1 | K27: =K26+I27 -> 364322.47
A30: Porto Alegre, 13 de junho de 2025.
A36: Alexsandra Borba
A37: Arquiteta e Urbanista
A38: CAU nº A294846-0

Sheet Composições
B1: Planilha de Composições - Anexo III
B2: OBRA: | C2: RUA MARECHAL FLORIANO PEIXOTO, 94 - PORTO ALEGRE/RS | H2: ENCARGOS SOCIAIS: | I2: 112,84% (H)
B3: LOCAL: | C3: CASA DO TRABALHADOR | I3: 69,95% (M)
B4: REFERÊNCIA: | C4: SINAPI: RS 4/2025 | H4: BDI: | I4: 0.2532
C5: ORSE: SE 3/2025 | H5: MODALIDADE: | I5: NÃO DESONERADO
C6: SEINFRA: CE 10/2023 | H6: PRAZO DE EXECUÇÃO: | I6: 60 DIAS
C7: OBRAS-SP: SP 2/2025 | H7: DATA DO ORÇAMENTO: | I7: 45821
B8: ORÇAMENTISTA: | C8: ARQ. ALEXSANDRA BORBA
B9: RRT: | C9: 15691579
B11: Código | C11: Descrição | D11: Banco | E11: Tipo | F11: Unidade | G11: Quantidade | H11: Custo Unitário | I11: Custo Total
B12: 1 | C12: Ponto elétrico para Ar Condicionado do tipo CASSETE, instalado no teto ou sobre o forro. | D12: PRÓPRIO | E12: Composição Principal | F12: UN | I12: 71.98
B13: 38102 | C13: TOMADA 2P+T 20A, 250V (APENAS MODULO) | D13: SINAPI | E13: Insumo | F13: UN | G13: 1 | H13: 11.99 | I13: 11.99
B14: 2559 | C14: CONDULETE DE ALUMINIO TIPO C, PARA ELETRODUTO ROSCAVEL DE 3/4", COM TAMPA CEGA | D14: SINAPI | E14: Insumo | F14: UN | G14: 1 | H14: 16.19 | I14: 16.19
B15: 2436 | C15: ELETRICISTA (HORISTA) | D15: SINAPI | E15: Insumo | F15: H | G15: 1 | H15: 23.07 | I15: 23.07
B16: 247 | C16: AJUDANTE DE ELETRICISTA (HORISTA) | D16: SINAPI | E16: Insumo | F16: H | G16: 1 | H16: 18.21 | I16: 18.21
B17: 43484 | C17: EPI - FAMILIA ELETRICISTA - HORISTA (ENCARGOS COMPLEMENTARES - COLETADO CAIXA) | D17: SINAPI | E17: Insumo | F17: H | G17: 2 | H17: 1.26 | I17: 2.52
B19: 2 | C19: DISPOSITIVO DR, 4 POLOS, SENSIBILIDADE DE 30 MA, CORRENTE DE 125 A, TIPO AC | D19: PRÓPRIO | E19: Composição Principal | F19: UN | I19: 810.96
B20: =Preços!A14 -> 5 | C20: DISPOSITIVO DR, 4 POLOS, SENSIBILIDADE DE 30 MA, CORRENTE DE 125 A, TIPO AC | D20: PESQUISA DE MERCADO | E20: Insumo | F20: UN | G20: 1 | H20: 755.97 | I20: 755.97
B21: 88264 | C21: ELETRICISTA COM ENCARGOS COMPLEMENTARES | D21: SINAPI | E21: Composição | F21: H | G21: 1 | H21: 30.02 | I21: 30.02
B22: 88247 | C22: AUXILIAR DE ELETRICISTA COM ENCARGOS COMPLEMENTARES | D22: SINAPI | E22: Composição | F22: H | G22: 1 | H22: 24.97 | I22: 24.97
B24: 3 | C24: ESQUADRIA DE VIDRO - ACESSO PRINCIPAL | D24: PRÓPRIO | E24: Composição Principal | F24: M2 | I24: 986.41
B25: 3104 | C25: CONJ. DE FERRAGENS PARA PORTA DE VIDRO TEMPERADO, EM ZAMAC CROMADO, CONTEMPLANDO DOBRADICA INF., DOBRADICA SUP., PIVO PARA DOBRADICA INF., PIVO PARA DOBRADICA SUP., FECHADURA CENTRAL EM ZAMC. CROMADO, CONTRA FECHADURA DE PRESSAO | D25: SINAPI | E25: Insumo | F25: CJ | G25: 1 | H25: 185.56 | I25: 185.56
B26: 10502 | C26: VIDRO TEMPERADO VERDE E = 10 MM, SEM COLOCACAO | D26: SINAPI | E26: Insumo | F26: M2 | G26: 1 | H26: 378.12 | I26: 378.12
B27: 10489 | C27: VIDRACEIRO (HORISTA) | D27: SINAPI | E27: Insumo | F27: H | G27: 5 | H27: 18.92 | I27: 94.6
B28: 6110 | C28: SERRALHEIRO (HORISTA) | D28: SINAPI | E28: Insumo | F28: H | G28: 5 | H28: 21.56 | I28: 107.8
B29: 252 | C29: AJUDANTE DE SERRALHEIRO (HORISTA) | D29: SINAPI | E29: Insumo | F29: H | G29: 5 | H29: 18.21 | I29: 91.05
B30: 1 | C30: TUBO RETANGULAR 40X20, EM ALUMÍNIO, COR PRETA - 2,00mm - BARRA DE 6MT | D30: PESQUISA DE MERCADO | E30: Insumo | F30: BARRA | G30: 1 | H30: 129.28 | I30: 129.28
B31: 4 | C31: ELETROCALHA | D31: PRÓPRIO | E31: Composição Principal | F31: M | I31: =I32+I33+I34 -> 69.83
B32: =Preços!A15 -> 6 | C32: ELETROCALHA LISA OU PERFURADA EM AÇO GALVANIZADO, LARGURA 100MM E ALTURA 25MM | D32: PESQUISA DE MERCADO | E32: Insumo | F32: M | G32: 1 | H32: =Preços!F15 -> 30.06 | I32: =H32*G32 -> 30.06
B33: 6110 | C33: SERRALHEIRO (HORISTA) | D33: SINAPI | E33: Insumo | F33: H | G33: 1 | H33: 21.56 | I33: =H33*G33 -> 21.56
B34: 252 | C34: AJUDANTE DE SERRALHEIRO (HORISTA) | D34: SINAPI | E34: Insumo | F34: H | G34: 1 | H34: 18.21 | I34: =H34*G34 -> 18.21
B35: 5 | C35: REDE LÓGICA - PASSAGEM DE CABOS | D35: PRÓPRIO | E35: Composição Principal | F35: M | I35: =SUM(I36:I37) -> 3.6501
B36: 88264 | C36: ELETRICISTA COM ENCARGOS COMPLEMENTARES | D36: SINAPI | E36: Composição | F36: H | G36: 0.08 | H36: 30.02 | I36: =H36*G36 -> 2.4016
B37: 88247 | C37: AUXILIAR DE ELETRICISTA COM ENCARGOS COMPLEMENTARES | D37: SINAPI | E37: Composição | F37: H | G37: 0.05 | H37: 24.97 | I37: =H37*G37 -> 1.2485
B38: 6 | C38: CANALETA AR CONDICIONADO - DRENOS | D38: PRÓPRIO | E38: Composição Principal | F38: M | I38: =SUM(I39:I40) -> 19.744167
B39: =Preços!A11 -> 2 | C39: =Preços!B11 -> Canaleta para Dreno de Ar Condicionado - Barra de 2 metros | D39: PESQUISA DE MERCADO | E39: Insumo | F39: M | G39: 2 | H39: =Preços!F11 -> 20.003333 | I39: =H39/G39 -> 10.001667
B40: 2701 | C40: INSTALADOR DE TUBULACOES - TUBOS/EQUIPAMENTOS (HORISTA) | D40: SINAPI | E40: Composição | F40: H | G40: 0.25 | H40: 38.97 | I40: =H40*G40 -> 9.7425
B41: 7 | C41: CANALETA AR CONDICIONADO - TUBULAÇÕES REFRIGERANTES | D41: PRÓPRIO | E41: Composição Principal | F41: M | I41: =SUM(I42:I43) -> 29.699167
B42: =Preços!A12 -> 3 | C42: =Preços!B12 -> Canaleta de PVC para Dreno Ar Condicionado Split CB30 Branca 85 x 70mm - Barra de 2 Metros | D42: PESQUISA DE MERCADO | E42: Insumo | F42: M | G42: 2 | H42: =Preços!F12 -> 39.913333 | I42: =H42/G42 -> 19.956667
B43: 2701 | C43: INSTALADOR DE TUBULACOES - TUBOS/EQUIPAMENTOS (HORISTA) | D43: SINAPI | E43: Composição | F43: H | G43: 0.25 | H43: 38.97 | I43: =H43*G43 -> 9.7425
...

Sheet BDI
B3: OBRA: | C3: RUA MARECHAL FLORIANO PEIXOTO, 94 - PORTO ALEGRE/RS | E3: ENCARGOS SOCIAIS: | G3: 112,84% (H)
B4: LOCAL: | C4: CASA DO TRABALHADOR | G4: 69,95% (M)
B5: REFERÊNCIA: | C5: SINAPI: RS 4/2025 | E5: BDI: | G5: 0.2532
C6: ORSE: SE 3/2025 | E6: MODALIDADE: | G6: NÃO DESONERADO
C7: SEINFRA: CE 10/2023 | E7: PRAZO DE EXECUÇÃO: | G7: 60 DIAS
C8: OBRAS-SP: SP 2/2025 | E8: DATA DO ORÇAMENTO: | G8: 45821
B9: ORÇAMENTISTA: | C9: ARQ. ALEXSANDRA BORBA | E9: RRT: | G9: 15691579
B12: ANEXO IV - QUADRO DE DETALHAMENTO DO BDI
B14: PARCELAS DO BDI | E14: Limites conf. Acordão TCU 2622/2013
B16: Siglas | C16: Itens | D16: % Adotado | E16: Mín. | F16: Média | G16: Máximo
B17: AC | C17: Administração Central | D17: 0.0425 | E17: 3 | F17: =(G17+E17)/2 -> 4.25 | G17: 5.5
B18: R | C18: Risco | D18: 0.0123 | E18: 0.97 | F18: =(G18+E18)/2 -> 1.12 | G18: 1.27
B19: SG | C19: Seguro e Garantia | D19: 0.009 | E19: 0.8 | F19: =(G19+E19)/2 -> 0.9 | G19: 1
B20: DF | C20: Despesas Financeiras | D20: 0.0099 | E20: 0.59 | F20: =(G20+E20)/2 -> 0.99 | G20: 1.39
B21: L | C21: Lucro | D21: 0.0831 | E21: 6.16 | F21: =(G21+E21)/2 -> 7.56 | G21: 8.96
B22: P | C22: Tributos (PIS) | D22: 0.0065 | E22: CONF. ENQUADRAMENTO
B23: C | C23: Tributos (COFINS) | D23: 0.03
B24: ISS | C24: Tributos (ISS) | D24: 0.035 | E24: 2 | F24: =(G24+E24)/2 -> 3.5 | G24: 5
B25: CPRB | C25: Tributos (Contribuição Previdenciária sobre a Receita Bruta - 0% ou 4,5% - Desoneração) | D25: 0 | E25: 0 | F25: 4.5 | G25: 0
B27: BDI | C27: BDI | D27: =((1+D17+D19+D18)*(1+D20)*(1+D21))/(1-D23-D22-D24)-1 -> 0.25321333
C29: Os valores de BDI foram calculados com o emprego da fórmula:
C31: BDI = (1+AC+S+R+G)*(1+DF)*(1+L) -1 (1-C-P-ISS)
B34: Nota ref. alíquotas de PIS, COFINS e ISS para empresas Optantes do Simples Nacional:
B35: Conforme acórdão TCU 2622/2013, item 9.3.2.5:
B36: "prever, nos editais de licitação, a exigência para que as empresas licitantes optantes pelo Simples Nacional apresentem os percentuais de ISS, PIS e COFINS discriminados na composição do BDI que sejam compatíveis com as alíquotas a que a empresa está obrigada a recolher, previstas no Anexo IV da Lei Complementar n. 123/2006, bem como que a composição de encargos sociais não inclua os gastos relativos às contribuições que essas empresas estão dispensadas de recolhimento (Sesi, Senai, Sebrae etc.), conforme dispões o art. 13, § 3º, da referida Lei Complementar;
B40: Porto Alegre, 13 de JUNHO de 2025.
B45: Alexsandra Borba
B46: Arquiteta e Urbanista
B47: CAU nº A294846-0

Sheet Encargos Sociais
A4: ANEXO V - TABELA DE ENCARGOS SOCIAIS
A6: OBRA: | B6: RUA MARECHAL FLORIANO PEIXOTO, 94 - PORTO ALEGRE/RS
A7: LOCAL: | B7: CASA DO TRABALHADOR
A8: REFERÊNCIA: | B8: SINAPI
A9: DATA-BASE: | B9: RS 04/2025
A10: ORÇAMENTISTA: | B10: ARQ. ALEXSANDRA BORBA
A11: RRT: | B11: 15691579
A13: ITEM | B13: COMPOSIÇÃO DE ENCARGOS SOCIAIS DIURNOS | C13: HORISTA % | D13: MENS. %
A14: A | B14: GRUPO A - ENCARGOS BÁSICOS PREVIDENCIÁRIOS
A15: A.1 | B15: INSS | C15: 0.2 | D15: 0.2
A16: A.2 | B16: SESI | C16: 0.015 | D16: 0.015
A17: A.3 | B17: SENAI | C17: 0.01 | D17: 0.01
A18: A.4 | B18: INCRA | C18: 0.002 | D18: 0.002
A19: A.5 | B19: SEBRAE | C19: 0.006 | D19: 0.006
A20: A.6 | B20: SALÁRIO-EDUCAÇÃO | C20: 0.025 | D20: 0.025
A21: A.7 | B21: SEGURO CONTRA ACIDENTES DE TRABALHO | C21: 0.03 | D21: 0.03
A22: A.8 | B22: FGTS | C22: 0.08 | D22: 0.08
A23: A.9 | B23: SECONCI | C23: 0 | D23: 0
B24: TOTAL GRUPO "A" | C24: =SUM(C15:C23) -> 0.368 | D24: =SUM(D15:D23) -> 0.368
A26: B | B26: GRUPO B - ENCARGOS QUE RECEBEM INCIDÊNCIA DE "A"
A27: B.1 | B27: REPOUSO SEMANAL REMUNERADO | C27: 0.1793 | D27: Não incide
A28: B.2 | B28: FERIADO | C28: 0.0424 | D28: Não incide
A29: B.3 | B29: AUXILIO ENFERMIDADE | C29: 0.0087 | D29: 0.0066
A30: B.4 | B30: 13º SALÁRIO | C30: 0.1096 | D30: 0.0833
A31: B.5 | B31: LICENÇA PATERNIDADE | C31: 0.0007 | D31: 0.0005
A32: B.6 | B32: FALTAS JUSTIFICADAS | C32: 0.0073 | D32: 0.0056
A33: B.7 | B33: DIAS DE CHUVA | C33: 0.0155 | D33: Não incide
A34: B.8 | B34: AUXÍLIO ACIDENTE DE TRABALHO | C34: 0.001 | D34: 0.0008
A35: B.9 | B35: FÉRIAS GOZADAS | C35: 0.1051 | D35: 0.0799
A36: B.10 | B36: SALÁRIO MATERNIDADE | C36: 0.0004 | D36: 0.0003
B37: TOTAL GRUPO "B" | C37: =SUM(C27:C36) -> 0.47 | D37: =SUM(D27:D36) -> 0.177
A39: C | B39: GRUPO C - ENCARGOS QUE NÃO RECEBEM INCIDÊNCIA DE "A"
A40: C.1 | B40: AVISO PRÉVIO INDENIZADO | C40: 0.0453 | D40: 0.0363
A41: C.2 | B41: AVISO-PRÉVIO TRABALHADO | C41: 0.0011 | D41: 0.0008
A42: C.3 | B42: FÉRIAS INDENIZADAS | C42: 0.0343 | D42: 0.0261
A43: C.4 | B43: DEPÓSITO RESCISÃO SEM JUSTA CAUSA | C43: 0.0277 | D43: 0.0211
A44: C.5 | B44: INDENIZAÇÃO ADICIONAL | C44: 0.0049 | D44: 0.002
B45: TOTAL GRUPO "C" | C45: =SUM(C40:C44) -> 0.1133 | D45: =SUM(D40:D44) -> 0.0863
A47: D | B47: GRUPO D - INCIDÊNCIA DE ENCARGOS
A48: D.1 | B48: REINCIDÊNCIA DE GRUPO A SOBRE B | C48: 0.173 | D48: 0.0651
...

Sheet Preços
A1: ANEXO VI
A2: PESQUISA DE MERCADO
A3: OBRA: | B3: RUA MARECHAL FLORIANO PEIXOTO, 94 - PORTO ALEGRE/RS
A4: LOCAL: | B4: CASA DO TRABALHADOR
A5: ORÇAMENTISTA: | B5: ARQ. ALEXSANDRA BORBA
A6: RRT: | B6: 15691579
A7: DATA: | B7: 45821
A9: Cod. | B9: Item | C9: Fonte 1 (R$) | D9: Fonte 2 (R$) | E9: Fonte 3 (R$) | F9: Média (R$)
A10: 1 | B10: TUBO RETANGULAR 40X20, EM ALUMÍNIO, COR PRETA - 2,00mm - Barra de 06 metros | C10: 165 | D10: 114.58 | E10: 108.27 | F10: =AVERAGE(C10:E10) -> 129.28333
A11: 2 | B11: Canaleta para Dreno de Ar Condicionado - Barra de 2 metros | C11: 24.41 | D11: 17.1 | E11: 18.5 | F11: =AVERAGE(C11:E11) -> 20.003333
A12: 3 | B12: Canaleta de PVC para Dreno Ar Condicionado Split CB30 Branca 85 x 70mm - Barra de 2 Metros | C12: 45.99 | D12: 45 | E12: 28.75 | F12: =AVERAGE(C12:E12) -> 39.913333
A13: 4 | B13: Canaleta em alumínio para passagem de cabos elétricos/rede, 53 x 15mm, Dutotec ou Similar - Barra de 2 metros. | C13: 115.46 | D13: 164.33 | E13: 168.08 | F13: =AVERAGE(C13:E13) -> 149.29
A14: 5 | B14: DISPOSITIVO DR, 4 POLOS, SENSIBILIDADE DE 30 MA, CORRENTE DE 125A, TIPO AC | C14: 646.92 | D14: 740.52 | E14: 880.46 | F14: =AVERAGE(C14:E14) -> 755.96667
A15: 6 | B15: Eletrocalha (m) | C15: 23.25 | D15: 43.95 | E15: 24.98 | F15: 30.06
A16: 7 | B16: Luminária Tubular Led Slim Batten Sobrepor 36w 120cm | C16: 35 | D16: 35.64 | E16: 23.9 | F16: =AVERAGE(C16:E16) -> 31.513333
A17: 8 | B17: TRILHO ELETRIFICADO PERFIL SUSPENSO SLIM LINEAR 120cm BRANCO NEUTRO - 4000K | C17: 147.62 | D17: 216 | E17: 207.77 | F17: =AVERAGE(C17:E17) -> 190.46333
A18: 9 | B18: TRILHO ELETRIFICADO SUSPENSO 8m - 4000K / h = 3,00m 12 LEDS LINEARES + 8 SPOTS DIRECIONÁVEIS | C18: 899.1 | D18: 899 | E18: 840.48 | F18: =AVERAGE(C18:E18) -> 879.52667
A19: 10 | B19: LUMINÁRIA TIPO CALHA, DE EMBUTIR NO FORRO - 62x62cm BRANCO NEUTRO - 4000K. | C19: 126.02 | D19: 139.9 | E19: =253.94/2 -> 126.97 | F19: =AVERAGE(C19:E19) -> 130.96333
A21: Porto Alegre, 13 de junho de 2025.
A24: Alexsandra Borba
A25: Arquiteta e Urbanista
A26: CAU nº A294846-0

Sheet Fontes
A1: Item | B1: Fonte 1 - Link | C1: Fonte 2 - Link | D1: Fonte 3 - Link
A2: TUBO RETANGULAR 40X20, EM ALUMÍNIO, COR PRETA - 2,00mm - Barra de 06 metros | B2: https://www.aluminioalure.com.br/doyx0q7hp-tubo-retangular-de-aluminio-3-x-112-x-116-762cm-x-381cm-x-158mm | C2: https://www.bogonialuminios.com.br/tg073nl-leve-tubo-retangular-50-8x25-4x0-6mm-natural?utm_source=google&utm_medium=shopping&utm_campaign=tg073nl-leve-tubo-retangular-50-8x25-4x0-6mm-natural&inStock&srsltid=AfmBOoppqb-aXXUhEHsAEuoZhqflJKwxEG_HaBpWIgAvzF4uwZpuugpRCu4#derivacao=19/307 | D2: https://www.webmetal.com.br/tubo-retangular-de-aluminio-2-natural/p?idsku=219&skuId=217
A3: Canaleta para Dreno de Ar Condicionado, 30x30mm - Barra de 2 metros | B3: https://www.lojaartech.com.br/canaleta-para-dreno-cb80-split-ate-30-000-btus | C3: https://www.frigelar.com.br/canaleta-branca-split-cb30-35-x-30-mm-barra-2-metros-controlbox/p/kit6260?gad_source=1&gad_campaignid=17336221344&gbraid=0AAAAADi_dD78bezugjHh3To53jpTHWZGi&gclid=Cj0KCQjwgIXCBhDBARIsAELC9ZgjzMt8wKcuMjL2krlSEkCEsJettxe84AEhiIQH10RERCn4lIZAiDgaAt3DEALw_wcB | D3: https://www.lojaartech.com.br/canaleta-para-dreno-cb30-barra-1mt-medidas-35x3x100cm-?utm_source=google&utm_medium=Shopping&utm_campaign=canaleta-para-dreno-cb30-barra-1mt-medidas-35x3x100cm-&inStock&parceiro=8962&gad_source=1&gad_campaignid=17420412232&gbraid=0AAAAADQ02g3LUScQXZT86EJCcrtLF52XR&gclid=Cj0KCQjwgIXCBhDBARIsAELC9ZiL2eEoc4hHTp8NIH_LpO0R89VJGulxqSUwKFTkauhrzb6J7AxzRN8aAmH5EALw_wcB
A4: Canaleta de PVC para TR Ar Condicionado Split CB30 Branca 85 x 70mm - Barra de 2 Metros | B4: https://www.frigelar.com.br/canaleta-branca-split-cb80-85-x-70mm-barra-2-metros-controlbox/p/kit6262?gad_source=1&gad_campaignid=22669787899&gbraid=0AAAAADi_dD4XqORcH_cAGg8K_3rVETQ7F&gclid=CjwKCAjwgb_CBhBMEiwA0p3oOCV8GXWW58UsclcGppVelCK5UxFDV_w17RlZRN_h6-Y_XI01Wl9xnhoCmKUQAvD_BwE | C4: https://www.dufrio.com.br/canaleta-para-instalacao-split-2-metros-controlbox-85x70-cb80.html?gad_source=1&gad_campaignid=17331224835&gbraid=0AAAAADfUKvaRvRIOhSiS6MlH1Z6BNSyTU&gclid=CjwKCAjwgb_CBhBMEiwA0p3oONnwRWhp4nFz9M5MqySqnBMwx_ZO_lJHhn7dyNXOqzV1ifo7EO1Q7BoCJ7wQAvD_BwE | D4: https://www.controlbox.com.br/cb60-2m?utm_term=&utm_campaign=&utm_source=adwords&utm_medium=ppc&hsa_acc=3945002083&hsa_cam=22167981726&hsa_grp=&hsa_ad=&hsa_src=x&hsa_tgt=&hsa_kw=&hsa_mt=&hsa_net=adwords&hsa_ver=3&gad_source=1&gad_campaignid=22168013640&gbraid=0AAAAADrxEuxYeCzTMJj8X6z-AdXfFQwoe&gclid=CjwKCAjwgb_CBhBMEiwA0p3oOHn704NJXA_HSDp-NSKKjcd9HBsh-qe0v7BxauAsqi_PJBXmojhE8xoCI9UQAvD_BwE
A5: Canaleta em alumínio para passagem de cabos elétricos/rede, 53 x 15mm, Dutotec ou Similar - Barra de 2 metros. | B5: https://www.redemacsuperbem.com.br/produto/canaleta-dutotec-x-53x15-2m-c-tampa-branco?srsltid=AfmBOoqkMbicBnvdvG6AjOogpSqRApM2nzCPuOfAMaIB93Dc4DbQbRJlj1c | C5: https://www.eletrorastro.com.br/produto/canaleta-aluminio-53x15x2000mm-branco-dutotec-82009?utm_source=google&utm_medium=cpc&srsltid=AfmBOooxCsetWwgLRYLdhV59Kls7FgIuYWlGTwSrDJALBRuaUH3X8o5IWUc | D5: https://www.lojaeletrica.com.br/canaleta-aluminio-simples-branco-53x15-2-metros-com-tampa-dx-10040.html?mp_feed=MTozOmhDRUxnZGpmc3VPQnZ6b2tqTVRPUXNsTmhMMEJoVGVDdklNR2YxUT0%3D&srsltid=AfmBOoq2P9Llk3DoVafaAW1Fxx60cLFWLhOwNP7N97YfuDKEer_Z5Vgm4Yw
A6: Caixa de transição para canaleta em alumínio para passagem de cabos elétricos/rede, 53 x 15 mm, Dutotec ou Similar | B6: https://www.redemacsuperbem.com.br/produto/dutotec-x-53mm-caixa-derivacao-xt-branco?gad_source=1&gad_campaignid=22569001887&gbraid=0AAAAADz16aRV9uwlFDXfv3VlC6X8ecT1l&gclid=CjwKCAjwo4rCBhAbEiwAxhJlCZ1UxETiH5wKWoxSbKvGI9Gt0a5D9MUNH6UwZQad0ygnFI0pKAXQcRoCWG0QAvD_BwE | C6: https://www.dimensional.com.br/caixa-derivacao-perfilado-x-aluminio---abs---dt5224000alabs---dutotec/p?idsku=185619&gad_source=1&gad_campaignid=18285008559&gbraid=0AAAAADgOTvusYSTv20wlDomtAI4z_9C5T&gclid=CjwKCAjwo4rCBhAbEiwAxhJlCWHEmAJstFPf-lV5BIuZ9Z7LcpGYoaCGPLpO428MI_9wyX-TPu5oZxoCd1YQAvD_BwE | D6: https://www.andra.com.br/caixa-derivacao-aluminio-abs-t-1x1-prf25-branco-dt-52440-00-124907-dutotec/p?idsku=13924&gad_source=1&gad_campaignid=21070779022&gbraid=0AAAAApkqR1vk81N_-4dvhAIErn4cBMMLf&gclid=CjwKCAjwo4rCBhAbEiwAxhJlCWhGQwOr4Q7nMZ5Qa-gW6NfX_D7LCKBOc9zd04VaaBAUz_vZShBwCRoCpNQQAvD_BwE
A7: DISPOSITIVO DR, 4 POLOS, SENSIBILIDADE DE 30 MA, CORRENTE DE 125A, TIPO AC | B7: https://www.dimensional.com.br/interruptor-dr-4p-400vca-125a-30ma-sdr4125003-steck/p?idsku=142686&gad_source=4&gad_campaignid=18285008559&gbraid=0AAAAADgOTvvEsUFgXTLenw9LY6O7KurBx&gclid=CjwKCAjwo4rCBhAbEiwAxhJlCVHkR8bt7gqJgBVR5ruqpJkXKuoA4TenCpKHuXmdcj9TK6u4KuxX9xoCe6MQAvD_BwE | C7: https://www.abtcomercial.com.br/ferramentas/eletrica/disp-dr-4x-125a-30ma-sdr4125003?gad_source=4&gad_campaignid=21814129322&gbraid=0AAAAA-XUzye2qLH3Czr2EeilY-gw-t_zJ&gclid=CjwKCAjwo4rCBhAbEiwAxhJlCcVPl7XfbYG1r6yZHgcW8XpmazsGBwUcZ2NnTH9za9_HymVxoLDjeRoCDfIQAvD_BwE | D7: https://www.zigferramentas.com.br/dispositivo-dr-fuga-tetra-125a-steck-sdr4125003?utm_source=Site&utm_medium=GoogleShopping&utm_campaign=IntegracaoGoogle&gad_source=4&gad_campaignid=17347944458&gbraid=0AAAAABQCe5SVX_a2I5veIZpkU2oyBL2vn&gclid=CjwKCAjwo4rCBhAbEiwAxhJlCUzaZIeFG43VNQqQeWMxv6BJJe-N02snU8WjLcZgG2s0RjdCC_rlqBoCasAQAvD_BwE
A8: Eletrocalha (m) | B8: https://www.lojaeletrica.com.br | C8: https://www.infraeletrocalhas.com.br | D8: https://www.cassol.com.br
A9: Switch 48p PoE+ | B9: https://www.mercadolivre.com.br | C9: https://www.kabum.com.br | D9: https://www.amazon.com.br
A10: Switch 8p PoE | B10: https://www.mercadolivre.com.br | C10: https://www.kabum.com.br | D10: https://www.mercadolivre.com.br
A11: Roteador GW | B11: https://www.cisco.com | C11: https://www.tp-link.com/br/ | D11: https://www.tp-link.com/br/
A12: AP Wi-Fi 6 | B12: https://www.amazon.com | C12: https://www.trendnet.com | D12: https://www.cdw.com
... A27: LUMINÁRIA TIPO CALHA, DE EMBUTIR NO FORRO - 62x62cm BRANCO NEUTRO - 4000K. | B27: https://www.diamantedoled.com.br/produtos/luminaria-de-embutir-compacta-alto-rendimento-com-aletas-parabolicas-duplas-para-4-lampadas-9w-10w-60cm-134197/?variant=881562496&pf=mc&gad_source=1&gad_campaignid=22607615426&gbraid=0AAAAA-L-QLaPpFps4NexfLqoE_Sd37xvC&gclid=CjwKCAjwgb_CBhBMEiwA0p3oOAjJMd1LlX0UjrVuLRagQ69X0IWBTlGbgZ7HbPxm9IskPFBbYbtNLxoCQewQAvD_BwE | C27: https://www.claron.com.br/luminaria-comercial-aletada-alto-rendimento-de-embutir-para-lampada-led-t8-4x-9w-10w-claron?utm_source=Site&utm_medium=GoogleMerchant&utm_campaign=GoogleMerchant&gad_source=1&gad_campaignid=21930037189&gbraid=0AAAAADioG6BqgyaPeyPSwxjA35yhetRUE&gclid=CjwKCAjwgb_CBhBMEiwA0p3oOKCDIbvpdAOXPs3-JeR4ks9JXt4atPd2U3oemOVOtpw15LwRoGheRhoCwVIQAvD_BwE | D27: https://www.inspirehome.com.br/painel-luminaria-de-embutir-led-slim-quadrado-4100k-40w-bivolt-62x62cm-aluminio-e-policarbonato-branco-germany-blumenau-iluminac-o-80474104/p?utm_source=google&utm_medium=cpc&utm_campaign=Pmax_Revenda_Importado&gad_source=1&gad_campaignid=18144592721&gbraid=0AAAAADcW9N-D7HRC6Z2PPpvFylIgmDm2T&gclid=CjwKCAjwgb_CBhBMEiwA0p3oODhKsu_q8wuR1zOj6zCbbyKNplzs2a26ace3Ejrth8v0Z0ViqMQFihoC664QAvD_BwE
