Workbook
Name Auxiliar: #REF!
Name Auxiliar: #REF!
Name Auxiliar: #REF!
Name Auxiliar: #REF!
Name Auxiliar: #REF!
Name Auxiliar: #REF!
Name Auxiliar: #REF!
Name Auxiliar: #REF!
Name Auxiliar: #REF!
Name Auxiliar: #REF!
Name Auxiliar: #REF!
Name Auxiliar: #REF!
Name Auxiliar: #REF!
Name Auxiliar: #REF!
Name Auxiliar: #REF!
Name Auxiliar: #REF!
Name Auxiliar: #REF!
Name Auxiliar: #REF!
Name CUSTO_VALE_TRANSPORTE: #REF!
Name CUSTO_VALE_TRANSPORTE: #REF!
Name CUSTO_VALE_TRANSPORTE: #REF!
Name CUSTO_VALE_TRANSPORTE: #REF!
Name CUSTO_VALE_TRANSPORTE: #REF!
Name CUSTO_VALE_TRANSPORTE: #REF!
Name CUSTO_VALE_TRANSPORTE: #REF!
Name CUSTO_VALE_TRANSPORTE: #REF!
Name CUSTO_VALE_TRANSPORTE: #REF!
Name CUSTO_VALE_TRANSPORTE: #REF!
Name CUSTO_VALE_TRANSPORTE: #REF!
Name CUSTO_VALE_TRANSPORTE: #REF!
Name CUSTO_VALE_TRANSPORTE: #REF!
Name CUSTO_VALE_TRANSPORTE: #REF!
Name CUSTO_VALE_TRANSPORTE: #REF!
Name CUSTO_VALE_TRANSPORTE: #REF!
Name CUSTO_VALE_TRANSPORTE: #REF!
Name CUSTO_VALE_TRANSPORTE: #REF!
Name ecwece4c: #REF!
Name ecwece4c: #REF!
Name ecwece4c: #REF!
Name ecwece4c: #REF!
Name ecwece4c: #REF!
Name ecwece4c: #REF!
Name ecwece4c: #REF!
Name ecwece4c: #REF!
Name ecwece4c: #REF!
Name ecwece4c: #REF!
Name ecwece4c: #REF!
Name ecwece4c: #REF!
Name ecwece4c: #REF!
Name ecwece4c: #REF!
Name ecwece4c: #REF!
Name ecwece4c: #REF!
Name ecwece4c: #REF!
Name ecwece4c: #REF!
Name MOMB4: '[1]SERVENTE MANUTENCAO'!$I$144
Name MONA1: #REF!
Name MONA1: #REF!
Name MONA1: #REF!
Name MONA1: #REF!
Name MONA1: #REF!

Sheet Aux. Adm. Seg-Sex GRAVATAÍ
A1: PLANILHA DE CUSTOS E FORMAÇÃO DE PREÇOS DE SERVIÇOS CONTINUADOS COM DEDICAÇÃO EXCLUSIVA DE MÃO DE OBRA (ANEXO III - DECRETOS 52.768 de 15.12.2015 e 54.273 de 10.10.2018)
A2: PROCESSO: | C2: 24/1300-0006476-8 | E2: REGIME DE TRIBUTAÇÃO: LUCRO REAL
A3: LICITAÇÃO/EDITAL | E3: ABERTURA:
A5: Cargo/Função: | D5: Auxiliar Administrativo - seg-sex | G5: =IF(D6="12x36","Regime de trabalho:","Quantidade de HORAS/MÊS") -> Quantidade de HORAS/MÊS | I5: =IF(D6="12x36",D6,5*D6) -> 150
A6: =IF(D6="12x36","Regime de trabalho:","Regime de trabalho (horas semanais):") -> Regime de trabalho (horas semanais): | D6: 30
A7: Convenção Coletiva de Trabalho: | D7: RS004917/2023 | G7: INSALUBRIDADE (10%, 20%, 40%) | I7: Não aplicável
A8: Origem do salário: | D8: CCT
A9: Cidade: | D9: GRAVATAÍ | G9: PERICULOSIDADE (30%) | I9: Não aplicável
A10: Salário Normativo | G10: Vlr. do salário e nº de horas correspondentes | H10: 220 | I10: 2013.31
A11: ISS | G11: =D9 -> GRAVATAÍ | H11: Alíquota | I11: 0.025
A12: Tarifa Transporte | G12: CCT | H12: Vr. Unitário | I12: 4.5
H13: Dias | I13: 22
H14: Desconto | I14: 0.06
A15: Auxílio Alimentação | G15: CCT | H15: Vr. Unitário | I15: 0
H16: Dias | I16: 0
H17: Desconto | I17: 0
A18: Auxílio Lanche | G18: CCT | H18: Vr. Unitário | I18: 11.84
H19: Dias | I19: 22
H20: Desconto | I20: 0.19
A21: Outros: PLANO DE BENEFÍCIO SOCIAL FAMILIAR | G21: CCT | H21: Valor mensal | I21: 19.42
A22: Adicional de Supervisor (37%) | H22: Porcentagem | I22: Não aplicável
A23: Base de cálculo da insalubridade | H23: Valor | I23: Não aplicável
A24: Hora Intervalar | H24: Horas por mês | I24: Não aplicável
A25: Sem fornecimento de materiais ou apenas fornecimento de EPIs ou uniformes, utilizar 10%. Com fornecimento de materiais ou equipamentos, utilizar 20%. (Decreto 52.768/2015, alterado pelo Decreto 53.424/2017) | H25: Porcentagem | I25: 0.2
A27: MONTANTE A
A28: I | B28: Remuneração - Grupo I | H28: % | I28: Valor Mensal/unidade de serviço (R$)
A29: 1 | B29: Salário | H29: =I29/$I$37 -> 1 | I29: =IF(D6="12x36",I10,I10/H10*I5) -> 1372.7114
A30: =A29+1 -> 2 | B30: Adicional Periculosidade 30% (Ver súmulas 364, 132 e 191 do TST) | H30: =I30/$I$37 -> 0 | I30: =IF(I9=30%,I29*I9,0) -> 0
A31: =A30+1 -> 3 | B31: Adicional Insalubridade 10% (Ver súmula 228 e 139 TST) | H31: =I31/$I$37 -> 0 | I31: =IF(I7=10%,I23*I7,0) -> 0
A32: =A31+1 -> 4 | B32: Adicional Insalubridade 20% (Ver súmula 228 e 139 TST) | H32: =I32/$I$37 -> 0 | I32: =IF(I7=20%,I23*I7,0) -> 0
A33: =A32+1 -> 5 | B33: Adicional Insalubridade 40% (Ver súmula 228 e 139 TST) | H33: =I33/$I$37 -> 0 | I33: =IF(I7=40%,I23*I7,0) -> 0
A34: =A33+1 -> 6 | B34: Adicional de Supervisor (IN 02/2008 MPOG SLTI) | H34: =I34/$I$37 -> 0 | I34: =IF(I22="Não aplicável",0,I29*I22) -> 0
A35: =A34+1 -> 7 | B35: DSR - Descanso Semanal Remunerado | H35: =I35/$I$37 -> 0 | I35: 0
A36: =A35+1 -> 8 | B36: =IF(D6="12x36","Para postos 12x36 os feriados são considerados compensados, conforme parágrafo único, Art. 59-A da CLT","Outros") -> Outros | H36: =I36/$I$37 -> 0 | I36: 0
A37: Total de Remuneração | H37: =SUM(H29:H36) -> 1 | I37: =SUM(I29:I36) -> 1372.7114
A39: II | B39: Encargos Sociais - Grupo II: Obrigações Sociais | H39: % | I39: Valor Mensal/unidade de serviço (R$)
A40: 1 | B40: INSS (art. 22, inc. I, Lei nº 8.212/91) | H40: 0.2 | I40: =$I$37*H40 -> 274.54227
A41: 2 | B41: SESI ou SESC (art. 30, Lei nº 8.036/90) | H41: 0.015 | I41: =$I$37*H41 -> 20.59067
A42: 3 | B42: SENAI ou SENAC (Decreto-Lei nº 2.318/86) | H42: 0.01 | I42: =$I$37*H42 -> 13.727114
A43: 4 | B43: INCRA (art. 15I, Lei Complementar nº 011/71) | H43: 0.002 | I43: =$I$37*H43 -> 2.7454227
...

Sheet Aux. Adm. Seg-Sáb GRAVATAÍ
A1: PLANILHA DE CUSTOS E FORMAÇÃO DE PREÇOS DE SERVIÇOS CONTINUADOS COM DEDICAÇÃO EXCLUSIVA DE MÃO DE OBRA (ANEXO III - DECRETOS 52.768 de 15.12.2015 e 54.273 de 10.10.2018)
A2: PROCESSO: | C2: 24/1300-0006476-8 | E2: REGIME DE TRIBUTAÇÃO: LUCRO REAL
A3: LICITAÇÃO/EDITAL | E3: ABERTURA:
A5: Cargo/Função: | D5: Auxiliar Administrativo - seg-sáb | G5: =IF(D6="12x36","Regime de trabalho:","Quantidade de HORAS/MÊS") -> Quantidade de HORAS/MÊS | I5: =IF(D6="12x36",D6,5*D6) -> 220
A6: =IF(D6="12x36","Regime de trabalho:","Regime de trabalho (horas semanais):") -> Regime de trabalho (horas semanais): | D6: 44
A7: Convenção Coletiva de Trabalho: | D7: RS004917/2023 | G7: INSALUBRIDADE (10%, 20%, 40%) | I7: Não aplicável
A8: Origem do salário: | D8: CCT
A9: Cidade: | D9: GRAVATAÍ | G9: PERICULOSIDADE (30%) | I9: Não aplicável
A10: Salário Normativo | G10: Vlr. do salário e nº de horas correspondentes | H10: 220 | I10: 2013.31
A11: ISS | G11: =D9 -> GRAVATAÍ | H11: Alíquota | I11: 0.025
A12: Tarifa Transporte | G12: CCT | H12: Vr. Unitário | I12: 4.5
H13: Dias | I13: 26
H14: Desconto | I14: 0.06
A15: Auxílio Alimentação | G15: CCT | H15: Vr. Unitário | I15: 23.68
H16: Dias | I16: 26
H17: Desconto | I17: 0.19
A18: Auxílio Lanche | G18: CCT | H18: Vr. Unitário | I18: 0
H19: Dias | I19: 0
H20: Desconto | I20: 0
A21: Outros: PLANO DE BENEFÍCIO SOCIAL FAMILIAR | G21: CCT | H21: Valor mensal | I21: 19.42
A22: Adicional de Supervisor (37%) | H22: Porcentagem | I22: Não aplicável
A23: Base de cálculo da insalubridade | H23: Valor | I23: Não aplicável
A24: Hora Intervalar | H24: Horas por mês | I24: Não aplicável
A25: Sem fornecimento de materiais ou apenas fornecimento de EPIs ou uniformes, utilizar 10%. Com fornecimento de materiais ou equipamentos, utilizar 20%. (Decreto 52.768/2015, alterado pelo Decreto 53.424/2017) | H25: Porcentagem | I25: 0.2
A27: MONTANTE A
A28: I | B28: Remuneração - Grupo I | H28: % | I28: Valor Mensal/unidade de serviço (R$)
A29: 1 | B29: Salário | H29: =I29/$I$37 -> 1 | I29: =IF(D6="12x36",I10,I10/H10*I5) -> 2013.31
A30: =A29+1 -> 2 | B30: Adicional Periculosidade 30% (Ver súmulas 364, 132 e 191 do TST) | H30: =I30/$I$37 -> 0 | I30: =IF(I9=30%,I29*I9,0) -> 0
A31: =A30+1 -> 3 | B31: Adicional Insalubridade 10% (Ver súmula 228 e 139 TST) | H31: =I31/$I$37 -> 0 | I31: =IF(I7=10%,I23*I7,0) -> 0
A32: =A31+1 -> 4 | B32: Adicional Insalubridade 20% (Ver súmula 228 e 139 TST) | H32: =I32/$I$37 -> 0 | I32: =IF(I7=20%,I23*I7,0) -> 0
A33: =A32+1 -> 5 | B33: Adicional Insalubridade 40% (Ver súmula 228 e 139 TST) | H33: =I33/$I$37 -> 0 | I33: =IF(I7=40%,I23*I7,0) -> 0
A34: =A33+1 -> 6 | B34: Adicional de Supervisor (IN 02/2008 MPOG SLTI) | H34: =I34/$I$37 -> 0 | I34: =IF(I22="Não aplicável",0,I29*I22) -> 0
A35: =A34+1 -> 7 | B35: DSR - Descanso Semanal Remunerado | H35: =I35/$I$37 -> 0 | I35: 0
A36: =A35+1 -> 8 | B36: =IF(D6="12x36","Para postos 12x36 os feriados são considerados compensados, conforme parágrafo único, Art. 59-A da CLT","Outros") -> Outros | H36: =I36/$I$37 -> 0 | I36: 0
A37: Total de Remuneração | H37: =SUM(H29:H36) -> 1 | I37: =SUM(I29:I36) -> 2013.31
A39: II | B39: Encargos Sociais - Grupo II: Obrigações Sociais | H39: % | I39: Valor Mensal/unidade de serviço (R$)
A40: 1 | B40: INSS (art. 22, inc. I, Lei nº 8.212/91) | H40: 0.2 | I40: =$I$37*H40 -> 402.662
A41: 2 | B41: SESI ou SESC (art. 30, Lei nº 8.036/90) | H41: 0.015 | I41: =$I$37*H41 -> 30.19965
A42: 3 | B42: SENAI ou SENAC (Decreto-Lei nº 2.318/86) | H42: 0.01 | I42: =$I$37*H42 -> 20.1331
A43: 4 | B43: INCRA (art. 15I, Lei Complementar nº 011/71) | H43: 0.002 | I43: =$I$37*H43 -> 4.02662
...

Sheet Aux Adm. SUP Seg-Sáb -Gravataí
A1: PLANILHA DE CUSTOS E FORMAÇÃO DE PREÇOS DE SERVIÇOS CONTINUADOS COM DEDICAÇÃO EXCLUSIVA DE MÃO DE OBRA (ANEXO III - DECRETOS 52.768 de 15.12.2015 e 54.273 de 10.10.2018)
A2: PROCESSO: | C2: 24/1300-0006476-8 | E2: REGIME DE TRIBUTAÇÃO: LUCRO REAL
A3: LICITAÇÃO/EDITAL | E3: ABERTURA:
A5: Cargo/Função: | D5: Auxiliar Administrativo Supervisor - seg-sáb | G5: =IF(D6="12x36","Regime de trabalho:","Quantidade de HORAS/MÊS") -> Quantidade de HORAS/MÊS | I5: =IF(D6="12x36",D6,5*D6) -> 220
A6: =IF(D6="12x36","Regime de trabalho:","Regime de trabalho (horas semanais):") -> Regime de trabalho (horas semanais): | D6: 44
A7: Convenção Coletiva de Trabalho: | D7: RS004917/2023 | G7: INSALUBRIDADE (10%, 20%, 40%) | I7: Não aplicável
A8: Origem do salário: | D8: CCT
A9: Cidade: | D9: GRAVATAÍ | G9: PERICULOSIDADE (30%) | I9: Não aplicável
A10: Salário Normativo | G10: Vlr. do salário e nº de horas correspondentes | H10: 220 | I10: 2013.31
A11: ISS | G11: =D9 -> GRAVATAÍ | H11: Alíquota | I11: 0.025
A12: Tarifa Transporte | G12: CCT | H12: Vr. Unitário | I12: 4.5
H13: Dias | I13: 26
H14: Desconto | I14: 0.06
A15: Auxílio Alimentação | G15: CCT | H15: Vr. Unitário | I15: 23.68
H16: Dias | I16: 26
H17: Desconto | I17: 0.19
A18: Auxílio Lanche | G18: CCT | H18: Vr. Unitário | I18: 0
H19: Dias | I19: 0
H20: Desconto | I20: 0
A21: Outros: PLANO DE BENEFÍCIO SOCIAL FAMILIAR | G21: CCT | H21: Valor mensal | I21: 19.42
A22: Adicional de Supervisor (37%) | H22: Porcentagem | I22: 0.37
A23: Base de cálculo da insalubridade | H23: Valor | I23: Não aplicável
A24: Hora Intervalar | H24: Horas por mês | I24: Não aplicável
A25: Sem fornecimento de materiais ou apenas fornecimento de EPIs ou uniformes, utilizar 10%. Com fornecimento de materiais ou equipamentos, utilizar 20%. (Decreto 52.768/2015, alterado pelo Decreto 53.424/2017) | H25: Porcentagem | I25: 0.2
A27: MONTANTE A
A28: I | B28: Remuneração - Grupo I | H28: % | I28: Valor Mensal/unidade de serviço (R$)
A29: 1 | B29: Salário | H29: =I29/$I$37 -> 0.72992701 | I29: =IF(D6="12x36",I10,I10/H10*I5) -> 2013.31
A30: =A29+1 -> 2 | B30: Adicional Periculosidade 30% (Ver súmulas 364, 132 e 191 do TST) | H30: =I30/$I$37 -> 0 | I30: =IF(I9=30%,I29*I9,0) -> 0
A31: =A30+1 -> 3 | B31: Adicional Insalubridade 10% (Ver súmula 228 e 139 TST) | H31: =I31/$I$37 -> 0 | I31: =IF(I7=10%,I23*I7,0) -> 0
A32: =A31+1 -> 4 | B32: Adicional Insalubridade 20% (Ver súmula 228 e 139 TST) | H32: =I32/$I$37 -> 0 | I32: =IF(I7=20%,I23*I7,0) -> 0
A33: =A32+1 -> 5 | B33: Adicional Insalubridade 40% (Ver súmula 228 e 139 TST) | H33: =I33/$I$37 -> 0 | I33: =IF(I7=40%,I23*I7,0) -> 0
A34: =A33+1 -> 6 | B34: Adicional de Supervisor (IN 02/2008 MPOG SLTI) | H34: =I34/$I$37 -> 0.27007299 | I34: =IF(I22="Não aplicável",0,I29*I22) -> 744.9247
A35: =A34+1 -> 7 | B35: DSR - Descanso Semanal Remunerado | H35: =I35/$I$37 -> 0 | I35: 0
A36: =A35+1 -> 8 | B36: =IF(D6="12x36","Para postos 12x36 os feriados são considerados compensados, conforme parágrafo único, Art. 59-A da CLT","Outros") -> Outros | H36: =I36/$I$37 -> 0 | I36: 0
A37: Total de Remuneração | H37: =SUM(H29:H36) -> 1 | I37: =SUM(I29:I36) -> 2758.2347
A39: II | B39: Encargos Sociais - Grupo II: Obrigações Sociais | H39: % | I39: Valor Mensal/unidade de serviço (R$)
A40: 1 | B40: INSS (art. 22, inc. I, Lei nº 8.212/91) | H40: 0.2 | I40: =$I$37*H40 -> 551.64694
A41: 2 | B41: SESI ou SESC (art. 30, Lei nº 8.036/90) | H41: 0.015 | I41: =$I$37*H41 -> 41.37352
A42: 3 | B42: SENAI ou SENAC (Decreto-Lei nº 2.318/86) | H42: 0.01 | I42: =$I$37*H42 -> 27.582347
A43: 4 | B43: INCRA (art. 15I, Lei Complementar nº 011/71) | H43: 0.002 | I43: =$I$37*H43 -> 5.5164694
...

Sheet Limpeza Seg-Sáb
A1: PLANILHA DE CUSTOS E FORMAÇÃO DE PREÇOS DE SERVIÇOS CONTINUADOS COM DEDICAÇÃO EXCLUSIVA DE MÃO DE OBRA (ANEXO III - DECRETOS 52.768 de 15.12.2015 e 54.273 de 10.10.2018)
A2: PROCESSO: | C2: 24/1300-0006476-8 | E2: REGIME DE TRIBUTAÇÃO: LUCRO REAL
A3: LICITAÇÃO/EDITAL | E3: ABERTURA:
A5: Cargo/Função: | D5: Servente de Limpeza - seg-sáb | G5: =IF(D6="12x36","Regime de trabalho:","Quantidade de HORAS/MÊS") -> Quantidade de HORAS/MÊS | I5: =IF(D6="12x36",D6,5*D6) -> 220
A6: =IF(D6="12x36","Regime de trabalho:","Regime de trabalho (horas semanais):") -> Regime de trabalho (horas semanais): | D6: 44
A7: Convenção Coletiva de Trabalho: | D7: RS004917/2023 | G7: INSALUBRIDADE (10%, 20%, 40%) | I7: 0.4
A8: Origem do salário: | D8: CCT
A9: Cidade: | D9: GRAVATAÍ | G9: PERICULOSIDADE (30%) | I9: Não aplicável
A10: Salário Normativo | G10: Vlr. do salário e nº de horas correspondentes | H10: 220 | I10: 1540.51
A11: ISS | G11: =D9 -> GRAVATAÍ | H11: Alíquota | I11: 0.025
A12: Tarifa Transporte | G12: CCT | H12: Vr. Unitário | I12: 4.5
H13: Dias | I13: 26
H14: Desconto | I14: 0.06
A15: Auxílio Alimentação | G15: CCT | H15: Vr. Unitário | I15: 23.68
H16: Dias | I16: 26
H17: Desconto | I17: 0.19
A18: Auxílio Lanche | G18: CCT | H18: Vr. Unitário | I18: 0
H19: Dias | I19: 0
H20: Desconto | I20: 0
A21: Outros: PLANO DE BENEFÍCIO SOCIAL FAMILIAR | G21: CCT | H21: Valor mensal | I21: 19.42
A22: Adicional de Supervisor (37%) | H22: Porcentagem | I22: Não aplicável
A23: Base de cálculo da insalubridade (ver observação 2 do Anexo I - Folha de Dados - CGL 12.1.2) | H23: Valor | I23: =I29 -> 1540.51
A24: Hora Intervalar | H24: Horas por mês | I24: Não aplicável
A25: Sem fornecimento de materiais ou apenas fornecimento de EPIs ou uniformes, utilizar 10%. Com fornecimento de materiais ou equipamentos, utilizar 20%. (Decreto 52.768/2015, alterado pelo Decreto 53.424/2017) | H25: Porcentagem | I25: 0.2
A27: MONTANTE A
A28: I | B28: Remuneração - Grupo I | H28: % | I28: Valor Mensal/unidade de serviço (R$)
A29: 1 | B29: Salário | H29: =I29/$I$37 -> 0.71428571 | I29: =IF(D6="12x36",I10,I10/H10*I5) -> 1540.51
A30: =A29+1 -> 2 | B30: Adicional Periculosidade 30% (Ver súmulas 364, 132 e 191 do TST) | H30: =I30/$I$37 -> 0 | I30: =IF(I9=30%,I29*I9,0) -> 0
A31: =A30+1 -> 3 | B31: Adicional Insalubridade 10% (Ver súmula 228 e 139 TST) | H31: =I31/$I$37 -> 0 | I31: =IF(I7=10%,I23*I7,0) -> 0
A32: =A31+1 -> 4 | B32: Adicional Insalubridade 20% (Ver súmula 228 e 139 TST) | H32: =I32/$I$37 -> 0 | I32: =IF(I7=20%,I23*I7,0) -> 0
A33: =A32+1 -> 5 | B33: Adicional Insalubridade 40% (Ver súmula 228 e 139 TST) | H33: =I33/$I$37 -> 0.28571429 | I33: =IF(I7=40%,I23*I7,0) -> 616.204
A34: =A33+1 -> 6 | B34: Adicional de Supervisor (IN 02/2008 MPOG SLTI) | H34: =I34/$I$37 -> 0 | I34: =IF(I22="Não aplicável",0,I29*I22) -> 0
A35: =A34+1 -> 7 | B35: DSR - Descanso Semanal Remunerado | H35: =I35/$I$37 -> 0 | I35: 0
A36: =A35+1 -> 8 | B36: =IF(D6="12x36","Para postos 12x36 os feriados são considerados compensados, conforme parágrafo único, Art. 59-A da CLT","Outros") -> Outros | H36: =I36/$I$37 -> 0 | I36: 0
A37: Total de Remuneração | H37: =SUM(H29:H36) -> 1 | I37: =SUM(I29:I36) -> 2156.714
A39: II | B39: Encargos Sociais - Grupo II: Obrigações Sociais | H39: % | I39: Valor Mensal/unidade de serviço (R$)
A40: 1 | B40: INSS (art. 22, inc. I, Lei nº 8.212/91) | H40: 0.2 | I40: =$I$37*H40 -> 431.3428
A41: 2 | B41: SESI ou SESC (art. 30, Lei nº 8.036/90) | H41: 0.015 | I41: =$I$37*H41 -> 32.35071
A42: 3 | B42: SENAI ou SENAC (Decreto-Lei nº 2.318/86) | H42: 0.01 | I42: =$I$37*H42 -> 21.56714
A43: 4 | B43: INCRA (art. 15I, Lei Complementar nº 011/71) | H43: 0.002 | I43: =$I$37*H43 -> 4.313428
...

Sheet Aux. Adm. Seg-Sex Poa Centro
A1: PLANILHA DE CUSTOS E FORMAÇÃO DE PREÇOS DE SERVIÇOS CONTINUADOS COM DEDICAÇÃO EXCLUSIVA DE MÃO DE OBRA (ANEXO III - DECRETOS 52.768 de 15.12.2015 e 54.273 de 10.10.2018)
A2: PROCESSO: | C2: 24/1300-0006476-8 | E2: REGIME DE TRIBUTAÇÃO: LUCRO REAL
A3: LICITAÇÃO/EDITAL | E3: ABERTURA:
A5: Cargo/Função: | D5: Auxiliar Administrativo - seg-sex | G5: =IF(D6="12x36","Regime de trabalho:","Quantidade de HORAS/MÊS") -> Quantidade de HORAS/MÊS | I5: =IF(D6="12x36",D6,5*D6) -> 150
A6: =IF(D6="12x36","Regime de trabalho:","Regime de trabalho (horas semanais):") -> Regime de trabalho (horas semanais): | D6: 30
A7: Convenção Coletiva de Trabalho: | D7: RS004917/2023 | G7: INSALUBRIDADE (10%, 20%, 40%) | I7: Não aplicável
A8: Origem do salário: | D8: CCT
A9: Cidade: | D9: Porto Alegre Centro | G9: PERICULOSIDADE (30%) | I9: Não aplicável
A10: Salário Normativo | G10: Vlr. do salário e nº de horas correspondentes | H10: 220 | I10: 2013.31
A11: ISS | G11: =D9 -> Porto Alegre Centro | H11: Alíquota | I11: 0.05
A12: Tarifa Transporte | G12: CCT | H12: Vr. Unitário | I12: 4.8
H13: Dias | I13: 22
H14: Desconto | I14: 0.06
A15: Auxílio Alimentação | G15: CCT | H15: Vr. Unitário | I15: 0
H16: Dias | I16: 0
H17: Desconto | I17: 0
A18: Auxílio Lanche | G18: CCT | H18: Vr. Unitário | I18: 11.84
H19: Dias | I19: 22
H20: Desconto | I20: 0.19
A21: Outros: PLANO DE BENEFÍCIO SOCIAL FAMILIAR | G21: CCT | H21: Valor mensal | I21: 19.42
A22: Adicional de Supervisor (37%) | H22: Porcentagem | I22: Não aplicável
A23: Base de cálculo da insalubridade | H23: Valor | I23: Não aplicável
A24: Hora Intervalar | H24: Horas por mês | I24: Não aplicável
A25: Sem fornecimento de materiais ou apenas fornecimento de EPIs ou uniformes, utilizar 10%. Com fornecimento de materiais ou equipamentos, utilizar 20%. (Decreto 52.768/2015, alterado pelo Decreto 53.424/2017) | H25: Porcentagem | I25: 0.2
A27: MONTANTE A
A28: I | B28: Remuneração - Grupo I | H28: % | I28: Valor Mensal/unidade de serviço (R$)
A29: 1 | B29: Salário | H29: =I29/$I$37 -> 1 | I29: =IF(D6="12x36",I10,I10/H10*I5) -> 1372.7114
A30: =A29+1 -> 2 | B30: Adicional Periculosidade 30% (Ver súmulas 364, 132 e 191 do TST) | H30: =I30/$I$37 -> 0 | I30: =IF(I9=30%,I29*I9,0) -> 0
A31: =A30+1 -> 3 | B31: Adicional Insalubridade 10% (Ver súmula 228 e 139 TST) | H31: =I31/$I$37 -> 0 | I31: =IF(I7=10%,I23*I7,0) -> 0
A32: =A31+1 -> 4 | B32: Adicional Insalubridade 20% (Ver súmula 228 e 139 TST) | H32: =I32/$I$37 -> 0 | I32: =IF(I7=20%,I23*I7,0) -> 0
A33: =A32+1 -> 5 | B33: Adicional Insalubridade 40% (Ver súmula 228 e 139 TST) | H33: =I33/$I$37 -> 0 | I33: =IF(I7=40%,I23*I7,0) -> 0
A34: =A33+1 -> 6 | B34: Adicional de Supervisor (IN 02/2008 MPOG SLTI) | H34: =I34/$I$37 -> 0 | I34: =IF(I22="Não aplicável",0,I29*I22) -> 0
A35: =A34+1 -> 7 | B35: DSR - Descanso Semanal Remunerado | H35: =I35/$I$37 -> 0 | I35: 0
A36: =A35+1 -> 8 | B36: =IF(D6="12x36","Para postos 12x36 os feriados são considerados compensados, conforme parágrafo único, Art. 59-A da CLT","Outros") -> Outros | H36: =I36/$I$37 -> 0 | I36: 0
A37: Total de Remuneração | H37: =SUM(H29:H36) -> 1 | I37: =SUM(I29:I36) -> 1372.7114
A39: II | B39: Encargos Sociais - Grupo II: Obrigações Sociais | H39: % | I39: Valor Mensal/unidade de serviço (R$)
A40: 1 | B40: INSS (art. 22, inc. I, Lei nº 8.212/91) | H40: 0.2 | I40: =$I$37*H40 -> 274.54227
A41: 2 | B41: SESI ou SESC (art. 30, Lei nº 8.036/90) | H41: 0.015 | I41: =$I$37*H41 -> 20.59067
A42: 3 | B42: SENAI ou SENAC (Decreto-Lei nº 2.318/86) | H42: 0.01 | I42: =$I$37*H42 -> 13.727114
A43: 4 | B43: INCRA (art. 15I, Lei Complementar nº 011/71) | H43: 0.002 | I43: =$I$37*H43 -> 2.7454227
...

Sheet Aux. Adm. Seg-Sáb Poa Centro
A1: PLANILHA DE CUSTOS E FORMAÇÃO DE PREÇOS DE SERVIÇOS CONTINUADOS COM DEDICAÇÃO EXCLUSIVA DE MÃO DE OBRA (ANEXO III - DECRETOS 52.768 de 15.12.2015 e 54.273 de 10.10.2018)
A2: PROCESSO: | C2: 24/1300-0006476-8 | E2: REGIME DE TRIBUTAÇÃO: LUCRO REAL
A3: LICITAÇÃO/EDITAL | E3: ABERTURA:
A5: Cargo/Função: | D5: Auxiliar Administrativo - seg-sáb | G5: =IF(D6="12x36","Regime de trabalho:","Quantidade de HORAS/MÊS") -> Quantidade de HORAS/MÊS | I5: =IF(D6="12x36",D6,5*D6) -> 220
A6: =IF(D6="12x36","Regime de trabalho:","Regime de trabalho (horas semanais):") -> Regime de trabalho (horas semanais): | D6: 44
A7: Convenção Coletiva de Trabalho: | D7: RS004917/2023 | G7: INSALUBRIDADE (10%, 20%, 40%) | I7: Não aplicável
A8: Origem do salário: | D8: CCT
A9: Cidade: | D9: Porto Alegre Centro | G9: PERICULOSIDADE (30%) | I9: Não aplicável
A10: Salário Normativo | G10: Vlr. do salário e nº de horas correspondentes | H10: 220 | I10: 2013.31
A11: ISS | G11: =D9 -> Porto Alegre Centro | H11: Alíquota | I11: 0.05
A12: Tarifa Transporte | G12: CCT | H12: Vr. Unitário | I12: 4.8
H13: Dias | I13: 26
H14: Desconto | I14: 0.06
A15: Auxílio Alimentação | G15: CCT | H15: Vr. Unitário | I15: 23.68
H16: Dias | I16: 26
H17: Desconto | I17: 0.19
A18: Auxílio Lanche | G18: CCT | H18: Vr. Unitário | I18: 0
H19: Dias | I19: 0
H20: Desconto | I20: 0
A21: Outros: PLANO DE BENEFÍCIO SOCIAL FAMILIAR | G21: CCT | H21: Valor mensal | I21: 19.42
A22: Adicional de Supervisor (37%) | H22: Porcentagem | I22: Não aplicável
A23: Base de cálculo da insalubridade | H23: Valor | I23: Não aplicável
A24: Hora Intervalar | H24: Horas por mês | I24: Não aplicável
A25: Sem fornecimento de materiais ou apenas fornecimento de EPIs ou uniformes, utilizar 10%. Com fornecimento de materiais ou equipamentos, utilizar 20%. (Decreto 52.768/2015, alterado pelo Decreto 53.424/2017) | H25: Porcentagem | I25: 0.2
A27: MONTANTE A
A28: I | B28: Remuneração - Grupo I | H28: % | I28: Valor Mensal/unidade de serviço (R$)
A29: 1 | B29: Salário | H29: =I29/$I$37 -> 1 | I29: =IF(D6="12x36",I10,I10/H10*I5) -> 2013.31
A30: =A29+1 -> 2 | B30: Adicional Periculosidade 30% (Ver súmulas 364, 132 e 191 do TST) | H30: =I30/$I$37 -> 0 | I30: =IF(I9=30%,I29*I9,0) -> 0
A31: =A30+1 -> 3 | B31: Adicional Insalubridade 10% (Ver súmula 228 e 139 TST) | H31: =I31/$I$37 -> 0 | I31: =IF(I7=10%,I23*I7,0) -> 0
A32: =A31+1 -> 4 | B32: Adicional Insalubridade 20% (Ver súmula 228 e 139 TST) | H32: =I32/$I$37 -> 0 | I32: =IF(I7=20%,I23*I7,0) -> 0
A33: =A32+1 -> 5 | B33: Adicional Insalubridade 40% (Ver súmula 228 e 139 TST) | H33: =I33/$I$37 -> 0 | I33: =IF(I7=40%,I23*I7,0) -> 0
A34: =A33+1 -> 6 | B34: Adicional de Supervisor (IN 02/2008 MPOG SLTI) | H34: =I34/$I$37 -> 0 | I34: =IF(I22="Não aplicável",0,I29*I22) -> 0
A35: =A34+1 -> 7 | B35: DSR - Descanso Semanal Remunerado | H35: =I35/$I$37 -> 0 | I35: 0
A36: =A35+1 -> 8 | B36: =IF(D6="12x36","Para postos 12x36 os feriados são considerados compensados, conforme parágrafo único, Art. 59-A da CLT","Outros") -> Outros | H36: =I36/$I$37 -> 0 | I36: 0
A37: Total de Remuneração | H37: =SUM(H29:H36) -> 1 | I37: =SUM(I29:I36) -> 2013.31
A39: II | B39: Encargos Sociais - Grupo II: Obrigações Sociais | H39: % | I39: Valor Mensal/unidade de serviço (R$)
A40: 1 | B40: INSS (art. 22, inc. I, Lei nº 8.212/91) | H40: 0.2 | I40: =$I$37*H40 -> 402.662
A41: 2 | B41: SESI ou SESC (art. 30, Lei nº 8.036/90) | H41: 0.015 | I41: =$I$37*H41 -> 30.19965
A42: 3 | B42: SENAI ou SENAC (Decreto-Lei nº 2.318/86) | H42: 0.01 | I42: =$I$37*H42 -> 20.1331
A43: 4 | B43: INCRA (art. 15I, Lei Complementar nº 011/71) | H43: 0.002 | I43: =$I$37*H43 -> 4.02662
...

Sheet Aux. Superv. Seg-Sex Poa Centro
A1: PLANILHA DE CUSTOS E FORMAÇÃO DE PREÇOS DE SERVIÇOS CONTINUADOS COM DEDICAÇÃO EXCLUSIVA DE MÃO DE OBRA (ANEXO III - DECRETOS 52.768 de 15.12.2015 e 54.273 de 10.10.2018)
A2: PROCESSO: | C2: 24/1300-0006476-8 | E2: REGIME DE TRIBUTAÇÃO: LUCRO REAL
A3: LICITAÇÃO/EDITAL | E3: ABERTURA:
A5: Cargo/Função: | D5: Auxiliar Administrativo Supervisor - seg-sex | G5: =IF(D6="12x36","Regime de trabalho:","Quantidade de HORAS/MÊS") -> Quantidade de HORAS/MÊS | I5: =IF(D6="12x36",D6,5*D6) -> 150
A6: =IF(D6="12x36","Regime de trabalho:","Regime de trabalho (horas semanais):") -> Regime de trabalho (horas semanais): | D6: 30
A7: Convenção Coletiva de Trabalho: | D7: RS004917/2023 | G7: INSALUBRIDADE (10%, 20%, 40%) | I7: Não aplicável
A8: Origem do salário: | D8: CCT
A9: Cidade: | D9: Porto Alegre Centro | G9: PERICULOSIDADE (30%) | I9: Não aplicável
A10: Salário Normativo | G10: Vlr. do salário e nº de horas correspondentes | H10: 220 | I10: 2013.31
A11: ISS | G11: =D9 -> Porto Alegre Centro | H11: Alíquota | I11: 0.05
A12: Tarifa Transporte | G12: CCT | H12: Vr. Unitário | I12: 4.8
H13: Dias | I13: 22
H14: Desconto | I14: 0.06
A15: Auxílio Alimentação | G15: CCT | H15: Vr. Unitário | I15: 0
H16: Dias | I16: 0
H17: Desconto | I17: 0
A18: Auxílio Lanche | G18: CCT | H18: Vr. Unitário | I18: 11.84
H19: Dias | I19: 22
H20: Desconto | I20: 0.19
A21: Outros: PLANO DE BENEFÍCIO SOCIAL FAMILIAR | G21: CCT | H21: Valor mensal | I21: 19.42
A22: Adicional de Supervisor (37%) | H22: Porcentagem | I22: 0.37
A23: Base de cálculo da insalubridade | H23: Valor | I23: Não aplicável
A24: Hora Intervalar | H24: Horas por mês | I24: Não aplicável
A25: Sem fornecimento de materiais ou apenas fornecimento de EPIs ou uniformes, utilizar 10%. Com fornecimento de materiais ou equipamentos, utilizar 20%. (Decreto 52.768/2015, alterado pelo Decreto 53.424/2017) | H25: Porcentagem | I25: 0.1
A27: MONTANTE A
A28: I | B28: Remuneração - Grupo I | H28: % | I28: Valor Mensal/unidade de serviço (R$)
A29: 1 | B29: Salário | H29: =I29/$I$37 -> 0.72992701 | I29: =IF(D6="12x36",I10,I10/H10*I5) -> 1372.7114
A30: =A29+1 -> 2 | B30: Adicional Periculosidade 30% (Ver súmulas 364, 132 e 191 do TST) | H30: =I30/$I$37 -> 0 | I30: =IF(I9=30%,I29*I9,0) -> 0
A31: =A30+1 -> 3 | B31: Adicional Insalubridade 10% (Ver súmula 228 e 139 TST) | H31: =I31/$I$37 -> 0 | I31: =IF(I7=10%,I23*I7,0) -> 0
A32: =A31+1 -> 4 | B32: Adicional Insalubridade 20% (Ver súmula 228 e 139 TST) | H32: =I32/$I$37 -> 0 | I32: =IF(I7=20%,I23*I7,0) -> 0
A33: =A32+1 -> 5 | B33: Adicional Insalubridade 40% (Ver súmula 228 e 139 TST) | H33: =I33/$I$37 -> 0 | I33: =IF(I7=40%,I23*I7,0) -> 0
A34: =A33+1 -> 6 | B34: Adicional de Supervisor (IN 02/2008 MPOG SLTI) | H34: =I34/$I$37 -> 0.27007299 | I34: =IF(I22="Não aplicável",0,I29*I22) -> 507.9032
A35: =A34+1 -> 7 | B35: DSR - Descanso Semanal Remunerado | H35: =I35/$I$37 -> 0 | I35: 0
A36: =A35+1 -> 8 | B36: =IF(D6="12x36","Para postos 12x36 os feriados são considerados compensados, conforme parágrafo único, Art. 59-A da CLT","Outros") -> Outros | H36: =I36/$I$37 -> 0 | I36: 0
A37: Total de Remuneração | H37: =SUM(H29:H36) -> 1 | I37: =SUM(I29:I36) -> 1880.6146
A39: II | B39: Encargos Sociais - Grupo II: Obrigações Sociais | H39: % | I39: Valor Mensal/unidade de serviço (R$)
A40: 1 | B40: INSS (art. 22, inc. I, Lei nº 8.212/91) | H40: 0.2 | I40: =$I$37*H40 -> 376.12291
A41: 2 | B41: SESI ou SESC (art. 30, Lei nº 8.036/90) | H41: 0.015 | I41: =$I$37*H41 -> 28.209219
A42: 3 | B42: SENAI ou SENAC (Decreto-Lei nº 2.318/86) | H42: 0.01 | I42: =$I$37*H42 -> 18.806146
A43: 4 | B43: INCRA (art. 15I, Lei Complementar nº 011/71) | H43: 0.002 | I43: =$I$37*H43 -> 3.7612291
...

Sheet Aux. Superv Seg-Sáb Poa Centro 
A1: PLANILHA DE CUSTOS E FORMAÇÃO DE PREÇOS DE SERVIÇOS CONTINUADOS COM DEDICAÇÃO EXCLUSIVA DE MÃO DE OBRA (ANEXO III - DECRETOS 52.768 de 15.12.2015 e 54.273 de 10.10.2018)
A2: PROCESSO: | C2: 24/1300-0006476-8 | E2: REGIME DE TRIBUTAÇÃO: LUCRO REAL
A3: LICITAÇÃO/EDITAL | E3: ABERTURA:
A5: Cargo/Função: | D5: Auxiliar Administrativo Supervisor - seg-sáb | G5: =IF(D6="12x36","Regime de trabalho:","Quantidade de HORAS/MÊS") -> Quantidade de HORAS/MÊS | I5: =IF(D6="12x36",D6,5*D6) -> 220
A6: =IF(D6="12x36","Regime de trabalho:","Regime de trabalho (horas semanais):") -> Regime de trabalho (horas semanais): | D6: 44
A7: Convenção Coletiva de Trabalho: | D7: RS004917/2023 | G7: INSALUBRIDADE (10%, 20%, 40%) | I7: Não aplicável
A8: Origem do salário: | D8: CCT
A9: Cidade: | D9: Porto Alegre Centro | G9: PERICULOSIDADE (30%) | I9: Não aplicável
A10: Salário Normativo | G10: Vlr. do salário e nº de horas correspondentes | H10: 220 | I10: 2013.31
A11: ISS | G11: =D9 -> Porto Alegre Centro | H11: Alíquota | I11: 0.05
A12: Tarifa Transporte | G12: CCT | H12: Vr. Unitário | I12: 4.8
H13: Dias | I13: 26
H14: Desconto | I14: 0.06
A15: Auxílio Alimentação | G15: CCT | H15: Vr. Unitário | I15: 23.68
H16: Dias | I16: 26
H17: Desconto | I17: 0.19
A18: Auxílio Lanche | G18: CCT | H18: Vr. Unitário | I18: 0
H19: Dias | I19: 0
H20: Desconto | I20: 0
A21: Outros: PLANO DE BENEFÍCIO SOCIAL FAMILIAR | G21: CCT | H21: Valor mensal | I21: 19.42
A22: Adicional de Supervisor (37%) | H22: Porcentagem | I22: 0.37
A23: Base de cálculo da insalubridade | H23: Valor | I23: Não aplicável
A24: Hora Intervalar | H24: Horas por mês | I24: Não aplicável
A25: Sem fornecimento de materiais ou apenas fornecimento de EPIs ou uniformes, utilizar 10%. Com fornecimento de materiais ou equipamentos, utilizar 20%. (Decreto 52.768/2015, alterado pelo Decreto 53.424/2017) | H25: Porcentagem | I25: 0.2
A27: MONTANTE A
A28: I | B28: Remuneração - Grupo I | H28: % | I28: Valor Mensal/unidade de serviço (R$)
A29: 1 | B29: Salário | H29: =I29/$I$37 -> 0.72992701 | I29: =IF(D6="12x36",I10,I10/H10*I5) -> 2013.31
A30: =A29+1 -> 2 | B30: Adicional Periculosidade 30% (Ver súmulas 364, 132 e 191 do TST) | H30: =I30/$I$37 -> 0 | I30: =IF(I9=30%,I29*I9,0) -> 0
A31: =A30+1 -> 3 | B31: Adicional Insalubridade 10% (Ver súmula 228 e 139 TST) | H31: =I31/$I$37 -> 0 | I31: =IF(I7=10%,I23*I7,0) -> 0
A32: =A31+1 -> 4 | B32: Adicional Insalubridade 20% (Ver súmula 228 e 139 TST) | H32: =I32/$I$37 -> 0 | I32: =IF(I7=20%,I23*I7,0) -> 0
A33: =A32+1 -> 5 | B33: Adicional Insalubridade 40% (Ver súmula 228 e 139 TST) | H33: =I33/$I$37 -> 0 | I33: =IF(I7=40%,I23*I7,0) -> 0
A34: =A33+1 -> 6 | B34: Adicional de Supervisor (IN 02/2008 MPOG SLTI) | H34: =I34/$I$37 -> 0.27007299 | I34: =IF(I22="Não aplicável",0,I29*I22) -> 744.9247
A35: =A34+1 -> 7 | B35: DSR - Descanso Semanal Remunerado | H35: =I35/$I$37 -> 0 | I35: 0
A36: =A35+1 -> 8 | B36: =IF(D6="12x36","Para postos 12x36 os feriados são considerados compensados, conforme parágrafo único, Art. 59-A da CLT","Outros") -> Outros | H36: =I36/$I$37 -> 0 | I36: 0
A37: Total de Remuneração | H37: =SUM(H29:H36) -> 1 | I37: =SUM(I29:I36) -> 2758.2347
A39: II | B39: Encargos Sociais - Grupo II: Obrigações Sociais | H39: % | I39: Valor Mensal/unidade de serviço (R$)
A40: 1 | B40: INSS (art. 22, inc. I, Lei nº 8.212/91) | H40: 0.2 | I40: =$I$37*H40 -> 551.64694
A41: 2 | B41: SESI ou SESC (art. 30, Lei nº 8.036/90) | H41: 0.015 | I41: =$I$37*H41 -> 41.37352
A42: 3 | B42: SENAI ou SENAC (Decreto-Lei nº 2.318/86) | H42: 0.01 | I42: =$I$37*H42 -> 27.582347
A43: 4 | B43: INCRA (art. 15I, Lei Complementar nº 011/71) | H43: 0.002 | I43: =$I$37*H43 -> 5.5164694
...

Sheet Limpeza Seg-Sáb Poa - Centro
A1: PLANILHA DE CUSTOS E FORMAÇÃO DE PREÇOS DE SERVIÇOS CONTINUADOS COM DEDICAÇÃO EXCLUSIVA DE MÃO DE OBRA (ANEXO III - DECRETOS 52.768 de 15.12.2015 e 54.273 de 10.10.2018)
A2: PROCESSO: | C2: 24/1300-0006476-8 | E2: REGIME DE TRIBUTAÇÃO: LUCRO REAL
A3: LICITAÇÃO/EDITAL | E3: ABERTURA:
A5: Cargo/Função: | D5: Servente de Limpeza - seg-sáb | G5: =IF(D6="12x36","Regime de trabalho:","Quantidade de HORAS/MÊS") -> Quantidade de HORAS/MÊS | I5: =IF(D6="12x36",D6,5*D6) -> 220
A6: =IF(D6="12x36","Regime de trabalho:","Regime de trabalho (horas semanais):") -> Regime de trabalho (horas semanais): | D6: 44
A7: Convenção Coletiva de Trabalho: | D7: RS004917/2023 | G7: INSALUBRIDADE (10%, 20%, 40%) | I7: 0.4
A8: Origem do salário: | D8: CCT
A9: Cidade: | D9: Porto Alegre Centro | G9: PERICULOSIDADE (30%) | I9: Não aplicável
A10: Salário Normativo | G10: Vlr. do salário e nº de horas correspondentes | H10: 220 | I10: 1540.51
A11: ISS | G11: =D9 -> Porto Alegre Centro | H11: Alíquota | I11: 0.05
A12: Tarifa Transporte | G12: CCT | H12: Vr. Unitário | I12: 4.8
H13: Dias | I13: 26
H14: Desconto | I14: 0.06
A15: Auxílio Alimentação | G15: CCT | H15: Vr. Unitário | I15: 23.68
H16: Dias | I16: 26
H17: Desconto | I17: 0.19
A18: Auxílio Lanche | G18: CCT | H18: Vr. Unitário | I18: 0
H19: Dias | I19: 0
H20: Desconto | I20: 0
A21: Outros: PLANO DE BENEFÍCIO SOCIAL FAMILIAR | G21: CCT | H21: Valor mensal | I21: 19.42
A22: Adicional de Supervisor (37%) | H22: Porcentagem | I22: Não aplicável
A23: Base de cálculo da insalubridade (ver observação 2 do Anexo I - Folha de Dados - CGL 12.1.2) | H23: Valor | I23: =I29 -> 1540.51
A24: Hora Intervalar | H24: Horas por mês | I24: Não aplicável
A25: Sem fornecimento de materiais ou apenas fornecimento de EPIs ou uniformes, utilizar 10%. Com fornecimento de materiais ou equipamentos, utilizar 20%. (Decreto 52.768/2015, alterado pelo Decreto 53.424/2017) | H25: Porcentagem | I25: 0.2
A27: MONTANTE A
A28: I | B28: Remuneração - Grupo I | H28: % | I28: Valor Mensal/unidade de serviço (R$)
A29: 1 | B29: Salário | H29: =I29/$I$37 -> 0.71428571 | I29: =IF(D6="12x36",I10,I10/H10*I5) -> 1540.51
A30: =A29+1 -> 2 | B30: Adicional Periculosidade 30% (Ver súmulas 364, 132 e 191 do TST) | H30: =I30/$I$37 -> 0 | I30: =IF(I9=30%,I29*I9,0) -> 0
A31: =A30+1 -> 3 | B31: Adicional Insalubridade 10% (Ver súmula 228 e 139 TST) | H31: =I31/$I$37 -> 0 | I31: =IF(I7=10%,I23*I7,0) -> 0
A32: =A31+1 -> 4 | B32: Adicional Insalubridade 20% (Ver súmula 228 e 139 TST) | H32: =I32/$I$37 -> 0 | I32: =IF(I7=20%,I23*I7,0) -> 0
A33: =A32+1 -> 5 | B33: Adicional Insalubridade 40% (Ver súmula 228 e 139 TST) | H33: =I33/$I$37 -> 0.28571429 | I33: =IF(I7=40%,I23*I7,0) -> 616.204
A34: =A33+1 -> 6 | B34: Adicional de Supervisor (IN 02/2008 MPOG SLTI) | H34: =I34/$I$37 -> 0 | I34: =IF(I22="Não aplicável",0,I29*I22) -> 0
A35: =A34+1 -> 7 | B35: DSR - Descanso Semanal Remunerado | H35: =I35/$I$37 -> 0 | I35: 0
A36: =A35+1 -> 8 | B36: =IF(D6="12x36","Para postos 12x36 os feriados são considerados compensados, conforme parágrafo único, Art. 59-A da CLT","Outros") -> Outros | H36: =I36/$I$37 -> 0 | I36: 0
A37: Total de Remuneração | H37: =SUM(H29:H36) -> 1 | I37: =SUM(I29:I36) -> 2156.714
A39: II | B39: Encargos Sociais - Grupo II: Obrigações Sociais | H39: % | I39: Valor Mensal/unidade de serviço (R$)
A40: 1 | B40: INSS (art. 22, inc. I, Lei nº 8.212/91) | H40: 0.2 | I40: =$I$37*H40 -> 431.3428
A41: 2 | B41: SESI ou SESC (art. 30, Lei nº 8.036/90) | H41: 0.015 | I41: =$I$37*H41 -> 32.35071
A42: 3 | B42: SENAI ou SENAC (Decreto-Lei nº 2.318/86) | H42: 0.01 | I42: =$I$37*H42 -> 21.56714
A43: 4 | B43: INCRA (art. 15I, Lei Complementar nº 011/71) | H43: 0.002 | I43: =$I$37*H43 -> 4.313428
...

Sheet Aux. Adm Seg-Sex Zona Norte 30h
A1: PLANILHA DE CUSTOS E FORMAÇÃO DE PREÇOS DE SERVIÇOS CONTINUADOS COM DEDICAÇÃO EXCLUSIVA DE MÃO DE OBRA (ANEXO III - DECRETOS 52.768 de 15.12.2015 e 54.273 de 10.10.2018)
A2: PROCESSO: | C2: 24/1300-0006476-8 | E2: REGIME DE TRIBUTAÇÃO: LUCRO REAL
A3: LICITAÇÃO/EDITAL | E3: ABERTURA:
A5: Cargo/Função: | D5: Auxiliar Administrativo seg-sex | G5: =IF(D6="12x36","Regime de trabalho:","Quantidade de HORAS/MÊS") -> Quantidade de HORAS/MÊS | I5: =IF(D6="12x36",D6,5*D6) -> 150
A6: =IF(D6="12x36","Regime de trabalho:","Regime de trabalho (horas semanais):") -> Regime de trabalho (horas semanais): | D6: 30
A7: Convenção Coletiva de Trabalho: | D7: RS004917/2023 | G7: INSALUBRIDADE (10%, 20%, 40%) | I7: Não aplicável
A8: Origem do salário: | D8: CCT
A9: Cidade: | D9: Porto Alegre Zona Norte | G9: PERICULOSIDADE (30%) | I9: Não aplicável
A10: Salário Normativo | G10: Vlr. do salário e nº de horas correspondentes | H10: 220 | I10: 2013.31
A11: ISS | G11: =D9 -> Porto Alegre Zona Norte | H11: Alíquota | I11: 0.05
A12: Tarifa Transporte | G12: CCT | H12: Vr. Unitário | I12: 4.8
H13: Dias | I13: 22
H14: Desconto | I14: 0.06
A15: Auxílio Alimentação | G15: CCT | H15: Vr. Unitário | I15: 0
H16: Dias | I16: 0
H17: Desconto | I17: 0
A18: Auxílio Lanche | G18: CCT | H18: Vr. Unitário | I18: 11.84
H19: Dias | I19: 22
H20: Desconto | I20: 0.19
A21: Outros: PLANO DE BENEFÍCIO SOCIAL FAMILIAR | G21: CCT | H21: Valor mensal | I21: 19.42
A22: Adicional de Supervisor (37%) | H22: Porcentagem | I22: Não aplicável
A23: Base de cálculo da insalubridade | H23: Valor | I23: Não aplicável
A24: Hora Intervalar | H24: Horas por mês | I24: Não aplicável
A25: Sem fornecimento de materiais ou apenas fornecimento de EPIs ou uniformes, utilizar 10%. Com fornecimento de materiais ou equipamentos, utilizar 20%. (Decreto 52.768/2015, alterado pelo Decreto 53.424/2017) | H25: Porcentagem | I25: 0.2
A27: MONTANTE A
A28: I | B28: Remuneração - Grupo I | H28: % | I28: Valor Mensal/unidade de serviço (R$)
A29: 1 | B29: Salário | H29: =I29/$I$37 -> 1 | I29: =IF(D6="12x36",I10,I10/H10*I5) -> 1372.7114
A30: =A29+1 -> 2 | B30: Adicional Periculosidade 30% (Ver súmulas 364, 132 e 191 do TST) | H30: =I30/$I$37 -> 0 | I30: =IF(I9=30%,I29*I9,0) -> 0
A31: =A30+1 -> 3 | B31: Adicional Insalubridade 10% (Ver súmula 228 e 139 TST) | H31: =I31/$I$37 -> 0 | I31: =IF(I7=10%,I23*I7,0) -> 0
A32: =A31+1 -> 4 | B32: Adicional Insalubridade 20% (Ver súmula 228 e 139 TST) | H32: =I32/$I$37 -> 0 | I32: =IF(I7=20%,I23*I7,0) -> 0
A33: =A32+1 -> 5 | B33: Adicional Insalubridade 40% (Ver súmula 228 e 139 TST) | H33: =I33/$I$37 -> 0 | I33: =IF(I7=40%,I23*I7,0) -> 0
A34: =A33+1 -> 6 | B34: Adicional de Supervisor (IN 02/2008 MPOG SLTI) | H34: =I34/$I$37 -> 0 | I34: =IF(I22="Não aplicável",0,I29*I22) -> 0
A35: =A34+1 -> 7 | B35: DSR - Descanso Semanal Remunerado | H35: =I35/$I$37 -> 0 | I35: 0
A36: =A35+1 -> 8 | B36: =IF(D6="12x36","Para postos 12x36 os feriados são considerados compensados, conforme parágrafo único, Art. 59-A da CLT","Outros") -> Outros | H36: =I36/$I$37 -> 0 | I36: 0
A37: Total de Remuneração | H37: =SUM(H29:H36) -> 1 | I37: =SUM(I29:I36) -> 1372.7114
A39: II | B39: Encargos Sociais - Grupo II: Obrigações Sociais | H39: % | I39: Valor Mensal/unidade de serviço (R$)
A40: 1 | B40: INSS (art. 22, inc. I, Lei nº 8.212/91) | H40: 0.2 | I40: =$I$37*H40 -> 274.54227
A41: 2 | B41: SESI ou SESC (art. 30, Lei nº 8.036/90) | H41: 0.015 | I41: =$I$37*H41 -> 20.59067
A42: 3 | B42: SENAI ou SENAC (Decreto-Lei nº 2.318/86) | H42: 0.01 | I42: =$I$37*H42 -> 13.727114
A43: 4 | B43: INCRA (art. 15I, Lei Complementar nº 011/71) | H43: 0.002 | I43: =$I$37*H43 -> 2.7454227
...

Sheet Aux. Adm Seg-Sáb Zona Norte 44h
A1: PLANILHA DE CUSTOS E FORMAÇÃO DE PREÇOS DE SERVIÇOS CONTINUADOS COM DEDICAÇÃO EXCLUSIVA DE MÃO DE OBRA (ANEXO III - DECRETOS 52.768 de 15.12.2015 e 54.273 de 10.10.2018)
A2: PROCESSO: | C2: 24/1300-0006476-8 | E2: REGIME DE TRIBUTAÇÃO: LUCRO REAL
A3: LICITAÇÃO/EDITAL | E3: ABERTURA:
A5: Cargo/Função: | D5: Auxiliar Administrativo - seg-sáb | G5: =IF(D6="12x36","Regime de trabalho:","Quantidade de HORAS/MÊS") -> Quantidade de HORAS/MÊS | I5: =IF(D6="12x36",D6,5*D6) -> 220
A6: =IF(D6="12x36","Regime de trabalho:","Regime de trabalho (horas semanais):") -> Regime de trabalho (horas semanais): | D6: 44
A7: Convenção Coletiva de Trabalho: | D7: RS004917/2023 | G7: INSALUBRIDADE (10%, 20%, 40%) | I7: Não aplicável
A8: Origem do salário: | D8: CCT
A9: Cidade: | D9: Porto Alegre Zona Norte | G9: PERICULOSIDADE (30%) | I9: Não aplicável
A10: Salário Normativo | G10: Vlr. do salário e nº de horas correspondentes | H10: 220 | I10: 2013.31
A11: ISS | G11: =D9 -> Porto Alegre Zona Norte | H11: Alíquota | I11: 0.05
A12: Tarifa Transporte | G12: CCT | H12: Vr. Unitário | I12: 4.8
H13: Dias | I13: 26
H14: Desconto | I14: 0.06
A15: Auxílio Alimentação | G15: CCT | H15: Vr. Unitário | I15: 23.68
H16: Dias | I16: 26
H17: Desconto | I17: 0.19
A18: Auxílio Lanche | G18: CCT | H18: Vr. Unitário | I18: 0
H19: Dias | I19: 0
H20: Desconto | I20: 0
A21: Outros: PLANO DE BENEFÍCIO SOCIAL FAMILIAR | G21: CCT | H21: Valor mensal | I21: 19.42
A22: Adicional de Supervisor (37%) | H22: Porcentagem | I22: Não aplicável
A23: Base de cálculo da insalubridade | H23: Valor | I23: Não aplicável
A24: Hora Intervalar | H24: Horas por mês | I24: Não aplicável
A25: Sem fornecimento de materiais ou apenas fornecimento de EPIs ou uniformes, utilizar 10%. Com fornecimento de materiais ou equipamentos, utilizar 20%. (Decreto 52.768/2015, alterado pelo Decreto 53.424/2017) | H25: Porcentagem | I25: 0.2
A27: MONTANTE A
A28: I | B28: Remuneração - Grupo I | H28: % | I28: Valor Mensal/unidade de serviço (R$)
A29: 1 | B29: Salário | H29: =I29/$I$37 -> 1 | I29: =IF(D6="12x36",I10,I10/H10*I5) -> 2013.31
A30: =A29+1 -> 2 | B30: Adicional Periculosidade 30% (Ver súmulas 364, 132 e 191 do TST) | H30: =I30/$I$37 -> 0 | I30: =IF(I9=30%,I29*I9,0) -> 0
A31: =A30+1 -> 3 | B31: Adicional Insalubridade 10% (Ver súmula 228 e 139 TST) | H31: =I31/$I$37 -> 0 | I31: =IF(I7=10%,I23*I7,0) -> 0
A32: =A31+1 -> 4 | B32: Adicional Insalubridade 20% (Ver súmula 228 e 139 TST) | H32: =I32/$I$37 -> 0 | I32: =IF(I7=20%,I23*I7,0) -> 0
A33: =A32+1 -> 5 | B33: Adicional Insalubridade 40% (Ver súmula 228 e 139 TST) | H33: =I33/$I$37 -> 0 | I33: =IF(I7=40%,I23*I7,0) -> 0
A34: =A33+1 -> 6 | B34: Adicional de Supervisor (IN 02/2008 MPOG SLTI) | H34: =I34/$I$37 -> 0 | I34: =IF(I22="Não aplicável",0,I29*I22) -> 0
A35: =A34+1 -> 7 | B35: DSR - Descanso Semanal Remunerado | H35: =I35/$I$37 -> 0 | I35: 0
A36: =A35+1 -> 8 | B36: =IF(D6="12x36","Para postos 12x36 os feriados são considerados compensados, conforme parágrafo único, Art. 59-A da CLT","Outros") -> Outros | H36: =I36/$I$37 -> 0 | I36: 0
A37: Total de Remuneração | H37: =SUM(H29:H36) -> 1 | I37: =SUM(I29:I36) -> 2013.31
A39: II | B39: Encargos Sociais - Grupo II: Obrigações Sociais | H39: % | I39: Valor Mensal/unidade de serviço (R$)
A40: 1 | B40: INSS (art. 22, inc. I, Lei nº 8.212/91) | H40: 0.2 | I40: =$I$37*H40 -> 402.662
A41: 2 | B41: SESI ou SESC (art. 30, Lei nº 8.036/90) | H41: 0.015 | I41: =$I$37*H41 -> 30.19965
A42: 3 | B42: SENAI ou SENAC (Decreto-Lei nº 2.318/86) | H42: 0.01 | I42: =$I$37*H42 -> 20.1331
A43: 4 | B43: INCRA (art. 15I, Lei Complementar nº 011/71) | H43: 0.002 | I43: =$I$37*H43 -> 4.02662
...

Sheet Aux Sup Seg-Sáb Zona Norte 44h
A1: PLANILHA DE CUSTOS E FORMAÇÃO DE PREÇOS DE SERVIÇOS CONTINUADOS COM DEDICAÇÃO EXCLUSIVA DE MÃO DE OBRA (ANEXO III - DECRETOS 52.768 de 15.12.2015 e 54.273 de 10.10.2018)
A2: PROCESSO: | C2: 24/1300-0006476-8 | E2: REGIME DE TRIBUTAÇÃO: LUCRO REAL
A3: LICITAÇÃO/EDITAL | E3: ABERTURA:
A5: Cargo/Função: | D5: Auxiliar Administrativo Supervisor - seg-sáb | G5: =IF(D6="12x36","Regime de trabalho:","Quantidade de HORAS/MÊS") -> Quantidade de HORAS/MÊS | I5: =IF(D6="12x36",D6,5*D6) -> 220
A6: =IF(D6="12x36","Regime de trabalho:","Regime de trabalho (horas semanais):") -> Regime de trabalho (horas semanais): | D6: 44
A7: Convenção Coletiva de Trabalho: | D7: RS004917/2023 | G7: INSALUBRIDADE (10%, 20%, 40%) | I7: Não aplicável
A8: Origem do salário: | D8: CCT
A9: Cidade: | D9: Porto Alegre Zona Norte | G9: PERICULOSIDADE (30%) | I9: Não aplicável
A10: Salário Normativo | G10: Vlr. do salário e nº de horas correspondentes | H10: 220 | I10: 2013.31
A11: ISS | G11: =D9 -> Porto Alegre Zona Norte | H11: Alíquota | I11: 0.05
A12: Tarifa Transporte | G12: CCT | H12: Vr. Unitário | I12: 4.8
H13: Dias | I13: 26
H14: Desconto | I14: 0.06
A15: Auxílio Alimentação | G15: CCT | H15: Vr. Unitário | I15: 23.68
H16: Dias | I16: 26
H17: Desconto | I17: 0.19
A18: Auxílio Lanche | G18: CCT | H18: Vr. Unitário | I18: 0
H19: Dias | I19: 0
H20: Desconto | I20: 0
A21: Outros: PLANO DE BENEFÍCIO SOCIAL FAMILIAR | G21: CCT | H21: Valor mensal | I21: 19.42
A22: Adicional de Supervisor (37%) | H22: Porcentagem | I22: 0.37
A23: Base de cálculo da insalubridade | H23: Valor | I23: Não aplicável
A24: Hora Intervalar | H24: Horas por mês | I24: Não aplicável
A25: Sem fornecimento de materiais ou apenas fornecimento de EPIs ou uniformes, utilizar 10%. Com fornecimento de materiais ou equipamentos, utilizar 20%. (Decreto 52.768/2015, alterado pelo Decreto 53.424/2017) | H25: Porcentagem | I25: 0.2
A27: MONTANTE A
A28: I | B28: Remuneração - Grupo I | H28: % | I28: Valor Mensal/unidade de serviço (R$)
A29: 1 | B29: Salário | H29: =I29/$I$37 -> 0.72992701 | I29: =IF(D6="12x36",I10,I10/H10*I5) -> 2013.31
A30: =A29+1 -> 2 | B30: Adicional Periculosidade 30% (Ver súmulas 364, 132 e 191 do TST) | H30: =I30/$I$37 -> 0 | I30: =IF(I9=30%,I29*I9,0) -> 0
A31: =A30+1 -> 3 | B31: Adicional Insalubridade 10% (Ver súmula 228 e 139 TST) | H31: =I31/$I$37 -> 0 | I31: =IF(I7=10%,I23*I7,0) -> 0
A32: =A31+1 -> 4 | B32: Adicional Insalubridade 20% (Ver súmula 228 e 139 TST) | H32: =I32/$I$37 -> 0 | I32: =IF(I7=20%,I23*I7,0) -> 0
A33: =A32+1 -> 5 | B33: Adicional Insalubridade 40% (Ver súmula 228 e 139 TST) | H33: =I33/$I$37 -> 0 | I33: =IF(I7=40%,I23*I7,0) -> 0
A34: =A33+1 -> 6 | B34: Adicional de Supervisor (IN 02/2008 MPOG SLTI) | H34: =I34/$I$37 -> 0.27007299 | I34: =IF(I22="Não aplicável",0,I29*I22) -> 744.9247
A35: =A34+1 -> 7 | B35: DSR - Descanso Semanal Remunerado | H35: =I35/$I$37 -> 0 | I35: 0
A36: =A35+1 -> 8 | B36: =IF(D6="12x36","Para postos 12x36 os feriados são considerados compensados, conforme parágrafo único, Art. 59-A da CLT","Outros") -> Outros | H36: =I36/$I$37 -> 0 | I36: 0
A37: Total de Remuneração | H37: =SUM(H29:H36) -> 1 | I37: =SUM(I29:I36) -> 2758.2347
A39: II | B39: Encargos Sociais - Grupo II: Obrigações Sociais | H39: % | I39: Valor Mensal/unidade de serviço (R$)
A40: 1 | B40: INSS (art. 22, inc. I, Lei nº 8.212/91) | H40: 0.2 | I40: =$I$37*H40 -> 551.64694
A41: 2 | B41: SESI ou SESC (art. 30, Lei nº 8.036/90) | H41: 0.015 | I41: =$I$37*H41 -> 41.37352
A42: 3 | B42: SENAI ou SENAC (Decreto-Lei nº 2.318/86) | H42: 0.01 | I42: =$I$37*H42 -> 27.582347
A43: 4 | B43: INCRA (art. 15I, Lei Complementar nº 011/71) | H43: 0.002 | I43: =$I$37*H43 -> 5.5164694
...

Sheet Limpeza Seg-Sáb Zona Norte
A1: PLANILHA DE CUSTOS E FORMAÇÃO DE PREÇOS DE SERVIÇOS CONTINUADOS COM DEDICAÇÃO EXCLUSIVA DE MÃO DE OBRA (ANEXO III - DECRETOS 52.768 de 15.12.2015 e 54.273 de 10.10.2018)
A2: PROCESSO: | C2: 24/1300-0006476-8 | E2: REGIME DE TRIBUTAÇÃO: LUCRO REAL
A3: LICITAÇÃO/EDITAL | E3: ABERTURA:
A5: Cargo/Função: | D5: Servente de Limpeza - seg-sáb | G5: =IF(D6="12x36","Regime de trabalho:","Quantidade de HORAS/MÊS") -> Quantidade de HORAS/MÊS | I5: =IF(D6="12x36",D6,5*D6) -> 220
A6: =IF(D6="12x36","Regime de trabalho:","Regime de trabalho (horas semanais):") -> Regime de trabalho (horas semanais): | D6: 44
A7: Convenção Coletiva de Trabalho: | D7: RS004917/2023 | G7: INSALUBRIDADE (10%, 20%, 40%) | I7: 0.2
A8: Origem do salário: | D8: CCT
A9: Cidade: | D9: Porto Alegre Zona Norte | G9: PERICULOSIDADE (30%) | I9: Não aplicável
A10: Salário Normativo | G10: Vlr. do salário e nº de horas correspondentes | H10: 220 | I10: 1540.51
A11: ISS | G11: =D9 -> Porto Alegre Zona Norte | H11: Alíquota | I11: 0.05
A12: Tarifa Transporte | G12: CCT | H12: Vr. Unitário | I12: 4.8
H13: Dias | I13: 26
H14: Desconto | I14: 0.06
A15: Auxílio Alimentação | G15: CCT | H15: Vr. Unitário | I15: 23.68
H16: Dias | I16: 26
H17: Desconto | I17: 0.19
A18: Auxílio Lanche | G18: CCT | H18: Vr. Unitário | I18: 0
H19: Dias | I19: 0
H20: Desconto | I20: 0
A21: Outros: PLANO DE BENEFÍCIO SOCIAL FAMILIAR | G21: CCT | H21: Valor mensal | I21: 19.42
A22: Adicional de Supervisor (37%) | H22: Porcentagem | I22: Não aplicável
A23: Base de cálculo da insalubridade (ver observação 2 do Anexo I - Folha de Dados - CGL 12.1.2) | H23: Valor | I23: =I29 -> 1540.51
A24: Hora Intervalar | H24: Horas por mês | I24: Não aplicável
A25: Sem fornecimento de materiais ou apenas fornecimento de EPIs ou uniformes, utilizar 10%. Com fornecimento de materiais ou equipamentos, utilizar 20%. (Decreto 52.768/2015, alterado pelo Decreto 53.424/2017) | H25: Porcentagem | I25: 0.2
A27: MONTANTE A
A28: I | B28: Remuneração - Grupo I | H28: % | I28: Valor Mensal/unidade de serviço (R$)
A29: 1 | B29: Salário | H29: =I29/$I$37 -> 0.83333333 | I29: =IF(D6="12x36",I10,I10/H10*I5) -> 1540.51
A30: =A29+1 -> 2 | B30: Adicional Periculosidade 30% (Ver súmulas 364, 132 e 191 do TST) | H30: =I30/$I$37 -> 0 | I30: =IF(I9=30%,I29*I9,0) -> 0
A31: =A30+1 -> 3 | B31: Adicional Insalubridade 10% (Ver súmula 228 e 139 TST) | H31: =I31/$I$37 -> 0 | I31: =IF(I7=10%,I23*I7,0) -> 0
A32: =A31+1 -> 4 | B32: Adicional Insalubridade 20% (Ver súmula 228 e 139 TST) | H32: =I32/$I$37 -> 0.16666667 | I32: =IF(I7=20%,I23*I7,0) -> 308.102
A33: =A32+1 -> 5 | B33: Adicional Insalubridade 40% (Ver súmula 228 e 139 TST) | H33: =I33/$I$37 -> 0 | I33: =IF(I7=40%,I23*I7,0) -> 0
A34: =A33+1 -> 6 | B34: Adicional de Supervisor (IN 02/2008 MPOG SLTI) | H34: =I34/$I$37 -> 0 | I34: =IF(I22="Não aplicável",0,I29*I22) -> 0
A35: =A34+1 -> 7 | B35: DSR - Descanso Semanal Remunerado | H35: =I35/$I$37 -> 0 | I35: 0
A36: =A35+1 -> 8 | B36: =IF(D6="12x36","Para postos 12x36 os feriados são considerados compensados, conforme parágrafo único, Art. 59-A da CLT","Outros") -> Outros | H36: =I36/$I$37 -> 0 | I36: 0
A37: Total de Remuneração | H37: =SUM(H29:H36) -> 1 | I37: =SUM(I29:I36) -> 1848.612
A39: II | B39: Encargos Sociais - Grupo II: Obrigações Sociais | H39: % | I39: Valor Mensal/unidade de serviço (R$)
A40: 1 | B40: INSS (art. 22, inc. I, Lei nº 8.212/91) | H40: 0.2 | I40: =$I$37*H40 -> 369.7224
A41: 2 | B41: SESI ou SESC (art. 30, Lei nº 8.036/90) | H41: 0.015 | I41: =$I$37*H41 -> 27.72918
A42: 3 | B42: SENAI ou SENAC (Decreto-Lei nº 2.318/86) | H42: 0.01 | I42: =$I$37*H42 -> 18.48612
A43: 4 | B43: INCRA (art. 15I, Lei Complementar nº 011/71) | H43: 0.002 | I43: =$I$37*H43 -> 3.697224
...

Sheet Aux. Adm. Seg-Sex Zona Sul 30h
A1: PLANILHA DE CUSTOS E FORMAÇÃO DE PREÇOS DE SERVIÇOS CONTINUADOS COM DEDICAÇÃO EXCLUSIVA DE MÃO DE OBRA (ANEXO III - DECRETOS 52.768 de 15.12.2015 e 54.273 de 10.10.2018)
A2: PROCESSO: | C2: 24/1300-0006476-8 | E2: REGIME DE TRIBUTAÇÃO: LUCRO REAL
A3: LICITAÇÃO/EDITAL | E3: ABERTURA:
A5: Cargo/Função: | D5: Auxiliar Administrativo seg-sex | G5: =IF(D6="12x36","Regime de trabalho:","Quantidade de HORAS/MÊS") -> Quantidade de HORAS/MÊS | I5: =IF(D6="12x36",D6,5*D6) -> 150
A6: =IF(D6="12x36","Regime de trabalho:","Regime de trabalho (horas semanais):") -> Regime de trabalho (horas semanais): | D6: 30
A7: Convenção Coletiva de Trabalho: | D7: RS004917/2023 | G7: INSALUBRIDADE (10%, 20%, 40%) | I7: Não aplicável
A8: Origem do salário: | D8: CCT
A9: Cidade: | D9: Porto Alegre Zona Sul | G9: PERICULOSIDADE (30%) | I9: Não aplicável
A10: Salário Normativo | G10: Vlr. do salário e nº de horas correspondentes | H10: 220 | I10: 2013.31
A11: ISS | G11: =D9 -> Porto Alegre Zona Sul | H11: Alíquota | I11: 0.05
A12: Tarifa Transporte | G12: CCT | H12: Vr. Unitário | I12: 4.8
H13: Dias | I13: 22
H14: Desconto | I14: 0.06
A15: Auxílio Alimentação | G15: CCT | H15: Vr. Unitário | I15: 0
H16: Dias | I16: 0
H17: Desconto | I17: 0
A18: Auxílio Lanche | G18: CCT | H18: Vr. Unitário | I18: 11.84
H19: Dias | I19: 22
H20: Desconto | I20: 0.19
A21: Outros: PLANO DE BENEFÍCIO SOCIAL FAMILIAR | G21: CCT | H21: Valor mensal | I21: 19.42
A22: Adicional de Supervisor (37%) | H22: Porcentagem | I22: Não aplicável
A23: Base de cálculo da insalubridade | H23: Valor | I23: Não aplicável
A24: Hora Intervalar | H24: Horas por mês | I24: Não aplicável
A25: Sem fornecimento de materiais ou apenas fornecimento de EPIs ou uniformes, utilizar 10%. Com fornecimento de materiais ou equipamentos, utilizar 20%. (Decreto 52.768/2015, alterado pelo Decreto 53.424/2017) | H25: Porcentagem | I25: 0.2
A27: MONTANTE A
A28: I | B28: Remuneração - Grupo I | H28: % | I28: Valor Mensal/unidade de serviço (R$)
A29: 1 | B29: Salário | H29: =I29/$I$37 -> 1 | I29: =IF(D6="12x36",I10,I10/H10*I5) -> 1372.7114
A30: =A29+1 -> 2 | B30: Adicional Periculosidade 30% (Ver súmulas 364, 132 e 191 do TST) | H30: =I30/$I$37 -> 0 | I30: =IF(I9=30%,I29*I9,0) -> 0
A31: =A30+1 -> 3 | B31: Adicional Insalubridade 10% (Ver súmula 228 e 139 TST) | H31: =I31/$I$37 -> 0 | I31: =IF(I7=10%,I23*I7,0) -> 0
A32: =A31+1 -> 4 | B32: Adicional Insalubridade 20% (Ver súmula 228 e 139 TST) | H32: =I32/$I$37 -> 0 | I32: =IF(I7=20%,I23*I7,0) -> 0
A33: =A32+1 -> 5 | B33: Adicional Insalubridade 40% (Ver súmula 228 e 139 TST) | H33: =I33/$I$37 -> 0 | I33: =IF(I7=40%,I23*I7,0) -> 0
A34: =A33+1 -> 6 | B34: Adicional de Supervisor (IN 02/2008 MPOG SLTI) | H34: =I34/$I$37 -> 0 | I34: =IF(I22="Não aplicável",0,I29*I22) -> 0
A35: =A34+1 -> 7 | B35: DSR - Descanso Semanal Remunerado | H35: =I35/$I$37 -> 0 | I35: 0
A36: =A35+1 -> 8 | B36: =IF(D6="12x36","Para postos 12x36 os feriados são considerados compensados, conforme parágrafo único, Art. 59-A da CLT","Outros") -> Outros | H36: =I36/$I$37 -> 0 | I36: 0
A37: Total de Remuneração | H37: =SUM(H29:H36) -> 1 | I37: =SUM(I29:I36) -> 1372.7114
A39: II | B39: Encargos Sociais - Grupo II: Obrigações Sociais | H39: % | I39: Valor Mensal/unidade de serviço (R$)
A40: 1 | B40: INSS (art. 22, inc. I, Lei nº 8.212/91) | H40: 0.2 | I40: =$I$37*H40 -> 274.54227
A41: 2 | B41: SESI ou SESC (art. 30, Lei nº 8.036/90) | H41: 0.015 | I41: =$I$37*H41 -> 20.59067
A42: 3 | B42: SENAI ou SENAC (Decreto-Lei nº 2.318/86) | H42: 0.01 | I42: =$I$37*H42 -> 13.727114
A43: 4 | B43: INCRA (art. 15I, Lei Complementar nº 011/71) | H43: 0.002 | I43: =$I$37*H43 -> 2.7454227
...

Sheet Aux. Adm. Seg-Sex Zona Sul 40h
A1: PLANILHA DE CUSTOS E FORMAÇÃO DE PREÇOS DE SERVIÇOS CONTINUADOS COM DEDICAÇÃO EXCLUSIVA DE MÃO DE OBRA (ANEXO III - DECRETOS 52.768 de 15.12.2015 e 54.273 de 10.10.2018)
A2: PROCESSO: | C2: 24/1300-0006476-8 | E2: REGIME DE TRIBUTAÇÃO: LUCRO REAL
A3: LICITAÇÃO/EDITAL | E3: ABERTURA:
A5: Cargo/Função: | D5: Auxiliar Administrativo - seg-sex | G5: =IF(D6="12x36","Regime de trabalho:","Quantidade de HORAS/MÊS") -> Quantidade de HORAS/MÊS | I5: =IF(D6="12x36",D6,5*D6) -> 200
A6: =IF(D6="12x36","Regime de trabalho:","Regime de trabalho (horas semanais):") -> Regime de trabalho (horas semanais): | D6: 40
A7: Convenção Coletiva de Trabalho: | D7: RS004917/2023 | G7: INSALUBRIDADE (10%, 20%, 40%) | I7: Não aplicável
A8: Origem do salário: | D8: CCT
A9: Cidade: | D9: Porto Alegre Zona Sul | G9: PERICULOSIDADE (30%) | I9: Não aplicável
A10: Salário Normativo | G10: Vlr. do salário e nº de horas correspondentes | H10: 220 | I10: 2013.31
A11: ISS | G11: =D9 -> Porto Alegre Zona Sul | H11: Alíquota | I11: 0.05
A12: Tarifa Transporte | G12: CCT | H12: Vr. Unitário | I12: 4.8
H13: Dias | I13: 22
H14: Desconto | I14: 0.06
A15: Auxílio Alimentação | G15: CCT | H15: Vr. Unitário | I15: 23.68
H16: Dias | I16: 22
H17: Desconto | I17: 0.19
A18: Auxílio Lanche | G18: CCT | H18: Vr. Unitário | I18: 0
H19: Dias | I19: 0
H20: Desconto | I20: 0
A21: Outros: PLANO DE BENEFÍCIO SOCIAL FAMILIAR | G21: CCT | H21: Valor mensal | I21: 19.42
A22: Adicional de Supervisor (37%) | H22: Porcentagem | I22: Não aplicável
A23: Base de cálculo da insalubridade | H23: Valor | I23: Não aplicável
A24: Hora Intervalar | H24: Horas por mês | I24: Não aplicável
A25: Sem fornecimento de materiais ou apenas fornecimento de EPIs ou uniformes, utilizar 10%. Com fornecimento de materiais ou equipamentos, utilizar 20%. (Decreto 52.768/2015, alterado pelo Decreto 53.424/2017) | H25: Porcentagem | I25: 0.2
A27: MONTANTE A
A28: I | B28: Remuneração - Grupo I | H28: % | I28: Valor Mensal/unidade de serviço (R$)
A29: 1 | B29: Salário | H29: =I29/$I$37 -> 1 | I29: =IF(D6="12x36",I10,I10/H10*I5) -> 1830.2818
A30: =A29+1 -> 2 | B30: Adicional Periculosidade 30% (Ver súmulas 364, 132 e 191 do TST) | H30: =I30/$I$37 -> 0 | I30: =IF(I9=30%,I29*I9,0) -> 0
A31: =A30+1 -> 3 | B31: Adicional Insalubridade 10% (Ver súmula 228 e 139 TST) | H31: =I31/$I$37 -> 0 | I31: =IF(I7=10%,I23*I7,0) -> 0
A32: =A31+1 -> 4 | B32: Adicional Insalubridade 20% (Ver súmula 228 e 139 TST) | H32: =I32/$I$37 -> 0 | I32: =IF(I7=20%,I23*I7,0) -> 0
A33: =A32+1 -> 5 | B33: Adicional Insalubridade 40% (Ver súmula 228 e 139 TST) | H33: =I33/$I$37 -> 0 | I33: =IF(I7=40%,I23*I7,0) -> 0
A34: =A33+1 -> 6 | B34: Adicional de Supervisor (IN 02/2008 MPOG SLTI) | H34: =I34/$I$37 -> 0 | I34: =IF(I22="Não aplicável",0,I29*I22) -> 0
A35: =A34+1 -> 7 | B35: DSR - Descanso Semanal Remunerado | H35: =I35/$I$37 -> 0 | I35: 0
A36: =A35+1 -> 8 | B36: =IF(D6="12x36","Para postos 12x36 os feriados são considerados compensados, conforme parágrafo único, Art. 59-A da CLT","Outros") -> Outros | H36: =I36/$I$37 -> 0 | I36: 0
A37: Total de Remuneração | H37: =SUM(H29:H36) -> 1 | I37: =SUM(I29:I36) -> 1830.2818
A39: II | B39: Encargos Sociais - Grupo II: Obrigações Sociais | H39: % | I39: Valor Mensal/unidade de serviço (R$)
A40: 1 | B40: INSS (art. 22, inc. I, Lei nº 8.212/91) | H40: 0.2 | I40: =$I$37*H40 -> 366.05636
A41: 2 | B41: SESI ou SESC (art. 30, Lei nº 8.036/90) | H41: 0.015 | I41: =$I$37*H41 -> 27.454227
A42: 3 | B42: SENAI ou SENAC (Decreto-Lei nº 2.318/86) | H42: 0.01 | I42: =$I$37*H42 -> 18.302818
A43: 4 | B43: INCRA (art. 15I, Lei Complementar nº 011/71) | H43: 0.002 | I43: =$I$37*H43 -> 3.6605636
...

Sheet Aux. Superv Seg-Sexta Zona Sul 
A1: PLANILHA DE CUSTOS E FORMAÇÃO DE PREÇOS DE SERVIÇOS CONTINUADOS COM DEDICAÇÃO EXCLUSIVA DE MÃO DE OBRA (ANEXO III - DECRETOS 52.768 de 15.12.2015 e 54.273 de 10.10.2018)
A2: PROCESSO: | C2: 24/1300-0006476-8 | E2: REGIME DE TRIBUTAÇÃO: LUCRO REAL
A3: LICITAÇÃO/EDITAL | E3: ABERTURA:
A5: Cargo/Função: | D5: Auxiliar Administrativo Supervisor - seg-sáb | G5: =IF(D6="12x36","Regime de trabalho:","Quantidade de HORAS/MÊS") -> Quantidade de HORAS/MÊS | I5: =IF(D6="12x36",D6,5*D6) -> 200
A6: =IF(D6="12x36","Regime de trabalho:","Regime de trabalho (horas semanais):") -> Regime de trabalho (horas semanais): | D6: 40
A7: Convenção Coletiva de Trabalho: | D7: RS004917/2023 | G7: INSALUBRIDADE (10%, 20%, 40%) | I7: Não aplicável
A8: Origem do salário: | D8: CCT
A9: Cidade: | D9: Porto Alegre Zona Sul | G9: PERICULOSIDADE (30%) | I9: Não aplicável
A10: Salário Normativo | G10: Vlr. do salário e nº de horas correspondentes | H10: 220 | I10: 2013.31
A11: ISS | G11: =D9 -> Porto Alegre Zona Sul | H11: Alíquota | I11: 0.05
A12: Tarifa Transporte | G12: CCT | H12: Vr. Unitário | I12: 4.8
H13: Dias | I13: 26
H14: Desconto | I14: 0.06
A15: Auxílio Alimentação | G15: CCT | H15: Vr. Unitário | I15: 23.68
H16: Dias | I16: 22
H17: Desconto | I17: 0.19
A18: Auxílio Lanche | G18: CCT | H18: Vr. Unitário | I18: 0
H19: Dias | I19: 0
H20: Desconto | I20: 0
A21: Outros: PLANO DE BENEFÍCIO SOCIAL FAMILIAR | G21: CCT | H21: Valor mensal | I21: 19.42
A22: Adicional de Supervisor (37%) | H22: Porcentagem | I22: 0.37
A23: Base de cálculo da insalubridade | H23: Valor | I23: Não aplicável
A24: Hora Intervalar | H24: Horas por mês | I24: Não aplicável
A25: Sem fornecimento de materiais ou apenas fornecimento de EPIs ou uniformes, utilizar 10%. Com fornecimento de materiais ou equipamentos, utilizar 20%. (Decreto 52.768/2015, alterado pelo Decreto 53.424/2017) | H25: Porcentagem | I25: 0.2
A27: MONTANTE A
A28: I | B28: Remuneração - Grupo I | H28: % | I28: Valor Mensal/unidade de serviço (R$)
A29: 1 | B29: Salário | H29: =I29/$I$37 -> 0.72992701 | I29: =IF(D6="12x36",I10,I10/H10*I5) -> 1830.2818
A30: =A29+1 -> 2 | B30: Adicional Periculosidade 30% (Ver súmulas 364, 132 e 191 do TST) | H30: =I30/$I$37 -> 0 | I30: =IF(I9=30%,I29*I9,0) -> 0
A31: =A30+1 -> 3 | B31: Adicional Insalubridade 10% (Ver súmula 228 e 139 TST) | H31: =I31/$I$37 -> 0 | I31: =IF(I7=10%,I23*I7,0) -> 0
A32: =A31+1 -> 4 | B32: Adicional Insalubridade 20% (Ver súmula 228 e 139 TST) | H32: =I32/$I$37 -> 0 | I32: =IF(I7=20%,I23*I7,0) -> 0
A33: =A32+1 -> 5 | B33: Adicional Insalubridade 40% (Ver súmula 228 e 139 TST) | H33: =I33/$I$37 -> 0 | I33: =IF(I7=40%,I23*I7,0) -> 0
