Workbook
Name Auxiliar: #REF!
Name Auxiliar: #REF!
Name Auxiliar: #REF!
Name Auxiliar: #REF!
Name Auxiliar: #REF!
Name CUSTO_VALE_TRANSPORTE: #REF!
Name CUSTO_VALE_TRANSPORTE: #REF!
Name CUSTO_VALE_TRANSPORTE: #REF!
Name CUSTO_VALE_TRANSPORTE: #REF!
Name CUSTO_VALE_TRANSPORTE: #REF!
Name ecwece4c: #REF!
Name ecwece4c: #REF!
Name ecwece4c: #REF!
Name ecwece4c: #REF!
Name ecwece4c: #REF!
Name MOMB4: '[1]SERVENTE MANUTENCAO'!$I$144
Name MONA1: #REF!
Name MONA1: #REF!
Name MONA1: #REF!
Name MONA1: #REF!
Name MONA1: #REF!
Name MONA2: #REF!
Name MONA2: #REF!
Name MONA2: #REF!
Name MONA2: #REF!
Name MONA2: #REF!
Name MONA3: [2]HIDRAULICO!$I$138
Name MONA4: '[2]SERVENTE (AUX PRODUCAO)'!$I$138
Name MONA5: #REF!
Name MONA5: #REF!
Name MONA5: #REF!
Name MONA5: #REF!
Name MONA5: #REF!
Name MONA6: #REF!
Name MONA6: #REF!
Name MONA6: #REF!
Name MONA6: #REF!
Name MONA6: #REF!
Name MONA7: #REF!
Name MONA7: #REF!
Name MONA7: #REF!
Name MONA7: #REF!
Name MONA7: #REF!
Name MONA8: [2]MECANICO_REFRIGERACAO!$I$138
Name MONB1: #REF!
Name MONB1: #REF!
Name MONB1: #REF!
Name MONB1: #REF!
Name MONB1: #REF!
Name MONB2: #REF!
Name MONB2: #REF!
Name MONB2: #REF!
Name MONB2: #REF!
Name MONB2: #REF!
Name MONB3: [2]HIDRAULICO!$I$144
Name MONB4: '[2]SERVENTE (AUX PRODUCAO)'!$I$144
Name MONB5: #REF!
Name MONB5: #REF!
Name MONB5: #REF!
Name MONB5: #REF!

Sheet Limpeza POA SEM FERIADO
A1: PLANILHA DE CUSTOS E FORMAÇÃO DE PREÇOS DE SERVIÇOS CONTINUADOS COM DEDICAÇÃO EXCLUSIVA DE MÃO DE OBRA (ANEXO III - DECRETO 52.768 de 15.12.2015)
A2: PROCESSO: | C2: 25/2148-0000309-7 | E2: REGIME DE TRIBUTAÇÃO: LUCRO REAL
A3: LICITAÇÃO/EDITAL | E3: ABERTURA:
A5: Cargo/Função: | D5: Servente de Limpeza - Segunda a sexta, sem feriados | G5: =IF(D6="12x36","Regime de trabalho:","Quantidade de HORAS/MÊS") -> Quantidade de HORAS/MÊS | I5: =IF(D6="12x36",D6,5*D6) -> 200
A6: =IF(D6="12x36","Regime de trabalho:","Regime de trabalho (horas semanais):") -> Regime de trabalho (horas semanais): | D6: 40
A7: Convenção Coletiva de Trabalho: | D7: RS000040/2025 | G7: INSALUBRIDADE (10%, 20%, 40%) | I7: 0.4
A8: Origem do salário: | D8: CCT
A9: Cidade: | D9: Porto Alegre | G9: PERICULOSIDADE (30%) | I9: Não aplicável
A10: Salário Normativo | G10: Vlr. do salário e nº de horas correspondentes | H10: 220 | I10: 1653.58
A11: ISS | G11: =D9 -> Porto Alegre | H11: Alíquota | I11: 0.025
A12: Tarifa Transporte | G12: CCT | H12: Vr. Unitário | I12: 5
H13: Dias | I13: 22
H14: Desconto | I14: 0.06
A15: Auxílio Alimentação | G15: CCT | H15: Vr. Unitário | I15: 25.42
H16: Dias | I16: 22
H17: Desconto | I17: 0.19
A18: Auxílio Lanche | G18: CCT | H18: Vr. Unitário | I18: 0
H19: Dias | I19: 0
H20: Desconto | I20: 0
A21: Plano de benefício social familiar | G21: CCT | H21: Valor mensal | I21: 24.1
A25: Adicional de Supervisor (37%) | H25: Porcentagem | I25: Não aplicável
A26: Base de cálculo da insalubridade | H26: Valor | I26: =I39 -> 1503.2545
A27: Quantitativo de horas trabalhadas em feriados no mês (estimado) - Não aplicável para postos 12x36 | H27: Horas por mês | I27: Não aplicável
H28: Acréscimo da hora extra | I28: Não aplicável
A29: Hora Intervalar (somente para postos 12x36, quando for o caso) | H29: Horas por mês | I29: Não aplicável
A30: Sem fornecimento de materiais ou apenas fornecimento de EPIs ou uniformes, utilizar 10%. Com fornecimento de materiais ou equipamentos, utilizar 20%. (Decreto 52.768/2015, alterado pelo Decreto 53.424/2017) | H30: Porcentagem | I30: 0.2
I31: Não aplicável
A37: MONTANTE A
A38: I | B38: Remuneração - Grupo I | H38: % | I38: Valor Mensal/unidade de serviço (R$)
A39: 1 | B39: Salário | H39: =I39/$I$47 -> 0.71428571 | I39: =IF(D6="12x36",I10,I10/H10*I5) -> 1503.2545
A40: =A39+1 -> 2 | B40: Adicional Periculosidade 30% (Ver súmulas 364, 132 e 191 do TST) | H40: =I40/$I$47 -> 0 | I40: =IF(I9=30%,I39*I9,0) -> 0
A41: =A40+1 -> 3 | B41: Adicional Insalubridade 10% (Ver súmula 228 e 139 TST) | H41: =I41/$I$47 -> 0 | I41: =IF(I7=10%,I26*I7,0) -> 0
A42: =A41+1 -> 4 | B42: Adicional Insalubridade 20% (Ver súmula 228 e 139 TST) | H42: =I42/$I$47 -> 0 | I42: =IF(I7=20%,I26*I7,0) -> 0
A43: =A42+1 -> 5 | B43: Adicional Insalubridade 40% (Ver súmula 228 e 139 TST) | H43: =I43/$I$47 -> 0.28571429 | I43: =IF(I7=40%,I26*I7,0) -> 601.30182
A44: =A43+1 -> 6 | B44: Adicional de Supervisor (IN 05/2017 MPOG SLTI) | H44: =I44/$I$47 -> 0 | I44: =IF(I25="Não aplicável",0,I39*I25) -> 0
A45: =A44+1 -> 7 | B45: Feriados | H45: =I45/$I$47 -> 0 | I45: =IF(I27="Não aplicável",0,(I39+I40+I41+I42+I43+I44)/I5*I27*(1+I28)) -> 0
A46: =A45+1 -> 8 | B46: DSR = número total das horas extras do mês / número de dias úteis X domingos e feriados do mês X valor da hora extra com acréscimo | H46: =I46/$I$47 -> 0 | I46: =IF(I27="Não aplicável",0,I27/I13*5*(I10/H10*(1+I28))) -> 0
A47: Total de Remuneração | H47: =SUM(H39:H46) -> 1 | I47: =SUM(I39:I46) -> 2104.5564
A58: II | B58: Encargos Sociais - Grupo II: Obrigações Sociais | H58: % | I58: Valor Mensal/unidade de serviço (R$)
A59: 1 | B59: INSS (art. 22, inc. I, Lei nº 8.212/91) | H59: 0.2 | I59: =$I$47*H59 -> 420.91127
...

Sheet Limpeza Poa seg-sex COM FERIADO
A1: PLANILHA DE CUSTOS E FORMAÇÃO DE PREÇOS DE SERVIÇOS CONTINUADOS COM DEDICAÇÃO EXCLUSIVA DE MÃO DE OBRA (ANEXO III - DECRETO 52.768 de 15.12.2015)
A2: PROCESSO: | C2: 25/2148-0000309-7 | E2: REGIME DE TRIBUTAÇÃO: LUCRO REAL
A3: LICITAÇÃO/EDITAL | E3: ABERTURA:
A5: Cargo/Função: | D5: Servente de Limpeza - Segunda a sexta, com feriados | G5: =IF(D6="12x36","Regime de trabalho:","Quantidade de HORAS/MÊS") -> Quantidade de HORAS/MÊS | I5: =IF(D6="12x36",D6,5*D6) -> 200
A6: =IF(D6="12x36","Regime de trabalho:","Regime de trabalho (horas semanais):") -> Regime de trabalho (horas semanais): | D6: 40
A7: Convenção Coletiva de Trabalho: | D7: RS000040/2025 | G7: INSALUBRIDADE (10%, 20%, 40%) | I7: 0.4
A8: Origem do salário: | D8: CCT
A9: Cidade: | D9: Porto Alegre | G9: PERICULOSIDADE (30%) | I9: Não aplicável
A10: Salário Normativo | G10: Vlr. do salário e nº de horas correspondentes | H10: 220 | I10: 1653.58
A11: ISS | G11: =D9 -> Porto Alegre | H11: Alíquota | I11: 0.025
A12: Tarifa Transporte | G12: CCT | H12: Vr. Unitário | I12: 5
H13: Dias | I13: 22
H14: Desconto | I14: 0.06
A15: Auxílio Alimentação | G15: CCT | H15: Vr. Unitário | I15: 25.42
H16: Dias | I16: 22
H17: Desconto | I17: 0.19
A18: Auxílio Lanche | G18: CCT | H18: Vr. Unitário | I18: 0
H19: Dias | I19: 0
H20: Desconto | I20: 0
A21: Plano de benefício social familiar | G21: CCT | H21: Valor mensal | I21: 24.1
A25: Adicional de Supervisor (37%) | H25: Porcentagem | I25: Não aplicável
A26: Base de cálculo da insalubridade | H26: Valor | I26: =I39 -> 1503.2545
A27: Quantitativo de horas trabalhadas em feriados no mês (estimado) - Não aplicável para postos 12x36 | H27: Horas por mês | I27: 8
H28: Acréscimo da hora extra | I28: 1
A29: Hora Intervalar (somente para postos 12x36, quando for o caso) | H29: Horas por mês | I29: Não aplicável
A30: Sem fornecimento de materiais ou apenas fornecimento de EPIs ou uniformes, utilizar 10%. Com fornecimento de materiais ou equipamentos, utilizar 20%. (Decreto 52.768/2015, alterado pelo Decreto 53.424/2017) | H30: Porcentagem | I30: 0.2
I31: Não aplicável
A37: MONTANTE A
A38: I | B38: Remuneração - Grupo I | H38: % | I38: Valor Mensal/unidade de serviço (R$)
A39: 1 | B39: Salário | H39: =I39/$I$47 -> 0.65351711 | I39: =IF(D6="12x36",I10,I10/H10*I5) -> 1503.2545
A40: =A39+1 -> 2 | B40: Adicional Periculosidade 30% (Ver súmulas 364, 132 e 191 do TST) | H40: =I40/$I$47 -> 0 | I40: =IF(I9=30%,I39*I9,0) -> 0
A41: =A40+1 -> 3 | B41: Adicional Insalubridade 10% (Ver súmula 228 e 139 TST) | H41: =I41/$I$47 -> 0 | I41: =IF(I7=10%,I26*I7,0) -> 0
A42: =A41+1 -> 4 | B42: Adicional Insalubridade 20% (Ver súmula 228 e 139 TST) | H42: =I42/$I$47 -> 0 | I42: =IF(I7=20%,I26*I7,0) -> 0
A43: =A42+1 -> 5 | B43: Adicional Insalubridade 40% (Ver súmula 228 e 139 TST) | H43: =I43/$I$47 -> 0.26140684 | I43: =IF(I7=40%,I26*I7,0) -> 601.30182
A44: =A43+1 -> 6 | B44: Adicional de Supervisor (IN 05/2017 MPOG SLTI) | H44: =I44/$I$47 -> 0 | I44: =IF(I25="Não aplicável",0,I39*I25) -> 0
A45: =A44+1 -> 7 | B45: Feriados | H45: =I45/$I$47 -> 0.073193916 | I45: =IF(I27="Não aplicável",0,(I39+I40+I41+I42+I43+I44)/I5*I27*(1+I28)) -> 168.36451
A46: =A45+1 -> 8 | B46: DSR = número total das horas extras do mês / número de dias úteis X domingos e feriados do mês X valor da hora extra com acréscimo | H46: =I46/$I$47 -> 0.011882129 | I46: =IF(I27="Não aplicável",0,I27/I13*5*(I10/H10*(1+I28))) -> 27.331901
A47: Total de Remuneração | H47: =SUM(H39:H46) -> 1 | I47: =SUM(I39:I46) -> 2300.2528
A58: II | B58: Encargos Sociais - Grupo II: Obrigações Sociais | H58: % | I58: Valor Mensal/unidade de serviço (R$)
A59: 1 | B59: INSS (art. 22, inc. I, Lei nº 8.212/91) | H59: 0.2 | I59: =$I$47*H59 -> 460.05055
...

Sheet Taquari seg-sex COM FERIADO
A1: PLANILHA DE CUSTOS E FORMAÇÃO DE PREÇOS DE SERVIÇOS CONTINUADOS COM DEDICAÇÃO EXCLUSIVA DE MÃO DE OBRA (ANEXO III - DECRETO 52.768 de 15.12.2015)
A2: PROCESSO: | C2: 25/2148-0000309-7 | E2: REGIME DE TRIBUTAÇÃO: LUCRO REAL
A3: LICITAÇÃO/EDITAL | E3: ABERTURA:
A5: Cargo/Função: | D5: Servente de Limpeza - Segunda a sexta, com feriados | G5: =IF(D6="12x36","Regime de trabalho:","Quantidade de HORAS/MÊS") -> Quantidade de HORAS/MÊS | I5: =IF(D6="12x36",D6,5*D6) -> 200
A6: =IF(D6="12x36","Regime de trabalho:","Regime de trabalho (horas semanais):") -> Regime de trabalho (horas semanais): | D6: 40
A7: Convenção Coletiva de Trabalho: | D7: RS000042/2025 | G7: INSALUBRIDADE (10%, 20%, 40%) | I7: 0.4
A8: Origem do salário: | D8: CCT
A9: Cidade: | D9: Taquari | G9: PERICULOSIDADE (30%) | I9: Não aplicável
A10: Salário Normativo | G10: Vlr. do salário e nº de horas correspondentes | H10: 220 | I10: 1653.58
A11: ISS | G11: =D9 -> Taquari | H11: Alíquota | I11: 0.02
A12: Tarifa Transporte | G12: CCT | H12: Vr. Unitário | I12: 4.8
H13: Dias | I13: 22
H14: Desconto | I14: 0.06
A15: Auxílio Alimentação | G15: CCT | H15: Vr. Unitário | I15: 25.42
H16: Dias | I16: 22
H17: Desconto | I17: 0.19
A18: Auxílio Lanche | G18: CCT | H18: Vr. Unitário | I18: 0
H19: Dias | I19: 0
H20: Desconto | I20: 0
A21: Plano de benefício social familiar | G21: CCT | H21: Valor mensal | I21: 24.1
A25: Adicional de Supervisor (37%) | H25: Porcentagem | I25: Não aplicável
A26: Base de cálculo da insalubridade | H26: Valor | I26: =I39 -> 1503.2545
A27: Quantitativo de horas trabalhadas em feriados no mês (estimado) - Não aplicável para postos 12x36 | H27: Horas por mês | I27: 8
H28: Acréscimo da hora extra | I28: 1
A29: Hora Intervalar (somente para postos 12x36, quando for o caso) | H29: Horas por mês | I29: Não aplicável
A30: Sem fornecimento de materiais ou apenas fornecimento de EPIs ou uniformes, utilizar 10%. Com fornecimento de materiais ou equipamentos, utilizar 20%. (Decreto 52.768/2015, alterado pelo Decreto 53.424/2017) | H30: Porcentagem | I30: 0.2
I31: Não aplicável
A37: MONTANTE A
A38: I | B38: Remuneração - Grupo I | H38: % | I38: Valor Mensal/unidade de serviço (R$)
A39: 1 | B39: Salário | H39: =I39/$I$47 -> 0.65351711 | I39: =IF(D6="12x36",I10,I10/H10*I5) -> 1503.2545
A40: =A39+1 -> 2 | B40: Adicional Periculosidade 30% (Ver súmulas 364, 132 e 191 do TST) | H40: =I40/$I$47 -> 0 | I40: =IF(I9=30%,I39*I9,0) -> 0
A41: =A40+1 -> 3 | B41: Adicional Insalubridade 10% (Ver súmula 228 e 139 TST) | H41: =I41/$I$47 -> 0 | I41: =IF(I7=10%,I26*I7,0) -> 0
A42: =A41+1 -> 4 | B42: Adicional Insalubridade 20% (Ver súmula 228 e 139 TST) | H42: =I42/$I$47 -> 0 | I42: =IF(I7=20%,I26*I7,0) -> 0
A43: =A42+1 -> 5 | B43: Adicional Insalubridade 40% (Ver súmula 228 e 139 TST) | H43: =I43/$I$47 -> 0.26140684 | I43: =IF(I7=40%,I26*I7,0) -> 601.30182
A44: =A43+1 -> 6 | B44: Adicional de Supervisor (IN 05/2017 MPOG SLTI) | H44: =I44/$I$47 -> 0 | I44: =IF(I25="Não aplicável",0,I39*I25) -> 0
A45: =A44+1 -> 7 | B45: Feriados | H45: =I45/$I$47 -> 0.073193916 | I45: =IF(I27="Não aplicável",0,(I39+I40+I41+I42+I43+I44)/I5*I27*(1+I28)) -> 168.36451
A46: =A45+1 -> 8 | B46: DSR = número total das horas extras do mês / número de dias úteis X domingos e feriados do mês X valor da hora extra com acréscimo | H46: =I46/$I$47 -> 0.011882129 | I46: =IF(I27="Não aplicável",0,I27/I13*5*(I10/H10*(1+I28))) -> 27.331901
A47: Total de Remuneração | H47: =SUM(H39:H46) -> 1 | I47: =SUM(I39:I46) -> 2300.2528
A58: II | B58: Encargos Sociais - Grupo II: Obrigações Sociais | H58: % | I58: Valor Mensal/unidade de serviço (R$)
A59: 1 | B59: INSS (art. 22, inc. I, Lei nº 8.212/91) | H59: 0.2 | I59: =$I$47*H59 -> 460.05055
...

Sheet Taquari seg-sex SEM FERIADO
A1: PLANILHA DE CUSTOS E FORMAÇÃO DE PREÇOS DE SERVIÇOS CONTINUADOS COM DEDICAÇÃO EXCLUSIVA DE MÃO DE OBRA (ANEXO III - DECRETO 52.768 de 15.12.2015)
A2: PROCESSO: | C2: 25/2148-0000309-7 | E2: REGIME DE TRIBUTAÇÃO: LUCRO REAL
A3: LICITAÇÃO/EDITAL | E3: ABERTURA:
A5: Cargo/Função: | D5: Servente de Limpeza - Segunda a sexta, sem feriados | G5: =IF(D6="12x36","Regime de trabalho:","Quantidade de HORAS/MÊS") -> Quantidade de HORAS/MÊS | I5: =IF(D6="12x36",D6,5*D6) -> 200
A6: =IF(D6="12x36","Regime de trabalho:","Regime de trabalho (horas semanais):") -> Regime de trabalho (horas semanais): | D6: 40
A7: Convenção Coletiva de Trabalho: | D7: RS000042/2025 | G7: INSALUBRIDADE (10%, 20%, 40%) | I7: 0.4
A8: Origem do salário: | D8: CCT
A9: Cidade: | D9: Taquari | G9: PERICULOSIDADE (30%) | I9: Não aplicável
A10: Salário Normativo | G10: Vlr. do salário e nº de horas correspondentes | H10: 220 | I10: 1653.58
A11: ISS | G11: =D9 -> Taquari | H11: Alíquota | I11: 0.02
A12: Tarifa Transporte | G12: CCT | H12: Vr. Unitário | I12: 4.8
H13: Dias | I13: 22
H14: Desconto | I14: 0.06
A15: Auxílio Alimentação | G15: CCT | H15: Vr. Unitário | I15: 25.42
H16: Dias | I16: 22
H17: Desconto | I17: 0.19
A18: Auxílio Lanche | G18: CCT | H18: Vr. Unitário | I18: 0
H19: Dias | I19: 0
H20: Desconto | I20: 0
A21: Plano de benefício social familiar | G21: CCT | H21: Valor mensal | I21: 24.1
A25: Adicional de Supervisor (37%) | H25: Porcentagem | I25: Não aplicável
A26: Base de cálculo da insalubridade | H26: Valor | I26: =I39 -> 1503.2545
A27: Quantitativo de horas trabalhadas em feriados no mês (estimado) - Não aplicável para postos 12x36 | H27: Horas por mês | I27: Não aplicável
H28: Acréscimo da hora extra | I28: Não aplicável
A29: Hora Intervalar (somente para postos 12x36, quando for o caso) | H29: Horas por mês | I29: Não aplicável
A30: Sem fornecimento de materiais ou apenas fornecimento de EPIs ou uniformes, utilizar 10%. Com fornecimento de materiais ou equipamentos, utilizar 20%. (Decreto 52.768/2015, alterado pelo Decreto 53.424/2017) | H30: Porcentagem | I30: 0.2
I31: Não aplicável
A37: MONTANTE A
A38: I | B38: Remuneração - Grupo I | H38: % | I38: Valor Mensal/unidade de serviço (R$)
A39: 1 | B39: Salário | H39: =I39/$I$47 -> 0.71428571 | I39: =IF(D6="12x36",I10,I10/H10*I5) -> 1503.2545
A40: =A39+1 -> 2 | B40: Adicional Periculosidade 30% (Ver súmulas 364, 132 e 191 do TST) | H40: =I40/$I$47 -> 0 | I40: =IF(I9=30%,I39*I9,0) -> 0
A41: =A40+1 -> 3 | B41: Adicional Insalubridade 10% (Ver súmula 228 e 139 TST) | H41: =I41/$I$47 -> 0 | I41: =IF(I7=10%,I26*I7,0) -> 0
A42: =A41+1 -> 4 | B42: Adicional Insalubridade 20% (Ver súmula 228 e 139 TST) | H42: =I42/$I$47 -> 0 | I42: =IF(I7=20%,I26*I7,0) -> 0
A43: =A42+1 -> 5 | B43: Adicional Insalubridade 40% (Ver súmula 228 e 139 TST) | H43: =I43/$I$47 -> 0.28571429 | I43: =IF(I7=40%,I26*I7,0) -> 601.30182
A44: =A43+1 -> 6 | B44: Adicional de Supervisor (IN 05/2017 MPOG SLTI) | H44: =I44/$I$47 -> 0 | I44: =IF(I25="Não aplicável",0,I39*I25) -> 0
A45: =A44+1 -> 7 | B45: Feriados | H45: =I45/$I$47 -> 0 | I45: =IF(I27="Não aplicável",0,(I39+I40+I41+I42+I43+I44)/I5*I27*(1+I28)) -> 0
A46: =A45+1 -> 8 | B46: DSR = número total das horas extras do mês / número de dias úteis X domingos e feriados do mês X valor da hora extra com acréscimo | H46: =I46/$I$47 -> 0 | I46: =IF(I27="Não aplicável",0,I27/I13*5*(I10/H10*(1+I28))) -> 0
A47: Total de Remuneração | H47: =SUM(H39:H46) -> 1 | I47: =SUM(I39:I46) -> 2104.5564
A58: II | B58: Encargos Sociais - Grupo II: Obrigações Sociais | H58: % | I58: Valor Mensal/unidade de serviço (R$)
A59: 1 | B59: INSS (art. 22, inc. I, Lei nº 8.212/91) | H59: 0.2 | I59: =$I$47*H59 -> 420.91127
...

Sheet Resumo
A1: Função | B1: Local | C1: Cidade | D1: Carga Horária | E1: Dias da semana | F1: Nº de Postos | G1: Valor unitário de retenção para a conta vinculada | H1: Valor total de retenção para a conta vinculada | I1: Valor unitário mensal do posto | J1: Valor total mensal
A2: Limpeza | B2: NAR CENTRO | C2: Porto Alegre | D2: 40 | E2: seg-sex (SEM FERIADO) | F2: 1 | G2: ='Limpeza POA SEM FERIADO'!I189 -> 810.30099 | H2: =G2*F2 -> 810.30099 | I2: ='Limpeza POA SEM FERIADO'!I192 -> 4951.4695 | J2: =F2*I2 -> 4951.4695
A3: Limpeza | B3: SEDE GERAL E SEDE APOIO | C3: Porto Alegre | D3: 40 | E3: seg-sex (SEM FERIADO) | F3: 3 | G3: ='Limpeza POA SEM FERIADO'!I189 -> 810.30099 | H3: =G3*F3 -> 2430.903 | I3: ='Limpeza POA SEM FERIADO'!I192 -> 4951.4695 | J3: =F3*I3 -> 14854.408
A4: Limpeza | B4: NAR BELEM NOVO | C4: Porto Alegre | D4: 40 | E4: seg-sex (COM FERIADO) | F4: 4 | G4: ='Limpeza Poa seg-sex COM FERIADO'!I189 -> 885.64846 | H4: =G4*F4 -> 3542.5938 | I4: ='Limpeza Poa seg-sex COM FERIADO'!I192 -> 5347.9453 | J4: =F4*I4 -> 21391.781
A5: Limpeza | B5: NAR CENTRO | C5: Porto Alegre | D5: 40 | E5: seg-sex (COM FERIADO) | F5: 3 | G5: ='Limpeza Poa seg-sex COM FERIADO'!I189 -> 885.64846 | H5: =G5*F5 -> 2656.9454 | I5: ='Limpeza Poa seg-sex COM FERIADO'!I192 -> 5347.9453 | J5: =F5*I5 -> 16043.836
A6: Limpeza | B6: NAR MENINO DEUS | C6: Porto Alegre | D6: 40 | E6: seg-sex (COM FERIADO) | F6: 2 | G6: ='Limpeza Poa seg-sex COM FERIADO'!I189 -> 885.64846 | H6: =G6*F6 -> 1771.2969 | I6: ='Limpeza Poa seg-sex COM FERIADO'!I192 -> 5347.9453 | J6: =F6*I6 -> 10695.891
A7: Limpeza | B7: NAR LESTE | C7: Porto Alegre | D7: 40 | E7: seg-sex (COM FERIADO) | F7: 4 | G7: ='Limpeza Poa seg-sex COM FERIADO'!I189 -> 885.64846 | H7: =G7*F7 -> 3542.5938 | I7: ='Limpeza Poa seg-sex COM FERIADO'!I192 -> 5347.9453 | J7: =F7*I7 -> 21391.781
A8: Limpeza | B8: NAR IPANEMA | C8: Porto Alegre | D8: 40 | E8: seg-sex (SEM FERIADO) | F8: 1 | G8: ='Limpeza POA SEM FERIADO'!I189 -> 810.30099 | H8: =G8*F8 -> 810.30099 | I8: ='Limpeza POA SEM FERIADO'!I192 -> 4951.4695 | J8: =F8*I8 -> 4951.4695
A9: Limpeza | B9: NAP TAQUARI | C9: Taquari | D9: 40 | E9: seg-sex (SEM FERIADO) | F9: 1 | G9: ='Taquari seg-sex SEM FERIADO'!I189 -> 810.30099 | H9: =G9*F9 -> 810.30099 | I9: ='Taquari seg-sex SEM FERIADO'!I192 -> 4913.6584 | J9: =F9*I9 -> 4913.6584
A10: Limpeza | B10: NAP TAQUARI | C10: Taquari | D10: 40 | E10: seg-sex (COM FERIADO) | F10: 1 | G10: ='Taquari seg-sex COM FERIADO'!I189 -> 885.64846 | H10: =G10*F10 -> 885.64846 | I10: ='Taquari seg-sex COM FERIADO'!I192 -> 5307.9005 | J10: =F10*I10 -> 5307.9005
A11: Limpeza | B11: NAR NORTE | C11: Porto Alegre | D11: 40 | E11: seg-sex (COM FERIADO) | F11: 2 | G11: ='Limpeza Poa seg-sex COM FERIADO'!I189 -> 885.64846 | H11: =G11*F11 -> 1771.2969 | I11: ='Limpeza Poa seg-sex COM FERIADO'!I192 -> 5347.9453 | J11: =F11*I11 -> 10695.891
A13: VALOR MENSAL PARA RETENÇÃO EM CONTA VINCULADA | G13: =SUM(H2:H11) -> 19032.181 | H13: PORCENTAGEM CORRESPONDENTE EM RELAÇÃO AO VALOR TOTAL PARA RETENÇÃO EM CONTA VINCULADA | J13: =G13/J15 -> 0.16521265
A15: TOTAL DE POSTOS | F15: =SUM(F2:F11) -> 22 | G15: VALOR GLOBAL MENSAL | J15: =SUM(J2:J11) -> 115198.09
